Workbook

Sheet 4. runde
A1: =CONCATENATE("Grand Prix ",DB!B1) -> Grand Prix 2026
A3: =DB!D3 -> 4. runde
A5: 1. | B5: =DB!B30 -> Idskov (1) | C5: =IF(B5<>"","-","") -> - | D5: =DB!E30 -> Chelsea (14)
A6: 2. | B6: =DB!B31 -> Idskov (6) | C6: =IF(B6<>"","-","") -> - | D6: =DB!E31 -> Benbo (8)
A7: 3. | B7: =DB!B32 -> Forest (10) | C7: =IF(B7<>"","-","") -> - | D7: =DB!E32 -> Frydkær (11)
A8: 4. | B8: =DB!B33 -> Idskov (14) | C8: =IF(B8<>"","-","") -> - | D8: =DB!E33 -> Benbo (16)
A9: 5. | B9: =DB!B34 -> Frydkær (1) | C9: =IF(B9<>"","-","") -> - | D9: =DB!E34 -> LPHJ (4)
A10: 6. | B10: =DB!B35 -> LPHJ (6) | C10: =IF(B10<>"","-","") -> - | D10: =DB!E35 -> Select (7)
A11: 7. | B11: =DB!B36 -> LPHJ (10) | C11: =IF(B11<>"","-","") -> - | D11: =DB!E36 -> Chelsea (11)
A12: 8. | B12: =DB!B37 -> Futte (14) | C12: =IF(B12<>"","-","") -> - | D12: =DB!E37 -> Robbo (2)
A13: =DB!H4 -> Tallet i parentes angiver puljen, signaturen er gået videre fra.

Sheet Kampe
A1: =CONCATENATE("Kampe - ",DB!D5) -> Kampe - 4. runde, Kamp 1
B3: Hjemmehold | D3: Udehold
A5: 1. | B5: Cambridge | C5: - | D5: AFC Wimbledon
A6: 2. | B6: Plymouth | C6: - | D6: Burton
A7: 3. | B7: Stockport | C7: - | D7: Peterborough
A8: 4. | B8: Wycombe | C8: - | D8: Reading
A9: 5. | B9: Bristol R | C9: - | D9: Exeter
A10: 6. | B10: Cheltenham | C10: - | D10: Chesterfield
A11: 7. | B11: Fleetwood | C11: - | D11: Rochdale
A12: 8. | B12: Newport | C12: - | D12: Grimsby
A13: 9. | B13: Rotherham | C13: - | D13: Crewe
A14: 10. | B14: Shrewsbury | C14: - | D14: Colchester
A15: 11. | B15: Swindon | C15: - | D15: Accrington Stanley
A16: 12. | B16: Tranmere | C16: - | D16: Walsall
A17: 13. | B17: York City | C17: - | D17: Gillingham
A19: N.B.: Holdnavne skal holdes inden for de grønne felter.

Sheet Rækker
B1: =DB!D6 -> 4. runde - K1 | D1: =DB!D6 -> 4. runde - K1 | F1: =DB!D6 -> 4. runde - K1 | H1: =DB!D6 -> 4. runde - K1 | J1: =DB!D6 -> 4. runde - K1 | L1: =DB!D6 -> 4. runde - K1 | N1: =DB!D6 -> 4. runde - K1 | P1: =DB!D6 -> 4. runde - K1 | R1: =DB!D6 -> 4. runde - K1 | T1: =DB!D6 -> 4. runde - K1 | V1: =DB!D6 -> 4. runde - K1 | X1: =DB!D6 -> 4. runde - K1 | Z1: =DB!D6 -> 4. runde - K1 | AB1: =DB!D6 -> 4. runde - K1 | AD1: =DB!D6 -> 4. runde - K1 | AF1: =DB!D6 -> 4. runde - K1
B3: =DGET(DB!A11:I27,"Signatur",DB!A39:A40) -> Benbo | D3: =DGET(DB!A11:I27,"Signatur",DB!B39:B40) -> Chelsea | F3: =DGET(DB!A11:I27,"Signatur",DB!C39:C40) -> Forest | H3: =DGET(DB!A11:I27,"Signatur",DB!D39:D40) -> Frydkær | J3: =DGET(DB!A11:I27,"Signatur",DB!E39:E40) -> Futte | L3: =DGET(DB!A11:I27,"Signatur",DB!F39:F40) -> Idskov | N3: =DGET(DB!A11:I27,"Signatur",DB!G39:G40) -> LPHJ | P3: =DGET(DB!A11:I27,"Signatur",DB!H39:H40) -> Robbo | R3: =DGET(DB!A11:I27,"Signatur",DB!I39:I40) -> Select | T3: =DGET(DB!A11:I27,"Signatur",DB!J39:J40) | V3: =DGET(DB!A11:I27,"Signatur",DB!K39:K40) | X3: =DGET(DB!A11:I27,"Signatur",DB!L39:L40) | Z3: =DGET(DB!A11:I27,"Signatur",DB!M39:M40) | AB3: =DGET(DB!A11:I27,"Signatur",DB!N39:N40) | AD3: =DGET(DB!A11:I27,"Signatur",DB!O39:O40) | AF3: =DGET(DB!A11:I27,"Signatur",DB!P39:P40)
B4: =IF(DB!A12<>"",IF(DB!I12=1,"Disket",IF(DB!K12=1,"Udmeldt",IF(DB!Q12="Walkover","Walkover","Status"))),"") -> Status | D4: =IF(DB!A13<>"",IF(DB!I13=1,"Disket",IF(DB!K13=1,"Udmeldt",IF(DB!Q13="Walkover","Walkover","Status"))),"") -> Status | F4: =IF(DB!A14<>"",IF(DB!I14=1,"Disket",IF(DB!K14=1,"Udmeldt",IF(DB!Q14="Walkover","Walkover","Status"))),"") -> Status | H4: =IF(DB!A15<>"",IF(DB!I15=1,"Disket",IF(DB!K15=1,"Udmeldt",IF(DB!Q15="Walkover","Walkover","Status"))),"") -> Status | J4: =IF(DB!A16<>"",IF(DB!I16=1,"Disket",IF(DB!K16=1,"Udmeldt",IF(DB!Q16="Walkover","Walkover","Status"))),"") -> Status | L4: =IF(DB!A17<>"",IF(DB!I17=1,"Disket",IF(DB!K17=1,"Udmeldt",IF(DB!Q17="Walkover","Walkover","Status"))),"") -> Status | N4: =IF(DB!A18<>"",IF(DB!I18=1,"Disket",IF(DB!K18=1,"Udmeldt",IF(DB!Q18="Walkover","Walkover","Status"))),"") -> Status | P4: =IF(DB!A19<>"",IF(DB!I19=1,"Disket",IF(DB!K19=1,"Udmeldt",IF(DB!Q19="Walkover","Walkover","Status"))),"") -> Status | R4: =IF(DB!A20<>"",IF(DB!I20=1,"Disket",IF(DB!K20=1,"Udmeldt",IF(DB!Q20="Walkover","Walkover","Status"))),"") -> Status | T4: =IF(DB!A21<>"",IF(DB!I21=1,"Disket",IF(DB!K21=1,"Udmeldt",IF(DB!Q21="Walkover","Walkover","Status"))),"") | V4: =IF(DB!A22<>"",IF(DB!I22=1,"Disket",IF(DB!K22=1,"Udmeldt",IF(DB!Q22="Walkover","Walkover","Status"))),"") | X4: =IF(DB!A23<>"",IF(DB!I23=1,"Disket",IF(DB!K23=1,"Udmeldt",IF(DB!Q23="Walkover","Walkover","Status"))),"") | Z4: =IF(DB!A24<>"",IF(DB!I24=1,"Disket",IF(DB!K24=1,"Udmeldt",IF(DB!Q24="Walkover","Walkover","Status"))),"") | AB4: =IF(DB!A25<>"",IF(DB!I25=1,"Disket",IF(DB!K25=1,"Udmeldt",IF(DB!Q25="Walkover","Walkover","Status"))),"") | AD4: =IF(DB!A26<>"",IF(DB!I26=1,"Disket",IF(DB!K26=1,"Udmeldt",IF(DB!Q26="Walkover","Walkover","Status"))),"") | AF4: =IF(DB!A27<>"",IF(DB!I27=1,"Disket",IF(DB!K27=1,"Udmeldt",IF(DB!Q27="Walkover","Walkover","Status"))),"")
B6: =IF(B3<>"","Række","") -> Række | D6: =IF(D3<>"","Række","") -> Række | F6: =IF(F3<>"","Række","") -> Række | H6: =IF(H3<>"","Række","") -> Række | J6: =IF(J3<>"","Række","") -> Række | L6: =IF(L3<>"","Række","") -> Række | N6: =IF(N3<>"","Række","") -> Række | P6: =IF(P3<>"","Række","") -> Række | R6: =IF(R3<>"","Række","") -> Række | T6: =IF(T3<>"","Række","") | V6: =IF(V3<>"","Række","") | X6: =IF(X3<>"","Række","") | Z6: =IF(Z3<>"","Række","") | AB6: =IF(AB3<>"","Række","") | AD6: =IF(AD3<>"","Række","") | AF6: =IF(AF3<>"","Række","")
A7: 1. | B7: 1 | C7: 1. | D7: 1 | E7: 1. | F7: 1 | G7: 1. | H7: 1 | I7: 1. | J7: 1 | K7: 1. | L7: 1 | M7: 1. | N7: 1 | O7: 1. | P7: 1 | Q7: 1. | R7: 1 | S7: 1. | U7: 1. | W7: 1. | Y7: 1. | AA7: 1. | AC7: 1. | AE7: 1.
A8: 2. | B8: 1 | C8: 2. | D8: 1 | E8: 2. | F8: 1 | G8: 2. | H8: 1 | I8: 2. | J8: 1 | K8: 2. | L8: 1 | M8: 2. | N8: 1 | O8: 2. | P8: 1 | Q8: 2. | R8: 1 | S8: 2. | U8: 2. | W8: 2. | Y8: 2. | AA8: 2. | AC8: 2. | AE8: 2.
A9: 3. | B9: 1 | C9: 3. | D9: 1 | E9: 3. | F9: 1 | G9: 3. | H9: 1 | I9: 3. | J9: 1 | K9: 3. | L9: 1 | M9: 3. | N9: 1 | O9: 3. | P9: 1 | Q9: 3. | R9: 1 | S9: 3. | U9: 3. | W9: 3. | Y9: 3. | AA9: 3. | AC9: 3. | AE9: 3.
A10: 4. | B10: 1 | C10: 4. | D10: x | E10: 4. | F10: 1 | G10: 4. | H10: 1 | I10: 4. | J10: X | K10: 4. | L10: 1 | M10: 4. | N10: 1 | O10: 4. | P10: 1 | Q10: 4. | R10: 1 | S10: 4. | U10: 4. | W10: 4. | Y10: 4. | AA10: 4. | AC10: 4. | AE10: 4.
A11: 5. | B11: 1 | C11: 5. | D11: 1 | E11: 5. | F11: 1 | G11: 5. | H11: 1 | I11: 5. | J11: 1 | K11: 5. | L11: 1 | M11: 5. | N11: 1 | O11: 5. | P11: 1 | Q11: 5. | R11: 1 | S11: 5. | U11: 5. | W11: 5. | Y11: 5. | AA11: 5. | AC11: 5. | AE11: 5.
A12: 6. | B12: 2 | C12: 6. | D12: 2 | E12: 6. | F12: 2 | G12: 6. | H12: 2 | I12: 6. | J12: 2 | K12: 6. | L12: 2 | M12: 6. | N12: 2 | O12: 6. | P12: 2 | Q12: 6. | R12: 2 | S12: 6. | U12: 6. | W12: 6. | Y12: 6. | AA12: 6. | AC12: 6. | AE12: 6.
A13: 7. | B13: 1 | C13: 7. | D13: 1 | E13: 7. | F13: 1 | G13: 7. | H13: 1 | I13: 7. | J13: 1 | K13: 7. | L13: 1 | M13: 7. | N13: 1 | O13: 7. | P13: 1 | Q13: 7. | R13: 1 | S13: 7. | U13: 7. | W13: 7. | Y13: 7. | AA13: 7. | AC13: 7. | AE13: 7.
A14: 8. | B14: 2 | C14: 8. | D14: 2 | E14: 8. | F14: 2 | G14: 8. | H14: 2 | I14: 8. | J14: 2 | K14: 8. | L14: 2 | M14: 8. | N14: 2 | O14: 8. | P14: 2 | Q14: 8. | R14: 2 | S14: 8. | U14: 8. | W14: 8. | Y14: 8. | AA14: 8. | AC14: 8. | AE14: 8.
A15: 9. | B15: 1 | C15: 9. | D15: 1 | E15: 9. | F15: 1 | G15: 9. | H15: 1 | I15: 9. | J15: 1 | K15: 9. | L15: 1 | M15: 9. | N15: 1 | O15: 9. | P15: 1 | Q15: 9. | R15: 1 | S15: 9. | U15: 9. | W15: 9. | Y15: 9. | AA15: 9. | AC15: 9. | AE15: 9.
A16: 10. | B16: 1 | C16: 10. | D16: 1 | E16: 10. | F16: x | G16: 10. | H16: 1 | I16: 10. | J16: 1 | K16: 10. | L16: x | M16: 10. | N16: x | O16: 10. | P16: x | Q16: 10. | R16: x | S16: 10. | U16: 10. | W16: 10. | Y16: 10. | AA16: 10. | AC16: 10. | AE16: 10.
A17: 11. | B17: 1 | C17: 11. | D17: 1 | E17: 11. | F17: 1 | G17: 11. | H17: 1 | I17: 11. | J17: 1 | K17: 11. | L17: 1 | M17: 11. | N17: 1 | O17: 11. | P17: 1 | Q17: 11. | R17: 1 | S17: 11. | U17: 11. | W17: 11. | Y17: 11. | AA17: 11. | AC17: 11. | AE17: 11.
A18: 12. | B18: x | C18: 12. | D18: 1 | E18: 12. | F18: 1 | G18: 12. | H18: x | I18: 12. | J18: 2 | K18: 12. | L18: 1 | M18: 12. | N18: 1 | O18: 12. | P18: 1 | Q18: 12. | R18: 1 | S18: 12. | U18: 12. | W18: 12. | Y18: 12. | AA18: 12. | AC18: 12. | AE18: 12.
A19: 13. | B19: 1 | C19: 13. | D19: 1 | E19: 13. | F19: 1 | G19: 13. | H19: 1 | I19: 13. | J19: 1 | K19: 13. | L19: 1 | M19: 13. | N19: 1 | O19: 13. | P19: 1 | Q19: 13. | R19: 1 | S19: 13. | U19: 13. | W19: 13. | Y19: 13. | AA19: 13. | AC19: 13. | AE19: 13.
B20: =DB!A8 -> OK | D20: =DB!B8 -> OK | F20: =DB!C8 -> OK | H20: =DB!D8 -> OK | J20: =DB!E8 -> OK | L20: =DB!F8 -> OK | N20: =DB!G8 -> OK | P20: =DB!H8 -> OK | R20: =DB!I8 -> OK | T20: =DB!J8 | V20: =DB!K8 | X20: =DB!L8 | Z20: =DB!M8 | AB20: =DB!N8 | AD20: =DB!O8 | AF20: =DB!P8

Sheet Rækker - Udskrift
A1: =CONCATENATE("Grand Prix ",DB!B1) -> Grand Prix 2026
A4: =IF(F4<>"",DB!D5,"") -> 4. runde, Kamp 1 | E4: =IF(F4<>"","De 13 rigtige","") -> De 13 rigtige | F4: =Rækker!B3 -> Benbo | I4: =Rækker!D3 -> Chelsea | L4: =Rækker!F3 -> Forest | O4: =Rækker!H3 -> Frydkær | R4: =Rækker!J3 -> Futte | U4: =Rækker!L3 -> Idskov | X4: =Rækker!N3 -> LPHJ | AA4: =Rækker!P3 -> Robbo | AD4: =Rækker!R3 -> Select | AG4: =Rækker!T3 | AJ4: =Rækker!V3 | AM4: =Rækker!X3 | AP4: =Rækker!Z3 | AS4: =Rækker!AB3 | AV4: =Rækker!AD3 | AY4: =Rækker!AF3
F5: =DB!Q12 | I5: =DB!Q13 | L5: =DB!Q14 | O5: =DB!Q15 | R5: =DB!Q16 | U5: =DB!Q17 | X5: =DB!Q18 | AA5: =DB!Q19 | AD5: =DB!Q20 | AG5: =DB!Q21 | AJ5: =DB!Q22 | AM5: =DB!Q23 | AP5: =DB!Q24 | AS5: =DB!Q25 | AV5: =DB!Q26 | AY5: =DB!Q27
E6: 1X2 | F6: 1 | G6: X | H6: 2 | I6: 1 | J6: X | K6: 2 | L6: 1 | M6: X | N6: 2 | O6: 1 | P6: X | Q6: 2 | R6: 1 | S6: X | T6: 2 | U6: 1 | V6: X | W6: 2 | X6: 1 | Y6: X | Z6: 2 | AA6: 1 | AB6: X | AC6: 2 | AD6: 1 | AE6: X | AF6: 2 | AG6: 1 | AH6: X | AI6: 2 | AJ6: 1 | AK6: X | AL6: 2 | AM6: 1 | AN6: X | AO6: 2 | AP6: 1 | AQ6: X | AR6: 2 | AS6: 1 | AT6: X | AU6: 2 | AV6: 1 | AW6: X | AX6: 2 | AY6: 1 | AZ6: X | BA6: 2
B7: =IF(F4<>"","1.","") -> 1. | C7: =IF(F4<>"",CONCATENATE(Kampe!B5," - ",Kampe!D5,"........................................................................................................."),"") -> Cambridge - AFC Wimbledon......................................................................................................... | E7: x | F7: =IF(Rækker!B7=1,1,"") -> 1 | G7: =IF(Rækker!B7="X","X","") | H7: =IF(Rækker!B7=2,2,"") | I7: =IF(Rækker!D7=1,1,"") -> 1 | J7: =IF(Rækker!D7="X","X","") | K7: =IF(Rækker!D7=2,2,"") | L7: =IF(Rækker!F7=1,1,"") -> 1 | M7: =IF(Rækker!F7="X","X","") | N7: =IF(Rækker!F7=2,2,"") | O7: =IF(Rækker!H7=1,1,"") -> 1 | P7: =IF(Rækker!H7="X","X","") | Q7: =IF(Rækker!H7=2,2,"") | R7: =IF(Rækker!J7=1,1,"") -> 1 | S7: =IF(Rækker!J7="X","X","") | T7: =IF(Rækker!J7=2,2,"") | U7: =IF(Rækker!L7=1,1,"") -> 1 | V7: =IF(Rækker!L7="X","X","") | W7: =IF(Rækker!L7=2,2,"") | X7: =IF(Rækker!N7=1,1,"") -> 1 | Y7: =IF(Rækker!N7="X","X","") | Z7: =IF(Rækker!N7=2,2,"") | AA7: =IF(Rækker!P7=1,1,"") -> 1 | AB7: =IF(Rækker!P7="X","X","") | AC7: =IF(Rækker!P7=2,2,"") | AD7: =IF(Rækker!R7=1,1,"") -> 1 | AE7: =IF(Rækker!R7="X","X","") | AF7: =IF(Rækker!R7=2,2,"") | AG7: =IF(Rækker!T7=1,1,"") | AH7: =IF(Rækker!T7="X","X","") | AI7: =IF(Rækker!T7=2,2,"") | AJ7: =IF(Rækker!V7=1,1,"") | AK7: =IF(Rækker!V7="X","X","") | AL7: =IF(Rækker!V7=2,2,"") | AM7: =IF(Rækker!X7=1,1,"") | AN7: =IF(Rækker!X7="X","X","") | AO7: =IF(Rækker!X7=2,2,"") | AP7: =IF(Rækker!Z7=1,1,"") | AQ7: =IF(Rækker!Z7="X","X","") | AR7: =IF(Rækker!Z7=2,2,"") | AS7: =IF(Rækker!AB7=1,1,"") | AT7: =IF(Rækker!AB7="X","X","") | AU7: =IF(Rækker!AB7=2,2,"") | AV7: =IF(Rækker!AD7=1,1,"") | AW7: =IF(Rækker!AD7="X","X","") | AX7: =IF(Rækker!AD7=2,2,"") | AY7: =IF(Rækker!AF7=1,1,"") | AZ7: =IF(Rækker!AF7="X","X","") | BA7: =IF(Rækker!AF7=2,2,"")
B8: =IF(F4<>"","2.","") -> 2. | C8: =IF(F4<>"",CONCATENATE(Kampe!B6," - ",Kampe!D6,"........................................................................................................."),"") -> Plymouth - Burton......................................................................................................... | E8: 2 | F8: =IF(Rækker!B8=1,1,"") -> 1 | G8: =IF(Rækker!B8="X","X","") | H8: =IF(Rækker!B8=2,2,"") | I8: =IF(Rækker!D8=1,1,"") -> 1 | J8: =IF(Rækker!D8="X","X","") | K8: =IF(Rækker!D8=2,2,"") | L8: =IF(Rækker!F8=1,1,"") -> 1 | M8: =IF(Rækker!F8="X","X","") | N8: =IF(Rækker!F8=2,2,"") | O8: =IF(Rækker!H8=1,1,"") -> 1 | P8: =IF(Rækker!H8="X","X","") | Q8: =IF(Rækker!H8=2,2,"") | R8: =IF(Rækker!J8=1,1,"") -> 1 | S8: =IF(Rækker!J8="X","X","") | T8: =IF(Rækker!J8=2,2,"") | U8: =IF(Rækker!L8=1,1,"") -> 1 | V8: =IF(Rækker!L8="X","X","") | W8: =IF(Rækker!L8=2,2,"") | X8: =IF(Rækker!N8=1,1,"") -> 1 | Y8: =IF(Rækker!N8="X","X","") | Z8: =IF(Rækker!N8=2,2,"") | AA8: =IF(Rækker!P8=1,1,"") -> 1 | AB8: =IF(Rækker!P8="X","X","") | AC8: =IF(Rækker!P8=2,2,"") | AD8: =IF(Rækker!R8=1,1,"") -> 1 | AE8: =IF(Rækker!R8="X","X","") | AF8: =IF(Rækker!R8=2,2,"") | AG8: =IF(Rækker!T8=1,1,"") | AH8: =IF(Rækker!T8="X","X","") | AI8: =IF(Rækker!T8=2,2,"") | AJ8: =IF(Rækker!V8=1,1,"") | AK8: =IF(Rækker!V8="X","X","") | AL8: =IF(Rækker!V8=2,2,"") | AM8: =IF(Rækker!X8=1,1,"") | AN8: =IF(Rækker!X8="X","X","") | AO8: =IF(Rækker!X8=2,2,"") | AP8: =IF(Rækker!Z8=1,1,"") | AQ8: =IF(Rækker!Z8="X","X","") | AR8: =IF(Rækker!Z8=2,2,"") | AS8: =IF(Rækker!AB8=1,1,"") | AT8: =IF(Rækker!AB8="X","X","") | AU8: =IF(Rækker!AB8=2,2,"") | AV8: =IF(Rækker!AD8=1,1,"") | AW8: =IF(Rækker!AD8="X","X","") | AX8: =IF(Rækker!AD8=2,2,"") | AY8: =IF(Rækker!AF8=1,1,"") | AZ8: =IF(Rækker!AF8="X","X","") | BA8: =IF(Rækker!AF8=2,2,"")
B9: =IF(F4<>"","3.","") -> 3. | C9: =IF(F4<>"",CONCATENATE(Kampe!B7," - ",Kampe!D7,"........................................................................................................."),"") -> Stockport - Peterborough......................................................................................................... | E9: 1 | F9: =IF(Rækker!B9=1,1,"") -> 1 | G9: =IF(Rækker!B9="X","X","") | H9: =IF(Rækker!B9=2,2,"") | I9: =IF(Rækker!D9=1,1,"") -> 1 | J9: =IF(Rækker!D9="X","X","") | K9: =IF(Rækker!D9=2,2,"") | L9: =IF(Rækker!F9=1,1,"") -> 1 | M9: =IF(Rækker!F9="X","X","") | N9: =IF(Rækker!F9=2,2,"") | O9: =IF(Rækker!H9=1,1,"") -> 1 | P9: =IF(Rækker!H9="X","X","") | Q9: =IF(Rækker!H9=2,2,"") | R9: =IF(Rækker!J9=1,1,"") -> 1 | S9: =IF(Rækker!J9="X","X","") | T9: =IF(Rækker!J9=2,2,"") | U9: =IF(Rækker!L9=1,1,"") -> 1 | V9: =IF(Rækker!L9="X","X","") | W9: =IF(Rækker!L9=2,2,"") | X9: =IF(Rækker!N9=1,1,"") -> 1 | Y9: =IF(Rækker!N9="X","X","") | Z9: =IF(Rækker!N9=2,2,"") | AA9: =IF(Rækker!P9=1,1,"") -> 1 | AB9: =IF(Rækker!P9="X","X","") | AC9: =IF(Rækker!P9=2,2,"") | AD9: =IF(Rækker!R9=1,1,"") -> 1 | AE9: =IF(Rækker!R9="X","X","") | AF9: =IF(Rækker!R9=2,2,"") | AG9: =IF(Rækker!T9=1,1,"") | AH9: =IF(Rækker!T9="X","X","") | AI9: =IF(Rækker!T9=2,2,"") | AJ9: =IF(Rækker!V9=1,1,"") | AK9: =IF(Rækker!V9="X","X","") | AL9: =IF(Rækker!V9=2,2,"") | AM9: =IF(Rækker!X9=1,1,"") | AN9: =IF(Rækker!X9="X","X","") | AO9: =IF(Rækker!X9=2,2,"") | AP9: =IF(Rækker!Z9=1,1,"") | AQ9: =IF(Rækker!Z9="X","X","") | AR9: =IF(Rækker!Z9=2,2,"") | AS9: =IF(Rækker!AB9=1,1,"") | AT9: =IF(Rækker!AB9="X","X","") | AU9: =IF(Rækker!AB9=2,2,"") | AV9: =IF(Rækker!AD9=1,1,"") | AW9: =IF(Rækker!AD9="X","X","") | AX9: =IF(Rækker!AD9=2,2,"") | AY9: =IF(Rækker!AF9=1,1,"") | AZ9: =IF(Rækker!AF9="X","X","") | BA9: =IF(Rækker!AF9=2,2,"")
B10: =IF(F4<>"","4.","") -> 4. | C10: =IF(F4<>"",CONCATENATE(Kampe!B8," - ",Kampe!D8,"........................................................................................................."),"") -> Wycombe - Reading......................................................................................................... | E10: x | F10: =IF(Rækker!B10=1,1,"") -> 1 | G10: =IF(Rækker!B10="X","X","") | H10: =IF(Rækker!B10=2,2,"") | I10: =IF(Rækker!D10=1,1,"") | J10: =IF(Rækker!D10="X","X","") -> X | K10: =IF(Rækker!D10=2,2,"") | L10: =IF(Rækker!F10=1,1,"") -> 1 | M10: =IF(Rækker!F10="X","X","") | N10: =IF(Rækker!F10=2,2,"") | O10: =IF(Rækker!H10=1,1,"") -> 1 | P10: =IF(Rækker!H10="X","X","") | Q10: =IF(Rækker!H10=2,2,"") | R10: =IF(Rækker!J10=1,1,"") | S10: =IF(Rækker!J10="X","X","") -> X | T10: =IF(Rækker!J10=2,2,"") | U10: =IF(Rækker!L10=1,1,"") -> 1 | V10: =IF(Rækker!L10="X","X","") | W10: =IF(Rækker!L10=2,2,"") | X10: =IF(Rækker!N10=1,1,"") -> 1 | Y10: =IF(Rækker!N10="X","X","") | Z10: =IF(Rækker!N10=2,2,"") | AA10: =IF(Rækker!P10=1,1,"") -> 1 | AB10: =IF(Rækker!P10="X","X","") | AC10: =IF(Rækker!P10=2,2,"") | AD10: =IF(Rækker!R10=1,1,"") -> 1 | AE10: =IF(Rækker!R10="X","X","") | AF10: =IF(Rækker!R10=2,2,"") | AG10: =IF(Rækker!T10=1,1,"") | AH10: =IF(Rækker!T10="X","X","") | AI10: =IF(Rækker!T10=2,2,"") | AJ10: =IF(Rækker!V10=1,1,"") | AK10: =IF(Rækker!V10="X","X","") | AL10: =IF(Rækker!V10=2,2,"") | AM10: =IF(Rækker!X10=1,1,"") | AN10: =IF(Rækker!X10="X","X","") | AO10: =IF(Rækker!X10=2,2,"") | AP10: =IF(Rækker!Z10=1,1,"") | AQ10: =IF(Rækker!Z10="X","X","") | AR10: =IF(Rækker!Z10=2,2,"") | AS10: =IF(Rækker!AB10=1,1,"") | AT10: =IF(Rækker!AB10="X","X","") | AU10: =IF(Rækker!AB10=2,2,"") | AV10: =IF(Rækker!AD10=1,1,"") | AW10: =IF(Rækker!AD10="X","X","") | AX10: =IF(Rækker!AD10=2,2,"") | AY10: =IF(Rækker!AF10=1,1,"") | AZ10: =IF(Rækker!AF10="X","X","") | BA10: =IF(Rækker!AF10=2,2,"")
B11: =IF(F4<>"","5.","") -> 5. | C11: =IF(F4<>"",CONCATENATE(Kampe!B9," - ",Kampe!D9,"........................................................................................................."),"") -> Bristol R - Exeter......................................................................................................... | E11: 1 | F11: =IF(Rækker!B11=1,1,"") -> 1 | G11: =IF(Rækker!B11="X","X","") | H11: =IF(Rækker!B11=2,2,"") | I11: =IF(Rækker!D11=1,1,"") -> 1 | J11: =IF(Rækker!D11="X","X","") | K11: =IF(Rækker!D11=2,2,"") | L11: =IF(Rækker!F11=1,1,"") -> 1 | M11: =IF(Rækker!F11="X","X","") | N11: =IF(Rækker!F11=2,2,"") | O11: =IF(Rækker!H11=1,1,"") -> 1 | P11: =IF(Rækker!H11="X","X","") | Q11: =IF(Rækker!H11=2,2,"") | R11: =IF(Rækker!J11=1,1,"") -> 1 | S11: =IF(Rækker!J11="X","X","") | T11: =IF(Rækker!J11=2,2,"") | U11: =IF(Rækker!L11=1,1,"") -> 1 | V11: =IF(Rækker!L11="X","X","") | W11: =IF(Rækker!L11=2,2,"") | X11: =IF(Rækker!N11=1,1,"") -> 1 | Y11: =IF(Rækker!N11="X","X","") | Z11: =IF(Rækker!N11=2,2,"") | AA11: =IF(Rækker!P11=1,1,"") -> 1 | AB11: =IF(Rækker!P11="X","X","") | AC11: =IF(Rækker!P11=2,2,"") | AD11: =IF(Rækker!R11=1,1,"") -> 1 | AE11: =IF(Rækker!R11="X","X","") | AF11: =IF(Rækker!R11=2,2,"") | AG11: =IF(Rækker!T11=1,1,"") | AH11: =IF(Rækker!T11="X","X","") | AI11: =IF(Rækker!T11=2,2,"") | AJ11: =IF(Rækker!V11=1,1,"") | AK11: =IF(Rækker!V11="X","X","") | AL11: =IF(Rækker!V11=2,2,"") | AM11: =IF(Rækker!X11=1,1,"") | AN11: =IF(Rækker!X11="X","X","") | AO11: =IF(Rækker!X11=2,2,"") | AP11: =IF(Rækker!Z11=1,1,"") | AQ11: =IF(Rækker!Z11="X","X","") | AR11: =IF(Rækker!Z11=2,2,"") | AS11: =IF(Rækker!AB11=1,1,"") | AT11: =IF(Rækker!AB11="X","X","") | AU11: =IF(Rækker!AB11=2,2,"") | AV11: =IF(Rækker!AD11=1,1,"") | AW11: =IF(Rækker!AD11="X","X","") | AX11: =IF(Rækker!AD11=2,2,"") | AY11: =IF(Rækker!AF11=1,1,"") | AZ11: =IF(Rækker!AF11="X","X","") | BA11: =IF(Rækker!AF11=2,2,"")
B12: =IF(F4<>"","6.","") -> 6. | C12: =IF(F4<>"",CONCATENATE(Kampe!B10," - ",Kampe!D10,"........................................................................................................."),"") -> Cheltenham - Chesterfield......................................................................................................... | E12: 1 | F12: =IF(Rækker!B12=1,1,"") | G12: =IF(Rækker!B12="X","X","") | H12: =IF(Rækker!B12=2,2,"") -> 2 | I12: =IF(Rækker!D12=1,1,"") | J12: =IF(Rækker!D12="X","X","") | K12: =IF(Rækker!D12=2,2,"") -> 2 | L12: =IF(Rækker!F12=1,1,"") | M12: =IF(Rækker!F12="X","X","") | N12: =IF(Rækker!F12=2,2,"") -> 2 | O12: =IF(Rækker!H12=1,1,"") | P12: =IF(Rækker!H12="X","X","") | Q12: =IF(Rækker!H12=2,2,"") -> 2 | R12: =IF(Rækker!J12=1,1,"") | S12: =IF(Rækker!J12="X","X","") | T12: =IF(Rækker!J12=2,2,"") -> 2 | U12: =IF(Rækker!L12=1,1,"") | V12: =IF(Rækker!L12="X","X","") | W12: =IF(Rækker!L12=2,2,"") -> 2 | X12: =IF(Rækker!N12=1,1,"") | Y12: =IF(Rækker!N12="X","X","") | Z12: =IF(Rækker!N12=2,2,"") -> 2 | AA12: =IF(Rækker!P12=1,1,"") | AB12: =IF(Rækker!P12="X","X","") | AC12: =IF(Rækker!P12=2,2,"") -> 2 | AD12: =IF(Rækker!R12=1,1,"") | AE12: =IF(Rækker!R12="X","X","") | AF12: =IF(Rækker!R12=2,2,"") -> 2 | AG12: =IF(Rækker!T12=1,1,"") | AH12: =IF(Rækker!T12="X","X","") | AI12: =IF(Rækker!T12=2,2,"") | AJ12: =IF(Rækker!V12=1,1,"") | AK12: =IF(Rækker!V12="X","X","") | AL12: =IF(Rækker!V12=2,2,"") | AM12: =IF(Rækker!X12=1,1,"") | AN12: =IF(Rækker!X12="X","X","") | AO12: =IF(Rækker!X12=2,2,"") | AP12: =IF(Rækker!Z12=1,1,"") | AQ12: =IF(Rækker!Z12="X","X","") | AR12: =IF(Rækker!Z12=2,2,"") | AS12: =IF(Rækker!AB12=1,1,"") | AT12: =IF(Rækker!AB12="X","X","") | AU12: =IF(Rækker!AB12=2,2,"") | AV12: =IF(Rækker!AD12=1,1,"") | AW12: =IF(Rækker!AD12="X","X","") | AX12: =IF(Rækker!AD12=2,2,"") | AY12: =IF(Rækker!AF12=1,1,"") | AZ12: =IF(Rækker!AF12="X","X","") | BA12: =IF(Rækker!AF12=2,2,"")
B13: =IF(F4<>"","7.","") -> 7. | C13: =IF(F4<>"",CONCATENATE(Kampe!B11," - ",Kampe!D11,"........................................................................................................."),"") -> Fleetwood - Rochdale......................................................................................................... | E13: 2 | F13: =IF(Rækker!B13=1,1,"") -> 1 | G13: =IF(Rækker!B13="X","X","") | H13: =IF(Rækker!B13=2,2,"") | I13: =IF(Rækker!D13=1,1,"") -> 1 | J13: =IF(Rækker!D13="X","X","") | K13: =IF(Rækker!D13=2,2,"") | L13: =IF(Rækker!F13=1,1,"") -> 1 | M13: =IF(Rækker!F13="X","X","") | N13: =IF(Rækker!F13=2,2,"") | O13: =IF(Rækker!H13=1,1,"") -> 1 | P13: =IF(Rækker!H13="X","X","") | Q13: =IF(Rækker!H13=2,2,"") | R13: =IF(Rækker!J13=1,1,"") -> 1 | S13: =IF(Rækker!J13="X","X","") | T13: =IF(Rækker!J13=2,2,"") | U13: =IF(Rækker!L13=1,1,"") -> 1 | V13: =IF(Rækker!L13="X","X","") | W13: =IF(Rækker!L13=2,2,"") | X13: =IF(Rækker!N13=1,1,"") -> 1 | Y13: =IF(Rækker!N13="X","X","") | Z13: =IF(Rækker!N13=2,2,"") | AA13: =IF(Rækker!P13=1,1,"") -> 1 | AB13: =IF(Rækker!P13="X","X","") | AC13: =IF(Rækker!P13=2,2,"") | AD13: =IF(Rækker!R13=1,1,"") -> 1 | AE13: =IF(Rækker!R13="X","X","") | AF13: =IF(Rækker!R13=2,2,"") | AG13: =IF(Rækker!T13=1,1,"") | AH13: =IF(Rækker!T13="X","X","") | AI13: =IF(Rækker!T13=2,2,"") | AJ13: =IF(Rækker!V13=1,1,"") | AK13: =IF(Rækker!V13="X","X","") | AL13: =IF(Rækker!V13=2,2,"") | AM13: =IF(Rækker!X13=1,1,"") | AN13: =IF(Rækker!X13="X","X","") | AO13: =IF(Rækker!X13=2,2,"") | AP13: =IF(Rækker!Z13=1,1,"") | AQ13: =IF(Rækker!Z13="X","X","") | AR13: =IF(Rækker!Z13=2,2,"") | AS13: =IF(Rækker!AB13=1,1,"") | AT13: =IF(Rækker!AB13="X","X","") | AU13: =IF(Rækker!AB13=2,2,"") | AV13: =IF(Rækker!AD13=1,1,"") | AW13: =IF(Rækker!AD13="X","X","") | AX13: =IF(Rækker!AD13=2,2,"") | AY13: =IF(Rækker!AF13=1,1,"") | AZ13: =IF(Rækker!AF13="X","X","") | BA13: =IF(Rækker!AF13=2,2,"")
B14: =IF(F4<>"","8.","") -> 8. | C14: =IF(F4<>"",CONCATENATE(Kampe!B12," - ",Kampe!D12,"........................................................................................................."),"") -> Newport - Grimsby......................................................................................................... | E14: 1 | F14: =IF(Rækker!B14=1,1,"") | G14: =IF(Rækker!B14="X","X","") | H14: =IF(Rækker!B14=2,2,"") -> 2 | I14: =IF(Rækker!D14=1,1,"") | J14: =IF(Rækker!D14="X","X","") | K14: =IF(Rækker!D14=2,2,"") -> 2 | L14: =IF(Rækker!F14=1,1,"") | M14: =IF(Rækker!F14="X","X","") | N14: =IF(Rækker!F14=2,2,"") -> 2 | O14: =IF(Rækker!H14=1,1,"") | P14: =IF(Rækker!H14="X","X","") | Q14: =IF(Rækker!H14=2,2,"") -> 2 | R14: =IF(Rækker!J14=1,1,"") | S14: =IF(Rækker!J14="X","X","") | T14: =IF(Rækker!J14=2,2,"") -> 2 | U14: =IF(Rækker!L14=1,1,"") | V14: =IF(Rækker!L14="X","X","") | W14: =IF(Rækker!L14=2,2,"") -> 2 | X14: =IF(Rækker!N14=1,1,"") | Y14: =IF(Rækker!N14="X","X","") | Z14: =IF(Rækker!N14=2,2,"") -> 2 | AA14: =IF(Rækker!P14=1,1,"") | AB14: =IF(Rækker!P14="X","X","") | AC14: =IF(Rækker!P14=2,2,"") -> 2 | AD14: =IF(Rækker!R14=1,1,"") | AE14: =IF(Rækker!R14="X","X","") | AF14: =IF(Rækker!R14=2,2,"") -> 2 | AG14: =IF(Rækker!T14=1,1,"") | AH14: =IF(Rækker!T14="X","X","") | AI14: =IF(Rækker!T14=2,2,"") | AJ14: =IF(Rækker!V14=1,1,"") | AK14: =IF(Rækker!V14="X","X","") | AL14: =IF(Rækker!V14=2,2,"") | AM14: =IF(Rækker!X14=1,1,"") | AN14: =IF(Rækker!X14="X","X","") | AO14: =IF(Rækker!X14=2,2,"") | AP14: =IF(Rækker!Z14=1,1,"") | AQ14: =IF(Rækker!Z14="X","X","") | AR14: =IF(Rækker!Z14=2,2,"") | AS14: =IF(Rækker!AB14=1,1,"") | AT14: =IF(Rækker!AB14="X","X","") | AU14: =IF(Rækker!AB14=2,2,"") | AV14: =IF(Rækker!AD14=1,1,"") | AW14: =IF(Rækker!AD14="X","X","") | AX14: =IF(Rækker!AD14=2,2,"") | AY14: =IF(Rækker!AF14=1,1,"") | AZ14: =IF(Rækker!AF14="X","X","") | BA14: =IF(Rækker!AF14=2,2,"")
B15: =IF(F4<>"","9.","") -> 9. | C15: =IF(F4<>"",CONCATENATE(Kampe!B13," - ",Kampe!D13,"........................................................................................................."),"") -> Rotherham - Crewe......................................................................................................... | E15: x | F15: =IF(Rækker!B15=1,1,"") -> 1 | G15: =IF(Rækker!B15="X","X","") | H15: =IF(Rækker!B15=2,2,"") | I15: =IF(Rækker!D15=1,1,"") -> 1 | J15: =IF(Rækker!D15="X","X","") | K15: =IF(Rækker!D15=2,2,"") | L15: =IF(Rækker!F15=1,1,"") -> 1 | M15: =IF(Rækker!F15="X","X","") | N15: =IF(Rækker!F15=2,2,"") | O15: =IF(Rækker!H15=1,1,"") -> 1 | P15: =IF(Rækker!H15="X","X","") | Q15: =IF(Rækker!H15=2,2,"") | R15: =IF(Rækker!J15=1,1,"") -> 1 | S15: =IF(Rækker!J15="X","X","") | T15: =IF(Rækker!J15=2,2,"") | U15: =IF(Rækker!L15=1,1,"") -> 1 | V15: =IF(Rækker!L15="X","X","") | W15: =IF(Rækker!L15=2,2,"") | X15: =IF(Rækker!N15=1,1,"") -> 1 | Y15: =IF(Rækker!N15="X","X","") | Z15: =IF(Rækker!N15=2,2,"") | AA15: =IF(Rækker!P15=1,1,"") -> 1 | AB15: =IF(Rækker!P15="X","X","") | AC15: =IF(Rækker!P15=2,2,"") | AD15: =IF(Rækker!R15=1,1,"") -> 1 | AE15: =IF(Rækker!R15="X","X","") | AF15: =IF(Rækker!R15=2,2,"") | AG15: =IF(Rækker!T15=1,1,"") | AH15: =IF(Rækker!T15="X","X","") | AI15: =IF(Rækker!T15=2,2,"") | AJ15: =IF(Rækker!V15=1,1,"") | AK15: =IF(Rækker!V15="X","X","") | AL15: =IF(Rækker!V15=2,2,"") | AM15: =IF(Rækker!X15=1,1,"") | AN15: =IF(Rækker!X15="X","X","") | AO15: =IF(Rækker!X15=2,2,"") | AP15: =IF(Rækker!Z15=1,1,"") | AQ15: =IF(Rækker!Z15="X","X","") | AR15: =IF(Rækker!Z15=2,2,"") | AS15: =IF(Rækker!AB15=1,1,"") | AT15: =IF(Rækker!AB15="X","X","") | AU15: =IF(Rækker!AB15=2,2,"") | AV15: =IF(Rækker!AD15=1,1,"") | AW15: =IF(Rækker!AD15="X","X","") | AX15: =IF(Rækker!AD15=2,2,"") | AY15: =IF(Rækker!AF15=1,1,"") | AZ15: =IF(Rækker!AF15="X","X","") | BA15: =IF(Rækker!AF15=2,2,"")
B16: =IF(F4<>"","10.","") -> 10. | C16: =IF(F4<>"",CONCATENATE(Kampe!B14," - ",Kampe!D14,"........................................................................................................."),"") -> Shrewsbury - Colchester......................................................................................................... | E16: x | F16: =IF(Rækker!B16=1,1,"") -> 1 | G16: =IF(Rækker!B16="X","X","") | H16: =IF(Rækker!B16=2,2,"") | I16: =IF(Rækker!D16=1,1,"") -> 1 | J16: =IF(Rækker!D16="X","X","") | K16: =IF(Rækker!D16=2,2,"") | L16: =IF(Rækker!F16=1,1,"") | M16: =IF(Rækker!F16="X","X","") -> X | N16: =IF(Rækker!F16=2,2,"") | O16: =IF(Rækker!H16=1,1,"") -> 1 | P16: =IF(Rækker!H16="X","X","") | Q16: =IF(Rækker!H16=2,2,"") | R16: =IF(Rækker!J16=1,1,"") -> 1 | S16: =IF(Rækker!J16="X","X","") | T16: =IF(Rækker!J16=2,2,"") | U16: =IF(Rækker!L16=1,1,"") | V16: =IF(Rækker!L16="X","X","") -> X | W16: =IF(Rækker!L16=2,2,"") | X16: =IF(Rækker!N16=1,1,"") | Y16: =IF(Rækker!N16="X","X","") -> X | Z16: =IF(Rækker!N16=2,2,"") | AA16: =IF(Rækker!P16=1,1,"") | AB16: =IF(Rækker!P16="X","X","") -> X | AC16: =IF(Rækker!P16=2,2,"") | AD16: =IF(Rækker!R16=1,1,"") | AE16: =IF(Rækker!R16="X","X","") -> X | AF16: =IF(Rækker!R16=2,2,"") | AG16: =IF(Rækker!T16=1,1,"") | AH16: =IF(Rækker!T16="X","X","") | AI16: =IF(Rækker!T16=2,2,"") | AJ16: =IF(Rækker!V16=1,1,"") | AK16: =IF(Rækker!V16="X","X","") | AL16: =IF(Rækker!V16=2,2,"") | AM16: =IF(Rækker!X16=1,1,"") | AN16: =IF(Rækker!X16="X","X","") | AO16: =IF(Rækker!X16=2,2,"") | AP16: =IF(Rækker!Z16=1,1,"") | AQ16: =IF(Rækker!Z16="X","X","") | AR16: =IF(Rækker!Z16=2,2,"") | AS16: =IF(Rækker!AB16=1,1,"") | AT16: =IF(Rækker!AB16="X","X","") | AU16: =IF(Rækker!AB16=2,2,"") | AV16: =IF(Rækker!AD16=1,1,"") | AW16: =IF(Rækker!AD16="X","X","") | AX16: =IF(Rækker!AD16=2,2,"") | AY16: =IF(Rækker!AF16=1,1,"") | AZ16: =IF(Rækker!AF16="X","X","") | BA16: =IF(Rækker!AF16=2,2,"")
B17: =IF(F4<>"","11.","") -> 11. | C17: =IF(F4<>"",CONCATENATE(Kampe!B15," - ",Kampe!D15,"........................................................................................................."),"") -> Swindon - Accrington Stanley......................................................................................................... | E17: x | F17: =IF(Rækker!B17=1,1,"") -> 1 | G17: =IF(Rækker!B17="X","X","") | H17: =IF(Rækker!B17=2,2,"") | I17: =IF(Rækker!D17=1,1,"") -> 1 | J17: =IF(Rækker!D17="X","X","") | K17: =IF(Rækker!D17=2,2,"") | L17: =IF(Rækker!F17=1,1,"") -> 1 | M17: =IF(Rækker!F17="X","X","") | N17: =IF(Rækker!F17=2,2,"") | O17: =IF(Rækker!H17=1,1,"") -> 1 | P17: =IF(Rækker!H17="X","X","") | Q17: =IF(Rækker!H17=2,2,"") | R17: =IF(Rækker!J17=1,1,"") -> 1 | S17: =IF(Rækker!J17="X","X","") | T17: =IF(Rækker!J17=2,2,"") | U17: =IF(Rækker!L17=1,1,"") -> 1 | V17: =IF(Rækker!L17="X","X","") | W17: =IF(Rækker!L17=2,2,"") | X17: =IF(Rækker!N17=1,1,"") -> 1 | Y17: =IF(Rækker!N17="X","X","") | Z17: =IF(Rækker!N17=2,2,"") | AA17: =IF(Rækker!P17=1,1,"") -> 1 | AB17: =IF(Rækker!P17="X","X","") | AC17: =IF(Rækker!P17=2,2,"") | AD17: =IF(Rækker!R17=1,1,"") -> 1 | AE17: =IF(Rækker!R17="X","X","") | AF17: =IF(Rækker!R17=2,2,"") | AG17: =IF(Rækker!T17=1,1,"") | AH17: =IF(Rækker!T17="X","X","") | AI17: =IF(Rækker!T17=2,2,"") | AJ17: =IF(Rækker!V17=1,1,"") | AK17: =IF(Rækker!V17="X","X","") | AL17: =IF(Rækker!V17=2,2,"") | AM17: =IF(Rækker!X17=1,1,"") | AN17: =IF(Rækker!X17="X","X","") | AO17: =IF(Rækker!X17=2,2,"") | AP17: =IF(Rækker!Z17=1,1,"") | AQ17: =IF(Rækker!Z17="X","X","") | AR17: =IF(Rækker!Z17=2,2,"") | AS17: =IF(Rækker!AB17=1,1,"") | AT17: =IF(Rækker!AB17="X","X","") | AU17: =IF(Rækker!AB17=2,2,"") | AV17: =IF(Rækker!AD17=1,1,"") | AW17: =IF(Rækker!AD17="X","X","") | AX17: =IF(Rækker!AD17=2,2,"") | AY17: =IF(Rækker!AF17=1,1,"") | AZ17: =IF(Rækker!AF17="X","X","") | BA17: =IF(Rækker!AF17=2,2,"")
B18: =IF(F4<>"","12.","") -> 12. | C18: =IF(F4<>"",CONCATENATE(Kampe!B16," - ",Kampe!D16,"........................................................................................................."),"") -> Tranmere - Walsall......................................................................................................... | E18: x | F18: =IF(Rækker!B18=1,1,"") | G18: =IF(Rækker!B18="X","X","") -> X | H18: =IF(Rækker!B18=2,2,"") | I18: =IF(Rækker!D18=1,1,"") -> 1 | J18: =IF(Rækker!D18="X","X","") | K18: =IF(Rækker!D18=2,2,"") | L18: =IF(Rækker!F18=1,1,"") -> 1 | M18: =IF(Rækker!F18="X","X","") | N18: =IF(Rækker!F18=2,2,"") | O18: =IF(Rækker!H18=1,1,"") | P18: =IF(Rækker!H18="X","X","") -> X | Q18: =IF(Rækker!H18=2,2,"") | R18: =IF(Rækker!J18=1,1,"") | S18: =IF(Rækker!J18="X","X","") | T18: =IF(Rækker!J18=2,2,"") -> 2 | U18: =IF(Rækker!L18=1,1,"") -> 1 | V18: =IF(Rækker!L18="X","X","") | W18: =IF(Rækker!L18=2,2,"") | X18: =IF(Rækker!N18=1,1,"") -> 1 | Y18: =IF(Rækker!N18="X","X","") | Z18: =IF(Rækker!N18=2,2,"") | AA18: =IF(Rækker!P18=1,1,"") -> 1 | AB18: =IF(Rækker!P18="X","X","") | AC18: =IF(Rækker!P18=2,2,"") | AD18: =IF(Rækker!R18=1,1,"") -> 1 | AE18: =IF(Rækker!R18="X","X","") | AF18: =IF(Rækker!R18=2,2,"") | AG18: =IF(Rækker!T18=1,1,"") | AH18: =IF(Rækker!T18="X","X","") | AI18: =IF(Rækker!T18=2,2,"") | AJ18: =IF(Rækker!V18=1,1,"") | AK18: =IF(Rækker!V18="X","X","") | AL18: =IF(Rækker!V18=2,2,"") | AM18: =IF(Rækker!X18=1,1,"") | AN18: =IF(Rækker!X18="X","X","") | AO18: =IF(Rækker!X18=2,2,"") | AP18: =IF(Rækker!Z18=1,1,"") | AQ18: =IF(Rækker!Z18="X","X","") | AR18: =IF(Rækker!Z18=2,2,"") | AS18: =IF(Rækker!AB18=1,1,"") | AT18: =IF(Rækker!AB18="X","X","") | AU18: =IF(Rækker!AB18=2,2,"") | AV18: =IF(Rækker!AD18=1,1,"") | AW18: =IF(Rækker!AD18="X","X","") | AX18: =IF(Rækker!AD18=2,2,"") | AY18: =IF(Rækker!AF18=1,1,"") | AZ18: =IF(Rækker!AF18="X","X","") | BA18: =IF(Rækker!AF18=2,2,"")
B19: =IF(F4<>"","13.","") -> 13. | C19: =IF(F4<>"",CONCATENATE(Kampe!B17," - ",Kampe!D17,"........................................................................................................."),"") -> York City - Gillingham......................................................................................................... | E19: 1 | F19: =IF(Rækker!B19=1,1,"") -> 1 | G19: =IF(Rækker!B19="X","X","") | H19: =IF(Rækker!B19=2,2,"") | I19: =IF(Rækker!D19=1,1,"") -> 1 | J19: =IF(Rækker!D19="X","X","") | K19: =IF(Rækker!D19=2,2,"") | L19: =IF(Rækker!F19=1,1,"") -> 1 | M19: =IF(Rækker!F19="X","X","") | N19: =IF(Rækker!F19=2,2,"") | O19: =IF(Rækker!H19=1,1,"") -> 1 | P19: =IF(Rækker!H19="X","X","") | Q19: =IF(Rækker!H19=2,2,"") | R19: =IF(Rækker!J19=1,1,"") -> 1 | S19: =IF(Rækker!J19="X","X","") | T19: =IF(Rækker!J19=2,2,"") | U19: =IF(Rækker!L19=1,1,"") -> 1 | V19: =IF(Rækker!L19="X","X","") | W19: =IF(Rækker!L19=2,2,"") | X19: =IF(Rækker!N19=1,1,"") -> 1 | Y19: =IF(Rækker!N19="X","X","") | Z19: =IF(Rækker!N19=2,2,"") | AA19: =IF(Rækker!P19=1,1,"") -> 1 | AB19: =IF(Rækker!P19="X","X","") | AC19: =IF(Rækker!P19=2,2,"") | AD19: =IF(Rækker!R19=1,1,"") -> 1 | AE19: =IF(Rækker!R19="X","X","") | AF19: =IF(Rækker!R19=2,2,"") | AG19: =IF(Rækker!T19=1,1,"") | AH19: =IF(Rækker!T19="X","X","") | AI19: =IF(Rækker!T19=2,2,"") | AJ19: =IF(Rækker!V19=1,1,"") | AK19: =IF(Rækker!V19="X","X","") | AL19: =IF(Rækker!V19=2,2,"") | AM19: =IF(Rækker!X19=1,1,"") | AN19: =IF(Rækker!X19="X","X","") | AO19: =IF(Rækker!X19=2,2,"") | AP19: =IF(Rækker!Z19=1,1,"") | AQ19: =IF(Rækker!Z19="X","X","") | AR19: =IF(Rækker!Z19=2,2,"") | AS19: =IF(Rækker!AB19=1,1,"") | AT19: =IF(Rækker!AB19="X","X","") | AU19: =IF(Rækker!AB19=2,2,"") | AV19: =IF(Rækker!AD19=1,1,"") | AW19: =IF(Rækker!AD19="X","X","") | AX19: =IF(Rækker!AD19=2,2,"") | AY19: =IF(Rækker!AF19=1,1,"") | AZ19: =IF(Rækker!AF19="X","X","") | BA19: =IF(Rækker!AF19=2,2,"")
A20: =IF(F4<>"","Resultat: ","") -> Resultat: | F20: =IF(DB!B6=13,IF(F4<>"",IF(F5<>"",IF(OR(LEFT(F5,3)="Res",LEFT(F5,2)="MR"),DB!AE12,""),DB!AE12),""),"") -> 4 | I20: =IF(DB!B6=13,IF(I4<>"",IF(I5<>"",IF(OR(LEFT(I5,3)="Res",LEFT(I5,2)="MR"),DB!AE13,""),DB!AE13),""),"") -> 4 | L20: =IF(DB!B6=13,IF(L4<>"",IF(L5<>"",IF(OR(LEFT(L5,3)="Res",LEFT(L5,2)="MR"),DB!AE14,""),DB!AE14),""),"") -> 4 | O20: =IF(DB!B6=13,IF(O4<>"",IF(O5<>"",IF(OR(LEFT(O5,3)="Res",LEFT(O5,2)="MR"),DB!AE15,""),DB!AE15),""),"") -> 4 | R20: =IF(DB!B6=13,IF(R4<>"",IF(R5<>"",IF(OR(LEFT(R5,3)="Res",LEFT(R5,2)="MR"),DB!AE16,""),DB!AE16),""),"") -> 4 | U20: =IF(DB!B6=13,IF(U4<>"",IF(U5<>"",IF(OR(LEFT(U5,3)="Res",LEFT(U5,2)="MR"),DB!AE17,""),DB!AE17),""),"") -> 4 | X20: =IF(DB!B6=13,IF(X4<>"",IF(X5<>"",IF(OR(LEFT(X5,3)="Res",LEFT(X5,2)="MR"),DB!AE18,""),DB!AE18),""),"") -> 4 | AA20: =IF(DB!B6=13,IF(AA4<>"",IF(AA5<>"",IF(OR(LEFT(AA5,3)="Res",LEFT(AA5,2)="MR"),DB!AE19,""),DB!AE19),""),"") -> 4 | AD20: =IF(DB!B6=13,IF(AD4<>"",IF(AD5<>"",IF(OR(LEFT(AD5,3)="Res",LEFT(AD5,2)="MR"),DB!AE20,""),DB!AE20),""),"") -> 4 | AG20: =IF(DB!B6=13,IF(AG4<>"",IF(AG5<>"",IF(OR(LEFT(AG5,3)="Res",LEFT(AG5,2)="MR"),DB!AE21,""),DB!AE21),""),"") | AJ20: =IF(DB!B6=13,IF(AJ4<>"",IF(AJ5<>"",IF(OR(LEFT(AJ5,3)="Res",LEFT(AJ5,2)="MR"),DB!AE22,""),DB!AE22),""),"") | AM20: =IF(DB!B6=13,IF(AM4<>"",IF(AM5<>"",IF(OR(LEFT(AM5,3)="Res",LEFT(AM5,2)="MR"),DB!AE23,""),DB!AE23),""),"") | AP20: =IF(DB!B6=13,IF(AP4<>"",IF(AP5<>"",IF(OR(LEFT(AP5,3)="Res",LEFT(AP5,2)="MR"),DB!AE24,""),DB!AE24),""),"") | AS20: =IF(DB!B6=13,IF(AS4<>"",IF(AS5<>"",IF(OR(LEFT(AS5,3)="Res",LEFT(AS5,2)="MR"),DB!AE25,""),DB!AE25),""),"") | AV20: =IF(DB!B6=13,IF(AV4<>"",IF(AV5<>"",IF(OR(LEFT(AV5,3)="Res",LEFT(AV5,2)="MR"),DB!AE26,""),DB!AE26),""),"") | AY20: =IF(DB!B6=13,IF(AY4<>"",IF(AY5<>"",IF(OR(LEFT(AY5,3)="Res",LEFT(AY5,2)="MR"),DB!AE27,""),DB!AE27),""),"")
A21: Klagefrister: | F21: =DB!H1 -> Grand Prix-række afgives til Bjarne Villadsen
A22: Regnefejl - 3 uger | F22: =DB!H2 -> Senest Onsdag kl. 23.00 i næste kampuge
A23: Opstillingsfejl - lørdag kl. 14.00 | F23: =DB!H3 -> på tlf.: 20 46 98 75 eller på email: lundstipsforening@gmail

Sheet Resultater
A1: =CONCATENATE("Grand Prix ",DB!B1) -> Grand Prix 2026
A3: =CONCATENATE(DB!D3," - Resultater, Kamp ",DB!C5) -> 4. runde - Resultater, Kamp 1 | H3: Vinder
A5: 1. | B5: =DB!B30 -> Idskov (1) | C5: =IF(B5<>"","-","") -> - | D5: =DB!E30 -> Chelsea (14) | E5: =DB!L30 -> 4 | F5: =IF(E5<>"","-","") -> - | G5: =DB!S30 -> 4 | H5: =DB!V30
A6: 2. | B6: =DB!B31 -> Idskov (6) | C6: =IF(B6<>"","-","") -> - | D6: =DB!E31 -> Benbo (8) | E6: =DB!L31 -> 4 | F6: =IF(E6<>"","-","") -> - | G6: =DB!S31 -> 4 | H6: =DB!V31
A7: 3. | B7: =DB!B32 -> Forest (10) | C7: =IF(B7<>"","-","") -> - | D7: =DB!E32 -> Frydkær (11) | E7: =DB!L32 -> 4 | F7: =IF(E7<>"","-","") -> - | G7: =DB!S32 -> 4 | H7: =DB!V32
A8: 4. | B8: =DB!B33 -> Idskov (14) | C8: =IF(B8<>"","-","") -> - | D8: =DB!E33 -> Benbo (16) | E8: =DB!L33 -> 4 | F8: =IF(E8<>"","-","") -> - | G8: =DB!S33 -> 4 | H8: =DB!V33
A9: 5. | B9: =DB!B34 -> Frydkær (1) | C9: =IF(B9<>"","-","") -> - | D9: =DB!E34 -> LPHJ (4) | E9: =DB!L34 -> 4 | F9: =IF(E9<>"","-","") -> - | G9: =DB!S34 -> 4 | H9: =DB!V34
A10: 6. | B10: =DB!B35 -> LPHJ (6) | C10: =IF(B10<>"","-","") -> - | D10: =DB!E35 -> Select (7) | E10: =DB!L35 -> 4 | F10: =IF(E10<>"","-","") -> - | G10: =DB!S35 -> 4 | H10: =DB!V35
A11: 7. | B11: =DB!B36 -> LPHJ (10) | C11: =IF(B11<>"","-","") -> - | D11: =DB!E36 -> Chelsea (11) | E11: =DB!L36 -> 4 | F11: =IF(E11<>"","-","") -> - | G11: =DB!S36 -> 4 | H11: =DB!V36
A12: 8. | B12: =DB!B37 -> Futte (14) | C12: =IF(B12<>"","-","") -> - | D12: =DB!E37 -> Robbo (2) | E12: =DB!L37 -> 4 | F12: =IF(E12<>"","-","") -> - | G12: =DB!S37 -> 4 | H12: =DB!V37
A13: Rundens reservescore: | E13: =DB!F1 -> 4
A14: =DB!H4 -> Tallet i parentes angiver puljen, signaturen er gået videre fra.

Sheet DB
A1: År: | B1: =[1]DB!B1 -> 2026 | E1: Res N: | F1: =IF(B6=13,IF(B4=B2,IF(SUM(H12:H27)=16,"",IF(SUM(AM12:AM27)=0,0,ROUND(SUM(AL12:AL27)/SUM(AM12:AM27),0))),""),"") -> 4 | H1: =[2]DB!H1 -> Grand Prix-række afgives til Bjarne Villadsen
A2: Runde F: | B2: =[1]DB!B3 -> 20 | C2: Runde F: | D2: =[1]DB!D3 -> 3. runde | H2: =[2]DB!H2 -> Senest Onsdag kl. 23.00 i næste kampuge
A3: Runde N: | B3: =B2+1 -> 21 | C3: Runde N: | D3: =[1]DB!D4 -> 4. runde | H3: =[2]DB!H3 -> på tlf.: 20 46 98 75 eller på email: lundstipsforening@gmail
A4: Tal F: | B4: =[1]DB!B5 -> 20 | C4: Runde E: | D4: =D3 -> 4. runde | H4: =IF(DB!B2<>B4,CONCATENATE("Ingen kampresultater: ",D2," ikke færdigspillet."),"Tallet i parentes angiver puljen, signaturen er gået videre fra.") -> Tallet i parentes angiver puljen, signaturen er gået videre fra.
A5: Tal N: | B5: =IF(B2=B4,IF(B6=13,B4+1,B4),B4) -> 21 | C5: 1 | D5: =CONCATENATE(D3,", Kamp ",C5) -> 4. runde, Kamp 1
A6: Opd.? | B6: =COUNTIF(R10:AD10,1)+COUNTIF(R10:AD10,"X")+COUNTIF(R10:AD10,2) -> 13 | D6: =CONCATENATE(D3," - K",C5) -> 4. runde - K1
A8: =IF(Rækker!B3="",IF(COUNTIF(Rækker!B5:B19,"")<14,"FEJL",""),IF(IF(OR(Rækker!B4="Disket",Rækker!B4="Udmeldt",Rækker!B4="Walkover"),1,0)=0,IF(IF(Rækker!B5<>"",IF(OR(Rækker!B5="Disket",Rækker!B5="Udmeldt",Rækker!B5="MR",Rækker!B5="Res"),1,2),0)=0,IF(COUNTIF(Rækker!B7:B19,"<>")<13,"",IF(COUNTIF(Rækker!B7:B19,1)+COUNTIF(Rækker!B7:B19,"X")+COUNTIF(Rækker!B7:B19,2)=13,"OK","FEJL")),IF(IF(Rækker!B5<>"",IF(OR(Rækker!B5="Disket",Rækker!B5="Udmeldt",Rækker!B5="MR",Rækker!B5="Res"),1,2),0)=1,IF(COUNTIF(Rækker!B7:B19,"<>")=0,"OK","FEJL"),"FEJL")),IF(AND(IF(Rækker!B5<>"",IF(OR(Rækker!B5="Disket",Rækker!B5="Udmeldt",Rækker!B5="MR",Rækker!B5="Res"),1,2),0)=0,COUNTIF(Rækker!B7:B19,"<>")=0),"OK","FEJL"))) -> OK | B8: =IF(Rækker!D3="",IF(COUNTIF(Rækker!D5:D19,"")<14,"FEJL",""),IF(IF(OR(Rækker!D4="Disket",Rækker!D4="Udmeldt",Rækker!D4="Walkover"),1,0)=0,IF(IF(Rækker!D5<>"",IF(OR(Rækker!D5="Disket",Rækker!D5="Udmeldt",Rækker!D5="MR",Rækker!D5="Res"),1,2),0)=0,IF(COUNTIF(Rækker!D7:D19,"<>")<13,"",IF(COUNTIF(Rækker!D7:D19,1)+COUNTIF(Rækker!D7:D19,"X")+COUNTIF(Rækker!D7:D19,2)=13,"OK","FEJL")),IF(IF(Rækker!D5<>"",IF(OR(Rækker!D5="Disket",Rækker!D5="Udmeldt",Rækker!D5="MR",Rækker!D5="Res"),1,2),0)=1,IF(COUNTIF(Rækker!D7:D19,"<>")=0,"OK","FEJL"),"FEJL")),IF(AND(IF(Rækker!D5<>"",IF(OR(Rækker!D5="Disket",Rækker!D5="Udmeldt",Rækker!D5="MR",Rækker!D5="Res"),1,2),0)=0,COUNTIF(Rækker!D7:D19,"<>")=0),"OK","FEJL"))) -> OK | C8: =IF(Rækker!F3="",IF(COUNTIF(Rækker!F5:F19,"")<14,"FEJL",""),IF(IF(OR(Rækker!F4="Disket",Rækker!F4="Udmeldt",Rækker!F4="Walkover"),1,0)=0,IF(IF(Rækker!F5<>"",IF(OR(Rækker!F5="Disket",Rækker!F5="Udmeldt",Rækker!F5="MR",Rækker!F5="Res"),1,2),0)=0,IF(COUNTIF(Rækker!F7:F19,"<>")<13,"",IF(COUNTIF(Rækker!F7:F19,1)+COUNTIF(Rækker!F7:F19,"X")+COUNTIF(Rækker!F7:F19,2)=13,"OK","FEJL")),IF(IF(Rækker!F5<>"",IF(OR(Rækker!F5="Disket",Rækker!F5="Udmeldt",Rækker!F5="MR",Rækker!F5="Res"),1,2),0)=1,IF(COUNTIF(Rækker!F7:F19,"<>")=0,"OK","FEJL"),"FEJL")),IF(AND(IF(Rækker!F5<>"",IF(OR(Rækker!F5="Disket",Rækker!F5="Udmeldt",Rækker!F5="MR",Rækker!F5="Res"),1,2),0)=0,COUNTIF(Rækker!F7:F19,"<>")=0),"OK","FEJL"))) -> OK | D8: =IF(Rækker!H3="",IF(COUNTIF(Rækker!H5:H19,"")<14,"FEJL",""),IF(IF(OR(Rækker!H4="Disket",Rækker!H4="Udmeldt",Rækker!H4="Walkover"),1,0)=0,IF(IF(Rækker!H5<>"",IF(OR(Rækker!H5="Disket",Rækker!H5="Udmeldt",Rækker!H5="MR",Rækker!H5="Res"),1,2),0)=0,IF(COUNTIF(Rækker!H7:H19,"<>")<13,"",IF(COUNTIF(Rækker!H7:H19,1)+COUNTIF(Rækker!H7:H19,"X")+COUNTIF(Rækker!H7:H19,2)=13,"OK","FEJL")),IF(IF(Rækker!H5<>"",IF(OR(Rækker!H5="Disket",Rækker!H5="Udmeldt",Rækker!H5="MR",Rækker!H5="Res"),1,2),0)=1,IF(COUNTIF(Rækker!H7:H19,"<>")=0,"OK","FEJL"),"FEJL")),IF(AND(IF(Rækker!H5<>"",IF(OR(Rækker!H5="Disket",Rækker!H5="Udmeldt",Rækker!H5="MR",Rækker!H5="Res"),1,2),0)=0,COUNTIF(Rækker!H7:H19,"<>")=0),"OK","FEJL"))) -> OK | E8: =IF(Rækker!J3="",IF(COUNTIF(Rækker!J5:J19,"")<14,"FEJL",""),IF(IF(OR(Rækker!J4="Disket",Rækker!J4="Udmeldt",Rækker!J4="Walkover"),1,0)=0,IF(IF(Rækker!J5<>"",IF(OR(Rækker!J5="Disket",Rækker!J5="Udmeldt",Rækker!J5="MR",Rækker!J5="Res"),1,2),0)=0,IF(COUNTIF(Rækker!J7:J19,"<>")<13,"",IF(COUNTIF(Rækker!J7:J19,1)+COUNTIF(Rækker!J7:J19,"X")+COUNTIF(Rækker!J7:J19,2)=13,"OK","FEJL")),IF(IF(Rækker!J5<>"",IF(OR(Rækker!J5="Disket",Rækker!J5="Udmeldt",Rækker!J5="MR",Rækker!J5="Res"),1,2),0)=1,IF(COUNTIF(Rækker!J7:J19,"<>")=0,"OK","FEJL"),"FEJL")),IF(AND(IF(Rækker!J5<>"",IF(OR(Rækker!J5="Disket",Rækker!J5="Udmeldt",Rækker!J5="MR",Rækker!J5="Res"),1,2),0)=0,COUNTIF(Rækker!J7:J19,"<>")=0),"OK","FEJL"))) -> OK | F8: =IF(Rækker!L3="",IF(COUNTIF(Rækker!L5:L19,"")<14,"FEJL",""),IF(IF(OR(Rækker!L4="Disket",Rækker!L4="Udmeldt",Rækker!L4="Walkover"),1,0)=0,IF(IF(Rækker!L5<>"",IF(OR(Rækker!L5="Disket",Rækker!L5="Udmeldt",Rækker!L5="MR",Rækker!L5="Res"),1,2),0)=0,IF(COUNTIF(Rækker!L7:L19,"<>")<13,"",IF(COUNTIF(Rækker!L7:L19,1)+COUNTIF(Rækker!L7:L19,"X")+COUNTIF(Rækker!L7:L19,2)=13,"OK","FEJL")),IF(IF(Rækker!L5<>"",IF(OR(Rækker!L5="Disket",Rækker!L5="Udmeldt",Rækker!L5="MR",Rækker!L5="Res"),1,2),0)=1,IF(COUNTIF(Rækker!L7:L19,"<>")=0,"OK","FEJL"),"FEJL")),IF(AND(IF(Rækker!L5<>"",IF(OR(Rækker!L5="Disket",Rækker!L5="Udmeldt",Rækker!L5="MR",Rækker!L5="Res"),1,2),0)=0,COUNTIF(Rækker!L7:L19,"<>")=0),"OK","FEJL"))) -> OK | G8: =IF(Rækker!N3="",IF(COUNTIF(Rækker!N5:N19,"")<14,"FEJL",""),IF(IF(OR(Rækker!N4="Disket",Rækker!N4="Udmeldt",Rækker!N4="Walkover"),1,0)=0,IF(IF(Rækker!N5<>"",IF(OR(Rækker!N5="Disket",Rækker!N5="Udmeldt",Rækker!N5="MR",Rækker!N5="Res"),1,2),0)=0,IF(COUNTIF(Rækker!N7:N19,"<>")<13,"",IF(COUNTIF(Rækker!N7:N19,1)+COUNTIF(Rækker!N7:N19,"X")+COUNTIF(Rækker!N7:N19,2)=13,"OK","FEJL")),IF(IF(Rækker!N5<>"",IF(OR(Rækker!N5="Disket",Rækker!N5="Udmeldt",Rækker!N5="MR",Rækker!N5="Res"),1,2),0)=1,IF(COUNTIF(Rækker!N7:N19,"<>")=0,"OK","FEJL"),"FEJL")),IF(AND(IF(Rækker!N5<>"",IF(OR(Rækker!N5="Disket",Rækker!N5="Udmeldt",Rækker!N5="MR",Rækker!N5="Res"),1,2),0)=0,COUNTIF(Rækker!N7:N19,"<>")=0),"OK","FEJL"))) -> OK | H8: =IF(Rækker!P3="",IF(COUNTIF(Rækker!P5:P19,"")<14,"FEJL",""),IF(IF(OR(Rækker!P4="Disket",Rækker!P4="Udmeldt",Rækker!P4="Walkover"),1,0)=0,IF(IF(Rækker!P5<>"",IF(OR(Rækker!P5="Disket",Rækker!P5="Udmeldt",Rækker!P5="MR",Rækker!P5="Res"),1,2),0)=0,IF(COUNTIF(Rækker!P7:P19,"<>")<13,"",IF(COUNTIF(Rækker!P7:P19,1)+COUNTIF(Rækker!P7:P19,"X")+COUNTIF(Rækker!P7:P19,2)=13,"OK","FEJL")),IF(IF(Rækker!P5<>"",IF(OR(Rækker!P5="Disket",Rækker!P5="Udmeldt",Rækker!P5="MR",Rækker!P5="Res"),1,2),0)=1,IF(COUNTIF(Rækker!P7:P19,"<>")=0,"OK","FEJL"),"FEJL")),IF(AND(IF(Rækker!P5<>"",IF(OR(Rækker!P5="Disket",Rækker!P5="Udmeldt",Rækker!P5="MR",Rækker!P5="Res"),1,2),0)=0,COUNTIF(Rækker!P7:P19,"<>")=0),"OK","FEJL"))) -> OK | I8: =IF(Rækker!R3="",IF(COUNTIF(Rækker!R5:R19,"")<14,"FEJL",""),IF(IF(OR(Rækker!R4="Disket",Rækker!R4="Udmeldt",Rækker!R4="Walkover"),1,0)=0,IF(IF(Rækker!R5<>"",IF(OR(Rækker!R5="Disket",Rækker!R5="Udmeldt",Rækker!R5="MR",Rækker!R5="Res"),1,2),0)=0,IF(COUNTIF(Rækker!R7:R19,"<>")<13,"",IF(COUNTIF(Rækker!R7:R19,1)+COUNTIF(Rækker!R7:R19,"X")+COUNTIF(Rækker!R7:R19,2)=13,"OK","FEJL")),IF(IF(Rækker!R5<>"",IF(OR(Rækker!R5="Disket",Rækker!R5="Udmeldt",Rækker!R5="MR",Rækker!R5="Res"),1,2),0)=1,IF(COUNTIF(Rækker!R7:R19,"<>")=0,"OK","FEJL"),"FEJL")),IF(AND(IF(Rækker!R5<>"",IF(OR(Rækker!R5="Disket",Rækker!R5="Udmeldt",Rækker!R5="MR",Rækker!R5="Res"),1,2),0)=0,COUNTIF(Rækker!R7:R19,"<>")=0),"OK","FEJL"))) -> OK | J8: =IF(Rækker!T3="",IF(COUNTIF(Rækker!T5:T19,"")<14,"FEJL",""),IF(IF(OR(Rækker!T4="Disket",Rækker!T4="Udmeldt",Rækker!T4="Walkover"),1,0)=0,IF(IF(Rækker!T5<>"",IF(OR(Rækker!T5="Disket",Rækker!T5="Udmeldt",Rækker!T5="MR",Rækker!T5="Res"),1,2),0)=0,IF(COUNTIF(Rækker!T7:T19,"<>")<13,"",IF(COUNTIF(Rækker!T7:T19,1)+COUNTIF(Rækker!T7:T19,"X")+COUNTIF(Rækker!T7:T19,2)=13,"OK","FEJL")),IF(IF(Rækker!T5<>"",IF(OR(Rækker!T5="Disket",Rækker!T5="Udmeldt",Rækker!T5="MR",Rækker!T5="Res"),1,2),0)=1,IF(COUNTIF(Rækker!T7:T19,"<>")=0,"OK","FEJL"),"FEJL")),IF(AND(IF(Rækker!T5<>"",IF(OR(Rækker!T5="Disket",Rækker!T5="Udmeldt",Rækker!T5="MR",Rækker!T5="Res"),1,2),0)=0,COUNTIF(Rækker!T7:T19,"<>")=0),"OK","FEJL"))) | K8: =IF(Rækker!V3="",IF(COUNTIF(Rækker!V5:V19,"")<14,"FEJL",""),IF(IF(OR(Rækker!V4="Disket",Rækker!V4="Udmeldt",Rækker!V4="Walkover"),1,0)=0,IF(IF(Rækker!V5<>"",IF(OR(Rækker!V5="Disket",Rækker!V5="Udmeldt",Rækker!V5="MR",Rækker!V5="Res"),1,2),0)=0,IF(COUNTIF(Rækker!V7:V19,"<>")<13,"",IF(COUNTIF(Rækker!V7:V19,1)+COUNTIF(Rækker!V7:V19,"X")+COUNTIF(Rækker!V7:V19,2)=13,"OK","FEJL")),IF(IF(Rækker!V5<>"",IF(OR(Rækker!V5="Disket",Rækker!V5="Udmeldt",Rækker!V5="MR",Rækker!V5="Res"),1,2),0)=1,IF(COUNTIF(Rækker!V7:V19,"<>")=0,"OK","FEJL"),"FEJL")),IF(AND(IF(Rækker!V5<>"",IF(OR(Rækker!V5="Disket",Rækker!V5="Udmeldt",Rækker!V5="MR",Rækker!V5="Res"),1,2),0)=0,COUNTIF(Rækker!V7:V19,"<>")=0),"OK","FEJL"))) | L8: =IF(Rækker!X3="",IF(COUNTIF(Rækker!X5:X19,"")<14,"FEJL",""),IF(IF(OR(Rækker!X4="Disket",Rækker!X4="Udmeldt",Rækker!X4="Walkover"),1,0)=0,IF(IF(Rækker!X5<>"",IF(OR(Rækker!X5="Disket",Rækker!X5="Udmeldt",Rækker!X5="MR",Rækker!X5="Res"),1,2),0)=0,IF(COUNTIF(Rækker!X7:X19,"<>")<13,"",IF(COUNTIF(Rækker!X7:X19,1)+COUNTIF(Rækker!X7:X19,"X")+COUNTIF(Rækker!X7:X19,2)=13,"OK","FEJL")),IF(IF(Rækker!X5<>"",IF(OR(Rækker!X5="Disket",Rækker!X5="Udmeldt",Rækker!X5="MR",Rækker!X5="Res"),1,2),0)=1,IF(COUNTIF(Rækker!X7:X19,"<>")=0,"OK","FEJL"),"FEJL")),IF(AND(IF(Rækker!X5<>"",IF(OR(Rækker!X5="Disket",Rækker!X5="Udmeldt",Rækker!X5="MR",Rækker!X5="Res"),1,2),0)=0,COUNTIF(Rækker!X7:X19,"<>")=0),"OK","FEJL"))) | M8: =IF(Rækker!Z3="",IF(COUNTIF(Rækker!Z5:Z19,"")<14,"FEJL",""),IF(IF(OR(Rækker!Z4="Disket",Rækker!Z4="Udmeldt",Rækker!Z4="Walkover"),1,0)=0,IF(IF(Rækker!Z5<>"",IF(OR(Rækker!Z5="Disket",Rækker!Z5="Udmeldt",Rækker!Z5="MR",Rækker!Z5="Res"),1,2),0)=0,IF(COUNTIF(Rækker!Z7:Z19,"<>")<13,"",IF(COUNTIF(Rækker!Z7:Z19,1)+COUNTIF(Rækker!Z7:Z19,"X")+COUNTIF(Rækker!Z7:Z19,2)=13,"OK","FEJL")),IF(IF(Rækker!Z5<>"",IF(OR(Rækker!Z5="Disket",Rækker!Z5="Udmeldt",Rækker!Z5="MR",Rækker!Z5="Res"),1,2),0)=1,IF(COUNTIF(Rækker!Z7:Z19,"<>")=0,"OK","FEJL"),"FEJL")),IF(AND(IF(Rækker!Z5<>"",IF(OR(Rækker!Z5="Disket",Rækker!Z5="Udmeldt",Rækker!Z5="MR",Rækker!Z5="Res"),1,2),0)=0,COUNTIF(Rækker!Z7:Z19,"<>")=0),"OK","FEJL"))) | N8: =IF(Rækker!AB3="",IF(COUNTIF(Rækker!AB5:AB19,"")<14,"FEJL",""),IF(IF(OR(Rækker!AB4="Disket",Rækker!AB4="Udmeldt",Rækker!AB4="Walkover"),1,0)=0,IF(IF(Rækker!AB5<>"",IF(OR(Rækker!AB5="Disket",Rækker!AB5="Udmeldt",Rækker!AB5="MR",Rækker!AB5="Res"),1,2),0)=0,IF(COUNTIF(Rækker!AB7:AB19,"<>")<13,"",IF(COUNTIF(Rækker!AB7:AB19,1)+COUNTIF(Rækker!AB7:AB19,"X")+COUNTIF(Rækker!AB7:AB19,2)=13,"OK","FEJL")),IF(IF(Rækker!AB5<>"",IF(OR(Rækker!AB5="Disket",Rækker!AB5="Udmeldt",Rækker!AB5="MR",Rækker!AB5="Res"),1,2),0)=1,IF(COUNTIF(Rækker!AB7:AB19,"<>")=0,"OK","FEJL"),"FEJL")),IF(AND(IF(Rækker!AB5<>"",IF(OR(Rækker!AB5="Disket",Rækker!AB5="Udmeldt",Rækker!AB5="MR",Rækker!AB5="Res"),1,2),0)=0,COUNTIF(Rækker!AB7:AB19,"<>")=0),"OK","FEJL"))) | O8: =IF(Rækker!AD3="",IF(COUNTIF(Rækker!AD5:AD19,"")<14,"FEJL",""),IF(IF(OR(Rækker!AD4="Disket",Rækker!AD4="Udmeldt",Rækker!AD4="Walkover"),1,0)=0,IF(IF(Rækker!AD5<>"",IF(OR(Rækker!AD5="Disket",Rækker!AD5="Udmeldt",Rækker!AD5="MR",Rækker!AD5="Res"),1,2),0)=0,IF(COUNTIF(Rækker!AD7:AD19,"<>")<13,"",IF(COUNTIF(Rækker!AD7:AD19,1)+COUNTIF(Rækker!AD7:AD19,"X")+COUNTIF(Rækker!AD7:AD19,2)=13,"OK","FEJL")),IF(IF(Rækker!AD5<>"",IF(OR(Rækker!AD5="Disket",Rækker!AD5="Udmeldt",Rækker!AD5="MR",Rækker!AD5="Res"),1,2),0)=1,IF(COUNTIF(Rækker!AD7:AD19,"<>")=0,"OK","FEJL"),"FEJL")),IF(AND(IF(Rækker!AD5<>"",IF(OR(Rækker!AD5="Disket",Rækker!AD5="Udmeldt",Rækker!AD5="MR",Rækker!AD5="Res"),1,2),0)=0,COUNTIF(Rækker!AD7:AD19,"<>")=0),"OK","FEJL"))) | P8: =IF(Rækker!AF3="",IF(COUNTIF(Rækker!AF5:AF19,"")<14,"FEJL",""),IF(IF(OR(Rækker!AF4="Disket",Rækker!AF4="Udmeldt",Rækker!AF4="Walkover"),1,0)=0,IF(IF(Rækker!AF5<>"",IF(OR(Rækker!AF5="Disket",Rækker!AF5="Udmeldt",Rækker!AF5="MR",Rækker!AF5="Res"),1,2),0)=0,IF(COUNTIF(Rækker!AF7:AF19,"<>")<13,"",IF(COUNTIF(Rækker!AF7:AF19,1)+COUNTIF(Rækker!AF7:AF19,"X")+COUNTIF(Rækker!AF7:AF19,2)=13,"OK","FEJL")),IF(IF(Rækker!AF5<>"",IF(OR(Rækker!AF5="Disket",Rækker!AF5="Udmeldt",Rækker!AF5="MR",Rækker!AF5="Res"),1,2),0)=1,IF(COUNTIF(Rækker!AF7:AF19,"<>")=0,"OK","FEJL"),"FEJL")),IF(AND(IF(Rækker!AF5<>"",IF(OR(Rækker!AF5="Disket",Rækker!AF5="Udmeldt",Rækker!AF5="MR",Rækker!AF5="Res"),1,2),0)=0,COUNTIF(Rækker!AF7:AF19,"<>")=0),"OK","FEJL")))
R10: ='Rækker - Udskrift'!E7 -> x | S10: ='Rækker - Udskrift'!E8 -> 2 | T10: ='Rækker - Udskrift'!E9 -> 1 | U10: ='Rækker - Udskrift'!E10 -> x | V10: ='Rækker - Udskrift'!E11 -> 1 | W10: ='Rækker - Udskrift'!E12 -> 1 | X10: ='Rækker - Udskrift'!E13 -> 2 | Y10: ='Rækker - Udskrift'!E14 -> 1 | Z10: ='Rækker - Udskrift'!E15 -> x | AA10: ='Rækker - Udskrift'!E16 -> x | AB10: ='Rækker - Udskrift'!E17 -> x | AC10: ='Rækker - Udskrift'!E18 -> x | AD10: ='Rækker - Udskrift'!E19 -> 1
A11: Signatur | B11: ID | C11: Deltager | D11: 2. runde F | E11: 2. runde E | F11: Kval F | G11: Kval E | H11: Ego | I11: Dis F | J11: Dis E | K11: Udm F | L11: Udm E | M11: MR F | N11: MR E | O11: Res F | P11: Res E | Q11: Kamp 0 | R11: Kamp 1 | S11: Kamp 2 | T11: Kamp 3 | U11: Kamp 4 | V11: Kamp 5 | W11: Kamp 6 | X11: Kamp 7 | Y11: Kamp 8 | Z11: Kamp 9 | AA11: Kamp 10 | AB11: Kamp 11 | AC11: Kamp 12 | AD11: Kamp 13 | AE11: Total | AF11: T Pl. | AG11: ES N | AH11: Point | AI11: P Pl. | AJ11: BU | AK11: BU Pl. | AL11: Res | AN11: Deltager E | AO11: 2. runde | AP11: Kval | AR11: ID E | AS11: Signatur | AT11: Deltager | AU11: 2. runde | AV11: Kval | AW11: Dis | AX11: Udm | AY11: MR | AZ11: Res
A12: =[1]DB!AS12 -> Benbo | B12: 1 | C12: =[1]DB!AT12 -> 2 | D12: 0 | E12: =IF(B6=13,IF(A12<>"",COUNTIF(U30:U37,A12)+D12,0),D12) -> 0 | F12: =[1]DB!AT12 -> 2 | G12: =IF(B6=13,IF(A12<>"",F12-COUNTIF(U30:U37,A12)-COUNTIF(Y30:Y37,A12),0),F12) -> 2 | H12: =[1]DB!BA12 -> 0 | I12: =[1]DB!AW12 -> 0 | J12: =IF(Rækker!B5="Disket",1,IF(N12>5,1,IF(I12=1,1,0))) -> 0 | K12: =[1]DB!AX12 -> 0 | L12: =IF(Rækker!B5="Udmeldt",1,IF(K12=1,1,0)) -> 0 | M12: =[1]DB!AY12 -> 0 | N12: =IF(Rækker!B5="MR",M12+1,M12) -> 0 | O12: =[1]DB!AZ12 -> 1 | P12: =IF(Rækker!B5="Res",O12+1,O12) -> 1 | Q12: =IF(J12=1,"Disket",IF(L12=1,"Udmeldt",IF(AND(C12>0,F12=H12),"Walkover",IF(AND(C12>0,D12>0,F12=0),"Walkover",IF(M12<>N12,CONCATENATE("MR ",N12),IF(O12<>P12,IF(P12>10,"Res 10+",CONCATENATE("Res ",P12)),"")))))) | R12: =IF('Rækker - Udskrift'!F7=1,1,IF('Rækker - Udskrift'!G7="X","X",IF('Rækker - Udskrift'!H7=2,2,""))) -> 1 | S12: =IF('Rækker - Udskrift'!F8=1,1,IF('Rækker - Udskrift'!G8="X","X",IF('Rækker - Udskrift'!H8=2,2,""))) -> 1 | T12: =IF('Rækker - Udskrift'!F9=1,1,IF('Rækker - Udskrift'!G9="X","X",IF('Rækker - Udskrift'!H9=2,2,""))) -> 1 | U12: =IF('Rækker - Udskrift'!F10=1,1,IF('Rækker - Udskrift'!G10="X","X",IF('Rækker - Udskrift'!H10=2,2,""))) -> 1 | V12: =IF('Rækker - Udskrift'!F11=1,1,IF('Rækker - Udskrift'!G11="X","X",IF('Rækker - Udskrift'!H11=2,2,""))) -> 1 | W12: =IF('Rækker - Udskrift'!F12=1,1,IF('Rækker - Udskrift'!G12="X","X",IF('Rækker - Udskrift'!H12=2,2,""))) -> 2 | X12: =IF('Rækker - Udskrift'!F13=1,1,IF('Rækker - Udskrift'!G13="X","X",IF('Rækker - Udskrift'!H13=2,2,""))) -> 1 | Y12: =IF('Rækker - Udskrift'!F14=1,1,IF('Rækker - Udskrift'!G14="X","X",IF('Rækker - Udskrift'!H14=2,2,""))) -> 2 | Z12: =IF('Rækker - Udskrift'!F15=1,1,IF('Rækker - Udskrift'!G15="X","X",IF('Rækker - Udskrift'!H15=2,2,""))) -> 1 | AA12: =IF('Rækker - Udskrift'!F16=1,1,IF('Rækker - Udskrift'!G16="X","X",IF('Rækker - Udskrift'!H16=2,2,""))) -> 1 | AB12: =IF('Rækker - Udskrift'!F17=1,1,IF('Rækker - Udskrift'!G17="X","X",IF('Rækker - Udskrift'!H17=2,2,""))) -> 1 | AC12: =IF('Rækker - Udskrift'!F18=1,1,IF('Rækker - Udskrift'!G18="X","X",IF('Rækker - Udskrift'!H18=2,2,""))) -> X | AD12: =IF('Rækker - Udskrift'!F19=1,1,IF('Rækker - Udskrift'!G19="X","X",IF('Rækker - Udskrift'!H19=2,2,""))) -> 1 | AE12: =IF(Q12<>"",IF(LEFT(Q12,3)="Res",F1,0),IF(R12=R10,1,0)+IF(S12=S10,1,0)+IF(T12=T10,1,0)+IF(U12=U10,1,0)+IF(V12=V10,1,0)+IF(W12=W10,1,0)+IF(X12=X10,1,0)+IF(Y12=Y10,1,0)+IF(Z12=Z10,1,0)+IF(AA12=AA10,1,0)+IF(AB12=AB10,1,0)+IF(AC12=AC10,1,0)+IF(AD12=AD10,1,0)) -> 4 | AF12: =RANK(AE12,AE12:AE27,1) -> 8 | AG12: =IF(Q12<>"",IF(LEFT(Q12,3)="Res",AE12,0),AE12) -> 4 | AH12: =IF(R12=R10,4096,0)+IF(S12=S10,2048,0)+IF(T12=T10,1024,0)+IF(U12=U10,512,0)+IF(V12=V10,256,0)+IF(W12=W10,128,0)+IF(X12=X10,64,0)+IF(Y12=Y10,32,0)+IF(Z12=Z10,16,0)+IF(AA12=AA10,8,0)+IF(AB12=AB10,4,0)+IF(AC12=AC10,2,0)+IF(AD12=AD10,1,0) -> 1283 | AI12: =RANK(AH12,AH12:AH27,1) -> 8 | AJ12: =(AF12*65)+AI12 -> 528 | AK12: =RANK(AJ12,AJ12:AJ27,1) -> 8 | AL12: =IF(AND(A12<>"",Q12=""),AE12,0) -> 4 | AM12: =IF(AND(A12<>"",Q12=""),1,0) -> 1 | AN12: =E12+G12 -> 2 | AO12: =AN12-AP12 -> 0 | AP12: =G12 -> 2 | AQ12: =IF(C12>0,IF(AN12>0,COUNTIF(AN12,">0"),0),0) -> 1 | AR12: =IF(AQ12>0,AQ12,MAX(AQ12:AQ27)+COUNTIF(AQ12,"=0")) -> 1 | AS12: =IF(A42>MAX(AQ12:AQ27),"",DGET(A11:AR27,"Signatur",A41:A42)) -> Benbo | AT12: =IF(A42>MAX(AQ12:AQ27),0,DGET(A11:AR27,"Deltager E",A41:A42)) -> 2 | AU12: =IF(A42>MAX(AQ12:AQ27),0,DGET(A11:AR27,"2. runde E",A41:A42)) -> 0 | AV12: =IF(A42>MAX(AQ12:AQ27),0,DGET(A11:AR27,"Kval E",A41:A42)) -> 2 | AW12: =IF(A42>MAX(AQ12:AQ27),0,DGET(A11:AR27,"Dis E",A41:A42)) -> 0 | AX12: =IF(A42>MAX(AQ12:AQ27),0,DGET(A11:AR27,"Udm E",A41:A42)) -> 0 | AY12: =IF(A42>MAX(AQ12:AQ27),0,DGET(A11:AR27,"MR E",A41:A42)) -> 0 | AZ12: =IF(A42>MAX(AQ12:AQ27),0,DGET(A11:AR27,"Res E",A41:A42)) -> 1
