Workbook

Sheet 4. runde
A1: =CONCATENATE("Grand Prix ",DB!B1) -> Grand Prix 2026
A3: =DB!D3 -> 4. runde
A5: 1. | B5: =DB!B30 -> Idskov (1) | C5: =IF(B5<>"","-","") -> - | D5: =DB!E30 -> Chelsea (14)
A6: 2. | B6: =DB!B31 -> Idskov (6) | C6: =IF(B6<>"","-","") -> - | D6: =DB!E31 -> Benbo (8)
A7: 3. | B7: =DB!B32 -> Forest (10) | C7: =IF(B7<>"","-","") -> - | D7: =DB!E32 -> Frydkær (11)
A8: 4. | B8: =DB!B33 -> Idskov (14) | C8: =IF(B8<>"","-","") -> - | D8: =DB!E33 -> Benbo (16)
A9: 5. | B9: =DB!B34 -> Frydkær (1) | C9: =IF(B9<>"","-","") -> - | D9: =DB!E34 -> LPHJ (4)
A10: 6. | B10: =DB!B35 -> LPHJ (6) | C10: =IF(B10<>"","-","") -> - | D10: =DB!E35 -> Select (7)
A11: 7. | B11: =DB!B36 -> LPHJ (10) | C11: =IF(B11<>"","-","") -> - | D11: =DB!E36 -> Chelsea (11)
A12: 8. | B12: =DB!B37 -> Futte (14) | C12: =IF(B12<>"","-","") -> - | D12: =DB!E37 -> Robbo (2)
A13: =DB!H4 -> Tallet i parentes angiver puljen, signaturen er gået videre fra.

Sheet Kampe
A1: =CONCATENATE("Kampe - ",DB!D5) -> Kampe - 4. runde, Kamp 1
B3: Hjemmehold | D3: Udehold
A5: 1. | B5: Cambridge | C5: - | D5: AFC Wimbledon
A6: 2. | B6: Plymouth | C6: - | D6: Burton
A7: 3. | B7: Stockport | C7: - | D7: Peterborough
A8: 4. | B8: Wycombe | C8: - | D8: Reading
A9: 5. | B9: Bristol R | C9: - | D9: Exeter
A10: 6. | B10: Cheltenham | C10: - | D10: Chesterfield
A11: 7. | B11: Fleetwood | C11: - | D11: Rochdale
A12: 8. | B12: Newport | C12: - | D12: Grimsby
A13: 9. | B13: Rotherham | C13: - | D13: Crewe
A14: 10. | B14: Shrewsbury | C14: - | D14: Colchester
A15: 11. | B15: Swindon | C15: - | D15: Accrington Stanley
A16: 12. | B16: Tranmere | C16: - | D16: Walsall
A17: 13. | B17: York City | C17: - | D17: Gillingham
A19: N.B.: Holdnavne skal holdes inden for de grønne felter.

Sheet Rækker
B1: =DB!D6 -> 4. runde - K1 | D1: =DB!D6 -> 4. runde - K1 | F1: =DB!D6 -> 4. runde - K1 | H1: =DB!D6 -> 4. runde - K1 | J1: =DB!D6 -> 4. runde - K1 | L1: =DB!D6 -> 4. runde - K1 | N1: =DB!D6 -> 4. runde - K1 | P1: =DB!D6 -> 4. runde - K1 | R1: =DB!D6 -> 4. runde - K1 | T1: =DB!D6 -> 4. runde - K1 | V1: =DB!D6 -> 4. runde - K1 | X1: =DB!D6 -> 4. runde - K1 | Z1: =DB!D6 -> 4. runde - K1 | AB1: =DB!D6 -> 4. runde - K1 | AD1: =DB!D6 -> 4. runde - K1 | AF1: =DB!D6 -> 4. runde - K1
B3: =DGET(DB!A11:I27,"Signatur",DB!A39:A40) -> Benbo | D3: =DGET(DB!A11:I27,"Signatur",DB!B39:B40) -> Chelsea | F3: =DGET(DB!A11:I27,"Signatur",DB!C39:C40) -> Forest | H3: =DGET(DB!A11:I27,"Signatur",DB!D39:D40) -> Frydkær | J3: =DGET(DB!A11:I27,"Signatur",DB!E39:E40) -> Futte | L3: =DGET(DB!A11:I27,"Signatur",DB!F39:F40) -> Idskov | N3: =DGET(DB!A11:I27,"Signatur",DB!G39:G40) -> LPHJ | P3: =DGET(DB!A11:I27,"Signatur",DB!H39:H40) -> Robbo | R3: =DGET(DB!A11:I27,"Signatur",DB!I39:I40) -> Select | T3: =DGET(DB!A11:I27,"Signatur",DB!J39:J40) | V3: =DGET(DB!A11:I27,"Signatur",DB!K39:K40) | X3: =DGET(DB!A11:I27,"Signatur",DB!L39:L40) | Z3: =DGET(DB!A11:I27,"Signatur",DB!M39:M40) | AB3: =DGET(DB!A11:I27,"Signatur",DB!N39:N40) | AD3: =DGET(DB!A11:I27,"Signatur",DB!O39:O40) | AF3: =DGET(DB!A11:I27,"Signatur",DB!P39:P40)
B4: =IF(DB!A12<>"",IF(DB!I12=1,"Disket",IF(DB!K12=1,"Udmeldt",IF(DB!Q12="Walkover","Walkover","Status"))),"") -> Status | D4: =IF(DB!A13<>"",IF(DB!I13=1,"Disket",IF(DB!K13=1,"Udmeldt",IF(DB!Q13="Walkover","Walkover","Status"))),"") -> Status | F4: =IF(DB!A14<>"",IF(DB!I14=1,"Disket",IF(DB!K14=1,"Udmeldt",IF(DB!Q14="Walkover","Walkover","Status"))),"") -> Status | H4: =IF(DB!A15<>"",IF(DB!I15=1,"Disket",IF(DB!K15=1,"Udmeldt",IF(DB!Q15="Walkover","Walkover","Status"))),"") -> Status | J4: =IF(DB!A16<>"",IF(DB!I16=1,"Disket",IF(DB!K16=1,"Udmeldt",IF(DB!Q16="Walkover","Walkover","Status"))),"") -> Status | L4: =IF(DB!A17<>"",IF(DB!I17=1,"Disket",IF(DB!K17=1,"Udmeldt",IF(DB!Q17="Walkover","Walkover","Status"))),"") -> Status | N4: =IF(DB!A18<>"",IF(DB!I18=1,"Disket",IF(DB!K18=1,"Udmeldt",IF(DB!Q18="Walkover","Walkover","Status"))),"") -> Status | P4: =IF(DB!A19<>"",IF(DB!I19=1,"Disket",IF(DB!K19=1,"Udmeldt",IF(DB!Q19="Walkover","Walkover","Status"))),"") -> Status | R4: =IF(DB!A20<>"",IF(DB!I20=1,"Disket",IF(DB!K20=1,"Udmeldt",IF(DB!Q20="Walkover","Walkover","Status"))),"") -> Status | T4: =IF(DB!A21<>"",IF(DB!I21=1,"Disket",IF(DB!K21=1,"Udmeldt",IF(DB!Q21="Walkover","Walkover","Status"))),"") | V4: =IF(DB!A22<>"",IF(DB!I22=1,"Disket",IF(DB!K22=1,"Udmeldt",IF(DB!Q22="Walkover","Walkover","Status"))),"") | X4: =IF(DB!A23<>"",IF(DB!I23=1,"Disket",IF(DB!K23=1,"Udmeldt",IF(DB!Q23="Walkover","Walkover","Status"))),"") | Z4: =IF(DB!A24<>"",IF(DB!I24=1,"Disket",IF(DB!K24=1,"Udmeldt",IF(DB!Q24="Walkover","Walkover","Status"))),"") | AB4: =IF(DB!A25<>"",IF(DB!I25=1,"Disket",IF(DB!K25=1,"Udmeldt",IF(DB!Q25="Walkover","Walkover","Status"))),"") | AD4: =IF(DB!A26<>"",IF(DB!I26=1,"Disket",IF(DB!K26=1,"Udmeldt",IF(DB!Q26="Walkover","Walkover","Status"))),"") | AF4: =IF(DB!A27<>"",IF(DB!I27=1,"Disket",IF(DB!K27=1,"Udmeldt",IF(DB!Q27="Walkover","Walkover","Status"))),"")
B6: =IF(B3<>"","Række","") -> Række | D6: =IF(D3<>"","Række","") -> Række | F6: =IF(F3<>"","Række","") -> Række | H6: =IF(H3<>"","Række","") -> Række | J6: =IF(J3<>"","Række","") -> Række | L6: =IF(L3<>"","Række","") -> Række | N6: =IF(N3<>"","Række","") -> Række | P6: =IF(P3<>"","Række","") -> Række | R6: =IF(R3<>"","Række","") -> Række | T6: =IF(T3<>"","Række","") | V6: =IF(V3<>"","Række","") | X6: =IF(X3<>"","Række","") | Z6: =IF(Z3<>"","Række","") | AB6: =IF(AB3<>"","Række","") | AD6: =IF(AD3<>"","Række","") | AF6: =IF(AF3<>"","Række","")
A7: 1. | B7: 1 | C7: 1. | D7: 1 | E7: 1. | F7: 1 | G7: 1. | H7: 1 | I7: 1. | J7: 1 | K7: 1. | L7: 1 | M7: 1. | N7: 1 | O7: 1. | P7: 1 | Q7: 1. | R7: 1 | S7: 1. | U7: 1. | W7: 1. | Y7: 1. | AA7: 1. | AC7: 1. | AE7: 1.
A8: 2. | B8: 1 | C8: 2. | D8: 1 | E8: 2. | F8: 1 | G8: 2. | H8: 1 | I8: 2. | J8: 1 | K8: 2. | L8: 1 | M8: 2. | N8: 1 | O8: 2. | P8: 1 | Q8: 2. | R8: 1 | S8: 2. | U8: 2. | W8: 2. | Y8: 2. | AA8: 2. | AC8: 2. | AE8: 2.
A9: 3. | B9: 1 | C9: 3. | D9: 1 | E9: 3. | F9: 1 | G9: 3. | H9: 1 | I9: 3. | J9: 1 | K9: 3. | L9: 1 | M9: 3. | N9: 1 | O9: 3. | P9: 1 | Q9: 3. | R9: 1 | S9: 3. | U9: 3. | W9: 3. | Y9: 3. | AA9: 3. | AC9: 3. | AE9: 3.
A10: 4. | B10: 1 | C10: 4. | D10: x | E10: 4. | F10: 1 | G10: 4. | H10: 1 | I10: 4. | J10: X | K10: 4. | L10: 1 | M10: 4. | N10: 1 | O10: 4. | P10: 1 | Q10: 4. | R10: 1 | S10: 4. | U10: 4. | W10: 4. | Y10: 4. | AA10: 4. | AC10: 4. | AE10: 4.
A11: 5. | B11: 1 | C11: 5. | D11: 1 | E11: 5. | F11: 1 | G11: 5. | H11: 1 | I11: 5. | J11: 1 | K11: 5. | L11: 1 | M11: 5. | N11: 1 | O11: 5. | P11: 1 | Q11: 5. | R11: 1 | S11: 5. | U11: 5. | W11: 5. | Y11: 5. | AA11: 5. | AC11: 5. | AE11: 5.
A12: 6. | B12: 2 | C12: 6. | D12: 2 | E12: 6. | F12: 2 | G12: 6. | H12: 2 | I12: 6. | J12: 2 | K12: 6. | L12: 2 | M12: 6. | N12: 2 | O12: 6. | P12: 2 | Q12: 6. | R12: 2 | S12: 6. | U12: 6. | W12: 6. | Y12: 6. | AA12: 6. | AC12: 6. | AE12: 6.
A13: 7. | B13: 1 | C13: 7. | D13: 1 | E13: 7. | F13: 1 | G13: 7. | H13: 1 | I13: 7. | J13: 1 | K13: 7. | L13: 1 | M13: 7. | N13: 1 | O13: 7. | P13: 1 | Q13: 7. | R13: 1 | S13: 7. | U13: 7. | W13: 7. | Y13: 7. | AA13: 7. | AC13: 7. | AE13: 7.
A14: 8. | B14: 2 | C14: 8. | D14: 2 | E14: 8. | F14: 2 | G14: 8. | H14: 2 | I14: 8. | J14: 2 | K14: 8. | L14: 2 | M14: 8. | N14: 2 | O14: 8. | P14: 2 | Q14: 8. | R14: 2 | S14: 8. | U14: 8. | W14: 8. | Y14: 8. | AA14: 8. | AC14: 8. | AE14: 8.
A15: 9. | B15: 1 | C15: 9. | D15: 1 | E15: 9. | F15: 1 | G15: 9. | H15: 1 | I15: 9. | J15: 1 | K15: 9. | L15: 1 | M15: 9. | N15: 1 | O15: 9. | P15: 1 | Q15: 9. | R15: 1 | S15: 9. | U15: 9. | W15: 9. | Y15: 9. | AA15: 9. | AC15: 9. | AE15: 9.
A16: 10. | B16: 1 | C16: 10. | D16: 1 | E16: 10. | F16: x | G16: 10. | H16: 1 | I16: 10. | J16: 1 | K16: 10. | L16: x | M16: 10. | N16: x | O16: 10. | P16: x | Q16: 10. | R16: x | S16: 10. | U16: 10. | W16: 10. | Y16: 10. | AA16: 10. | AC16: 10. | AE16: 10.
A17: 11. | B17: 1 | C17: 11. | D17: 1 | E17: 11. | F17: 1 | G17: 11. | H17: 1 | I17: 11. | J17: 1 | K17: 11. | L17: 1 | M17: 11. | N17: 1 | O17: 11. | P17: 1 | Q17: 11. | R17: 1 | S17: 11. | U17: 11. | W17: 11. | Y17: 11. | AA17: 11. | AC17: 11. | AE17: 11.
A18: 12. | B18: x | C18: 12. | D18: 1 | E18: 12. | F18: 1 | G18: 12. | H18: x | I18: 12. | J18: 2 | K18: 12. | L18: 1 | M18: 12. | N18: 1 | O18: 12. | P18: 1 | Q18: 12. | R18: 1 | S18: 12. | U18: 12. | W18: 12. | Y18: 12. | AA18: 12. | AC18: 12. | AE18: 12.
A19: 13. | B19: 1 | C19: 13. | D19: 1 | E19: 13. | F19: 1 | G19: 13. | H19: 1 | I19: 13. | J19: 1 | K19: 13. | L19: 1 | M19: 13. | N19: 1 | O19: 13. | P19: 1 | Q19: 13. | R19: 1 | S19: 13. | U19: 13. | W19: 13. | Y19: 13. | AA19: 13. | AC19: 13. | AE19: 13.
B20: =DB!A8 -> OK | D20: =DB!B8 -> OK | F20: =DB!C8 -> OK | H20: =DB!D8 -> OK | J20: =DB!E8 -> OK | L20: =DB!F8 -> OK | N20: =DB!G8 -> OK | P20: =DB!H8 -> OK | R20: =DB!I8 -> OK | T20: =DB!J8 | V20: =DB!K8 | X20: =DB!L8 | Z20: =DB!M8 | AB20: =DB!N8 | AD20: =DB!O8 | AF20: =DB!P8

Sheet Rækker - Udskrift
A1: =CONCATENATE("Grand Prix ",DB!B1) -> Grand Prix 2026
A4: =IF(F4<>"",DB!D5,"") -> 4. runde, Kamp 1 | E4: =IF(F4<>"","De 13 rigtige","") -> De 13 rigtige | F4: =Rækker!B3 -> Benbo | I4: =Rækker!D3 -> Chelsea | L4: =Rækker!F3 -> Forest | O4: =Rækker!H3 -> Frydkær | R4: =Rækker!J3 -> Futte | U4: =Rækker!L3 -> Idskov | X4: =Rækker!N3 -> LPHJ | AA4: =Rækker!P3 -> Robbo | AD4: =Rækker!R3 -> Select | AG4: =Rækker!T3 | AJ4: =Rækker!V3 | AM4: =Rækker!X3 | AP4: =Rækker!Z3 | AS4: =Rækker!AB3 | AV4: =Rækker!AD3 | AY4: =Rækker!AF3
F5: =DB!Q12 | I5: =DB!Q13 | L5: =DB!Q14 | O5: =DB!Q15 | R5: =DB!Q16 | U5: =DB!Q17 | X5: =DB!Q18 | AA5: =DB!Q19 | AD5: =DB!Q20 | AG5: =DB!Q21 | AJ5: =DB!Q22 | AM5: =DB!Q23 | AP5: =DB!Q24 | AS5: =DB!Q25 | AV5: =DB!Q26 | AY5: =DB!Q27
E6: 1X2 | F6: 1 | G6: X | H6: 2 | I6: 1 | J6: X | K6: 2 | L6: 1 | M6: X | N6: 2 | O6: 1 | P6: X | Q6: 2 | R6: 1 | S6: X | T6: 2 | U6: 1 | V6: X | W6: 2 | X6: 1 | Y6: X | Z6: 2 | AA6: 1 | AB6: X | AC6: 2 | AD6: 1 | AE6: X | AF6: 2 | AG6: 1 | AH6: X | AI6: 2 | AJ6: 1 | AK6: X | AL6: 2 | AM6: 1 | AN6: X | AO6: 2 | AP6: 1 | AQ6: X | AR6: 2 | AS6: 1 | AT6: X | AU6: 2 | AV6: 1 | AW6: X | AX6: 2 | AY6: 1 | AZ6: X | BA6: 2
B7: =IF(F4<>"","1.","") -> 1. | C7: =IF(F4<>"",CONCATENATE(Kampe!B5," - ",Kampe!D5,"........................................................................................................."),"") -> Cambridge - AFC Wimbledon......................................................................................................... | E7: x | F7: =IF(Rækker!B7=1,1,"") -> 1 | G7: =IF(Rækker!B7="X","X","") | H7: =IF(Rækker!B7=2,2,"") | I7: =IF(Rækker!D7=1,1,"") -> 1 | J7: =IF(Rækker!D7="X","X","") | K7: =IF(Rækker!D7=2,2,"") | L7: =IF(Rækker!F7=1,1,"") -> 1 | M7: =IF(Rækker!F7="X","X","") | N7: =IF(Rækker!F7=2,2,"") | O7: =IF(Rækker!H7=1,1,"") -> 1 | P7: =IF(Rækker!H7="X","X","") | Q7: =IF(Rækker!H7=2,2,"") | R7: =IF(Rækker!J7=1,1,"") -> 1 | S7: =IF(Rækker!J7="X","X","") | T7: =IF(Rækker!J7=2,2,"") | U7: =IF(Rækker!L7=1,1,"") -> 1 | V7: =IF(Rækker!L7="X","X","") | W7: =IF(Rækker!L7=2,2,"") | X7: =IF(Rækker!N7=1,1,"") -> 1 | Y7: =IF(Rækker!N7="X","X","") | Z7: =IF(Rækker!N7=2,2,"") | AA7: =IF(Rækker!P7=1,1,"") -> 1 | AB7: =IF(Rækker!P7="X","X","") | AC7: =IF(Rækker!P7=2,2,"") | AD7: =IF(Rækker!R7=1,1,"") -> 1 | AE7: =IF(Rækker!R7="X","X","") | AF7: =IF(Rækker!R7=2,2,"") | AG7: =IF(Rækker!T7=1,1,"") | AH7: =IF(Rækker!T7="X","X","") | AI7: =IF(Rækker!T7=2,2,"") | AJ7: =IF(Rækker!V7=1,1,"") | AK7: =IF(Rækker!V7="X","X","") | AL7: =IF(Rækker!V7=2,2,"") | AM7: =IF(Rækker!X7=1,1,"") | AN7: =IF(Rækker!X7="X","X","") | AO7: =IF(Rækker!X7=2,2,"") | AP7: =IF(Rækker!Z7=1,1,"") | AQ7: =IF(Rækker!Z7="X","X","") | AR7: =IF(Rækker!Z7=2,2,"") | AS7: =IF(Rækker!AB7=1,1,"") | AT7: =IF(Rækker!AB7="X","X","") | AU7: =IF(Rækker!AB7=2,2,"") | AV7: =IF(Rækker!AD7=1,1,"") | AW7: =IF(Rækker!AD7="X","X","") | AX7: =IF(Rækker!AD7=2,2,"") | AY7: =IF(Rækker!AF7=1,1,"") | AZ7: =IF(Rækker!AF7="X","X","") | BA7: =IF(Rækker!AF7=2,2,"")
B8: =IF(F4<>"","2.","") -> 2. | C8: =IF(F4<>"",CONCATENATE(Kampe!B6," - ",Kampe!D6,"........................................................................................................."),"") -> Plymouth - Burton......................................................................................................... | E8: 2 | F8: =IF(Rækker!B8=1,1,"") -> 1 | G8: =IF(Rækker!B8="X","X","") | H8: =IF(Rækker!B8=2,2,"") | I8: =IF(Rækker!D8=1,1,"") -> 1 | J8: =IF(Rækker!D8="X","X","") | K8: =IF(Rækker!D8=2,2,"") | L8: =IF(Rækker!F8=1,1,"") -> 1 | M8: =IF(Rækker!F8="X","X","") | N8: =IF(Rækker!F8=2,2,"") | O8: =IF(Rækker!H8=1,1,"") -> 1 | P8: =IF(Rækker!H8="X","X","") | Q8: =IF(Rækker!H8=2,2,"") | R8: =IF(Rækker!J8=1,1,"") -> 1 | S8: =IF(Rækker!J8="X","X","") | T8: =IF(Rækker!J8=2,2,"") | U8: =IF(Rækker!L8=1,1,"") -> 1 | V8: =IF(Rækker!L8="X","X","") | W8: =IF(Rækker!L8=2,2,"") | X8: =IF(Rækker!N8=1,1,"") -> 1 | Y8: =IF(Rækker!N8="X","X","") | Z8: =IF(Rækker!N8=2,2,"") | AA8: =IF(Rækker!P8=1,1,"") -> 1 | AB8: =IF(Rækker!P8="X","X","") | AC8: =IF(Rækker!P8=2,2,"") | AD8: =IF(Rækker!R8=1,1,"") -> 1 | AE8: =IF(Rækker!R8="X","X","") | AF8: =IF(Rækker!R8=2,2,"") | AG8: =IF(Rækker!T8=1,1,"") | AH8: =IF(Rækker!T8="X","X","") | AI8: =IF(Rækker!T8=2,2,"") | AJ8: =IF(Rækker!V8=1,1,"") | AK8: =IF(Rækker!V8="X","X","") | AL8: =IF(Rækker!V8=2,2,"") | AM8: =IF(Rækker!X8=1,1,"") | AN8: =IF(Rækker!X8="X","X","") | AO8: =IF(Rækker!X8=2,2,"") | AP8: =IF(Rækker!Z8=1,1,"") | AQ8: =IF(Rækker!Z8="X","X","") | AR8: =IF(Rækker!Z8=2,2,"") | AS8: =IF(Rækker!AB8=1,1,"") | AT8: =IF(Rækker!AB8="X","X","") | AU8: =IF(Rækker!AB8=2,2,"") | AV8: =IF(Rækker!AD8=1,1,"") | AW8: =IF(Rækker!AD8="X","X","") | AX8: =IF(Rækker!AD8=2,2,"") | AY8: =IF(Rækker!AF8=1,1,"") | AZ8: =IF(Rækker!AF8="X","X","") | BA8: =IF(Rækker!AF8=2,2,"")
B9: =IF(F4<>"","3.","") -> 3. | C9: =IF(F4<>"",CONCATENATE(Kampe!B7," - ",Kampe!D7,"........................................................................................................."),"") -> Stockport - Peterborough......................................................................................................... | E9: 1 | F9: =IF(Rækker!B9=1,1,"") -> 1 | G9: =IF(Rækker!B9="X","X","") | H9: =IF(Rækker!B9=2,2,"") | I9: =IF(Rækker!D9=1,1,"") -> 1 | J9: =IF(Rækker!D9="X","X","") | K9: =IF(Rækker!D9=2,2,"") | L9: =IF(Rækker!F9=1,1,"") -> 1 | M9: =IF(Rækker!F9="X","X","") | N9: =IF(Rækker!F9=2,2,"") | O9: =IF(Rækker!H9=1,1,"") -> 1 | P9: =IF(Rækker!H9="X","X","") | Q9: =IF(Rækker!H9=2,2,"") | R9: =IF(Rækker!J9=1,1,"") -> 1 | S9: =IF(Rækker!J9="X","X","") | T9: =IF(Rækker!J9=2,2,"") | U9: =IF(Rækker!L9=1,1,"") -> 1 | V9: =IF(Rækker!L9="X","X","") | W9: =IF(Rækker!L9=2,2,"") | X9: =IF(Rækker!N9=1,1,"") -> 1 | Y9: =IF(Rækker!N9="X","X","") | Z9: =IF(Rækker!N9=2,2,"") | AA9: =IF(Rækker!P9=1,1,"") -> 1 | AB9: =IF(Rækker!P9="X","X","") | AC9: =IF(Rækker!P9=2,2,"") | AD9: =IF(Rækker!R9=1,1,"") -> 1 | AE9: =IF(Rækker!R9="X","X","") | AF9: =IF(Rækker!R9=2,2,"") | AG9: =IF(Rækker!T9=1,1,"") | AH9: =IF(Rækker!T9="X","X","") | AI9: =IF(Rækker!T9=2,2,"") | AJ9: =IF(Rækker!V9=1,1,"") | AK9: =IF(Rækker!V9="X","X","") | AL9: =IF(Rækker!V9=2,2,"") | AM9: =IF(Rækker!X9=1,1,"") | AN9: =IF(Rækker!X9="X","X","") | AO9: =IF(Rækker!X9=2,2,"") | AP9: =IF(Rækker!Z9=1,1,"") | AQ9: =IF(Rækker!Z9="X","X","") | AR9: =IF(Rækker!Z9=2,2,"") | AS9: =IF(Rækker!AB9=1,1,"") | AT9: =IF(Rækker!AB9="X","X","") | AU9: =IF(Rækker!AB9=2,2,"") | AV9: =IF(Rækker!AD9=1,1,"") | AW9: =IF(Rækker!AD9="X","X","") | AX9: =IF(Rækker!AD9=2,2,"") | AY9: =IF(Rækker!AF9=1,1,"") | AZ9: =IF(Rækker!AF9="X","X","") | BA9: =IF(Rækker!AF9=2,2,"")
B10: =IF(F4<>"","4.","") -> 4. | C10: =IF(F4<>"",CONCATENATE(Kampe!B8," - ",Kampe!D8,"........................................................................................................."),"") -> Wycombe - Reading......................................................................................................... | E10: x | F10: =IF(Rækker!B10=1,1,"") -> 1 | G10: =IF(Rækker!B10="X","X","") | H10: =IF(Rækker!B10=2,2,"") | I10: =IF(Rækker!D10=1,1,"") | J10: =IF(Rækker!D10="X","X","") -> X | K10: =IF(Rækker!D10=2,2,"") | L10: =IF(Rækker!F10=1,1,"") -> 1 | M10: =IF(Rækker!F10="X","X","") | N10: =IF(Rækker!F10=2,2,"") | O10: =IF(Rækker!H10=1,1,"") -> 1 | P10: =IF(Rækker!H10="X","X","") | Q10: =IF(Rækker!H10=2,2,"") | R10: =IF(Rækker!J10=1,1,"") | S10: =IF(Rækker!J10="X","X","") -> X | T10: =IF(Rækker!J10=2,2,"") | U10: =IF(Rækker!L10=1,1,"") -> 1 | V10: =IF(Rækker!L10="X","X","") | W10: =IF(Rækker!L10=2,2,"") | X10: =IF(Rækker!N10=1,1,"") -> 1 | Y10: =IF(Rækker!N10="X","X","") | Z10: =IF(Rækker!N10=2,2,"") | AA10: =IF(Rækker!P10=1,1,"") -> 1 | AB10: =IF(Rækker!P10="X","X","") | AC10: =IF(Rækker!P10=2,2,"") | AD10: =IF(Rækker!R10=1,1,"") -> 1 | AE10: =IF(Rækker!R10="X","X","") | AF10: =IF(Rækker!R10=2,2,"") | AG10: =IF(Rækker!T10=1,1,"") | AH10: =IF(Rækker!T10="X","X","") | AI10: =IF(Rækker!T10=2,2,"") | AJ10: =IF(Rækker!V10=1,1,"") | AK10: =IF(Rækker!V10="X","X","") | AL10: =IF(Rækker!V10=2,2,"") | AM10: =IF(Rækker!X10=1,1,"") | AN10: =IF(Rækker!X10="X","X","") | AO10: =IF(Rækker!X10=2,2,"") | AP10: =IF(Rækker!Z10=1,1,"") | AQ10: =IF(Rækker!Z10="X","X","") | AR10: =IF(Rækker!Z10=2,2,"") | AS10: =IF(Rækker!AB10=1,1,"") | AT10: =IF(Rækker!AB10="X","X","") | AU10: =IF(Rækker!AB10=2,2,"") | AV10: =IF(Rækker!AD10=1,1,"") | AW10: =IF(Rækker!AD10="X","X","") | AX10: =IF(Rækker!AD10=2,2,"") | AY10: =IF(Rækker!AF10=1,1,"") | AZ10: =IF(Rækker!AF10="X","X","") | BA10: =IF(Rækker!AF10=2,2,"")
B11: =IF(F4<>"","5.","") -> 5. | C11: =IF(F4<>"",CONCATENATE(Kampe!B9," - ",Kampe!D9,"........................................................................................................."),"") -> Bristol R - Exeter......................................................................................................... | E11: 1 | F11: =IF(Rækker!B11=1,1,"") -> 1 | G11: =IF(Rækker!B11="X","X","") | H11: =IF(Rækker!B11=2,2,"") | I11: =IF(Rækker!D11=1,1,"") -> 1 | J11: =IF(Rækker!D11="X","X","") | K11: =IF(Rækker!D11=2,2,"") | L11: =IF(Rækker!F11=1,1,"") -> 1 | M11: =IF(Rækker!F11="X","X","") | N11: =IF(Rækker!F11=2,2,"") | O11: =IF(Rækker!H11=1,1,"") -> 1 | P11: =IF(Rækker!H11="X","X","") | Q11: =IF(Rækker!H11=2,2,"") | R11: =IF(Rækker!J11=1,1,"") -> 1 | S11: =IF(Rækker!J11="X","X","") | T11: =IF(Rækker!J11=2,2,"") | U11: =IF(Rækker!L11=1,1,"") -> 1 | V11: =IF(Rækker!L11="X","X","") | W11: =IF(Rækker!L11=2,2,"") | X11: =IF(Rækker!N11=1,1,"") -> 1 | Y11: =IF(Rækker!N11="X","X","") | Z11: =IF(Rækker!N11=2,2,"") | AA11: =IF(Rækker!P11=1,1,"") -> 1 | AB11: =IF(Rækker!P11="X","X","") | AC11: =IF(Rækker!P11=2,2,"") | AD11: =IF(Rækker!R11=1,1,"") -> 1 | AE11: =IF(Rækker!R11="X","X","") | AF11: =IF(Rækker!R11=2,2,"") | AG11: =IF(Rækker!T11=1,1,"") | AH11: =IF(Rækker!T11="X","X","") | AI11: =IF(Rækker!T11=2,2,"") | AJ11: =IF(Rækker!V11=1,1,"") | AK11: =IF(Rækker!V11="X","X","") | AL11: =IF(Rækker!V11=2,2,"") | AM11: =IF(Rækker!X11=1,1,"") | AN11: =IF(Rækker!X11="X","X","") | AO11: =IF(Rækker!X11=2,2,"") | AP11: =IF(Rækker!Z11=1,1,"") | AQ11: =IF(Rækker!Z11="X","X","") | AR11: =IF(Rækker!Z11=2,2,"") | AS11: =IF(Rækker!AB11=1,1,"") | AT11: =IF(Rækker!AB11="X","X","") | AU11: =IF(Rækker!AB11=2,2,"") | AV11: =IF(Rækker!AD11=1,1,"") | AW11: =IF(Rækker!AD11="X","X","") | AX11: =IF(Rækker!AD11=2,2,"") | AY11: =IF(Rækker!AF11=1,1,"") | AZ11: =IF(Rækker!AF11="X","X","") | BA11: =IF(Rækker!AF11=2,2,"")
B12: =IF(F4<>"","6.","") -> 6. | C12: =IF(F4<>"",CONCATENATE(Kampe!B10," - ",Kampe!D10,"........................................................................................................."),"") -> Cheltenham - Chesterfield......................................................................................................... | E12: 1 | F12: =IF(Rækker!B12=1,1,"") | G12: =IF(Rækker!B12="X","X","") | H12: =IF(Rækker!B12=2,2,"") -> 2 | I12: =IF(Rækker!D12=1,1,"") | J12: =IF(Rækker!D12="X","X","") | K12: =IF(Rækker!D12=2,2,"") -> 2 | L12: =IF(Rækker!F12=1,1,"") | M12: =IF(Rækker!F12="X","X","") | N12: =IF(Rækker!F12=2,2,"") -> 2 | O12: =IF(Rækker!H12=1,1,"") | P12: =IF(Rækker!H12="X","X","") | Q12: =IF(Rækker!H12=2,2,"") -> 2 | R12: =IF(Rækker!J12=1,1,"") | S12: =IF(Rækker!J12="X","X","") | T12: =IF(Rækker!J12=2,2,"") -> 2 | U12: =IF(Rækker!L12=1,1,"") | V12: =IF(Rækker!L12="X","X","") | W12: =IF(Rækker!L12=2,2,"") -> 2 | X12: =IF(Rækker!N12=1,1,"") | Y12: =IF(Rækker!N12="X","X","") | Z12: =IF(Rækker!N12=2,2,"") -> 2 | AA12: =IF(Rækker!P12=1,1,"") | AB12: =IF(Rækker!P12="X","X","") | AC12: =IF(Rækker!P12=2,2,"") -> 2 | AD12: =IF(Rækker!R12=1,1,"") | AE12: =IF(Rækker!R12="X","X","") | AF12: =IF(Rækker!R12=2,2,"") -> 2 | AG12: =IF(Rækker!T12=1,1,"") | AH12: =IF(Rækker!T12="X","X","") | AI12: =IF(Rækker!T12=2,2,"") | AJ12: =IF(Rækker!V12=1,1,"") | AK12: =IF(Rækker!V12="X","X","") | AL12: =IF(Rækker!V12=2,2,"") | AM12: =IF(Rækker!X12=1,1,"") | AN12: =IF(Rækker!X12="X","X","") | AO12: =IF(Rækker!X12=2,2,"") | AP12: =IF(Rækker!Z12=1,1,"") | AQ12: =IF(Rækker!Z12="X","X","") | AR12: =IF(Rækker!Z12=2,2,"") | AS12: =IF(Rækker!AB12=1,1,"") | AT12: =IF(Rækker!AB12="X","X","") | AU12: =IF(Rækker!AB12=2,2,"") | AV12: =IF(Rækker!AD12=1,1,"") | AW12: =IF(Rækker!AD12="X","X","") | AX12: =IF(Rækker!AD12=2,2,"") | AY12: =IF(Rækker!AF12=1,1,"") | AZ12: =IF(Rækker!AF12="X","X","") | BA12: =IF(Rækker!AF12=2,2,"")
B13: =IF(F4<>"","7.","") -> 7. | C13: =IF(F4<>"",CONCATENATE(Kampe!B11," - ",Kampe!D11,"........................................................................................................."),"") -> Fleetwood - Rochdale......................................................................................................... | E13: 2 | F13: =IF(Rækker!B13=1,1,"") -> 1 | G13: =IF(Rækker!B13="X","X","") | H13: =IF(Rækker!B13=2,2,"") | I13: =IF(Rækker!D13=1,1,"") -> 1 | J13: =IF(Rækker!D13="X","X","") | K13: =IF(Rækker!D13=2,2,"") | L13: =IF(Rækker!F13=1,1,"") -> 1 | M13: =IF(Rækker!F13="X","X","") | N13: =IF(Rækker!F13=2,2,"") | O13: =IF(Rækker!H13=1,1,"") -> 1 | P13: =IF(Rækker!H13="X","X","") | Q13: =IF(Rækker!H13=2,2,"") | R13: =IF(Rækker!J13=1,1,"") -> 1 | S13: =IF(Rækker!J13="X","X","") | T13: =IF(Rækker!J13=2,2,"") | U13: =IF(Rækker!L13=1,1,"") -> 1 | V13: =IF(Rækker!L13="X","X","") | W13: =IF(Rækker!L13=2,2,"") | X13: =IF(Rækker!N13=1,1,"") -> 1 | Y13: =IF(Rækker!N13="X","X","") | Z13: =IF(Rækker!N13=2,2,"") | AA13: =IF(Rækker!P13=1,1,"") -> 1 | AB13: =IF(Rækker!P13="X","X","") | AC13: =IF(Rækker!P13=2,2,"") | AD13: =IF(Rækker!R13=1,1,"") -> 1 | AE13: =IF(Rækker!R13="X","X","") | AF13: =IF(Rækker!R13=2,2,"") | AG13: =IF(Rækker!T13=1,1,"") | AH13: =IF(Rækker!T13="X","X","") | AI13: =IF(Rækker!T13=2,2,"") | AJ13: =IF(Rækker!V13=1,1,"") | AK13: =IF(Rækker!V13="X","X","") | AL13: =IF(Rækker!V13=2,2,"") | AM13: =IF(Rækker!X13=1,1,"") | AN13: =IF(Rækker!X13="X","X","") | AO13: =IF(Rækker!X13=2,2,"") | AP13: =IF(Rækker!Z13=1,1,"") | AQ13: =IF(Rækker!Z13="X","X","") | AR13: =IF(Rækker!Z13=2,2,"") | AS13: =IF(Rækker!AB13=1,1,"") | AT13: =IF(Rækker!AB13="X","X","") | AU13: =IF(Rækker!AB13=2,2,"") | AV13: =IF(Rækker!AD13=1,1,"") | AW13: =IF(Rækker!AD13="X","X","") | AX13: =IF(Rækker!AD13=2,2,"") | AY13: =IF(Rækker!AF13=1,1,"") | AZ13: =IF(Rækker!AF13="X","X","") | BA13: =IF(Rækker!AF13=2,2,"")
B14: =IF(F4<>"","8.","") -> 8. | C14: =IF(F4<>"",CONCATENATE(Kampe!B12," - ",Kampe!D12,"........................................................................................................."),"") -> Newport - Grimsby......................................................................................................... | E14: 1 | F14: =IF(Rækker!B14=1,1,"") | G14: =IF(Rækker!B14="X","X","") | H14: =IF(Rækker!B14=2,2,"") -> 2 | I14: =IF(Rækker!D14=1,1,"") | J14: =IF(Rækker!D14="X","X","") | K14: =IF(Rækker!D14=2,2,"") -> 2 | L14: =IF(Rækker!F14=1,1,"") | M14: =IF(Rækker!F14="X","X","") | N14: =IF(Rækker!F14=2,2,"") -> 2 | O14: =IF(Rækker!H14=1,1,"") | P14: =IF(Rækker!H14="X","X","") | Q14: =IF(Rækker!H14=2,2,"") -> 2 | R14: =IF(Rækker!J14=1,1,"") | S14: =IF(Rækker!J14="X","X","") | T14: =IF(Rækker!J14=2,2,"") -> 2 | U14: =IF(Rækker!L14=1,1,"") | V14: =IF(Rækker!L14="X","X","") | W14: =IF(Rækker!L14=2,2,"") -> 2 | X14: =IF(Rækker!N14=1,1,"") | Y14: =IF(Rækker!N14="X","X","") | Z14: =IF(Rækker!N14=2,2,"") -> 2 | AA14: =IF(Rækker!P14=1,1,"") | AB14: =IF(Rækker!P14="X","X","") | AC14: =IF(Rækker!P14=2,2,"") -> 2 | AD14: =IF(Rækker!R14=1,1,"") | AE14: =IF(Rækker!R14="X","X","") | AF14: =IF(Rækker!R14=2,2,"") -> 2 | AG14: =IF(Rækker!T14=1,1,"") | AH14: =IF(Rækker!T14="X","X","") | AI14: =IF(Rækker!T14=2,2,"") | AJ14: =IF(Rækker!V14=1,1,"") | AK14: =IF(Rækker!V14="X","X","") | AL14: =IF(Rækker!V14=2,2,"") | AM14: =IF(Rækker!X14=1,1,"") | AN14: =IF(Rækker!X14="X","X","") | AO14: =IF(Rækker!X14=2,2,"") | AP14: =IF(Rækker!Z14=1,1,"") | AQ14: =IF(Rækker!Z14="X","X","") | AR14: =IF(Rækker!Z14=2,2,"") | AS14: =IF(Rækker!AB14=1,1,"") | AT14: =IF(Rækker!AB14="X","X","") | AU14: =IF(Rækker!AB14=2,2,"") | AV14: =IF(Rækker!AD14=1,1,"") | AW14: =IF(Rækker!AD14="X","X","") | AX14: =IF(Rækker!AD14=2,2,"") | AY14: =IF(Rækker!AF14=1,1,"") | AZ14: =IF(Rækker!AF14="X","X","") | BA14: =IF(Rækker!AF14=2,2,"")
B15: =IF(F4<>"","9.","") -> 9. | C15: =IF(F4<>"",CONCATENATE(Kampe!B13," - ",Kampe!D13,"........................................................................................................."),"") -> Rotherham - Crewe......................................................................................................... | E15: x | F15: =IF(Rækker!B15=1,1,"") -> 1 | G15: =IF(Rækker!B15="X","X","") | H15: =IF(Rækker!B15=2,2,"") | I15: =IF(Rækker!D15=1,1,"") -> 1 | J15: =IF(Rækker!D15="X","X","") | K15: =IF(Rækker!D15=2,2,"") | L15: =IF(Rækker!F15=1,1,"") -> 1 | M15: =IF(Rækker!F15="X","X","") | N15: =IF(Rækker!F15=2,2,"") | O15: =IF(Rækker!H15=1,1,"") -> 1 | P15: =IF(Rækker!H15="X","X","") | Q15: =IF(Rækker!H15=2,2,"") | R15: =IF(Rækker!J15=1,1,"") -> 1 | S15: =IF(Rækker!J15="X","X","") | T15: =IF(Rækker!J15=2,2,"") | U15: =IF(Rækker!L15=1,1,"") -> 1 | V15: =IF(Rækker!L15="X","X","") | W15: =IF(Rækker!L15=2,2,"") | X15: =IF(Rækker!N15=1,1,"") -> 1 | Y15: =IF(Rækker!N15="X","X","") | Z15: =IF(Rækker!N15=2,2,"") | AA15: =IF(Rækker!P15=1,1,"") -> 1 | AB15: =IF(Rækker!P15="X","X","") | AC15: =IF(Rækker!P15=2,2,"") | AD15: =IF(Rækker!R15=1,1,"") -> 1 | AE15: =IF(Rækker!R15="X","X","") | AF15: =IF(Rækker!R15=2,2,"") | AG15: =IF(Rækker!T15=1,1,"") | AH15: =IF(Rækker!T15="X","X","") | AI15: =IF(Rækker!T15=2,2,"") | AJ15: =IF(Rækker!V15=1,1,"") | AK15: =IF(Rækker!V15="X","X","") | AL15: =IF(Rækker!V15=2,2,"") | AM15: =IF(Rækker!X15=1,1,"") | AN15: =IF(Rækker!X15="X","X","") | AO15: =IF(Rækker!X15=2,2,"") | AP15: =IF(Rækker!Z15=1,1,"") | AQ15: =IF(Rækker!Z15="X","X","") | AR15: =IF(Rækker!Z15=2,2,"") | AS15: =IF(Rækker!AB15=1,1,"") | AT15: =IF(Rækker!AB15="X","X","") | AU15: =IF(Rækker!AB15=2,2,"") | AV15: =IF(Rækker!AD15=1,1,"") | AW15: =IF(Rækker!AD15="X","X","") | AX15: =IF(Rækker!AD15=2,2,"") | AY15: =IF(Rækker!AF15=1,1,"") | AZ15: =IF(Rækker!AF15="X","X","") | BA15: =IF(Rækker!AF15=2,2,"")
B16: =IF(F4<>"","10.","") -> 10. | C16: =IF(F4<>"",CONCATENATE(Kampe!B14," - ",Kampe!D14,"........................................................................................................."),"") -> Shrewsbury - Colchester......................................................................................................... | E16: x | F16: =IF(Rækker!B16=1,1,"") -> 1 | G16: =IF(Rækker!B16="X","X","") | H16: =IF(Rækker!B16=2,2,"") | I16: =IF(Rækker!D16=1,1,"") -> 1 | J16: =IF(Rækker!D16="X","X","") | K16: =IF(Rækker!D16=2,2,"") | L16: =IF(Rækker!F16=1,1,"") | M16: =IF(Rækker!F16="X","X","") -> X | N16: =IF(Rækker!F16=2,2,"") | O16: =IF(Rækker!H16=1,1,"") -> 1 | P16: =IF(Rækker!H16="X","X","") | Q16: =IF(Rækker!H16=2,2,"") | R16: =IF(Rækker!J16=1,1,"") -> 1 | S16: =IF(Rækker!J16="X","X","") | T16: =IF(Rækker!J16=2,2,"") | U16: =IF(Rækker!L16=1,1,"") | V16: =IF(Rækker!L16="X","X","") -> X | W16: =IF(Rækker!L16=2,2,"") | X16: =IF(Rækker!N16=1,1,"") | Y16: =IF(Rækker!N16="X","X","") -> X | Z16: =IF(Rækker!N16=2,2,"") | AA16: =IF(Rækker!P16=1,1,"") | AB16: =IF(Rækker!P16="X","X","") -> X | AC16: =IF(Rækker!P16=2,2,"") | AD16: =IF(Rækker!R16=1,1,"") | AE16: =IF(Rækker!R16="X","X","") -> X | AF16: =IF(Rækker!R16=2,2,"") | AG16: =IF(Rækker!T16=1,1,"") | AH16: =IF(Rækker!T16="X","X","") | AI16: =IF(Rækker!T16=2,2,"") | AJ16: =IF(Rækker!V16=1,1,"") | AK16: =IF(Rækker!V16="X","X","") | AL16: =IF(Rækker!V16=2,2,"") | AM16: =IF(Rækker!X16=1,1,"") | AN16: =IF(Rækker!X16="X","X","") | AO16: =IF(Rækker!X16=2,2,"") | AP16: =IF(Rækker!Z16=1,1,"") | AQ16: =IF(Rækker!Z16="X","X","") | AR16: =IF(Rækker!Z16=2,2,"") | AS16: =IF(Rækker!AB16=1,1,"") | AT16: =IF(Rækker!AB16="X","X","") | AU16: =IF(Rækker!AB16=2,2,"") | AV16: =IF(Rækker!AD16=1,1,"") | AW16: =IF(Rækker!AD16="X","X","") | AX16: =IF(Rækker!AD16=2,2,"") | AY16: =IF(Rækker!AF16=1,1,"") | AZ16: =IF(Rækker!AF16="X","X","") | BA16: =IF(Rækker!AF16=2,2,"")
B17: =IF(F4<>"","11.","") -> 11. | C17: =IF(F4<>"",CONCATENATE(Kampe!B15," - ",Kampe!D15,"........................................................................................................."),"") -> Swindon - Accrington Stanley......................................................................................................... | E17: x | F17: =IF(Rækker!B17=1,1,"") -> 1 | G17: =IF(Rækker!B17="X","X","") | H17: =IF(Rækker!B17=2,2,"") | I17: =IF(Rækker!D17=1,1,"") -> 1 | J17: =IF(Rækker!D17="X","X","") | K17: =IF(Rækker!D17=2,2,"") | L17: =IF(Rækker!F17=1,1,"") -> 1 | M17: =IF(Rækker!F17="X","X","") | N17: =IF(Rækker!F17=2,2,"") | O17: =IF(Rækker!H17=1,1,"") -> 1 | P17: =IF(Rækker!H17="X","X","") | Q17: =IF(Rækker!H17=2,2,"") | R17: =IF(Rækker!J17=1,1,"") -> 1 | S17: =IF(Rækker!J17="X","X","") | T17: =IF(Rækker!J17=2,2,"") | U17: =IF(Rækker!L17=1,1,"") -> 1 | V17: =IF(Rækker!L17="X","X","") | W17: =IF(Rækker!L17=2,2,"") | X17: =IF(Rækker!N17=1,1,"") -> 1 | Y17: =IF(Rækker!N17="X","X","") | Z17: =IF(Rækker!N17=2,2,"") | AA17: =IF(Rækker!P17=1,1,"") -> 1 | AB17: =IF(Rækker!P17="X","X","") | AC17: =IF(Rækker!P17=2,2,"") | AD17: =IF(Rækker!R17=1,1,"") -> 1 | AE17: =IF(Rækker!R17="X","X","") | AF17: =IF(Rækker!R17=2,2,"") | AG17: =IF(Rækker!T17=1,1,"") | AH17: =IF(Rækker!T17="X","X","") | AI17: =IF(Rækker!T17=2,2,"") | AJ17: =IF(Rækker!V17=1,1,"") | AK17: =IF(Rækker!V17="X","X","") | AL17: =IF(Rækker!V17=2,2,"") | AM17: =IF(Rækker!X17=1,1,"") | AN17: =IF(Rækker!X17="X","X","") | AO17: =IF(Rækker!X17=2,2,"") | AP17: =IF(Rækker!Z17=1,1,"") | AQ17: =IF(Rækker!Z17="X","X","") | AR17: =IF(Rækker!Z17=2,2,"") | AS17: =IF(Rækker!AB17=1,1,"") | AT17: =IF(Rækker!AB17="X","X","") | AU17: =IF(Rækker!AB17=2,2,"") | AV17: =IF(Rækker!AD17=1,1,"") | AW17: =IF(Rækker!AD17="X","X","") | AX17: =IF(Rækker!AD17=2,2,"") | AY17: =IF(Rækker!AF17=1,1,"") | AZ17: =IF(Rækker!AF17="X","X","") | BA17: =IF(Rækker!AF17=2,2,"")
B18: =IF(F4<>"","12.","") -> 12. | C18: =IF(F4<>"",CONCATENATE(Kampe!B16," - ",Kampe!D16,"........................................................................................................."),"") -> Tranmere - Walsall......................................................................................................... | E18: x | F18: =IF(Rækker!B18=1,1,"") | G18: =IF(Rækker!B18="X","X","") -> X | H18: =IF(Rækker!B18=2,2,"") | I18: =IF(Rækker!D18=1,1,"") -> 1 | J18: =IF(Rækker!D18="X","X","") | K18: =IF(Rækker!D18=2,2,"") | L18: =IF(Rækker!F18=1,1,"") -> 1 | M18: =IF(Rækker!F18="X","X","") | N18: =IF(Rækker!F18=2,2,"") | O18: =IF(Rækker!H18=1,1,"") | P18: =IF(Rækker!H18="X","X","") -> X | Q18: =IF(Rækker!H18=2,2,"") | R18: =IF(Rækker!J18=1,1,"") | S18: =IF(Rækker!J18="X","X","") | T18: =IF(Rækker!J18=2,2,"") -> 2 | U18: =IF(Rækker!L18=1,1,"") -> 1 | V18: =IF(Rækker!L18="X","X","") | W18: =IF(Rækker!L18=2,2,"") | X18: =IF(Rækker!N18=1,1,"") -> 1 | Y18: =IF(Rækker!N18="X","X","") | Z18: =IF(Rækker!N18=2,2,"") | AA18: =IF(Rækker!P18=1,1,"") -> 1 | AB18: =IF(Rækker!P18="X","X","") | AC18: =IF(Rækker!P18=2,2,"") | AD18: =IF(Rækker!R18=1,1,"") -> 1 | AE18: =IF(Rækker!R18="X","X","") | AF18: =IF(Rækker!R18=2,2,"") | AG18: =IF(Rækker!T18=1,1,"") | AH18: =IF(Rækker!T18="X","X","") | AI18: =IF(Rækker!T18=2,2,"") | AJ18: =IF(Rækker!V18=1,1,"") | AK18: =IF(Rækker!V18="X","X","") | AL18: =IF(Rækker!V18=2,2,"") | AM18: =IF(Rækker!X18=1,1,"") | AN18: =IF(Rækker!X18="X","X","") | AO18: =IF(Rækker!X18=2,2,"") | AP18: =IF(Rækker!Z18=1,1,"") | AQ18: =IF(Rækker!Z18="X","X","") | AR18: =IF(Rækker!Z18=2,2,"") | AS18: =IF(Rækker!AB18=1,1,"") | AT18: =IF(Rækker!AB18="X","X","") | AU18: =IF(Rækker!AB18=2,2,"") | AV18: =IF(Rækker!AD18=1,1,"") | AW18: =IF(Rækker!AD18="X","X","") | AX18: =IF(Rækker!AD18=2,2,"") | AY18: =IF(Rækker!AF18=1,1,"") | AZ18: =IF(Rækker!AF18="X","X","") | BA18: =IF(Rækker!AF18=2,2,"")
B19: =IF(F4<>"","13.","") -> 13. | C19: =IF(F4<>"",CONCATENATE(Kampe!B17," - ",Kampe!D17,"........................................................................................................."),"") -> York City - Gillingham......................................................................................................... | E19: 1 | F19: =IF(Rækker!B19=1,1,"") -> 1 | G19: =IF(Rækker!B19="X","X","") | H19: =IF(Rækker!B19=2,2,"") | I19: =IF(Rækker!D19=1,1,"") -> 1 | J19: =IF(Rækker!D19="X","X","") | K19: =IF(Rækker!D19=2,2,"") | L19: =IF(Rækker!F19=1,1,"") -> 1 | M19: =IF(Rækker!F19="X","X","") | N19: =IF(Rækker!F19=2,2,"") | O19: =IF(Rækker!H19=1,1,"") -> 1 | P19: =IF(Rækker!H19="X","X","") | Q19: =IF(Rækker!H19=2,2,"") | R19: =IF(Rækker!J19=1,1,"") -> 1 | S19: =IF(Rækker!J19="X","X","") | T19: =IF(Rækker!J19=2,2,"") | U19: =IF(Rækker!L19=1,1,"") -> 1 | V19: =IF(Rækker!L19="X","X","") | W19: =IF(Rækker!L19=2,2,"") | X19: =IF(Rækker!N19=1,1,"") -> 1 | Y19: =IF(Rækker!N19="X","X","") | Z19: =IF(Rækker!N19=2,2,"") | AA19: =IF(Rækker!P19=1,1,"") -> 1 | AB19: =IF(Rækker!P19="X","X","") | AC19: =IF(Rækker!P19=2,2,"") | AD19: =IF(Rækker!R19=1,1,"") -> 1 | AE19: =IF(Rækker!R19="X","X","") | AF19: =IF(Rækker!R19=2,2,"") | AG19: =IF(Rækker!T19=1,1,"") | AH19: =IF(Rækker!T19="X","X","") | AI19: =IF(Rækker!T19=2,2,"") | AJ19: =IF(Rækker!V19=1,1,"") | AK19: =IF(Rækker!V19="X","X","") | AL19: =IF(Rækker!V19=2,2,"") | AM19: =IF(Rækker!X19=1,1,"") | AN19: =IF(Rækker!X19="X","X","") | AO19: =IF(Rækker!X19=2,2,"") | AP19: =IF(Rækker!Z19=1,1,"") | AQ19: =IF(Rækker!Z19="X","X","") | AR19: =IF(Rækker!Z19=2,2,"") | AS19: =IF(Rækker!AB19=1,1,"") | AT19: =IF(Rækker!AB19="X","X","") | AU19: =IF(Rækker!AB19=2,2,"") | AV19: =IF(Rækker!AD19=1,1,"") | AW19: =IF(Rækker!AD19="X","X","") | AX19: =IF(Rækker!AD19=2,2,"") | AY19: =IF(Rækker!AF19=1,1,"") | AZ19: =IF(Rækker!AF19="X","X","") | BA19: =IF(Rækker!AF19=2,2,"")
A20: =IF(F4<>"","Resultat: ","") -> Resultat: | F20: =IF(DB!B6=13,IF(F4<>"",IF(F5<>"",IF(OR(LEFT(F5,3)="Res",LEFT(F5,2)="MR"),DB!AE12,""),DB!AE12),""),"") -> 4 | I20: =IF(DB!B6=13,IF(I4<>"",IF(I5<>"",IF(OR(LEFT(I5,3)="Res",LEFT(I5,2)="MR"),DB!AE13,""),DB!AE13),""),"") -> 4 | L20: =IF(DB!B6=13,IF(L4<>"",IF(L5<>"",IF(OR(LEFT(L5,3)="Res",LEFT(L5,2)="MR"),DB!AE14,""),DB!AE14),""),"") -> 4 | O20: =IF(DB!B6=13,IF(O4<>"",IF(O5<>"",IF(OR(LEFT(O5,3)="Res",LEFT(O5,2)="MR"),DB!AE15,""),DB!AE15),""),"") -> 4 | R20: =IF(DB!B6=13,IF(R4<>"",IF(R5<>"",IF(OR(LEFT(R5,3)="Res",LEFT(R5,2)="MR"),DB!AE16,""),DB!AE16),""),"") -> 4 | U20: =IF(DB!B6=13,IF(U4<>"",IF(U5<>"",IF(OR(LEFT(U5,3)="Res",LEFT(U5,2)="MR"),DB!AE17,""),DB!AE17),""),"") -> 4 | X20: =IF(DB!B6=13,IF(X4<>"",IF(X5<>"",IF(OR(LEFT(X5,3)="Res",LEFT(X5,2)="MR"),DB!AE18,""),DB!AE18),""),"") -> 4 | AA20: =IF(DB!B6=13,IF(AA4<>"",IF(AA5<>"",IF(OR(LEFT(AA5,3)="Res",LEFT(AA5,2)="MR"),DB!AE19,""),DB!AE19),""),"") -> 4 | AD20: =IF(DB!B6=13,IF(AD4<>"",IF(AD5<>"",IF(OR(LEFT(AD5,3)="Res",LEFT(AD5,2)="MR"),DB!AE20,""),DB!AE20),""),"") -> 4 | AG20: =IF(DB!B6=13,IF(AG4<>"",IF(AG5<>"",IF(OR(LEFT(AG5,3)="Res",LEFT(AG5,2)="MR"),DB!AE21,""),DB!AE21),""),"") | AJ20: =IF(DB!B6=13,IF(AJ4<>"",IF(AJ5<>"",IF(OR(LEFT(AJ5,3)="Res",LEFT(AJ5,2)="MR"),DB!AE22,""),DB!AE22),""),"") | AM20: =IF(DB!B6=13,IF(AM4<>"",IF(AM5<>"",IF(OR(LEFT(AM5,3)="Res",LEFT(AM5,2)="MR"),DB!AE23,""),DB!AE23),""),"") | AP20: =IF(DB!B6=13,IF(AP4<>"",IF(AP5<>"",IF(OR(LEFT(AP5,3)="Res",LEFT(AP5,2)="MR"),DB!AE24,""),DB!AE24),""),"") | AS20: =IF(DB!B6=13,IF(AS4<>"",IF(AS5<>"",IF(OR(LEFT(AS5,3)="Res",LEFT(AS5,2)="MR"),DB!AE25,""),DB!AE25),""),"") | AV20: =IF(DB!B6=13,IF(AV4<>"",IF(AV5<>"",IF(OR(LEFT(AV5,3)="Res",LEFT(AV5,2)="MR"),DB!AE26,""),DB!AE26),""),"") | AY20: =IF(DB!B6=13,IF(AY4<>"",IF(AY5<>"",IF(OR(LEFT(AY5,3)="Res",LEFT(AY5,2)="MR"),DB!AE27,""),DB!AE27),""),"")
A21: Klagefrister: | F21: =DB!H1 -> Grand Prix-række afgives til Bjarne Villadsen
A22: Regnefejl - 3 uger | F22: =DB!H2 -> Senest Onsdag kl. 23.00 i næste kampuge
A23: Opstillingsfejl - lørdag kl. 14.00 | F23: =DB!H3 -> på tlf.: 20 46 98 75 eller på email: lundstipsforening@gmail

Sheet Resultater
A1: =CONCATENATE("Grand Prix ",DB!B1) -> Grand Prix 2026
A3: =CONCATENATE(DB!D3," - Resultater, Kamp ",DB!C5) -> 4. runde - Resultater, Kamp 1 | H3: Vinder
A5: 1. | B5: =DB!B30 -> Idskov (1) | C5: =IF(B5<>"","-","") -> - | D5: =DB!E30 -> Chelsea (14) | E5: =DB!L30 -> 4 | F5: =IF(E5<>"","-","") -> - | G5: =DB!S30 -> 4 | H5: =DB!V30
A6: 2. | B6: =DB!B31 -> Idskov (6) | C6: =IF(B6<>"","-","") -> - | D6: =DB!E31 -> Benbo (8) | E6: =DB!L31 -> 4 | F6: =IF(E6<>"","-","") -> - | G6: =DB!S31 -> 4 | H6: =DB!V31
A7: 3. | B7: =DB!B32 -> Forest (10) | C7: =IF(B7<>"","-","") -> - | D7: =DB!E32 -> Frydkær (11) | E7: =DB!L32 -> 4 | F7: =IF(E7<>"","-","") -> - | G7: =DB!S32 -> 4 | H7: =DB!V32
A8: 4. | B8: =DB!B33 -> Idskov (14) | C8: =IF(B8<>"","-","") -> - | D8: =DB!E33 -> Benbo (16) | E8: =DB!L33 -> 4 | F8: =IF(E8<>"","-","") -> - | G8: =DB!S33 -> 4 | H8: =DB!V33
A9: 5. | B9: =DB!B34 -> Frydkær (1) | C9: =IF(B9<>"","-","") -> - | D9: =DB!E34 -> LPHJ (4) | E9: =DB!L34 -> 4 | F9: =IF(E9<>"","-","") -> - | G9: =DB!S34 -> 4 | H9: =DB!V34
A10: 6. | B10: =DB!B35 -> LPHJ (6) | C10: =IF(B10<>"","-","") -> - | D10: =DB!E35 -> Select (7) | E10: =DB!L35 -> 4 | F10: =IF(E10<>"","-","") -> - | G10: =DB!S35 -> 4 | H10: =DB!V35
A11: 7. | B11: =DB!B36 -> LPHJ (10) | C11: =IF(B11<>"","-","") -> - | D11: =DB!E36 -> Chelsea (11) | E11: =DB!L36 -> 4 | F11: =IF(E11<>"","-","") -> - | G11: =DB!S36 -> 4 | H11: =DB!V36
A12: 8. | B12: =DB!B37 -> Futte (14) | C12: =IF(B12<>"","-","") -> - | D12: =DB!E37 -> Robbo (2) | E12: =DB!L37 -> 4 | F12: =IF(E12<>"","-","") -> - | G12: =DB!S37 -> 4 | H12: =DB!V37
A13: Rundens reservescore: | E13: =DB!F1 -> 4
A14: =DB!H4 -> Tallet i parentes angiver puljen, signaturen er gået videre fra.

Sheet DB
A1: År: | B1: =[1]DB!B1 -> 2026 | E1: Res N: | F1: =IF(B6=13,IF(B4=B2,IF(SUM(H12:H27)=16,"",IF(SUM(AM12:AM27)=0,0,ROUND(SUM(AL12:AL27)/SUM(AM12:AM27),0))),""),"") -> 4 | H1: =[2]DB!H1 -> Grand Prix-række afgives til Bjarne Villadsen
A2: Runde F: | B2: =[1]DB!B3 -> 20 | C2: Runde F: | D2: =[1]DB!D3 -> 3. runde | H2: =[2]DB!H2 -> Senest Onsdag kl. 23.00 i næste kampuge
A3: Runde N: | B3: =B2+1 -> 21 | C3: Runde N: | D3: =[1]DB!D4 -> 4. runde | H3: =[2]DB!H3 -> på tlf.: 20 46 98 75 eller på email: lundstipsforening@gmail
A4: Tal F: | B4: =[1]DB!B5 -> 20 | C4: Runde E: | D4: =D3 -> 4. runde | H4: =IF(DB!B2<>B4,CONCATENATE("Ingen kampresultater: ",D2," ikke færdigspillet."),"Tallet i parentes angiver puljen, signaturen er gået videre fra.") -> Tallet i parentes angiver puljen, signaturen er gået videre fra.
A5: Tal N: | B5: =IF(B2=B4,IF(B6=13,B4+1,B4),B4) -> 21 | C5: 1 | D5: =CONCATENATE(D3,", Kamp ",C5) -> 4. runde, Kamp 1
A6: Opd.? | B6: =COUNTIF(R10:AD10,1)+COUNTIF(R10:AD10,"X")+COUNTIF(R10:AD10,2) -> 13 | D6: =CONCATENATE(D3," - K",C5) -> 4. runde - K1
A8: =IF(Rækker!B3="",IF(COUNTIF(Rækker!B5:B19,"")<14,"FEJL",""),IF(IF(OR(Rækker!B4="Disket",Rækker!B4="Udmeldt",Rækker!B4="Walkover"),1,0)=0,IF(IF(Rækker!B5<>"",IF(OR(Rækker!B5="Disket",Rækker!B5="Udmeldt",Rækker!B5="MR",Rækker!B5="Res"),1,2),0)=0,IF(COUNTIF(Rækker!B7:B19,"<>")<13,"",IF(COUNTIF(Rækker!B7:B19,1)+COUNTIF(Rækker!B7:B19,"X")+COUNTIF(Rækker!B7:B19,2)=13,"OK","FEJL")),IF(IF(Rækker!B5<>"",IF(OR(Rækker!B5="Disket",Rækker!B5="Udmeldt",Rækker!B5="MR",Rækker!B5="Res"),1,2),0)=1,IF(COUNTIF(Rækker!B7:B19,"<>")=0,"OK","FEJL"),"FEJL")),IF(AND(IF(Rækker!B5<>"",IF(OR(Rækker!B5="Disket",Rækker!B5="Udmeldt",Rækker!B5="MR",Rækker!B5="Res"),1,2),0)=0,COUNTIF(Rækker!B7:B19,"<>")=0),"OK","FEJL"))) -> OK | B8: =IF(Rækker!D3="",IF(COUNTIF(Rækker!D5:D19,"")<14,"FEJL",""),IF(IF(OR(Rækker!D4="Disket",Rækker!D4="Udmeldt",Rækker!D4="Walkover"),1,0)=0,IF(IF(Rækker!D5<>"",IF(OR(Rækker!D5="Disket",Rækker!D5="Udmeldt",Rækker!D5="MR",Rækker!D5="Res"),1,2),0)=0,IF(COUNTIF(Rækker!D7:D19,"<>")<13,"",IF(COUNTIF(Rækker!D7:D19,1)+COUNTIF(Rækker!D7:D19,"X")+COUNTIF(Rækker!D7:D19,2)=13,"OK","FEJL")),IF(IF(Rækker!D5<>"",IF(OR(Rækker!D5="Disket",Rækker!D5="Udmeldt",Rækker!D5="MR",Rækker!D5="Res"),1,2),0)=1,IF(COUNTIF(Rækker!D7:D19,"<>")=0,"OK","FEJL"),"FEJL")),IF(AND(IF(Rækker!D5<>"",IF(OR(Rækker!D5="Disket",Rækker!D5="Udmeldt",Rækker!D5="MR",Rækker!D5="Res"),1,2),0)=0,COUNTIF(Rækker!D7:D19,"<>")=0),"OK","FEJL"))) -> OK | C8: =IF(Rækker!F3="",IF(COUNTIF(Rækker!F5:F19,"")<14,"FEJL",""),IF(IF(OR(Rækker!F4="Disket",Rækker!F4="Udmeldt",Rækker!F4="Walkover"),1,0)=0,IF(IF(Rækker!F5<>"",IF(OR(Rækker!F5="Disket",Rækker!F5="Udmeldt",Rækker!F5="MR",Rækker!F5="Res"),1,2),0)=0,IF(COUNTIF(Rækker!F7:F19,"<>")<13,"",IF(COUNTIF(Rækker!F7:F19,1)+COUNTIF(Rækker!F7:F19,"X")+COUNTIF(Rækker!F7:F19,2)=13,"OK","FEJL")),IF(IF(Rækker!F5<>"",IF(OR(Rækker!F5="Disket",Rækker!F5="Udmeldt",Rækker!F5="MR",Rækker!F5="Res"),1,2),0)=1,IF(COUNTIF(Rækker!F7:F19,"<>")=0,"OK","FEJL"),"FEJL")),IF(AND(IF(Rækker!F5<>"",IF(OR(Rækker!F5="Disket",Rækker!F5="Udmeldt",Rækker!F5="MR",Rækker!F5="Res"),1,2),0)=0,COUNTIF(Rækker!F7:F19,"<>")=0),"OK","FEJL"))) -> OK | D8: =IF(Rækker!H3="",IF(COUNTIF(Rækker!H5:H19,"")<14,"FEJL",""),IF(IF(OR(Rækker!H4="Disket",Rækker!H4="Udmeldt",Rækker!H4="Walkover"),1,0)=0,IF(IF(Rækker!H5<>"",IF(OR(Rækker!H5="Disket",Rækker!H5="Udmeldt",Rækker!H5="MR",Rækker!H5="Res"),1,2),0)=0,IF(COUNTIF(Rækker!H7:H19,"<>")<13,"",IF(COUNTIF(Rækker!H7:H19,1)+COUNTIF(Rækker!H7:H19,"X")+COUNTIF(Rækker!H7:H19,2)=13,"OK","FEJL")),IF(IF(Rækker!H5<>"",IF(OR(Rækker!H5="Disket",Rækker!H5="Udmeldt",Rækker!H5="MR",Rækker!H5="Res"),1,2),0)=1,IF(COUNTIF(Rækker!H7:H19,"<>")=0,"OK","FEJL"),"FEJL")),IF(AND(IF(Rækker!H5<>"",IF(OR(Rækker!H5="Disket",Rækker!H5="Udmeldt",Rækker!H5="MR",Rækker!H5="Res"),1,2),0)=0,COUNTIF(Rækker!H7:H19,"<>")=0),"OK","FEJL"))) -> OK | E8: =IF(Rækker!J3="",IF(COUNTIF(Rækker!J5:J19,"")<14,"FEJL",""),IF(IF(OR(Rækker!J4="Disket",Rækker!J4="Udmeldt",Rækker!J4="Walkover"),1,0)=0,IF(IF(Rækker!J5<>"",IF(OR(Rækker!J5="Disket",Rækker!J5="Udmeldt",Rækker!J5="MR",Rækker!J5="Res"),1,2),0)=0,IF(COUNTIF(Rækker!J7:J19,"<>")<13,"",IF(COUNTIF(Rækker!J7:J19,1)+COUNTIF(Rækker!J7:J19,"X")+COUNTIF(Rækker!J7:J19,2)=13,"OK","FEJL")),IF(IF(Rækker!J5<>"",IF(OR(Rækker!J5="Disket",Rækker!J5="Udmeldt",Rækker!J5="MR",Rækker!J5="Res"),1,2),0)=1,IF(COUNTIF(Rækker!J7:J19,"<>")=0,"OK","FEJL"),"FEJL")),IF(AND(IF(Rækker!J5<>"",IF(OR(Rækker!J5="Disket",Rækker!J5="Udmeldt",Rækker!J5="MR",Rækker!J5="Res"),1,2),0)=0,COUNTIF(Rækker!J7:J19,"<>")=0),"OK","FEJL"))) -> OK | F8: =IF(Rækker!L3="",IF(COUNTIF(Rækker!L5:L19,"")<14,"FEJL",""),IF(IF(OR(Rækker!L4="Disket",Rækker!L4="Udmeldt",Rækker!L4="Walkover"),1,0)=0,IF(IF(Rækker!L5<>"",IF(OR(Rækker!L5="Disket",Rækker!L5="Udmeldt",Rækker!L5="MR",Rækker!L5="Res"),1,2),0)=0,IF(COUNTIF(Rækker!L7:L19,"<>")<13,"",IF(COUNTIF(Rækker!L7:L19,1)+COUNTIF(Rækker!L7:L19,"X")+COUNTIF(Rækker!L7:L19,2)=13,"OK","FEJL")),IF(IF(Rækker!L5<>"",IF(OR(Rækker!L5="Disket",Rækker!L5="Udmeldt",Rækker!L5="MR",Rækker!L5="Res"),1,2),0)=1,IF(COUNTIF(Rækker!L7:L19,"<>")=0,"OK","FEJL"),"FEJL")),IF(AND(IF(Rækker!L5<>"",IF(OR(Rækker!L5="Disket",Rækker!L5="Udmeldt",Rækker!L5="MR",Rækker!L5="Res"),1,2),0)=0,COUNTIF(Rækker!L7:L19,"<>")=0),"OK","FEJL"))) -> OK | G8: =IF(Rækker!N3="",IF(COUNTIF(Rækker!N5:N19,"")<14,"FEJL",""),IF(IF(OR(Rækker!N4="Disket",Rækker!N4="Udmeldt",Rækker!N4="Walkover"),1,0)=0,IF(IF(Rækker!N5<>"",IF(OR(Rækker!N5="Disket",Rækker!N5="Udmeldt",Rækker!N5="MR",Rækker!N5="Res"),1,2),0)=0,IF(COUNTIF(Rækker!N7:N19,"<>")<13,"",IF(COUNTIF(Rækker!N7:N19,1)+COUNTIF(Rækker!N7:N19,"X")+COUNTIF(Rækker!N7:N19,2)=13,"OK","FEJL")),IF(IF(Rækker!N5<>"",IF(OR(Rækker!N5="Disket",Rækker!N5="Udmeldt",Rækker!N5="MR",Rækker!N5="Res"),1,2),0)=1,IF(COUNTIF(Rækker!N7:N19,"<>")=0,"OK","FEJL"),"FEJL")),IF(AND(IF(Rækker!N5<>"",IF(OR(Rækker!N5="Disket",Rækker!N5="Udmeldt",Rækker!N5="MR",Rækker!N5="Res"),1,2),0)=0,COUNTIF(Rækker!N7:N19,"<>")=0),"OK","FEJL"))) -> OK | H8: =IF(Rækker!P3="",IF(COUNTIF(Rækker!P5:P19,"")<14,"FEJL",""),IF(IF(OR(Rækker!P4="Disket",Rækker!P4="Udmeldt",Rækker!P4="Walkover"),1,0)=0,IF(IF(Rækker!P5<>"",IF(OR(Rækker!P5="Disket",Rækker!P5="Udmeldt",Rækker!P5="MR",Rækker!P5="Res"),1,2),0)=0,IF(COUNTIF(Rækker!P7:P19,"<>")<13,"",IF(COUNTIF(Rækker!P7:P19,1)+COUNTIF(Rækker!P7:P19,"X")+COUNTIF(Rækker!P7:P19,2)=13,"OK","FEJL")),IF(IF(Rækker!P5<>"",IF(OR(Rækker!P5="Disket",Rækker!P5="Udmeldt",Rækker!P5="MR",Rækker!P5="Res"),1,2),0)=1,IF(COUNTIF(Rækker!P7:P19,"<>")=0,"OK","FEJL"),"FEJL")),IF(AND(IF(Rækker!P5<>"",IF(OR(Rækker!P5="Disket",Rækker!P5="Udmeldt",Rækker!P5="MR",Rækker!P5="Res"),1,2),0)=0,COUNTIF(Rækker!P7:P19,"<>")=0),"OK","FEJL"))) -> OK | I8: =IF(Rækker!R3="",IF(COUNTIF(Rækker!R5:R19,"")<14,"FEJL",""),IF(IF(OR(Rækker!R4="Disket",Rækker!R4="Udmeldt",Rækker!R4="Walkover"),1,0)=0,IF(IF(Rækker!R5<>"",IF(OR(Rækker!R5="Disket",Rækker!R5="Udmeldt",Rækker!R5="MR",Rækker!R5="Res"),1,2),0)=0,IF(COUNTIF(Rækker!R7:R19,"<>")<13,"",IF(COUNTIF(Rækker!R7:R19,1)+COUNTIF(Rækker!R7:R19,"X")+COUNTIF(Rækker!R7:R19,2)=13,"OK","FEJL")),IF(IF(Rækker!R5<>"",IF(OR(Rækker!R5="Disket",Rækker!R5="Udmeldt",Rækker!R5="MR",Rækker!R5="Res"),1,2),0)=1,IF(COUNTIF(Rækker!R7:R19,"<>")=0,"OK","FEJL"),"FEJL")),IF(AND(IF(Rækker!R5<>"",IF(OR(Rækker!R5="Disket",Rækker!R5="Udmeldt",Rækker!R5="MR",Rækker!R5="Res"),1,2),0)=0,COUNTIF(Rækker!R7:R19,"<>")=0),"OK","FEJL"))) -> OK | J8: =IF(Rækker!T3="",IF(COUNTIF(Rækker!T5:T19,"")<14,"FEJL",""),IF(IF(OR(Rækker!T4="Disket",Rækker!T4="Udmeldt",Rækker!T4="Walkover"),1,0)=0,IF(IF(Rækker!T5<>"",IF(OR(Rækker!T5="Disket",Rækker!T5="Udmeldt",Rækker!T5="MR",Rækker!T5="Res"),1,2),0)=0,IF(COUNTIF(Rækker!T7:T19,"<>")<13,"",IF(COUNTIF(Rækker!T7:T19,1)+COUNTIF(Rækker!T7:T19,"X")+COUNTIF(Rækker!T7:T19,2)=13,"OK","FEJL")),IF(IF(Rækker!T5<>"",IF(OR(Rækker!T5="Disket",Rækker!T5="Udmeldt",Rækker!T5="MR",Rækker!T5="Res"),1,2),0)=1,IF(COUNTIF(Rækker!T7:T19,"<>")=0,"OK","FEJL"),"FEJL")),IF(AND(IF(Rækker!T5<>"",IF(OR(Rækker!T5="Disket",Rækker!T5="Udmeldt",Rækker!T5="MR",Rækker!T5="Res"),1,2),0)=0,COUNTIF(Rækker!T7:T19,"<>")=0),"OK","FEJL"))) | K8: =IF(Rækker!V3="",IF(COUNTIF(Rækker!V5:V19,"")<14,"FEJL",""),IF(IF(OR(Rækker!V4="Disket",Rækker!V4="Udmeldt",Rækker!V4="Walkover"),1,0)=0,IF(IF(Rækker!V5<>"",IF(OR(Rækker!V5="Disket",Rækker!V5="Udmeldt",Rækker!V5="MR",Rækker!V5="Res"),1,2),0)=0,IF(COUNTIF(Rækker!V7:V19,"<>")<13,"",IF(COUNTIF(Rækker!V7:V19,1)+COUNTIF(Rækker!V7:V19,"X")+COUNTIF(Rækker!V7:V19,2)=13,"OK","FEJL")),IF(IF(Rækker!V5<>"",IF(OR(Rækker!V5="Disket",Rækker!V5="Udmeldt",Rækker!V5="MR",Rækker!V5="Res"),1,2),0)=1,IF(COUNTIF(Rækker!V7:V19,"<>")=0,"OK","FEJL"),"FEJL")),IF(AND(IF(Rækker!V5<>"",IF(OR(Rækker!V5="Disket",Rækker!V5="Udmeldt",Rækker!V5="MR",Rækker!V5="Res"),1,2),0)=0,COUNTIF(Rækker!V7:V19,"<>")=0),"OK","FEJL"))) | L8: =IF(Rækker!X3="",IF(COUNTIF(Rækker!X5:X19,"")<14,"FEJL",""),IF(IF(OR(Rækker!X4="Disket",Rækker!X4="Udmeldt",Rækker!X4="Walkover"),1,0)=0,IF(IF(Rækker!X5<>"",IF(OR(Rækker!X5="Disket",Rækker!X5="Udmeldt",Rækker!X5="MR",Rækker!X5="Res"),1,2),0)=0,IF(COUNTIF(Rækker!X7:X19,"<>")<13,"",IF(COUNTIF(Rækker!X7:X19,1)+COUNTIF(Rækker!X7:X19,"X")+COUNTIF(Rækker!X7:X19,2)=13,"OK","FEJL")),IF(IF(Rækker!X5<>"",IF(OR(Rækker!X5="Disket",Rækker!X5="Udmeldt",Rækker!X5="MR",Rækker!X5="Res"),1,2),0)=1,IF(COUNTIF(Rækker!X7:X19,"<>")=0,"OK","FEJL"),"FEJL")),IF(AND(IF(Rækker!X5<>"",IF(OR(Rækker!X5="Disket",Rækker!X5="Udmeldt",Rækker!X5="MR",Rækker!X5="Res"),1,2),0)=0,COUNTIF(Rækker!X7:X19,"<>")=0),"OK","FEJL"))) | M8: =IF(Rækker!Z3="",IF(COUNTIF(Rækker!Z5:Z19,"")<14,"FEJL",""),IF(IF(OR(Rækker!Z4="Disket",Rækker!Z4="Udmeldt",Rækker!Z4="Walkover"),1,0)=0,IF(IF(Rækker!Z5<>"",IF(OR(Rækker!Z5="Disket",Rækker!Z5="Udmeldt",Rækker!Z5="MR",Rækker!Z5="Res"),1,2),0)=0,IF(COUNTIF(Rækker!Z7:Z19,"<>")<13,"",IF(COUNTIF(Rækker!Z7:Z19,1)+COUNTIF(Rækker!Z7:Z19,"X")+COUNTIF(Rækker!Z7:Z19,2)=13,"OK","FEJL")),IF(IF(Rækker!Z5<>"",IF(OR(Rækker!Z5="Disket",Rækker!Z5="Udmeldt",Rækker!Z5="MR",Rækker!Z5="Res"),1,2),0)=1,IF(COUNTIF(Rækker!Z7:Z19,"<>")=0,"OK","FEJL"),"FEJL")),IF(AND(IF(Rækker!Z5<>"",IF(OR(Rækker!Z5="Disket",Rækker!Z5="Udmeldt",Rækker!Z5="MR",Rækker!Z5="Res"),1,2),0)=0,COUNTIF(Rækker!Z7:Z19,"<>")=0),"OK","FEJL"))) | N8: =IF(Rækker!AB3="",IF(COUNTIF(Rækker!AB5:AB19,"")<14,"FEJL",""),IF(IF(OR(Rækker!AB4="Disket",Rækker!AB4="Udmeldt",Rækker!AB4="Walkover"),1,0)=0,IF(IF(Rækker!AB5<>"",IF(OR(Rækker!AB5="Disket",Rækker!AB5="Udmeldt",Rækker!AB5="MR",Rækker!AB5="Res"),1,2),0)=0,IF(COUNTIF(Rækker!AB7:AB19,"<>")<13,"",IF(COUNTIF(Rækker!AB7:AB19,1)+COUNTIF(Rækker!AB7:AB19,"X")+COUNTIF(Rækker!AB7:AB19,2)=13,"OK","FEJL")),IF(IF(Rækker!AB5<>"",IF(OR(Rækker!AB5="Disket",Rækker!AB5="Udmeldt",Rækker!AB5="MR",Rækker!AB5="Res"),1,2),0)=1,IF(COUNTIF(Rækker!AB7:AB19,"<>")=0,"OK","FEJL"),"FEJL")),IF(AND(IF(Rækker!AB5<>"",IF(OR(Rækker!AB5="Disket",Rækker!AB5="Udmeldt",Rækker!AB5="MR",Rækker!AB5="Res"),1,2),0)=0,COUNTIF(Rækker!AB7:AB19,"<>")=0),"OK","FEJL"))) | O8: =IF(Rækker!AD3="",IF(COUNTIF(Rækker!AD5:AD19,"")<14,"FEJL",""),IF(IF(OR(Rækker!AD4="Disket",Rækker!AD4="Udmeldt",Rækker!AD4="Walkover"),1,0)=0,IF(IF(Rækker!AD5<>"",IF(OR(Rækker!AD5="Disket",Rækker!AD5="Udmeldt",Rækker!AD5="MR",Rækker!AD5="Res"),1,2),0)=0,IF(COUNTIF(Rækker!AD7:AD19,"<>")<13,"",IF(COUNTIF(Rækker!AD7:AD19,1)+COUNTIF(Rækker!AD7:AD19,"X")+COUNTIF(Rækker!AD7:AD19,2)=13,"OK","FEJL")),IF(IF(Rækker!AD5<>"",IF(OR(Rækker!AD5="Disket",Rækker!AD5="Udmeldt",Rækker!AD5="MR",Rækker!AD5="Res"),1,2),0)=1,IF(COUNTIF(Rækker!AD7:AD19,"<>")=0,"OK","FEJL"),"FEJL")),IF(AND(IF(Rækker!AD5<>"",IF(OR(Rækker!AD5="Disket",Rækker!AD5="Udmeldt",Rækker!AD5="MR",Rækker!AD5="Res"),1,2),0)=0,COUNTIF(Rækker!AD7:AD19,"<>")=0),"OK","FEJL"))) | P8: =IF(Rækker!AF3="",IF(COUNTIF(Rækker!AF5:AF19,"")<14,"FEJL",""),IF(IF(OR(Rækker!AF4="Disket",Rækker!AF4="Udmeldt",Rækker!AF4="Walkover"),1,0)=0,IF(IF(Rækker!AF5<>"",IF(OR(Rækker!AF5="Disket",Rækker!AF5="Udmeldt",Rækker!AF5="MR",Rækker!AF5="Res"),1,2),0)=0,IF(COUNTIF(Rækker!AF7:AF19,"<>")<13,"",IF(COUNTIF(Rækker!AF7:AF19,1)+COUNTIF(Rækker!AF7:AF19,"X")+COUNTIF(Rækker!AF7:AF19,2)=13,"OK","FEJL")),IF(IF(Rækker!AF5<>"",IF(OR(Rækker!AF5="Disket",Rækker!AF5="Udmeldt",Rækker!AF5="MR",Rækker!AF5="Res"),1,2),0)=1,IF(COUNTIF(Rækker!AF7:AF19,"<>")=0,"OK","FEJL"),"FEJL")),IF(AND(IF(Rækker!AF5<>"",IF(OR(Rækker!AF5="Disket",Rækker!AF5="Udmeldt",Rækker!AF5="MR",Rækker!AF5="Res"),1,2),0)=0,COUNTIF(Rækker!AF7:AF19,"<>")=0),"OK","FEJL")))
R10: ='Rækker - Udskrift'!E7 -> x | S10: ='Rækker - Udskrift'!E8 -> 2 | T10: ='Rækker - Udskrift'!E9 -> 1 | U10: ='Rækker - Udskrift'!E10 -> x | V10: ='Rækker - Udskrift'!E11 -> 1 | W10: ='Rækker - Udskrift'!E12 -> 1 | X10: ='Rækker - Udskrift'!E13 -> 2 | Y10: ='Rækker - Udskrift'!E14 -> 1 | Z10: ='Rækker - Udskrift'!E15 -> x | AA10: ='Rækker - Udskrift'!E16 -> x | AB10: ='Rækker - Udskrift'!E17 -> x | AC10: ='Rækker - Udskrift'!E18 -> x | AD10: ='Rækker - Udskrift'!E19 -> 1
A11: Signatur | B11: ID | C11: Deltager | D11: 2. runde F | E11: 2. runde E | F11: Kval F | G11: Kval E | H11: Ego | I11: Dis F | J11: Dis E | K11: Udm F | L11: Udm E | M11: MR F | N11: MR E | O11: Res F | P11: Res E | Q11: Kamp 0 | R11: Kamp 1 | S11: Kamp 2 | T11: Kamp 3 | U11: Kamp 4 | V11: Kamp 5 | W11: Kamp 6 | X11: Kamp 7 | Y11: Kamp 8 | Z11: Kamp 9 | AA11: Kamp 10 | AB11: Kamp 11 | AC11: Kamp 12 | AD11: Kamp 13 | AE11: Total | AF11: T Pl. | AG11: ES N | AH11: Point | AI11: P Pl. | AJ11: BU | AK11: BU Pl. | AL11: Res | AN11: Deltager E | AO11: 2. runde | AP11: Kval | AR11: ID E | AS11: Signatur | AT11: Deltager | AU11: 2. runde | AV11: Kval | AW11: Dis | AX11: Udm | AY11: MR | AZ11: Res
A12: =[1]DB!AS12 -> Benbo | B12: 1 | C12: =[1]DB!AT12 -> 2 | D12: 0 | E12: =IF(B6=13,IF(A12<>"",COUNTIF(U30:U37,A12)+D12,0),D12) -> 0 | F12: =[1]DB!AT12 -> 2 | G12: =IF(B6=13,IF(A12<>"",F12-COUNTIF(U30:U37,A12)-COUNTIF(Y30:Y37,A12),0),F12) -> 2 | H12: =[1]DB!BA12 -> 0 | I12: =[1]DB!AW12 -> 0 | J12: =IF(Rækker!B5="Disket",1,IF(N12>5,1,IF(I12=1,1,0))) -> 0 | K12: =[1]DB!AX12 -> 0 | L12: =IF(Rækker!B5="Udmeldt",1,IF(K12=1,1,0)) -> 0 | M12: =[1]DB!AY12 -> 0 | N12: =IF(Rækker!B5="MR",M12+1,M12) -> 0 | O12: =[1]DB!AZ12 -> 1 | P12: =IF(Rækker!B5="Res",O12+1,O12) -> 1 | Q12: =IF(J12=1,"Disket",IF(L12=1,"Udmeldt",IF(AND(C12>0,F12=H12),"Walkover",IF(AND(C12>0,D12>0,F12=0),"Walkover",IF(M12<>N12,CONCATENATE("MR ",N12),IF(O12<>P12,IF(P12>10,"Res 10+",CONCATENATE("Res ",P12)),"")))))) | R12: =IF('Rækker - Udskrift'!F7=1,1,IF('Rækker - Udskrift'!G7="X","X",IF('Rækker - Udskrift'!H7=2,2,""))) -> 1 | S12: =IF('Rækker - Udskrift'!F8=1,1,IF('Rækker - Udskrift'!G8="X","X",IF('Rækker - Udskrift'!H8=2,2,""))) -> 1 | T12: =IF('Rækker - Udskrift'!F9=1,1,IF('Rækker - Udskrift'!G9="X","X",IF('Rækker - Udskrift'!H9=2,2,""))) -> 1 | U12: =IF('Rækker - Udskrift'!F10=1,1,IF('Rækker - Udskrift'!G10="X","X",IF('Rækker - Udskrift'!H10=2,2,""))) -> 1 | V12: =IF('Rækker - Udskrift'!F11=1,1,IF('Rækker - Udskrift'!G11="X","X",IF('Rækker - Udskrift'!H11=2,2,""))) -> 1 | W12: =IF('Rækker - Udskrift'!F12=1,1,IF('Rækker - Udskrift'!G12="X","X",IF('Rækker - Udskrift'!H12=2,2,""))) -> 2 | X12: =IF('Rækker - Udskrift'!F13=1,1,IF('Rækker - Udskrift'!G13="X","X",IF('Rækker - Udskrift'!H13=2,2,""))) -> 1 | Y12: =IF('Rækker - Udskrift'!F14=1,1,IF('Rækker - Udskrift'!G14="X","X",IF('Rækker - Udskrift'!H14=2,2,""))) -> 2 | Z12: =IF('Rækker - Udskrift'!F15=1,1,IF('Rækker - Udskrift'!G15="X","X",IF('Rækker - Udskrift'!H15=2,2,""))) -> 1 | AA12: =IF('Rækker - Udskrift'!F16=1,1,IF('Rækker - Udskrift'!G16="X","X",IF('Rækker - Udskrift'!H16=2,2,""))) -> 1 | AB12: =IF('Rækker - Udskrift'!F17=1,1,IF('Rækker - Udskrift'!G17="X","X",IF('Rækker - Udskrift'!H17=2,2,""))) -> 1 | AC12: =IF('Rækker - Udskrift'!F18=1,1,IF('Rækker - Udskrift'!G18="X","X",IF('Rækker - Udskrift'!H18=2,2,""))) -> X | AD12: =IF('Rækker - Udskrift'!F19=1,1,IF('Rækker - Udskrift'!G19="X","X",IF('Rækker - Udskrift'!H19=2,2,""))) -> 1 | AE12: =IF(Q12<>"",IF(LEFT(Q12,3)="Res",F1,0),IF(R12=R10,1,0)+IF(S12=S10,1,0)+IF(T12=T10,1,0)+IF(U12=U10,1,0)+IF(V12=V10,1,0)+IF(W12=W10,1,0)+IF(X12=X10,1,0)+IF(Y12=Y10,1,0)+IF(Z12=Z10,1,0)+IF(AA12=AA10,1,0)+IF(AB12=AB10,1,0)+IF(AC12=AC10,1,0)+IF(AD12=AD10,1,0)) -> 4 | AF12: =RANK(AE12,AE12:AE27,1) -> 8 | AG12: =IF(Q12<>"",IF(LEFT(Q12,3)="Res",AE12,0),AE12) -> 4 | AH12: =IF(R12=R10,4096,0)+IF(S12=S10,2048,0)+IF(T12=T10,1024,0)+IF(U12=U10,512,0)+IF(V12=V10,256,0)+IF(W12=W10,128,0)+IF(X12=X10,64,0)+IF(Y12=Y10,32,0)+IF(Z12=Z10,16,0)+IF(AA12=AA10,8,0)+IF(AB12=AB10,4,0)+IF(AC12=AC10,2,0)+IF(AD12=AD10,1,0) -> 1283 | AI12: =RANK(AH12,AH12:AH27,1) -> 8 | AJ12: =(AF12*65)+AI12 -> 528 | AK12: =RANK(AJ12,AJ12:AJ27,1) -> 8 | AL12: =IF(AND(A12<>"",Q12=""),AE12,0) -> 4 | AM12: =IF(AND(A12<>"",Q12=""),1,0) -> 1 | AN12: =E12+G12 -> 2 | AO12: =AN12-AP12 -> 0 | AP12: =G12 -> 2 | AQ12: =IF(C12>0,IF(AN12>0,COUNTIF(AN12,">0"),0),0) -> 1 | AR12: =IF(AQ12>0,AQ12,MAX(AQ12:AQ27)+COUNTIF(AQ12,"=0")) -> 1 | AS12: =IF(A42>MAX(AQ12:AQ27),"",DGET(A11:AR27,"Signatur",A41:A42)) -> Benbo | AT12: =IF(A42>MAX(AQ12:AQ27),0,DGET(A11:AR27,"Deltager E",A41:A42)) -> 2 | AU12: =IF(A42>MAX(AQ12:AQ27),0,DGET(A11:AR27,"2. runde E",A41:A42)) -> 0 | AV12: =IF(A42>MAX(AQ12:AQ27),0,DGET(A11:AR27,"Kval E",A41:A42)) -> 2 | AW12: =IF(A42>MAX(AQ12:AQ27),0,DGET(A11:AR27,"Dis E",A41:A42)) -> 0 | AX12: =IF(A42>MAX(AQ12:AQ27),0,DGET(A11:AR27,"Udm E",A41:A42)) -> 0 | AY12: =IF(A42>MAX(AQ12:AQ27),0,DGET(A11:AR27,"MR E",A41:A42)) -> 0 | AZ12: =IF(A42>MAX(AQ12:AQ27),0,DGET(A11:AR27,"Res E",A41:A42)) -> 1
A13: =[1]DB!AS13 -> Chelsea | B13: 2 | C13: =[1]DB!AT13 -> 2 | D13: 0 | E13: =IF(B6=13,IF(A13<>"",COUNTIF(U30:U37,A13)+D13,0),D13) -> 0 | F13: =[1]DB!AT13 -> 2 | G13: =IF(B6=13,IF(A13<>"",F13-COUNTIF(U30:U37,A13)-COUNTIF(Y30:Y37,A13),0),F13) -> 2 | H13: =[1]DB!BA13 -> 0 | I13: =[1]DB!AW13 -> 0 | J13: =IF(Rækker!D5="Disket",1,IF(N13>5,1,IF(I13=1,1,0))) -> 0 | K13: =[1]DB!AX13 -> 0 | L13: =IF(Rækker!D5="Udmeldt",1,IF(K13=1,1,0)) -> 0 | M13: =[1]DB!AY13 -> 0 | N13: =IF(Rækker!D5="MR",M13+1,M13) -> 0 | O13: =[1]DB!AZ13 -> 1 | P13: =IF(Rækker!D5="Res",O13+1,O13) -> 1 | Q13: =IF(J13=1,"Disket",IF(L13=1,"Udmeldt",IF(AND(C13>0,F13=H13),"Walkover",IF(AND(C13>0,D13>0,F13=0),"Walkover",IF(M13<>N13,CONCATENATE("MR ",N13),IF(O13<>P13,IF(P13>10,"Res 10+",CONCATENATE("Res ",P13)),"")))))) | R13: =IF('Rækker - Udskrift'!I7=1,1,IF('Rækker - Udskrift'!J7="X","X",IF('Rækker - Udskrift'!K7=2,2,""))) -> 1 | S13: =IF('Rækker - Udskrift'!I8=1,1,IF('Rækker - Udskrift'!J8="X","X",IF('Rækker - Udskrift'!K8=2,2,""))) -> 1 | T13: =IF('Rækker - Udskrift'!I9=1,1,IF('Rækker - Udskrift'!J9="X","X",IF('Rækker - Udskrift'!K9=2,2,""))) -> 1 | U13: =IF('Rækker - Udskrift'!I10=1,1,IF('Rækker - Udskrift'!J10="X","X",IF('Rækker - Udskrift'!K10=2,2,""))) -> X | V13: =IF('Rækker - Udskrift'!I11=1,1,IF('Rækker - Udskrift'!J11="X","X",IF('Rækker - Udskrift'!K11=2,2,""))) -> 1 | W13: =IF('Rækker - Udskrift'!I12=1,1,IF('Rækker - Udskrift'!J12="X","X",IF('Rækker - Udskrift'!K12=2,2,""))) -> 2 | X13: =IF('Rækker - Udskrift'!I13=1,1,IF('Rækker - Udskrift'!J13="X","X",IF('Rækker - Udskrift'!K13=2,2,""))) -> 1 | Y13: =IF('Rækker - Udskrift'!I14=1,1,IF('Rækker - Udskrift'!J14="X","X",IF('Rækker - Udskrift'!K14=2,2,""))) -> 2 | Z13: =IF('Rækker - Udskrift'!I15=1,1,IF('Rækker - Udskrift'!J15="X","X",IF('Rækker - Udskrift'!K15=2,2,""))) -> 1 | AA13: =IF('Rækker - Udskrift'!I16=1,1,IF('Rækker - Udskrift'!J16="X","X",IF('Rækker - Udskrift'!K16=2,2,""))) -> 1 | AB13: =IF('Rækker - Udskrift'!I17=1,1,IF('Rækker - Udskrift'!J17="X","X",IF('Rækker - Udskrift'!K17=2,2,""))) -> 1 | AC13: =IF('Rækker - Udskrift'!I18=1,1,IF('Rækker - Udskrift'!J18="X","X",IF('Rækker - Udskrift'!K18=2,2,""))) -> 1 | AD13: =IF('Rækker - Udskrift'!I19=1,1,IF('Rækker - Udskrift'!J19="X","X",IF('Rækker - Udskrift'!K19=2,2,""))) -> 1 | AE13: =IF(Q13<>"",IF(LEFT(Q13,3)="Res",F1,0),IF(R13=R10,1,0)+IF(S13=S10,1,0)+IF(T13=T10,1,0)+IF(U13=U10,1,0)+IF(V13=V10,1,0)+IF(W13=W10,1,0)+IF(X13=X10,1,0)+IF(Y13=Y10,1,0)+IF(Z13=Z10,1,0)+IF(AA13=AA10,1,0)+IF(AB13=AB10,1,0)+IF(AC13=AC10,1,0)+IF(AD13=AD10,1,0)) -> 4 | AF13: =RANK(AE13,AE12:AE27,1) -> 8 | AG13: =IF(Q13<>"",IF(LEFT(Q13,3)="Res",AE13,0),AE13) -> 4 | AH13: =IF(R13=R10,4096,0)+IF(S13=S10,2048,0)+IF(T13=T10,1024,0)+IF(U13=U10,512,0)+IF(V13=V10,256,0)+IF(W13=W10,128,0)+IF(X13=X10,64,0)+IF(Y13=Y10,32,0)+IF(Z13=Z10,16,0)+IF(AA13=AA10,8,0)+IF(AB13=AB10,4,0)+IF(AC13=AC10,2,0)+IF(AD13=AD10,1,0) -> 1793 | AI13: =RANK(AH13,AH12:AH27,1) -> 15 | AJ13: =(AF13*65)+AI13 -> 535 | AK13: =RANK(AJ13,AJ12:AJ27,1) -> 15 | AL13: =IF(AND(A13<>"",Q13=""),AE13,0) -> 4 | AM13: =IF(AND(A13<>"",Q13=""),1,0) -> 1 | AN13: =E13+G13 -> 2 | AO13: =AN13-AP13 -> 0 | AP13: =G13 -> 2 | AQ13: =IF(C13>0,IF(AN13>0,COUNTIF(AN12:AN13,">0"),0),0) -> 2 | AR13: =IF(AQ13>0,AQ13,MAX(AQ12:AQ27)+COUNTIF(AQ12:AQ13,"=0")) -> 2 | AS13: =IF(B42>MAX(AQ12:AQ27),"",DGET(A11:AR27,"Signatur",B41:B42)) -> Chelsea | AT13: =IF(B42>MAX(AQ12:AQ27),0,DGET(A11:AR27,"Deltager E",B41:B42)) -> 2 | AU13: =IF(B42>MAX(AQ12:AQ27),0,DGET(A11:AR27,"2. runde E",B41:B42)) -> 0 | AV13: =IF(B42>MAX(AQ12:AQ27),0,DGET(A11:AR27,"Kval E",B41:B42)) -> 2 | AW13: =IF(B42>MAX(AQ12:AQ27),0,DGET(A11:AR27,"Dis E",B41:B42)) -> 0 | AX13: =IF(B42>MAX(AQ12:AQ27),0,DGET(A11:AR27,"Udm E",B41:B42)) -> 0 | AY13: =IF(B42>MAX(AQ12:AQ27),0,DGET(A11:AR27,"MR E",B41:B42)) -> 0 | AZ13: =IF(B42>MAX(AQ12:AQ27),0,DGET(A11:AR27,"Res E",B41:B42)) -> 1
A14: =[1]DB!AS14 -> Forest | B14: 3 | C14: =[1]DB!AT14 -> 1 | D14: 0 | E14: =IF(B6=13,IF(A14<>"",COUNTIF(U30:U37,A14)+D14,0),D14) -> 0 | F14: =[1]DB!AT14 -> 1 | G14: =IF(B6=13,IF(A14<>"",F14-COUNTIF(U30:U37,A14)-COUNTIF(Y30:Y37,A14),0),F14) -> 1 | H14: =[1]DB!BA14 -> 0 | I14: =[1]DB!AW14 -> 0 | J14: =IF(Rækker!F5="Disket",1,IF(N14>5,1,IF(I14=1,1,0))) -> 0 | K14: =[1]DB!AX14 -> 0 | L14: =IF(Rækker!F5="Udmeldt",1,IF(K14=1,1,0)) -> 0 | M14: =[1]DB!AY14 -> 0 | N14: =IF(Rækker!F5="MR",M14+1,M14) -> 0 | O14: =[1]DB!AZ14 -> 0 | P14: =IF(Rækker!F5="Res",O14+1,O14) -> 0 | Q14: =IF(J14=1,"Disket",IF(L14=1,"Udmeldt",IF(AND(C14>0,F14=H14),"Walkover",IF(AND(C14>0,D14>0,F14=0),"Walkover",IF(M14<>N14,CONCATENATE("MR ",N14),IF(O14<>P14,IF(P14>10,"Res 10+",CONCATENATE("Res ",P14)),"")))))) | R14: =IF('Rækker - Udskrift'!L7=1,1,IF('Rækker - Udskrift'!M7="X","X",IF('Rækker - Udskrift'!N7=2,2,""))) -> 1 | S14: =IF('Rækker - Udskrift'!L8=1,1,IF('Rækker - Udskrift'!M8="X","X",IF('Rækker - Udskrift'!N8=2,2,""))) -> 1 | T14: =IF('Rækker - Udskrift'!L9=1,1,IF('Rækker - Udskrift'!M9="X","X",IF('Rækker - Udskrift'!N9=2,2,""))) -> 1 | U14: =IF('Rækker - Udskrift'!L10=1,1,IF('Rækker - Udskrift'!M10="X","X",IF('Rækker - Udskrift'!N10=2,2,""))) -> 1 | V14: =IF('Rækker - Udskrift'!L11=1,1,IF('Rækker - Udskrift'!M11="X","X",IF('Rækker - Udskrift'!N11=2,2,""))) -> 1 | W14: =IF('Rækker - Udskrift'!L12=1,1,IF('Rækker - Udskrift'!M12="X","X",IF('Rækker - Udskrift'!N12=2,2,""))) -> 2 | X14: =IF('Rækker - Udskrift'!L13=1,1,IF('Rækker - Udskrift'!M13="X","X",IF('Rækker - Udskrift'!N13=2,2,""))) -> 1 | Y14: =IF('Rækker - Udskrift'!L14=1,1,IF('Rækker - Udskrift'!M14="X","X",IF('Rækker - Udskrift'!N14=2,2,""))) -> 2 | Z14: =IF('Rækker - Udskrift'!L15=1,1,IF('Rækker - Udskrift'!M15="X","X",IF('Rækker - Udskrift'!N15=2,2,""))) -> 1 | AA14: =IF('Rækker - Udskrift'!L16=1,1,IF('Rækker - Udskrift'!M16="X","X",IF('Rækker - Udskrift'!N16=2,2,""))) -> X | AB14: =IF('Rækker - Udskrift'!L17=1,1,IF('Rækker - Udskrift'!M17="X","X",IF('Rækker - Udskrift'!N17=2,2,""))) -> 1 | AC14: =IF('Rækker - Udskrift'!L18=1,1,IF('Rækker - Udskrift'!M18="X","X",IF('Rækker - Udskrift'!N18=2,2,""))) -> 1 | AD14: =IF('Rækker - Udskrift'!L19=1,1,IF('Rækker - Udskrift'!M19="X","X",IF('Rækker - Udskrift'!N19=2,2,""))) -> 1 | AE14: =IF(Q14<>"",IF(LEFT(Q14,3)="Res",F1,0),IF(R14=R10,1,0)+IF(S14=S10,1,0)+IF(T14=T10,1,0)+IF(U14=U10,1,0)+IF(V14=V10,1,0)+IF(W14=W10,1,0)+IF(X14=X10,1,0)+IF(Y14=Y10,1,0)+IF(Z14=Z10,1,0)+IF(AA14=AA10,1,0)+IF(AB14=AB10,1,0)+IF(AC14=AC10,1,0)+IF(AD14=AD10,1,0)) -> 4 | AF14: =RANK(AE14,AE12:AE27,1) -> 8 | AG14: =IF(Q14<>"",IF(LEFT(Q14,3)="Res",AE14,0),AE14) -> 4 | AH14: =IF(R14=R10,4096,0)+IF(S14=S10,2048,0)+IF(T14=T10,1024,0)+IF(U14=U10,512,0)+IF(V14=V10,256,0)+IF(W14=W10,128,0)+IF(X14=X10,64,0)+IF(Y14=Y10,32,0)+IF(Z14=Z10,16,0)+IF(AA14=AA10,8,0)+IF(AB14=AB10,4,0)+IF(AC14=AC10,2,0)+IF(AD14=AD10,1,0) -> 1289 | AI14: =RANK(AH14,AH12:AH27,1) -> 10 | AJ14: =(AF14*65)+AI14 -> 530 | AK14: =RANK(AJ14,AJ12:AJ27,1) -> 10 | AL14: =IF(AND(A14<>"",Q14=""),AE14,0) -> 4 | AM14: =IF(AND(A14<>"",Q14=""),1,0) -> 1 | AN14: =E14+G14 -> 1 | AO14: =AN14-AP14 -> 0 | AP14: =G14 -> 1 | AQ14: =IF(C14>0,IF(AN14>0,COUNTIF(AN12:AN14,">0"),0),0) -> 3 | AR14: =IF(AQ14>0,AQ14,MAX(AQ12:AQ27)+COUNTIF(AQ12:AQ14,"=0")) -> 3 | AS14: =IF(C42>MAX(AQ12:AQ27),"",DGET(A11:AR27,"Signatur",C41:C42)) -> Forest | AT14: =IF(C42>MAX(AQ12:AQ27),0,DGET(A11:AR27,"Deltager E",C41:C42)) -> 1 | AU14: =IF(C42>MAX(AQ12:AQ27),0,DGET(A11:AR27,"2. runde E",C41:C42)) -> 0 | AV14: =IF(C42>MAX(AQ12:AQ27),0,DGET(A11:AR27,"Kval E",C41:C42)) -> 1 | AW14: =IF(C42>MAX(AQ12:AQ27),0,DGET(A11:AR27,"Dis E",C41:C42)) -> 0 | AX14: =IF(C42>MAX(AQ12:AQ27),0,DGET(A11:AR27,"Udm E",C41:C42)) -> 0 | AY14: =IF(C42>MAX(AQ12:AQ27),0,DGET(A11:AR27,"MR E",C41:C42)) -> 0 | AZ14: =IF(C42>MAX(AQ12:AQ27),0,DGET(A11:AR27,"Res E",C41:C42)) -> 0
A15: =[1]DB!AS15 -> Frydkær | B15: 4 | C15: =[1]DB!AT15 -> 2 | D15: 0 | E15: =IF(B6=13,IF(A15<>"",COUNTIF(U30:U37,A15)+D15,0),D15) -> 0 | F15: =[1]DB!AT15 -> 2 | G15: =IF(B6=13,IF(A15<>"",F15-COUNTIF(U30:U37,A15)-COUNTIF(Y30:Y37,A15),0),F15) -> 2 | H15: =[1]DB!BA15 -> 0 | I15: =[1]DB!AW15 -> 0 | J15: =IF(Rækker!H5="Disket",1,IF(N15>5,1,IF(I15=1,1,0))) -> 0 | K15: =[1]DB!AX15 -> 0 | L15: =IF(Rækker!H5="Udmeldt",1,IF(K15=1,1,0)) -> 0 | M15: =[1]DB!AY15 -> 0 | N15: =IF(Rækker!H5="MR",M15+1,M15) -> 0 | O15: =[1]DB!AZ15 -> 1 | P15: =IF(Rækker!H5="Res",O15+1,O15) -> 1 | Q15: =IF(J15=1,"Disket",IF(L15=1,"Udmeldt",IF(AND(C15>0,F15=H15),"Walkover",IF(AND(C15>0,D15>0,F15=0),"Walkover",IF(M15<>N15,CONCATENATE("MR ",N15),IF(O15<>P15,IF(P15>10,"Res 10+",CONCATENATE("Res ",P15)),"")))))) | R15: =IF('Rækker - Udskrift'!O7=1,1,IF('Rækker - Udskrift'!P7="X","X",IF('Rækker - Udskrift'!Q7=2,2,""))) -> 1 | S15: =IF('Rækker - Udskrift'!O8=1,1,IF('Rækker - Udskrift'!P8="X","X",IF('Rækker - Udskrift'!Q8=2,2,""))) -> 1 | T15: =IF('Rækker - Udskrift'!O9=1,1,IF('Rækker - Udskrift'!P9="X","X",IF('Rækker - Udskrift'!Q9=2,2,""))) -> 1 | U15: =IF('Rækker - Udskrift'!O10=1,1,IF('Rækker - Udskrift'!P10="X","X",IF('Rækker - Udskrift'!Q10=2,2,""))) -> 1 | V15: =IF('Rækker - Udskrift'!O11=1,1,IF('Rækker - Udskrift'!P11="X","X",IF('Rækker - Udskrift'!Q11=2,2,""))) -> 1 | W15: =IF('Rækker - Udskrift'!O12=1,1,IF('Rækker - Udskrift'!P12="X","X",IF('Rækker - Udskrift'!Q12=2,2,""))) -> 2 | X15: =IF('Rækker - Udskrift'!O13=1,1,IF('Rækker - Udskrift'!P13="X","X",IF('Rækker - Udskrift'!Q13=2,2,""))) -> 1 | Y15: =IF('Rækker - Udskrift'!O14=1,1,IF('Rækker - Udskrift'!P14="X","X",IF('Rækker - Udskrift'!Q14=2,2,""))) -> 2 | Z15: =IF('Rækker - Udskrift'!O15=1,1,IF('Rækker - Udskrift'!P15="X","X",IF('Rækker - Udskrift'!Q15=2,2,""))) -> 1 | AA15: =IF('Rækker - Udskrift'!O16=1,1,IF('Rækker - Udskrift'!P16="X","X",IF('Rækker - Udskrift'!Q16=2,2,""))) -> 1 | AB15: =IF('Rækker - Udskrift'!O17=1,1,IF('Rækker - Udskrift'!P17="X","X",IF('Rækker - Udskrift'!Q17=2,2,""))) -> 1 | AC15: =IF('Rækker - Udskrift'!O18=1,1,IF('Rækker - Udskrift'!P18="X","X",IF('Rækker - Udskrift'!Q18=2,2,""))) -> X | AD15: =IF('Rækker - Udskrift'!O19=1,1,IF('Rækker - Udskrift'!P19="X","X",IF('Rækker - Udskrift'!Q19=2,2,""))) -> 1 | AE15: =IF(Q15<>"",IF(LEFT(Q15,3)="Res",F1,0),IF(R15=R10,1,0)+IF(S15=S10,1,0)+IF(T15=T10,1,0)+IF(U15=U10,1,0)+IF(V15=V10,1,0)+IF(W15=W10,1,0)+IF(X15=X10,1,0)+IF(Y15=Y10,1,0)+IF(Z15=Z10,1,0)+IF(AA15=AA10,1,0)+IF(AB15=AB10,1,0)+IF(AC15=AC10,1,0)+IF(AD15=AD10,1,0)) -> 4 | AF15: =RANK(AE15,AE12:AE27,1) -> 8 | AG15: =IF(Q15<>"",IF(LEFT(Q15,3)="Res",AE15,0),AE15) -> 4 | AH15: =IF(R15=R10,4096,0)+IF(S15=S10,2048,0)+IF(T15=T10,1024,0)+IF(U15=U10,512,0)+IF(V15=V10,256,0)+IF(W15=W10,128,0)+IF(X15=X10,64,0)+IF(Y15=Y10,32,0)+IF(Z15=Z10,16,0)+IF(AA15=AA10,8,0)+IF(AB15=AB10,4,0)+IF(AC15=AC10,2,0)+IF(AD15=AD10,1,0) -> 1283 | AI15: =RANK(AH15,AH12:AH27,1) -> 8 | AJ15: =(AF15*65)+AI15 -> 528 | AK15: =RANK(AJ15,AJ12:AJ27,1) -> 8 | AL15: =IF(AND(A15<>"",Q15=""),AE15,0) -> 4 | AM15: =IF(AND(A15<>"",Q15=""),1,0) -> 1 | AN15: =E15+G15 -> 2 | AO15: =AN15-AP15 -> 0 | AP15: =G15 -> 2 | AQ15: =IF(C15>0,IF(AN15>0,COUNTIF(AN12:AN15,">0"),0),0) -> 4 | AR15: =IF(AQ15>0,AQ15,MAX(AQ12:AQ27)+COUNTIF(AQ12:AQ15,"=0")) -> 4 | AS15: =IF(D42>MAX(AQ12:AQ27),"",DGET(A11:AR27,"Signatur",D41:D42)) -> Frydkær | AT15: =IF(D42>MAX(AQ12:AQ27),0,DGET(A11:AR27,"Deltager E",D41:D42)) -> 2 | AU15: =IF(D42>MAX(AQ12:AQ27),0,DGET(A11:AR27,"2. runde E",D41:D42)) -> 0 | AV15: =IF(D42>MAX(AQ12:AQ27),0,DGET(A11:AR27,"Kval E",D41:D42)) -> 2 | AW15: =IF(D42>MAX(AQ12:AQ27),0,DGET(A11:AR27,"Dis E",D41:D42)) -> 0 | AX15: =IF(D42>MAX(AQ12:AQ27),0,DGET(A11:AR27,"Udm E",D41:D42)) -> 0 | AY15: =IF(D42>MAX(AQ12:AQ27),0,DGET(A11:AR27,"MR E",D41:D42)) -> 0 | AZ15: =IF(D42>MAX(AQ12:AQ27),0,DGET(A11:AR27,"Res E",D41:D42)) -> 1
A16: =[1]DB!AS16 -> Futte | B16: 5 | C16: =[1]DB!AT16 -> 1 | D16: 0 | E16: =IF(B6=13,IF(A16<>"",COUNTIF(U30:U37,A16)+D16,0),D16) -> 0 | F16: =[1]DB!AT16 -> 1 | G16: =IF(B6=13,IF(A16<>"",F16-COUNTIF(U30:U37,A16)-COUNTIF(Y30:Y37,A16),0),F16) -> 1 | H16: =[1]DB!BA16 -> 0 | I16: =[1]DB!AW16 -> 0 | J16: =IF(Rækker!J5="Disket",1,IF(N16>5,1,IF(I16=1,1,0))) -> 0 | K16: =[1]DB!AX16 -> 0 | L16: =IF(Rækker!J5="Udmeldt",1,IF(K16=1,1,0)) -> 0 | M16: =[1]DB!AY16 -> 0 | N16: =IF(Rækker!J5="MR",M16+1,M16) -> 0 | O16: =[1]DB!AZ16 -> 0 | P16: =IF(Rækker!J5="Res",O16+1,O16) -> 0 | Q16: =IF(J16=1,"Disket",IF(L16=1,"Udmeldt",IF(AND(C16>0,F16=H16),"Walkover",IF(AND(C16>0,D16>0,F16=0),"Walkover",IF(M16<>N16,CONCATENATE("MR ",N16),IF(O16<>P16,IF(P16>10,"Res 10+",CONCATENATE("Res ",P16)),"")))))) | R16: =IF('Rækker - Udskrift'!R7=1,1,IF('Rækker - Udskrift'!S7="X","X",IF('Rækker - Udskrift'!T7=2,2,""))) -> 1 | S16: =IF('Rækker - Udskrift'!R8=1,1,IF('Rækker - Udskrift'!S8="X","X",IF('Rækker - Udskrift'!T8=2,2,""))) -> 1 | T16: =IF('Rækker - Udskrift'!R9=1,1,IF('Rækker - Udskrift'!S9="X","X",IF('Rækker - Udskrift'!T9=2,2,""))) -> 1 | U16: =IF('Rækker - Udskrift'!R10=1,1,IF('Rækker - Udskrift'!S10="X","X",IF('Rækker - Udskrift'!T10=2,2,""))) -> X | V16: =IF('Rækker - Udskrift'!R11=1,1,IF('Rækker - Udskrift'!S11="X","X",IF('Rækker - Udskrift'!T11=2,2,""))) -> 1 | W16: =IF('Rækker - Udskrift'!R12=1,1,IF('Rækker - Udskrift'!S12="X","X",IF('Rækker - Udskrift'!T12=2,2,""))) -> 2 | X16: =IF('Rækker - Udskrift'!R13=1,1,IF('Rækker - Udskrift'!S13="X","X",IF('Rækker - Udskrift'!T13=2,2,""))) -> 1 | Y16: =IF('Rækker - Udskrift'!R14=1,1,IF('Rækker - Udskrift'!S14="X","X",IF('Rækker - Udskrift'!T14=2,2,""))) -> 2 | Z16: =IF('Rækker - Udskrift'!R15=1,1,IF('Rækker - Udskrift'!S15="X","X",IF('Rækker - Udskrift'!T15=2,2,""))) -> 1 | AA16: =IF('Rækker - Udskrift'!R16=1,1,IF('Rækker - Udskrift'!S16="X","X",IF('Rækker - Udskrift'!T16=2,2,""))) -> 1 | AB16: =IF('Rækker - Udskrift'!R17=1,1,IF('Rækker - Udskrift'!S17="X","X",IF('Rækker - Udskrift'!T17=2,2,""))) -> 1 | AC16: =IF('Rækker - Udskrift'!R18=1,1,IF('Rækker - Udskrift'!S18="X","X",IF('Rækker - Udskrift'!T18=2,2,""))) -> 2 | AD16: =IF('Rækker - Udskrift'!R19=1,1,IF('Rækker - Udskrift'!S19="X","X",IF('Rækker - Udskrift'!T19=2,2,""))) -> 1 | AE16: =IF(Q16<>"",IF(LEFT(Q16,3)="Res",F1,0),IF(R16=R10,1,0)+IF(S16=S10,1,0)+IF(T16=T10,1,0)+IF(U16=U10,1,0)+IF(V16=V10,1,0)+IF(W16=W10,1,0)+IF(X16=X10,1,0)+IF(Y16=Y10,1,0)+IF(Z16=Z10,1,0)+IF(AA16=AA10,1,0)+IF(AB16=AB10,1,0)+IF(AC16=AC10,1,0)+IF(AD16=AD10,1,0)) -> 4 | AF16: =RANK(AE16,AE12:AE27,1) -> 8 | AG16: =IF(Q16<>"",IF(LEFT(Q16,3)="Res",AE16,0),AE16) -> 4 | AH16: =IF(R16=R10,4096,0)+IF(S16=S10,2048,0)+IF(T16=T10,1024,0)+IF(U16=U10,512,0)+IF(V16=V10,256,0)+IF(W16=W10,128,0)+IF(X16=X10,64,0)+IF(Y16=Y10,32,0)+IF(Z16=Z10,16,0)+IF(AA16=AA10,8,0)+IF(AB16=AB10,4,0)+IF(AC16=AC10,2,0)+IF(AD16=AD10,1,0) -> 1793 | AI16: =RANK(AH16,AH12:AH27,1) -> 15 | AJ16: =(AF16*65)+AI16 -> 535 | AK16: =RANK(AJ16,AJ12:AJ27,1) -> 15 | AL16: =IF(AND(A16<>"",Q16=""),AE16,0) -> 4 | AM16: =IF(AND(A16<>"",Q16=""),1,0) -> 1 | AN16: =E16+G16 -> 1 | AO16: =AN16-AP16 -> 0 | AP16: =G16 -> 1 | AQ16: =IF(C16>0,IF(AN16>0,COUNTIF(AN12:AN16,">0"),0),0) -> 5 | AR16: =IF(AQ16>0,AQ16,MAX(AQ12:AQ27)+COUNTIF(AQ12:AQ16,"=0")) -> 5 | AS16: =IF(E42>MAX(AQ12:AQ27),"",DGET(A11:AR27,"Signatur",E41:E42)) -> Futte | AT16: =IF(E42>MAX(AQ12:AQ27),0,DGET(A11:AR27,"Deltager E",E41:E42)) -> 1 | AU16: =IF(E42>MAX(AQ12:AQ27),0,DGET(A11:AR27,"2. runde E",E41:E42)) -> 0 | AV16: =IF(E42>MAX(AQ12:AQ27),0,DGET(A11:AR27,"Kval E",E41:E42)) -> 1 | AW16: =IF(E42>MAX(AQ12:AQ27),0,DGET(A11:AR27,"Dis E",E41:E42)) -> 0 | AX16: =IF(E42>MAX(AQ12:AQ27),0,DGET(A11:AR27,"Udm E",E41:E42)) -> 0 | AY16: =IF(E42>MAX(AQ12:AQ27),0,DGET(A11:AR27,"MR E",E41:E42)) -> 0 | AZ16: =IF(E42>MAX(AQ12:AQ27),0,DGET(A11:AR27,"Res E",E41:E42)) -> 0
A17: =[1]DB!AS17 -> Idskov | B17: 6 | C17: =[1]DB!AT17 -> 3 | D17: 0 | E17: =IF(B6=13,IF(A17<>"",COUNTIF(U30:U37,A17)+D17,0),D17) -> 0 | F17: =[1]DB!AT17 -> 3 | G17: =IF(B6=13,IF(A17<>"",F17-COUNTIF(U30:U37,A17)-COUNTIF(Y30:Y37,A17),0),F17) -> 3 | H17: =[1]DB!BA17 -> 0 | I17: =[1]DB!AW17 -> 0 | J17: =IF(Rækker!L5="Disket",1,IF(N17>5,1,IF(I17=1,1,0))) -> 0 | K17: =[1]DB!AX17 -> 0 | L17: =IF(Rækker!L5="Udmeldt",1,IF(K17=1,1,0)) -> 0 | M17: =[1]DB!AY17 -> 0 | N17: =IF(Rækker!L5="MR",M17+1,M17) -> 0 | O17: =[1]DB!AZ17 -> 0 | P17: =IF(Rækker!L5="Res",O17+1,O17) -> 0 | Q17: =IF(J17=1,"Disket",IF(L17=1,"Udmeldt",IF(AND(C17>0,F17=H17),"Walkover",IF(AND(C17>0,D17>0,F17=0),"Walkover",IF(M17<>N17,CONCATENATE("MR ",N17),IF(O17<>P17,IF(P17>10,"Res 10+",CONCATENATE("Res ",P17)),"")))))) | R17: =IF('Rækker - Udskrift'!U7=1,1,IF('Rækker - Udskrift'!V7="X","X",IF('Rækker - Udskrift'!W7=2,2,""))) -> 1 | S17: =IF('Rækker - Udskrift'!U8=1,1,IF('Rækker - Udskrift'!V8="X","X",IF('Rækker - Udskrift'!W8=2,2,""))) -> 1 | T17: =IF('Rækker - Udskrift'!U9=1,1,IF('Rækker - Udskrift'!V9="X","X",IF('Rækker - Udskrift'!W9=2,2,""))) -> 1 | U17: =IF('Rækker - Udskrift'!U10=1,1,IF('Rækker - Udskrift'!V10="X","X",IF('Rækker - Udskrift'!W10=2,2,""))) -> 1 | V17: =IF('Rækker - Udskrift'!U11=1,1,IF('Rækker - Udskrift'!V11="X","X",IF('Rækker - Udskrift'!W11=2,2,""))) -> 1 | W17: =IF('Rækker - Udskrift'!U12=1,1,IF('Rækker - Udskrift'!V12="X","X",IF('Rækker - Udskrift'!W12=2,2,""))) -> 2 | X17: =IF('Rækker - Udskrift'!U13=1,1,IF('Rækker - Udskrift'!V13="X","X",IF('Rækker - Udskrift'!W13=2,2,""))) -> 1 | Y17: =IF('Rækker - Udskrift'!U14=1,1,IF('Rækker - Udskrift'!V14="X","X",IF('Rækker - Udskrift'!W14=2,2,""))) -> 2 | Z17: =IF('Rækker - Udskrift'!U15=1,1,IF('Rækker - Udskrift'!V15="X","X",IF('Rækker - Udskrift'!W15=2,2,""))) -> 1 | AA17: =IF('Rækker - Udskrift'!U16=1,1,IF('Rækker - Udskrift'!V16="X","X",IF('Rækker - Udskrift'!W16=2,2,""))) -> X | AB17: =IF('Rækker - Udskrift'!U17=1,1,IF('Rækker - Udskrift'!V17="X","X",IF('Rækker - Udskrift'!W17=2,2,""))) -> 1 | AC17: =IF('Rækker - Udskrift'!U18=1,1,IF('Rækker - Udskrift'!V18="X","X",IF('Rækker - Udskrift'!W18=2,2,""))) -> 1 | AD17: =IF('Rækker - Udskrift'!U19=1,1,IF('Rækker - Udskrift'!V19="X","X",IF('Rækker - Udskrift'!W19=2,2,""))) -> 1 | AE17: =IF(Q17<>"",IF(LEFT(Q17,3)="Res",F1,0),IF(R17=R10,1,0)+IF(S17=S10,1,0)+IF(T17=T10,1,0)+IF(U17=U10,1,0)+IF(V17=V10,1,0)+IF(W17=W10,1,0)+IF(X17=X10,1,0)+IF(Y17=Y10,1,0)+IF(Z17=Z10,1,0)+IF(AA17=AA10,1,0)+IF(AB17=AB10,1,0)+IF(AC17=AC10,1,0)+IF(AD17=AD10,1,0)) -> 4 | AF17: =RANK(AE17,AE12:AE27,1) -> 8 | AG17: =IF(Q17<>"",IF(LEFT(Q17,3)="Res",AE17,0),AE17) -> 4 | AH17: =IF(R17=R10,4096,0)+IF(S17=S10,2048,0)+IF(T17=T10,1024,0)+IF(U17=U10,512,0)+IF(V17=V10,256,0)+IF(W17=W10,128,0)+IF(X17=X10,64,0)+IF(Y17=Y10,32,0)+IF(Z17=Z10,16,0)+IF(AA17=AA10,8,0)+IF(AB17=AB10,4,0)+IF(AC17=AC10,2,0)+IF(AD17=AD10,1,0) -> 1289 | AI17: =RANK(AH17,AH12:AH27,1) -> 10 | AJ17: =(AF17*65)+AI17 -> 530 | AK17: =RANK(AJ17,AJ12:AJ27,1) -> 10 | AL17: =IF(AND(A17<>"",Q17=""),AE17,0) -> 4 | AM17: =IF(AND(A17<>"",Q17=""),1,0) -> 1 | AN17: =E17+G17 -> 3 | AO17: =AN17-AP17 -> 0 | AP17: =G17 -> 3 | AQ17: =IF(C17>0,IF(AN17>0,COUNTIF(AN12:AN17,">0"),0),0) -> 6 | AR17: =IF(AQ17>0,AQ17,MAX(AQ12:AQ27)+COUNTIF(AQ12:AQ17,"=0")) -> 6 | AS17: =IF(F42>MAX(AQ12:AQ27),"",DGET(A11:AR27,"Signatur",F41:F42)) -> Idskov | AT17: =IF(F42>MAX(AQ12:AQ27),0,DGET(A11:AR27,"Deltager E",F41:F42)) -> 3 | AU17: =IF(F42>MAX(AQ12:AQ27),0,DGET(A11:AR27,"2. runde E",F41:F42)) -> 0 | AV17: =IF(F42>MAX(AQ12:AQ27),0,DGET(A11:AR27,"Kval E",F41:F42)) -> 3 | AW17: =IF(F42>MAX(AQ12:AQ27),0,DGET(A11:AR27,"Dis E",F41:F42)) -> 0 | AX17: =IF(F42>MAX(AQ12:AQ27),0,DGET(A11:AR27,"Udm E",F41:F42)) -> 0 | AY17: =IF(F42>MAX(AQ12:AQ27),0,DGET(A11:AR27,"MR E",F41:F42)) -> 0 | AZ17: =IF(F42>MAX(AQ12:AQ27),0,DGET(A11:AR27,"Res E",F41:F42)) -> 0
A18: =[1]DB!AS18 -> LPHJ | B18: 7 | C18: =[1]DB!AT18 -> 3 | D18: 0 | E18: =IF(B6=13,IF(A18<>"",COUNTIF(U30:U37,A18)+D18,0),D18) -> 0 | F18: =[1]DB!AT18 -> 3 | G18: =IF(B6=13,IF(A18<>"",F18-COUNTIF(U30:U37,A18)-COUNTIF(Y30:Y37,A18),0),F18) -> 3 | H18: =[1]DB!BA18 -> 0 | I18: =[1]DB!AW18 -> 0 | J18: =IF(Rækker!N5="Disket",1,IF(N18>5,1,IF(I18=1,1,0))) -> 0 | K18: =[1]DB!AX18 -> 0 | L18: =IF(Rækker!N5="Udmeldt",1,IF(K18=1,1,0)) -> 0 | M18: =[1]DB!AY18 -> 0 | N18: =IF(Rækker!N5="MR",M18+1,M18) -> 0 | O18: =[1]DB!AZ18 -> 0 | P18: =IF(Rækker!N5="Res",O18+1,O18) -> 0 | Q18: =IF(J18=1,"Disket",IF(L18=1,"Udmeldt",IF(AND(C18>0,F18=H18),"Walkover",IF(AND(C18>0,D18>0,F18=0),"Walkover",IF(M18<>N18,CONCATENATE("MR ",N18),IF(O18<>P18,IF(P18>10,"Res 10+",CONCATENATE("Res ",P18)),"")))))) | R18: =IF('Rækker - Udskrift'!X7=1,1,IF('Rækker - Udskrift'!Y7="X","X",IF('Rækker - Udskrift'!Z7=2,2,""))) -> 1 | S18: =IF('Rækker - Udskrift'!X8=1,1,IF('Rækker - Udskrift'!Y8="X","X",IF('Rækker - Udskrift'!Z8=2,2,""))) -> 1 | T18: =IF('Rækker - Udskrift'!X9=1,1,IF('Rækker - Udskrift'!Y9="X","X",IF('Rækker - Udskrift'!Z9=2,2,""))) -> 1 | U18: =IF('Rækker - Udskrift'!X10=1,1,IF('Rækker - Udskrift'!Y10="X","X",IF('Rækker - Udskrift'!Z10=2,2,""))) -> 1 | V18: =IF('Rækker - Udskrift'!X11=1,1,IF('Rækker - Udskrift'!Y11="X","X",IF('Rækker - Udskrift'!Z11=2,2,""))) -> 1 | W18: =IF('Rækker - Udskrift'!X12=1,1,IF('Rækker - Udskrift'!Y12="X","X",IF('Rækker - Udskrift'!Z12=2,2,""))) -> 2 | X18: =IF('Rækker - Udskrift'!X13=1,1,IF('Rækker - Udskrift'!Y13="X","X",IF('Rækker - Udskrift'!Z13=2,2,""))) -> 1 | Y18: =IF('Rækker - Udskrift'!X14=1,1,IF('Rækker - Udskrift'!Y14="X","X",IF('Rækker - Udskrift'!Z14=2,2,""))) -> 2 | Z18: =IF('Rækker - Udskrift'!X15=1,1,IF('Rækker - Udskrift'!Y15="X","X",IF('Rækker - Udskrift'!Z15=2,2,""))) -> 1 | AA18: =IF('Rækker - Udskrift'!X16=1,1,IF('Rækker - Udskrift'!Y16="X","X",IF('Rækker - Udskrift'!Z16=2,2,""))) -> X | AB18: =IF('Rækker - Udskrift'!X17=1,1,IF('Rækker - Udskrift'!Y17="X","X",IF('Rækker - Udskrift'!Z17=2,2,""))) -> 1 | AC18: =IF('Rækker - Udskrift'!X18=1,1,IF('Rækker - Udskrift'!Y18="X","X",IF('Rækker - Udskrift'!Z18=2,2,""))) -> 1 | AD18: =IF('Rækker - Udskrift'!X19=1,1,IF('Rækker - Udskrift'!Y19="X","X",IF('Rækker - Udskrift'!Z19=2,2,""))) -> 1 | AE18: =IF(Q18<>"",IF(LEFT(Q18,3)="Res",F1,0),IF(R18=R10,1,0)+IF(S18=S10,1,0)+IF(T18=T10,1,0)+IF(U18=U10,1,0)+IF(V18=V10,1,0)+IF(W18=W10,1,0)+IF(X18=X10,1,0)+IF(Y18=Y10,1,0)+IF(Z18=Z10,1,0)+IF(AA18=AA10,1,0)+IF(AB18=AB10,1,0)+IF(AC18=AC10,1,0)+IF(AD18=AD10,1,0)) -> 4 | AF18: =RANK(AE18,AE12:AE27,1) -> 8 | AG18: =IF(Q18<>"",IF(LEFT(Q18,3)="Res",AE18,0),AE18) -> 4 | AH18: =IF(R18=R10,4096,0)+IF(S18=S10,2048,0)+IF(T18=T10,1024,0)+IF(U18=U10,512,0)+IF(V18=V10,256,0)+IF(W18=W10,128,0)+IF(X18=X10,64,0)+IF(Y18=Y10,32,0)+IF(Z18=Z10,16,0)+IF(AA18=AA10,8,0)+IF(AB18=AB10,4,0)+IF(AC18=AC10,2,0)+IF(AD18=AD10,1,0) -> 1289 | AI18: =RANK(AH18,AH12:AH27,1) -> 10 | AJ18: =(AF18*65)+AI18 -> 530 | AK18: =RANK(AJ18,AJ12:AJ27,1) -> 10 | AL18: =IF(AND(A18<>"",Q18=""),AE18,0) -> 4 | AM18: =IF(AND(A18<>"",Q18=""),1,0) -> 1 | AN18: =E18+G18 -> 3 | AO18: =AN18-AP18 -> 0 | AP18: =G18 -> 3 | AQ18: =IF(C18>0,IF(AN18>0,COUNTIF(AN12:AN18,">0"),0),0) -> 7 | AR18: =IF(AQ18>0,AQ18,MAX(AQ12:AQ27)+COUNTIF(AQ12:AQ18,"=0")) -> 7 | AS18: =IF(G42>MAX(AQ12:AQ27),"",DGET(A11:AR27,"Signatur",G41:G42)) -> LPHJ | AT18: =IF(G42>MAX(AQ12:AQ27),0,DGET(A11:AR27,"Deltager E",G41:G42)) -> 3 | AU18: =IF(G42>MAX(AQ12:AQ27),0,DGET(A11:AR27,"2. runde E",G41:G42)) -> 0 | AV18: =IF(G42>MAX(AQ12:AQ27),0,DGET(A11:AR27,"Kval E",G41:G42)) -> 3 | AW18: =IF(G42>MAX(AQ12:AQ27),0,DGET(A11:AR27,"Dis E",G41:G42)) -> 0 | AX18: =IF(G42>MAX(AQ12:AQ27),0,DGET(A11:AR27,"Udm E",G41:G42)) -> 0 | AY18: =IF(G42>MAX(AQ12:AQ27),0,DGET(A11:AR27,"MR E",G41:G42)) -> 0 | AZ18: =IF(G42>MAX(AQ12:AQ27),0,DGET(A11:AR27,"Res E",G41:G42)) -> 0
A19: =[1]DB!AS19 -> Robbo | B19: 8 | C19: =[1]DB!AT19 -> 1 | D19: 0 | E19: =IF(B6=13,IF(A19<>"",COUNTIF(U30:U37,A19)+D19,0),D19) -> 0 | F19: =[1]DB!AT19 -> 1 | G19: =IF(B6=13,IF(A19<>"",F19-COUNTIF(U30:U37,A19)-COUNTIF(Y30:Y37,A19),0),F19) -> 1 | H19: =[1]DB!BA19 -> 0 | I19: =[1]DB!AW19 -> 0 | J19: =IF(Rækker!P5="Disket",1,IF(N19>5,1,IF(I19=1,1,0))) -> 0 | K19: =[1]DB!AX19 -> 0 | L19: =IF(Rækker!P5="Udmeldt",1,IF(K19=1,1,0)) -> 0 | M19: =[1]DB!AY19 -> 0 | N19: =IF(Rækker!P5="MR",M19+1,M19) -> 0 | O19: =[1]DB!AZ19 -> 0 | P19: =IF(Rækker!P5="Res",O19+1,O19) -> 0 | Q19: =IF(J19=1,"Disket",IF(L19=1,"Udmeldt",IF(AND(C19>0,F19=H19),"Walkover",IF(AND(C19>0,D19>0,F19=0),"Walkover",IF(M19<>N19,CONCATENATE("MR ",N19),IF(O19<>P19,IF(P19>10,"Res 10+",CONCATENATE("Res ",P19)),"")))))) | R19: =IF('Rækker - Udskrift'!AA7=1,1,IF('Rækker - Udskrift'!AB7="X","X",IF('Rækker - Udskrift'!AC7=2,2,""))) -> 1 | S19: =IF('Rækker - Udskrift'!AA8=1,1,IF('Rækker - Udskrift'!AB8="X","X",IF('Rækker - Udskrift'!AC8=2,2,""))) -> 1 | T19: =IF('Rækker - Udskrift'!AA9=1,1,IF('Rækker - Udskrift'!AB9="X","X",IF('Rækker - Udskrift'!AC9=2,2,""))) -> 1 | U19: =IF('Rækker - Udskrift'!AA10=1,1,IF('Rækker - Udskrift'!AB10="X","X",IF('Rækker - Udskrift'!AC10=2,2,""))) -> 1 | V19: =IF('Rækker - Udskrift'!AA11=1,1,IF('Rækker - Udskrift'!AB11="X","X",IF('Rækker - Udskrift'!AC11=2,2,""))) -> 1 | W19: =IF('Rækker - Udskrift'!AA12=1,1,IF('Rækker - Udskrift'!AB12="X","X",IF('Rækker - Udskrift'!AC12=2,2,""))) -> 2 | X19: =IF('Rækker - Udskrift'!AA13=1,1,IF('Rækker - Udskrift'!AB13="X","X",IF('Rækker - Udskrift'!AC13=2,2,""))) -> 1 | Y19: =IF('Rækker - Udskrift'!AA14=1,1,IF('Rækker - Udskrift'!AB14="X","X",IF('Rækker - Udskrift'!AC14=2,2,""))) -> 2 | Z19: =IF('Rækker - Udskrift'!AA15=1,1,IF('Rækker - Udskrift'!AB15="X","X",IF('Rækker - Udskrift'!AC15=2,2,""))) -> 1 | AA19: =IF('Rækker - Udskrift'!AA16=1,1,IF('Rækker - Udskrift'!AB16="X","X",IF('Rækker - Udskrift'!AC16=2,2,""))) -> X | AB19: =IF('Rækker - Udskrift'!AA17=1,1,IF('Rækker - Udskrift'!AB17="X","X",IF('Rækker - Udskrift'!AC17=2,2,""))) -> 1 | AC19: =IF('Rækker - Udskrift'!AA18=1,1,IF('Rækker - Udskrift'!AB18="X","X",IF('Rækker - Udskrift'!AC18=2,2,""))) -> 1 | AD19: =IF('Rækker - Udskrift'!AA19=1,1,IF('Rækker - Udskrift'!AB19="X","X",IF('Rækker - Udskrift'!AC19=2,2,""))) -> 1 | AE19: =IF(Q19<>"",IF(LEFT(Q19,3)="Res",F1,0),IF(R19=R10,1,0)+IF(S19=S10,1,0)+IF(T19=T10,1,0)+IF(U19=U10,1,0)+IF(V19=V10,1,0)+IF(W19=W10,1,0)+IF(X19=X10,1,0)+IF(Y19=Y10,1,0)+IF(Z19=Z10,1,0)+IF(AA19=AA10,1,0)+IF(AB19=AB10,1,0)+IF(AC19=AC10,1,0)+IF(AD19=AD10,1,0)) -> 4 | AF19: =RANK(AE19,AE12:AE27,1) -> 8 | AG19: =IF(Q19<>"",IF(LEFT(Q19,3)="Res",AE19,0),AE19) -> 4 | AH19: =IF(R19=R10,4096,0)+IF(S19=S10,2048,0)+IF(T19=T10,1024,0)+IF(U19=U10,512,0)+IF(V19=V10,256,0)+IF(W19=W10,128,0)+IF(X19=X10,64,0)+IF(Y19=Y10,32,0)+IF(Z19=Z10,16,0)+IF(AA19=AA10,8,0)+IF(AB19=AB10,4,0)+IF(AC19=AC10,2,0)+IF(AD19=AD10,1,0) -> 1289 | AI19: =RANK(AH19,AH12:AH27,1) -> 10 | AJ19: =(AF19*65)+AI19 -> 530 | AK19: =RANK(AJ19,AJ12:AJ27,1) -> 10 | AL19: =IF(AND(A19<>"",Q19=""),AE19,0) -> 4 | AM19: =IF(AND(A19<>"",Q19=""),1,0) -> 1 | AN19: =E19+G19 -> 1 | AO19: =AN19-AP19 -> 0 | AP19: =G19 -> 1 | AQ19: =IF(C19>0,IF(AN19>0,COUNTIF(AN12:AN19,">0"),0),0) -> 8 | AR19: =IF(AQ19>0,AQ19,MAX(AQ12:AQ27)+COUNTIF(AQ12:AQ19,"=0")) -> 8 | AS19: =IF(H42>MAX(AQ12:AQ27),"",DGET(A11:AR27,"Signatur",H41:H42)) -> Robbo | AT19: =IF(H42>MAX(AQ12:AQ27),0,DGET(A11:AR27,"Deltager E",H41:H42)) -> 1 | AU19: =IF(H42>MAX(AQ12:AQ27),0,DGET(A11:AR27,"2. runde E",H41:H42)) -> 0 | AV19: =IF(H42>MAX(AQ12:AQ27),0,DGET(A11:AR27,"Kval E",H41:H42)) -> 1 | AW19: =IF(H42>MAX(AQ12:AQ27),0,DGET(A11:AR27,"Dis E",H41:H42)) -> 0 | AX19: =IF(H42>MAX(AQ12:AQ27),0,DGET(A11:AR27,"Udm E",H41:H42)) -> 0 | AY19: =IF(H42>MAX(AQ12:AQ27),0,DGET(A11:AR27,"MR E",H41:H42)) -> 0 | AZ19: =IF(H42>MAX(AQ12:AQ27),0,DGET(A11:AR27,"Res E",H41:H42)) -> 0
A20: =[1]DB!AS20 -> Select | B20: 9 | C20: =[1]DB!AT20 -> 1 | D20: 0 | E20: =IF(B6=13,IF(A20<>"",COUNTIF(U30:U37,A20)+D20,0),D20) -> 0 | F20: =[1]DB!AT20 -> 1 | G20: =IF(B6=13,IF(A20<>"",F20-COUNTIF(U30:U37,A20)-COUNTIF(Y30:Y37,A20),0),F20) -> 1 | H20: =[1]DB!BA20 -> 0 | I20: =[1]DB!AW20 -> 0 | J20: =IF(Rækker!R5="Disket",1,IF(N20>5,1,IF(I20=1,1,0))) -> 0 | K20: =[1]DB!AX20 -> 0 | L20: =IF(Rækker!R5="Udmeldt",1,IF(K20=1,1,0)) -> 0 | M20: =[1]DB!AY20 -> 0 | N20: =IF(Rækker!R5="MR",M20+1,M20) -> 0 | O20: =[1]DB!AZ20 -> 0 | P20: =IF(Rækker!R5="Res",O20+1,O20) -> 0 | Q20: =IF(J20=1,"Disket",IF(L20=1,"Udmeldt",IF(AND(C20>0,F20=H20),"Walkover",IF(AND(C20>0,D20>0,F20=0),"Walkover",IF(M20<>N20,CONCATENATE("MR ",N20),IF(O20<>P20,IF(P20>10,"Res 10+",CONCATENATE("Res ",P20)),"")))))) | R20: =IF('Rækker - Udskrift'!AD7=1,1,IF('Rækker - Udskrift'!AE7="X","X",IF('Rækker - Udskrift'!AF7=2,2,""))) -> 1 | S20: =IF('Rækker - Udskrift'!AD8=1,1,IF('Rækker - Udskrift'!AE8="X","X",IF('Rækker - Udskrift'!AF8=2,2,""))) -> 1 | T20: =IF('Rækker - Udskrift'!AD9=1,1,IF('Rækker - Udskrift'!AE9="X","X",IF('Rækker - Udskrift'!AF9=2,2,""))) -> 1 | U20: =IF('Rækker - Udskrift'!AD10=1,1,IF('Rækker - Udskrift'!AE10="X","X",IF('Rækker - Udskrift'!AF10=2,2,""))) -> 1 | V20: =IF('Rækker - Udskrift'!AD11=1,1,IF('Rækker - Udskrift'!AE11="X","X",IF('Rækker - Udskrift'!AF11=2,2,""))) -> 1 | W20: =IF('Rækker - Udskrift'!AD12=1,1,IF('Rækker - Udskrift'!AE12="X","X",IF('Rækker - Udskrift'!AF12=2,2,""))) -> 2 | X20: =IF('Rækker - Udskrift'!AD13=1,1,IF('Rækker - Udskrift'!AE13="X","X",IF('Rækker - Udskrift'!AF13=2,2,""))) -> 1 | Y20: =IF('Rækker - Udskrift'!AD14=1,1,IF('Rækker - Udskrift'!AE14="X","X",IF('Rækker - Udskrift'!AF14=2,2,""))) -> 2 | Z20: =IF('Rækker - Udskrift'!AD15=1,1,IF('Rækker - Udskrift'!AE15="X","X",IF('Rækker - Udskrift'!AF15=2,2,""))) -> 1 | AA20: =IF('Rækker - Udskrift'!AD16=1,1,IF('Rækker - Udskrift'!AE16="X","X",IF('Rækker - Udskrift'!AF16=2,2,""))) -> X | AB20: =IF('Rækker - Udskrift'!AD17=1,1,IF('Rækker - Udskrift'!AE17="X","X",IF('Rækker - Udskrift'!AF17=2,2,""))) -> 1 | AC20: =IF('Rækker - Udskrift'!AD18=1,1,IF('Rækker - Udskrift'!AE18="X","X",IF('Rækker - Udskrift'!AF18=2,2,""))) -> 1 | AD20: =IF('Rækker - Udskrift'!AD19=1,1,IF('Rækker - Udskrift'!AE19="X","X",IF('Rækker - Udskrift'!AF19=2,2,""))) -> 1 | AE20: =IF(Q20<>"",IF(LEFT(Q20,3)="Res",F1,0),IF(R20=R10,1,0)+IF(S20=S10,1,0)+IF(T20=T10,1,0)+IF(U20=U10,1,0)+IF(V20=V10,1,0)+IF(W20=W10,1,0)+IF(X20=X10,1,0)+IF(Y20=Y10,1,0)+IF(Z20=Z10,1,0)+IF(AA20=AA10,1,0)+IF(AB20=AB10,1,0)+IF(AC20=AC10,1,0)+IF(AD20=AD10,1,0)) -> 4 | AF20: =RANK(AE20,AE12:AE27,1) -> 8 | AG20: =IF(Q20<>"",IF(LEFT(Q20,3)="Res",AE20,0),AE20) -> 4 | AH20: =IF(R20=R10,4096,0)+IF(S20=S10,2048,0)+IF(T20=T10,1024,0)+IF(U20=U10,512,0)+IF(V20=V10,256,0)+IF(W20=W10,128,0)+IF(X20=X10,64,0)+IF(Y20=Y10,32,0)+IF(Z20=Z10,16,0)+IF(AA20=AA10,8,0)+IF(AB20=AB10,4,0)+IF(AC20=AC10,2,0)+IF(AD20=AD10,1,0) -> 1289 | AI20: =RANK(AH20,AH12:AH27,1) -> 10 | AJ20: =(AF20*65)+AI20 -> 530 | AK20: =RANK(AJ20,AJ12:AJ27,1) -> 10 | AL20: =IF(AND(A20<>"",Q20=""),AE20,0) -> 4 | AM20: =IF(AND(A20<>"",Q20=""),1,0) -> 1 | AN20: =E20+G20 -> 1 | AO20: =AN20-AP20 -> 0 | AP20: =G20 -> 1 | AQ20: =IF(C20>0,IF(AN20>0,COUNTIF(AN12:AN20,">0"),0),0) -> 9 | AR20: =IF(AQ20>0,AQ20,MAX(AQ12:AQ27)+COUNTIF(AQ12:AQ20,"=0")) -> 9 | AS20: =IF(I42>MAX(AQ12:AQ27),"",DGET(A11:AR27,"Signatur",I41:I42)) -> Select | AT20: =IF(I42>MAX(AQ12:AQ27),0,DGET(A11:AR27,"Deltager E",I41:I42)) -> 1 | AU20: =IF(I42>MAX(AQ12:AQ27),0,DGET(A11:AR27,"2. runde E",I41:I42)) -> 0 | AV20: =IF(I42>MAX(AQ12:AQ27),0,DGET(A11:AR27,"Kval E",I41:I42)) -> 1 | AW20: =IF(I42>MAX(AQ12:AQ27),0,DGET(A11:AR27,"Dis E",I41:I42)) -> 0 | AX20: =IF(I42>MAX(AQ12:AQ27),0,DGET(A11:AR27,"Udm E",I41:I42)) -> 0 | AY20: =IF(I42>MAX(AQ12:AQ27),0,DGET(A11:AR27,"MR E",I41:I42)) -> 0 | AZ20: =IF(I42>MAX(AQ12:AQ27),0,DGET(A11:AR27,"Res E",I41:I42)) -> 0
A21: =[1]DB!AS21 | B21: 10 | C21: =[1]DB!AT21 -> 0 | D21: 0 | E21: =IF(B6=13,IF(A21<>"",COUNTIF(U30:U37,A21)+D21,0),D21) -> 0 | F21: =[1]DB!AT21 -> 0 | G21: =IF(B6=13,IF(A21<>"",F21-COUNTIF(U30:U37,A21)-COUNTIF(Y30:Y37,A21),0),F21) -> 0 | H21: =[1]DB!BA21 -> 0 | I21: =[1]DB!AW21 -> 0 | J21: =IF(Rækker!T5="Disket",1,IF(N21>5,1,IF(I21=1,1,0))) -> 0 | K21: =[1]DB!AX21 -> 0 | L21: =IF(Rækker!T5="Udmeldt",1,IF(K21=1,1,0)) -> 0 | M21: =[1]DB!AY21 -> 0 | N21: =IF(Rækker!T5="MR",M21+1,M21) -> 0 | O21: =[1]DB!AZ21 -> 0 | P21: =IF(Rækker!T5="Res",O21+1,O21) -> 0 | Q21: =IF(J21=1,"Disket",IF(L21=1,"Udmeldt",IF(AND(C21>0,F21=H21),"Walkover",IF(AND(C21>0,D21>0,F21=0),"Walkover",IF(M21<>N21,CONCATENATE("MR ",N21),IF(O21<>P21,IF(P21>10,"Res 10+",CONCATENATE("Res ",P21)),"")))))) | R21: =IF('Rækker - Udskrift'!AG7=1,1,IF('Rækker - Udskrift'!AH7="X","X",IF('Rækker - Udskrift'!AI7=2,2,""))) | S21: =IF('Rækker - Udskrift'!AG8=1,1,IF('Rækker - Udskrift'!AH8="X","X",IF('Rækker - Udskrift'!AI8=2,2,""))) | T21: =IF('Rækker - Udskrift'!AG9=1,1,IF('Rækker - Udskrift'!AH9="X","X",IF('Rækker - Udskrift'!AI9=2,2,""))) | U21: =IF('Rækker - Udskrift'!AG10=1,1,IF('Rækker - Udskrift'!AH10="X","X",IF('Rækker - Udskrift'!AI10=2,2,""))) | V21: =IF('Rækker - Udskrift'!AG11=1,1,IF('Rækker - Udskrift'!AH11="X","X",IF('Rækker - Udskrift'!AI11=2,2,""))) | W21: =IF('Rækker - Udskrift'!AG12=1,1,IF('Rækker - Udskrift'!AH12="X","X",IF('Rækker - Udskrift'!AI12=2,2,""))) | X21: =IF('Rækker - Udskrift'!AG13=1,1,IF('Rækker - Udskrift'!AH13="X","X",IF('Rækker - Udskrift'!AI13=2,2,""))) | Y21: =IF('Rækker - Udskrift'!AG14=1,1,IF('Rækker - Udskrift'!AH14="X","X",IF('Rækker - Udskrift'!AI14=2,2,""))) | Z21: =IF('Rækker - Udskrift'!AG15=1,1,IF('Rækker - Udskrift'!AH15="X","X",IF('Rækker - Udskrift'!AI15=2,2,""))) | AA21: =IF('Rækker - Udskrift'!AG16=1,1,IF('Rækker - Udskrift'!AH16="X","X",IF('Rækker - Udskrift'!AI16=2,2,""))) | AB21: =IF('Rækker - Udskrift'!AG17=1,1,IF('Rækker - Udskrift'!AH17="X","X",IF('Rækker - Udskrift'!AI17=2,2,""))) | AC21: =IF('Rækker - Udskrift'!AG18=1,1,IF('Rækker - Udskrift'!AH18="X","X",IF('Rækker - Udskrift'!AI18=2,2,""))) | AD21: =IF('Rækker - Udskrift'!AG19=1,1,IF('Rækker - Udskrift'!AH19="X","X",IF('Rækker - Udskrift'!AI19=2,2,""))) | AE21: =IF(Q21<>"",IF(LEFT(Q21,3)="Res",F1,0),IF(R21=R10,1,0)+IF(S21=S10,1,0)+IF(T21=T10,1,0)+IF(U21=U10,1,0)+IF(V21=V10,1,0)+IF(W21=W10,1,0)+IF(X21=X10,1,0)+IF(Y21=Y10,1,0)+IF(Z21=Z10,1,0)+IF(AA21=AA10,1,0)+IF(AB21=AB10,1,0)+IF(AC21=AC10,1,0)+IF(AD21=AD10,1,0)) -> 0 | AF21: =RANK(AE21,AE12:AE27,1) -> 1 | AG21: =IF(Q21<>"",IF(LEFT(Q21,3)="Res",AE21,0),AE21) -> 0 | AH21: =IF(R21=R10,4096,0)+IF(S21=S10,2048,0)+IF(T21=T10,1024,0)+IF(U21=U10,512,0)+IF(V21=V10,256,0)+IF(W21=W10,128,0)+IF(X21=X10,64,0)+IF(Y21=Y10,32,0)+IF(Z21=Z10,16,0)+IF(AA21=AA10,8,0)+IF(AB21=AB10,4,0)+IF(AC21=AC10,2,0)+IF(AD21=AD10,1,0) -> 0 | AI21: =RANK(AH21,AH12:AH27,1) -> 1 | AJ21: =(AF21*65)+AI21 -> 66 | AK21: =RANK(AJ21,AJ12:AJ27,1) -> 1 | AL21: =IF(AND(A21<>"",Q21=""),AE21,0) -> 0 | AM21: =IF(AND(A21<>"",Q21=""),1,0) -> 0 | AN21: =E21+G21 -> 0 | AO21: =AN21-AP21 -> 0 | AP21: =G21 -> 0 | AQ21: =IF(C21>0,IF(AN21>0,COUNTIF(AN12:AN21,">0"),0),0) -> 0 | AR21: =IF(AQ21>0,AQ21,MAX(AQ12:AQ27)+COUNTIF(AQ12:AQ21,"=0")) -> 10 | AS21: =IF(J42>MAX(AQ12:AQ27),"",DGET(A11:AR27,"Signatur",J41:J42)) | AT21: =IF(J42>MAX(AQ12:AQ27),0,DGET(A11:AR27,"Deltager E",J41:J42)) -> 0 | AU21: =IF(J42>MAX(AQ12:AQ27),0,DGET(A11:AR27,"2. runde E",J41:J42)) -> 0 | AV21: =IF(J42>MAX(AQ12:AQ27),0,DGET(A11:AR27,"Kval E",J41:J42)) -> 0 | AW21: =IF(J42>MAX(AQ12:AQ27),0,DGET(A11:AR27,"Dis E",J41:J42)) -> 0 | AX21: =IF(J42>MAX(AQ12:AQ27),0,DGET(A11:AR27,"Udm E",J41:J42)) -> 0 | AY21: =IF(J42>MAX(AQ12:AQ27),0,DGET(A11:AR27,"MR E",J41:J42)) -> 0 | AZ21: =IF(J42>MAX(AQ12:AQ27),0,DGET(A11:AR27,"Res E",J41:J42)) -> 0
A22: =[1]DB!AS22 | B22: 11 | C22: =[1]DB!AT22 -> 0 | D22: 0 | E22: =IF(B6=13,IF(A22<>"",COUNTIF(U30:U37,A22)+D22,0),D22) -> 0 | F22: =[1]DB!AT22 -> 0 | G22: =IF(B6=13,IF(A22<>"",F22-COUNTIF(U30:U37,A22)-COUNTIF(Y30:Y37,A22),0),F22) -> 0 | H22: =[1]DB!BA22 -> 0 | I22: =[1]DB!AW22 -> 0 | J22: =IF(Rækker!V5="Disket",1,IF(N22>5,1,IF(I22=1,1,0))) -> 0 | K22: =[1]DB!AX22 -> 0 | L22: =IF(Rækker!V5="Udmeldt",1,IF(K22=1,1,0)) -> 0 | M22: =[1]DB!AY22 -> 0 | N22: =IF(Rækker!V5="MR",M22+1,M22) -> 0 | O22: =[1]DB!AZ22 -> 0 | P22: =IF(Rækker!V5="Res",O22+1,O22) -> 0 | Q22: =IF(J22=1,"Disket",IF(L22=1,"Udmeldt",IF(AND(C22>0,F22=H22),"Walkover",IF(AND(C22>0,D22>0,F22=0),"Walkover",IF(M22<>N22,CONCATENATE("MR ",N22),IF(O22<>P22,IF(P22>10,"Res 10+",CONCATENATE("Res ",P22)),"")))))) | R22: =IF('Rækker - Udskrift'!AJ7=1,1,IF('Rækker - Udskrift'!AK7="X","X",IF('Rækker - Udskrift'!AL7=2,2,""))) | S22: =IF('Rækker - Udskrift'!AJ8=1,1,IF('Rækker - Udskrift'!AK8="X","X",IF('Rækker - Udskrift'!AL8=2,2,""))) | T22: =IF('Rækker - Udskrift'!AJ9=1,1,IF('Rækker - Udskrift'!AK9="X","X",IF('Rækker - Udskrift'!AL9=2,2,""))) | U22: =IF('Rækker - Udskrift'!AJ10=1,1,IF('Rækker - Udskrift'!AK10="X","X",IF('Rækker - Udskrift'!AL10=2,2,""))) | V22: =IF('Rækker - Udskrift'!AJ11=1,1,IF('Rækker - Udskrift'!AK11="X","X",IF('Rækker - Udskrift'!AL11=2,2,""))) | W22: =IF('Rækker - Udskrift'!AJ12=1,1,IF('Rækker - Udskrift'!AK12="X","X",IF('Rækker - Udskrift'!AL12=2,2,""))) | X22: =IF('Rækker - Udskrift'!AJ13=1,1,IF('Rækker - Udskrift'!AK13="X","X",IF('Rækker - Udskrift'!AL13=2,2,""))) | Y22: =IF('Rækker - Udskrift'!AJ14=1,1,IF('Rækker - Udskrift'!AK14="X","X",IF('Rækker - Udskrift'!AL14=2,2,""))) | Z22: =IF('Rækker - Udskrift'!AJ15=1,1,IF('Rækker - Udskrift'!AK15="X","X",IF('Rækker - Udskrift'!AL15=2,2,""))) | AA22: =IF('Rækker - Udskrift'!AJ16=1,1,IF('Rækker - Udskrift'!AK16="X","X",IF('Rækker - Udskrift'!AL16=2,2,""))) | AB22: =IF('Rækker - Udskrift'!AJ17=1,1,IF('Rækker - Udskrift'!AK17="X","X",IF('Rækker - Udskrift'!AL17=2,2,""))) | AC22: =IF('Rækker - Udskrift'!AJ18=1,1,IF('Rækker - Udskrift'!AK18="X","X",IF('Rækker - Udskrift'!AL18=2,2,""))) | AD22: =IF('Rækker - Udskrift'!AJ19=1,1,IF('Rækker - Udskrift'!AK19="X","X",IF('Rækker - Udskrift'!AL19=2,2,""))) | AE22: =IF(Q22<>"",IF(LEFT(Q22,3)="Res",F1,0),IF(R22=R10,1,0)+IF(S22=S10,1,0)+IF(T22=T10,1,0)+IF(U22=U10,1,0)+IF(V22=V10,1,0)+IF(W22=W10,1,0)+IF(X22=X10,1,0)+IF(Y22=Y10,1,0)+IF(Z22=Z10,1,0)+IF(AA22=AA10,1,0)+IF(AB22=AB10,1,0)+IF(AC22=AC10,1,0)+IF(AD22=AD10,1,0)) -> 0 | AF22: =RANK(AE22,AE12:AE27,1) -> 1 | AG22: =IF(Q22<>"",IF(LEFT(Q22,3)="Res",AE22,0),AE22) -> 0 | AH22: =IF(R22=R10,4096,0)+IF(S22=S10,2048,0)+IF(T22=T10,1024,0)+IF(U22=U10,512,0)+IF(V22=V10,256,0)+IF(W22=W10,128,0)+IF(X22=X10,64,0)+IF(Y22=Y10,32,0)+IF(Z22=Z10,16,0)+IF(AA22=AA10,8,0)+IF(AB22=AB10,4,0)+IF(AC22=AC10,2,0)+IF(AD22=AD10,1,0) -> 0 | AI22: =RANK(AH22,AH12:AH27,1) -> 1 | AJ22: =(AF22*65)+AI22 -> 66 | AK22: =RANK(AJ22,AJ12:AJ27,1) -> 1 | AL22: =IF(AND(A22<>"",Q22=""),AE22,0) -> 0 | AM22: =IF(AND(A22<>"",Q22=""),1,0) -> 0 | AN22: =E22+G22 -> 0 | AO22: =AN22-AP22 -> 0 | AP22: =G22 -> 0 | AQ22: =IF(C22>0,IF(AN22>0,COUNTIF(AN12:AN22,">0"),0),0) -> 0 | AR22: =IF(AQ22>0,AQ22,MAX(AQ12:AQ27)+COUNTIF(AQ12:AQ22,"=0")) -> 11 | AS22: =IF(K42>MAX(AQ12:AQ27),"",DGET(A11:AR27,"Signatur",K41:K42)) | AT22: =IF(K42>MAX(AQ12:AQ27),0,DGET(A11:AR27,"Deltager E",K41:K42)) -> 0 | AU22: =IF(K42>MAX(AQ12:AQ27),0,DGET(A11:AR27,"2. runde E",K41:K42)) -> 0 | AV22: =IF(K42>MAX(AQ12:AQ27),0,DGET(A11:AR27,"Kval E",K41:K42)) -> 0 | AW22: =IF(K42>MAX(AQ12:AQ27),0,DGET(A11:AR27,"Dis E",K41:K42)) -> 0 | AX22: =IF(K42>MAX(AQ12:AQ27),0,DGET(A11:AR27,"Udm E",K41:K42)) -> 0 | AY22: =IF(K42>MAX(AQ12:AQ27),0,DGET(A11:AR27,"MR E",K41:K42)) -> 0 | AZ22: =IF(K42>MAX(AQ12:AQ27),0,DGET(A11:AR27,"Res E",K41:K42)) -> 0
A23: =[1]DB!AS23 | B23: 12 | C23: =[1]DB!AT23 -> 0 | D23: 0 | E23: =IF(B6=13,IF(A23<>"",COUNTIF(U30:U37,A23)+D23,0),D23) -> 0 | F23: =[1]DB!AT23 -> 0 | G23: =IF(B6=13,IF(A23<>"",F23-COUNTIF(U30:U37,A23)-COUNTIF(Y30:Y37,A23),0),F23) -> 0 | H23: =[1]DB!BA23 -> 0 | I23: =[1]DB!AW23 -> 0 | J23: =IF(Rækker!X5="Disket",1,IF(N23>5,1,IF(I23=1,1,0))) -> 0 | K23: =[1]DB!AX23 -> 0 | L23: =IF(Rækker!X5="Udmeldt",1,IF(K23=1,1,0)) -> 0 | M23: =[1]DB!AY23 -> 0 | N23: =IF(Rækker!X5="MR",M23+1,M23) -> 0 | O23: =[1]DB!AZ23 -> 0 | P23: =IF(Rækker!X5="Res",O23+1,O23) -> 0 | Q23: =IF(J23=1,"Disket",IF(L23=1,"Udmeldt",IF(AND(C23>0,F23=H23),"Walkover",IF(AND(C23>0,D23>0,F23=0),"Walkover",IF(M23<>N23,CONCATENATE("MR ",N23),IF(O23<>P23,IF(P23>10,"Res 10+",CONCATENATE("Res ",P23)),"")))))) | R23: =IF('Rækker - Udskrift'!AM7=1,1,IF('Rækker - Udskrift'!AN7="X","X",IF('Rækker - Udskrift'!AO7=2,2,""))) | S23: =IF('Rækker - Udskrift'!AM8=1,1,IF('Rækker - Udskrift'!AN8="X","X",IF('Rækker - Udskrift'!AO8=2,2,""))) | T23: =IF('Rækker - Udskrift'!AM9=1,1,IF('Rækker - Udskrift'!AN9="X","X",IF('Rækker - Udskrift'!AO9=2,2,""))) | U23: =IF('Rækker - Udskrift'!AM10=1,1,IF('Rækker - Udskrift'!AN10="X","X",IF('Rækker - Udskrift'!AO10=2,2,""))) | V23: =IF('Rækker - Udskrift'!AM11=1,1,IF('Rækker - Udskrift'!AN11="X","X",IF('Rækker - Udskrift'!AO11=2,2,""))) | W23: =IF('Rækker - Udskrift'!AM12=1,1,IF('Rækker - Udskrift'!AN12="X","X",IF('Rækker - Udskrift'!AO12=2,2,""))) | X23: =IF('Rækker - Udskrift'!AM13=1,1,IF('Rækker - Udskrift'!AN13="X","X",IF('Rækker - Udskrift'!AO13=2,2,""))) | Y23: =IF('Rækker - Udskrift'!AM14=1,1,IF('Rækker - Udskrift'!AN14="X","X",IF('Rækker - Udskrift'!AO14=2,2,""))) | Z23: =IF('Rækker - Udskrift'!AM15=1,1,IF('Rækker - Udskrift'!AN15="X","X",IF('Rækker - Udskrift'!AO15=2,2,""))) | AA23: =IF('Rækker - Udskrift'!AM16=1,1,IF('Rækker - Udskrift'!AN16="X","X",IF('Rækker - Udskrift'!AO16=2,2,""))) | AB23: =IF('Rækker - Udskrift'!AM17=1,1,IF('Rækker - Udskrift'!AN17="X","X",IF('Rækker - Udskrift'!AO17=2,2,""))) | AC23: =IF('Rækker - Udskrift'!AM18=1,1,IF('Rækker - Udskrift'!AN18="X","X",IF('Rækker - Udskrift'!AO18=2,2,""))) | AD23: =IF('Rækker - Udskrift'!AM19=1,1,IF('Rækker - Udskrift'!AN19="X","X",IF('Rækker - Udskrift'!AO19=2,2,""))) | AE23: =IF(Q23<>"",IF(LEFT(Q23,3)="Res",F1,0),IF(R23=R10,1,0)+IF(S23=S10,1,0)+IF(T23=T10,1,0)+IF(U23=U10,1,0)+IF(V23=V10,1,0)+IF(W23=W10,1,0)+IF(X23=X10,1,0)+IF(Y23=Y10,1,0)+IF(Z23=Z10,1,0)+IF(AA23=AA10,1,0)+IF(AB23=AB10,1,0)+IF(AC23=AC10,1,0)+IF(AD23=AD10,1,0)) -> 0 | AF23: =RANK(AE23,AE12:AE27,1) -> 1 | AG23: =IF(Q23<>"",IF(LEFT(Q23,3)="Res",AE23,0),AE23) -> 0 | AH23: =IF(R23=R10,4096,0)+IF(S23=S10,2048,0)+IF(T23=T10,1024,0)+IF(U23=U10,512,0)+IF(V23=V10,256,0)+IF(W23=W10,128,0)+IF(X23=X10,64,0)+IF(Y23=Y10,32,0)+IF(Z23=Z10,16,0)+IF(AA23=AA10,8,0)+IF(AB23=AB10,4,0)+IF(AC23=AC10,2,0)+IF(AD23=AD10,1,0) -> 0 | AI23: =RANK(AH23,AH12:AH27,1) -> 1 | AJ23: =(AF23*65)+AI23 -> 66 | AK23: =RANK(AJ23,AJ12:AJ27,1) -> 1 | AL23: =IF(AND(A23<>"",Q23=""),AE23,0) -> 0 | AM23: =IF(AND(A23<>"",Q23=""),1,0) -> 0 | AN23: =E23+G23 -> 0 | AO23: =AN23-AP23 -> 0 | AP23: =G23 -> 0 | AQ23: =IF(C23>0,IF(AN23>0,COUNTIF(AN12:AN23,">0"),0),0) -> 0 | AR23: =IF(AQ23>0,AQ23,MAX(AQ12:AQ27)+COUNTIF(AQ12:AQ23,"=0")) -> 12 | AS23: =IF(L42>MAX(AQ12:AQ27),"",DGET(A11:AR27,"Signatur",L41:L42)) | AT23: =IF(L42>MAX(AQ12:AQ27),0,DGET(A11:AR27,"Deltager E",L41:L42)) -> 0 | AU23: =IF(L42>MAX(AQ12:AQ27),0,DGET(A11:AR27,"2. runde E",L41:L42)) -> 0 | AV23: =IF(L42>MAX(AQ12:AQ27),0,DGET(A11:AR27,"Kval E",L41:L42)) -> 0 | AW23: =IF(L42>MAX(AQ12:AQ27),0,DGET(A11:AR27,"Dis E",L41:L42)) -> 0 | AX23: =IF(L42>MAX(AQ12:AQ27),0,DGET(A11:AR27,"Udm E",L41:L42)) -> 0 | AY23: =IF(L42>MAX(AQ12:AQ27),0,DGET(A11:AR27,"MR E",L41:L42)) -> 0 | AZ23: =IF(L42>MAX(AQ12:AQ27),0,DGET(A11:AR27,"Res E",L41:L42)) -> 0
A24: =[1]DB!AS24 | B24: 13 | C24: =[1]DB!AT24 -> 0 | D24: 0 | E24: =IF(B6=13,IF(A24<>"",COUNTIF(U30:U37,A24)+D24,0),D24) -> 0 | F24: =[1]DB!AT24 -> 0 | G24: =IF(B6=13,IF(A24<>"",F24-COUNTIF(U30:U37,A24)-COUNTIF(Y30:Y37,A24),0),F24) -> 0 | H24: =[1]DB!BA24 -> 0 | I24: =[1]DB!AW24 -> 0 | J24: =IF(Rækker!Z5="Disket",1,IF(N24>5,1,IF(I24=1,1,0))) -> 0 | K24: =[1]DB!AX24 -> 0 | L24: =IF(Rækker!Z5="Udmeldt",1,IF(K24=1,1,0)) -> 0 | M24: =[1]DB!AY24 -> 0 | N24: =IF(Rækker!Z5="MR",M24+1,M24) -> 0 | O24: =[1]DB!AZ24 -> 0 | P24: =IF(Rækker!Z5="Res",O24+1,O24) -> 0 | Q24: =IF(J24=1,"Disket",IF(L24=1,"Udmeldt",IF(AND(C24>0,F24=H24),"Walkover",IF(AND(C24>0,D24>0,F24=0),"Walkover",IF(M24<>N24,CONCATENATE("MR ",N24),IF(O24<>P24,IF(P24>10,"Res 10+",CONCATENATE("Res ",P24)),"")))))) | R24: =IF('Rækker - Udskrift'!AP7=1,1,IF('Rækker - Udskrift'!AQ7="X","X",IF('Rækker - Udskrift'!AR7=2,2,""))) | S24: =IF('Rækker - Udskrift'!AP8=1,1,IF('Rækker - Udskrift'!AQ8="X","X",IF('Rækker - Udskrift'!AR8=2,2,""))) | T24: =IF('Rækker - Udskrift'!AP9=1,1,IF('Rækker - Udskrift'!AQ9="X","X",IF('Rækker - Udskrift'!AR9=2,2,""))) | U24: =IF('Rækker - Udskrift'!AP10=1,1,IF('Rækker - Udskrift'!AQ10="X","X",IF('Rækker - Udskrift'!AR10=2,2,""))) | V24: =IF('Rækker - Udskrift'!AP11=1,1,IF('Rækker - Udskrift'!AQ11="X","X",IF('Rækker - Udskrift'!AR11=2,2,""))) | W24: =IF('Rækker - Udskrift'!AP12=1,1,IF('Rækker - Udskrift'!AQ12="X","X",IF('Rækker - Udskrift'!AR12=2,2,""))) | X24: =IF('Rækker - Udskrift'!AP13=1,1,IF('Rækker - Udskrift'!AQ13="X","X",IF('Rækker - Udskrift'!AR13=2,2,""))) | Y24: =IF('Rækker - Udskrift'!AP14=1,1,IF('Rækker - Udskrift'!AQ14="X","X",IF('Rækker - Udskrift'!AR14=2,2,""))) | Z24: =IF('Rækker - Udskrift'!AP15=1,1,IF('Rækker - Udskrift'!AQ15="X","X",IF('Rækker - Udskrift'!AR15=2,2,""))) | AA24: =IF('Rækker - Udskrift'!AP16=1,1,IF('Rækker - Udskrift'!AQ16="X","X",IF('Rækker - Udskrift'!AR16=2,2,""))) | AB24: =IF('Rækker - Udskrift'!AP17=1,1,IF('Rækker - Udskrift'!AQ17="X","X",IF('Rækker - Udskrift'!AR17=2,2,""))) | AC24: =IF('Rækker - Udskrift'!AP18=1,1,IF('Rækker - Udskrift'!AQ18="X","X",IF('Rækker - Udskrift'!AR18=2,2,""))) | AD24: =IF('Rækker - Udskrift'!AP19=1,1,IF('Rækker - Udskrift'!AQ19="X","X",IF('Rækker - Udskrift'!AR19=2,2,""))) | AE24: =IF(Q24<>"",IF(LEFT(Q24,3)="Res",F1,0),IF(R24=R10,1,0)+IF(S24=S10,1,0)+IF(T24=T10,1,0)+IF(U24=U10,1,0)+IF(V24=V10,1,0)+IF(W24=W10,1,0)+IF(X24=X10,1,0)+IF(Y24=Y10,1,0)+IF(Z24=Z10,1,0)+IF(AA24=AA10,1,0)+IF(AB24=AB10,1,0)+IF(AC24=AC10,1,0)+IF(AD24=AD10,1,0)) -> 0 | AF24: =RANK(AE24,AE12:AE27,1) -> 1 | AG24: =IF(Q24<>"",IF(LEFT(Q24,3)="Res",AE24,0),AE24) -> 0 | AH24: =IF(R24=R10,4096,0)+IF(S24=S10,2048,0)+IF(T24=T10,1024,0)+IF(U24=U10,512,0)+IF(V24=V10,256,0)+IF(W24=W10,128,0)+IF(X24=X10,64,0)+IF(Y24=Y10,32,0)+IF(Z24=Z10,16,0)+IF(AA24=AA10,8,0)+IF(AB24=AB10,4,0)+IF(AC24=AC10,2,0)+IF(AD24=AD10,1,0) -> 0 | AI24: =RANK(AH24,AH12:AH27,1) -> 1 | AJ24: =(AF24*65)+AI24 -> 66 | AK24: =RANK(AJ24,AJ12:AJ27,1) -> 1 | AL24: =IF(AND(A24<>"",Q24=""),AE24,0) -> 0 | AM24: =IF(AND(A24<>"",Q24=""),1,0) -> 0 | AN24: =E24+G24 -> 0 | AO24: =AN24-AP24 -> 0 | AP24: =G24 -> 0 | AQ24: =IF(C24>0,IF(AN24>0,COUNTIF(AN12:AN24,">0"),0),0) -> 0 | AR24: =IF(AQ24>0,AQ24,MAX(AQ12:AQ27)+COUNTIF(AQ12:AQ24,"=0")) -> 13 | AS24: =IF(M42>MAX(AQ12:AQ27),"",DGET(A11:AR27,"Signatur",M41:M42)) | AT24: =IF(M42>MAX(AQ12:AQ27),0,DGET(A11:AR27,"Deltager E",M41:M42)) -> 0 | AU24: =IF(M42>MAX(AQ12:AQ27),0,DGET(A11:AR27,"2. runde E",M41:M42)) -> 0 | AV24: =IF(M42>MAX(AQ12:AQ27),0,DGET(A11:AR27,"Kval E",M41:M42)) -> 0 | AW24: =IF(M42>MAX(AQ12:AQ27),0,DGET(A11:AR27,"Dis E",M41:M42)) -> 0 | AX24: =IF(M42>MAX(AQ12:AQ27),0,DGET(A11:AR27,"Udm E",M41:M42)) -> 0 | AY24: =IF(M42>MAX(AQ12:AQ27),0,DGET(A11:AR27,"MR E",M41:M42)) -> 0 | AZ24: =IF(M42>MAX(AQ12:AQ27),0,DGET(A11:AR27,"Res E",M41:M42)) -> 0
A25: =[1]DB!AS25 | B25: 14 | C25: =[1]DB!AT25 -> 0 | D25: 0 | E25: =IF(B6=13,IF(A25<>"",COUNTIF(U30:U37,A25)+D25,0),D25) -> 0 | F25: =[1]DB!AT25 -> 0 | G25: =IF(B6=13,IF(A25<>"",F25-COUNTIF(U30:U37,A25)-COUNTIF(Y30:Y37,A25),0),F25) -> 0 | H25: =[1]DB!BA25 -> 0 | I25: =[1]DB!AW25 -> 0 | J25: =IF(Rækker!AB5="Disket",1,IF(N25>5,1,IF(I25=1,1,0))) -> 0 | K25: =[1]DB!AX25 -> 0 | L25: =IF(Rækker!AB5="Udmeldt",1,IF(K25=1,1,0)) -> 0 | M25: =[1]DB!AY25 -> 0 | N25: =IF(Rækker!AB5="MR",M25+1,M25) -> 0 | O25: =[1]DB!AZ25 -> 0 | P25: =IF(Rækker!AB5="Res",O25+1,O25) -> 0 | Q25: =IF(J25=1,"Disket",IF(L25=1,"Udmeldt",IF(AND(C25>0,F25=H25),"Walkover",IF(AND(C25>0,D25>0,F25=0),"Walkover",IF(M25<>N25,CONCATENATE("MR ",N25),IF(O25<>P25,IF(P25>10,"Res 10+",CONCATENATE("Res ",P25)),"")))))) | R25: =IF('Rækker - Udskrift'!AS7=1,1,IF('Rækker - Udskrift'!AT7="X","X",IF('Rækker - Udskrift'!AU7=2,2,""))) | S25: =IF('Rækker - Udskrift'!AS8=1,1,IF('Rækker - Udskrift'!AT8="X","X",IF('Rækker - Udskrift'!AU8=2,2,""))) | T25: =IF('Rækker - Udskrift'!AS9=1,1,IF('Rækker - Udskrift'!AT9="X","X",IF('Rækker - Udskrift'!AU9=2,2,""))) | U25: =IF('Rækker - Udskrift'!AS10=1,1,IF('Rækker - Udskrift'!AT10="X","X",IF('Rækker - Udskrift'!AU10=2,2,""))) | V25: =IF('Rækker - Udskrift'!AS11=1,1,IF('Rækker - Udskrift'!AT11="X","X",IF('Rækker - Udskrift'!AU11=2,2,""))) | W25: =IF('Rækker - Udskrift'!AS12=1,1,IF('Rækker - Udskrift'!AT12="X","X",IF('Rækker - Udskrift'!AU12=2,2,""))) | X25: =IF('Rækker - Udskrift'!AS13=1,1,IF('Rækker - Udskrift'!AT13="X","X",IF('Rækker - Udskrift'!AU13=2,2,""))) | Y25: =IF('Rækker - Udskrift'!AS14=1,1,IF('Rækker - Udskrift'!AT14="X","X",IF('Rækker - Udskrift'!AU14=2,2,""))) | Z25: =IF('Rækker - Udskrift'!AS15=1,1,IF('Rækker - Udskrift'!AT15="X","X",IF('Rækker - Udskrift'!AU15=2,2,""))) | AA25: =IF('Rækker - Udskrift'!AS16=1,1,IF('Rækker - Udskrift'!AT16="X","X",IF('Rækker - Udskrift'!AU16=2,2,""))) | AB25: =IF('Rækker - Udskrift'!AS17=1,1,IF('Rækker - Udskrift'!AT17="X","X",IF('Rækker - Udskrift'!AU17=2,2,""))) | AC25: =IF('Rækker - Udskrift'!AS18=1,1,IF('Rækker - Udskrift'!AT18="X","X",IF('Rækker - Udskrift'!AU18=2,2,""))) | AD25: =IF('Rækker - Udskrift'!AS19=1,1,IF('Rækker - Udskrift'!AT19="X","X",IF('Rækker - Udskrift'!AU19=2,2,""))) | AE25: =IF(Q25<>"",IF(LEFT(Q25,3)="Res",F1,0),IF(R25=R10,1,0)+IF(S25=S10,1,0)+IF(T25=T10,1,0)+IF(U25=U10,1,0)+IF(V25=V10,1,0)+IF(W25=W10,1,0)+IF(X25=X10,1,0)+IF(Y25=Y10,1,0)+IF(Z25=Z10,1,0)+IF(AA25=AA10,1,0)+IF(AB25=AB10,1,0)+IF(AC25=AC10,1,0)+IF(AD25=AD10,1,0)) -> 0 | AF25: =RANK(AE25,AE12:AE27,1) -> 1 | AG25: =IF(Q25<>"",IF(LEFT(Q25,3)="Res",AE25,0),AE25) -> 0 | AH25: =IF(R25=R10,4096,0)+IF(S25=S10,2048,0)+IF(T25=T10,1024,0)+IF(U25=U10,512,0)+IF(V25=V10,256,0)+IF(W25=W10,128,0)+IF(X25=X10,64,0)+IF(Y25=Y10,32,0)+IF(Z25=Z10,16,0)+IF(AA25=AA10,8,0)+IF(AB25=AB10,4,0)+IF(AC25=AC10,2,0)+IF(AD25=AD10,1,0) -> 0 | AI25: =RANK(AH25,AH12:AH27,1) -> 1 | AJ25: =(AF25*65)+AI25 -> 66 | AK25: =RANK(AJ25,AJ12:AJ27,1) -> 1 | AL25: =IF(AND(A25<>"",Q25=""),AE25,0) -> 0 | AM25: =IF(AND(A25<>"",Q25=""),1,0) -> 0 | AN25: =E25+G25 -> 0 | AO25: =AN25-AP25 -> 0 | AP25: =G25 -> 0 | AQ25: =IF(C25>0,IF(AN25>0,COUNTIF(AN12:AN25,">0"),0),0) -> 0 | AR25: =IF(AQ25>0,AQ25,MAX(AQ12:AQ27)+COUNTIF(AQ12:AQ25,"=0")) -> 14 | AS25: =IF(N42>MAX(AQ12:AQ27),"",DGET(A11:AR27,"Signatur",N41:N42)) | AT25: =IF(N42>MAX(AQ12:AQ27),0,DGET(A11:AR27,"Deltager E",N41:N42)) -> 0 | AU25: =IF(N42>MAX(AQ12:AQ27),0,DGET(A11:AR27,"2. runde E",N41:N42)) -> 0 | AV25: =IF(N42>MAX(AQ12:AQ27),0,DGET(A11:AR27,"Kval E",N41:N42)) -> 0 | AW25: =IF(N42>MAX(AQ12:AQ27),0,DGET(A11:AR27,"Dis E",N41:N42)) -> 0 | AX25: =IF(N42>MAX(AQ12:AQ27),0,DGET(A11:AR27,"Udm E",N41:N42)) -> 0 | AY25: =IF(N42>MAX(AQ12:AQ27),0,DGET(A11:AR27,"MR E",N41:N42)) -> 0 | AZ25: =IF(N42>MAX(AQ12:AQ27),0,DGET(A11:AR27,"Res E",N41:N42)) -> 0
A26: =[1]DB!AS26 | B26: 15 | C26: =[1]DB!AT26 -> 0 | D26: 0 | E26: =IF(B6=13,IF(A26<>"",COUNTIF(U30:U37,A26)+D26,0),D26) -> 0 | F26: =[1]DB!AT26 -> 0 | G26: =IF(B6=13,IF(A26<>"",F26-COUNTIF(U30:U37,A26)-COUNTIF(Y30:Y37,A26),0),F26) -> 0 | H26: =[1]DB!BA26 -> 0 | I26: =[1]DB!AW26 -> 0 | J26: =IF(Rækker!AD5="Disket",1,IF(N26>5,1,IF(I26=1,1,0))) -> 0 | K26: =[1]DB!AX26 -> 0 | L26: =IF(Rækker!AD5="Udmeldt",1,IF(K26=1,1,0)) -> 0 | M26: =[1]DB!AY26 -> 0 | N26: =IF(Rækker!AD5="MR",M26+1,M26) -> 0 | O26: =[1]DB!AZ26 -> 0 | P26: =IF(Rækker!AD5="Res",O26+1,O26) -> 0 | Q26: =IF(J26=1,"Disket",IF(L26=1,"Udmeldt",IF(AND(C26>0,F26=H26),"Walkover",IF(AND(C26>0,D26>0,F26=0),"Walkover",IF(M26<>N26,CONCATENATE("MR ",N26),IF(O26<>P26,IF(P26>10,"Res 10+",CONCATENATE("Res ",P26)),"")))))) | R26: =IF('Rækker - Udskrift'!AV7=1,1,IF('Rækker - Udskrift'!AW7="X","X",IF('Rækker - Udskrift'!AX7=2,2,""))) | S26: =IF('Rækker - Udskrift'!AV8=1,1,IF('Rækker - Udskrift'!AW8="X","X",IF('Rækker - Udskrift'!AX8=2,2,""))) | T26: =IF('Rækker - Udskrift'!AV9=1,1,IF('Rækker - Udskrift'!AW9="X","X",IF('Rækker - Udskrift'!AX9=2,2,""))) | U26: =IF('Rækker - Udskrift'!AV10=1,1,IF('Rækker - Udskrift'!AW10="X","X",IF('Rækker - Udskrift'!AX10=2,2,""))) | V26: =IF('Rækker - Udskrift'!AV11=1,1,IF('Rækker - Udskrift'!AW11="X","X",IF('Rækker - Udskrift'!AX11=2,2,""))) | W26: =IF('Rækker - Udskrift'!AV12=1,1,IF('Rækker - Udskrift'!AW12="X","X",IF('Rækker - Udskrift'!AX12=2,2,""))) | X26: =IF('Rækker - Udskrift'!AV13=1,1,IF('Rækker - Udskrift'!AW13="X","X",IF('Rækker - Udskrift'!AX13=2,2,""))) | Y26: =IF('Rækker - Udskrift'!AV14=1,1,IF('Rækker - Udskrift'!AW14="X","X",IF('Rækker - Udskrift'!AX14=2,2,""))) | Z26: =IF('Rækker - Udskrift'!AV15=1,1,IF('Rækker - Udskrift'!AW15="X","X",IF('Rækker - Udskrift'!AX15=2,2,""))) | AA26: =IF('Rækker - Udskrift'!AV16=1,1,IF('Rækker - Udskrift'!AW16="X","X",IF('Rækker - Udskrift'!AX16=2,2,""))) | AB26: =IF('Rækker - Udskrift'!AV17=1,1,IF('Rækker - Udskrift'!AW17="X","X",IF('Rækker - Udskrift'!AX17=2,2,""))) | AC26: =IF('Rækker - Udskrift'!AV18=1,1,IF('Rækker - Udskrift'!AW18="X","X",IF('Rækker - Udskrift'!AX18=2,2,""))) | AD26: =IF('Rækker - Udskrift'!AV19=1,1,IF('Rækker - Udskrift'!AW19="X","X",IF('Rækker - Udskrift'!AX19=2,2,""))) | AE26: =IF(Q26<>"",IF(LEFT(Q26,3)="Res",F1,0),IF(R26=R10,1,0)+IF(S26=S10,1,0)+IF(T26=T10,1,0)+IF(U26=U10,1,0)+IF(V26=V10,1,0)+IF(W26=W10,1,0)+IF(X26=X10,1,0)+IF(Y26=Y10,1,0)+IF(Z26=Z10,1,0)+IF(AA26=AA10,1,0)+IF(AB26=AB10,1,0)+IF(AC26=AC10,1,0)+IF(AD26=AD10,1,0)) -> 0 | AF26: =RANK(AE26,AE12:AE27,1) -> 1 | AG26: =IF(Q26<>"",IF(LEFT(Q26,3)="Res",AE26,0),AE26) -> 0 | AH26: =IF(R26=R10,4096,0)+IF(S26=S10,2048,0)+IF(T26=T10,1024,0)+IF(U26=U10,512,0)+IF(V26=V10,256,0)+IF(W26=W10,128,0)+IF(X26=X10,64,0)+IF(Y26=Y10,32,0)+IF(Z26=Z10,16,0)+IF(AA26=AA10,8,0)+IF(AB26=AB10,4,0)+IF(AC26=AC10,2,0)+IF(AD26=AD10,1,0) -> 0 | AI26: =RANK(AH26,AH12:AH27,1) -> 1 | AJ26: =(AF26*65)+AI26 -> 66 | AK26: =RANK(AJ26,AJ12:AJ27,1) -> 1 | AL26: =IF(AND(A26<>"",Q26=""),AE26,0) -> 0 | AM26: =IF(AND(A26<>"",Q26=""),1,0) -> 0 | AN26: =E26+G26 -> 0 | AO26: =AN26-AP26 -> 0 | AP26: =G26 -> 0 | AQ26: =IF(C26>0,IF(AN26>0,COUNTIF(AN12:AN26,">0"),0),0) -> 0 | AR26: =IF(AQ26>0,AQ26,MAX(AQ12:AQ27)+COUNTIF(AQ12:AQ26,"=0")) -> 15 | AS26: =IF(O42>MAX(AQ12:AQ27),"",DGET(A11:AR27,"Signatur",O41:O42)) | AT26: =IF(O42>MAX(AQ12:AQ27),0,DGET(A11:AR27,"Deltager E",O41:O42)) -> 0 | AU26: =IF(O42>MAX(AQ12:AQ27),0,DGET(A11:AR27,"2. runde E",O41:O42)) -> 0 | AV26: =IF(O42>MAX(AQ12:AQ27),0,DGET(A11:AR27,"Kval E",O41:O42)) -> 0 | AW26: =IF(O42>MAX(AQ12:AQ27),0,DGET(A11:AR27,"Dis E",O41:O42)) -> 0 | AX26: =IF(O42>MAX(AQ12:AQ27),0,DGET(A11:AR27,"Udm E",O41:O42)) -> 0 | AY26: =IF(O42>MAX(AQ12:AQ27),0,DGET(A11:AR27,"MR E",O41:O42)) -> 0 | AZ26: =IF(O42>MAX(AQ12:AQ27),0,DGET(A11:AR27,"Res E",O41:O42)) -> 0
A27: =[1]DB!AS27 | B27: 16 | C27: =[1]DB!AT27 -> 0 | D27: 0 | E27: =IF(B6=13,IF(A27<>"",COUNTIF(U30:U37,A27)+D27,0),D27) -> 0 | F27: =[1]DB!AT27 -> 0 | G27: =IF(B6=13,IF(A27<>"",F27-COUNTIF(U30:U37,A27)-COUNTIF(Y30:Y37,A27),0),F27) -> 0 | H27: =[1]DB!BA27 -> 0 | I27: =[1]DB!AW27 -> 0 | J27: =IF(Rækker!AF5="Disket",1,IF(N27>5,1,IF(I27=1,1,0))) -> 0 | K27: =[1]DB!AX27 -> 0 | L27: =IF(Rækker!AF5="Udmeldt",1,IF(K27=1,1,0)) -> 0 | M27: =[1]DB!AY27 -> 0 | N27: =IF(Rækker!AF5="MR",M27+1,M27) -> 0 | O27: =[1]DB!AZ27 -> 0 | P27: =IF(Rækker!AF5="Res",O27+1,O27) -> 0 | Q27: =IF(J27=1,"Disket",IF(L27=1,"Udmeldt",IF(AND(C27>0,F27=H27),"Walkover",IF(AND(C27>0,D27>0,F27=0),"Walkover",IF(M27<>N27,CONCATENATE("MR ",N27),IF(O27<>P27,IF(P27>10,"Res 10+",CONCATENATE("Res ",P27)),"")))))) | R27: =IF('Rækker - Udskrift'!AY7=1,1,IF('Rækker - Udskrift'!AZ7="X","X",IF('Rækker - Udskrift'!BA7=2,2,""))) | S27: =IF('Rækker - Udskrift'!AY8=1,1,IF('Rækker - Udskrift'!AZ8="X","X",IF('Rækker - Udskrift'!BA8=2,2,""))) | T27: =IF('Rækker - Udskrift'!AY9=1,1,IF('Rækker - Udskrift'!AZ9="X","X",IF('Rækker - Udskrift'!BA9=2,2,""))) | U27: =IF('Rækker - Udskrift'!AY10=1,1,IF('Rækker - Udskrift'!AZ10="X","X",IF('Rækker - Udskrift'!BA10=2,2,""))) | V27: =IF('Rækker - Udskrift'!AY11=1,1,IF('Rækker - Udskrift'!AZ11="X","X",IF('Rækker - Udskrift'!BA11=2,2,""))) | W27: =IF('Rækker - Udskrift'!AY12=1,1,IF('Rækker - Udskrift'!AZ12="X","X",IF('Rækker - Udskrift'!BA12=2,2,""))) | X27: =IF('Rækker - Udskrift'!AY13=1,1,IF('Rækker - Udskrift'!AZ13="X","X",IF('Rækker - Udskrift'!BA13=2,2,""))) | Y27: =IF('Rækker - Udskrift'!AY14=1,1,IF('Rækker - Udskrift'!AZ14="X","X",IF('Rækker - Udskrift'!BA14=2,2,""))) | Z27: =IF('Rækker - Udskrift'!AY15=1,1,IF('Rækker - Udskrift'!AZ15="X","X",IF('Rækker - Udskrift'!BA15=2,2,""))) | AA27: =IF('Rækker - Udskrift'!AY16=1,1,IF('Rækker - Udskrift'!AZ16="X","X",IF('Rækker - Udskrift'!BA16=2,2,""))) | AB27: =IF('Rækker - Udskrift'!AY17=1,1,IF('Rækker - Udskrift'!AZ17="X","X",IF('Rækker - Udskrift'!BA17=2,2,""))) | AC27: =IF('Rækker - Udskrift'!AY18=1,1,IF('Rækker - Udskrift'!AZ18="X","X",IF('Rækker - Udskrift'!BA18=2,2,""))) | AD27: =IF('Rækker - Udskrift'!AY19=1,1,IF('Rækker - Udskrift'!AZ19="X","X",IF('Rækker - Udskrift'!BA19=2,2,""))) | AE27: =IF(Q27<>"",IF(LEFT(Q27,3)="Res",F1,0),IF(R27=R10,1,0)+IF(S27=S10,1,0)+IF(T27=T10,1,0)+IF(U27=U10,1,0)+IF(V27=V10,1,0)+IF(W27=W10,1,0)+IF(X27=X10,1,0)+IF(Y27=Y10,1,0)+IF(Z27=Z10,1,0)+IF(AA27=AA10,1,0)+IF(AB27=AB10,1,0)+IF(AC27=AC10,1,0)+IF(AD27=AD10,1,0)) -> 0 | AF27: =RANK(AE27,AE12:AE27,1) -> 1 | AG27: =IF(Q27<>"",IF(LEFT(Q27,3)="Res",AE27,0),AE27) -> 0 | AH27: =IF(R27=R10,4096,0)+IF(S27=S10,2048,0)+IF(T27=T10,1024,0)+IF(U27=U10,512,0)+IF(V27=V10,256,0)+IF(W27=W10,128,0)+IF(X27=X10,64,0)+IF(Y27=Y10,32,0)+IF(Z27=Z10,16,0)+IF(AA27=AA10,8,0)+IF(AB27=AB10,4,0)+IF(AC27=AC10,2,0)+IF(AD27=AD10,1,0) -> 0 | AI27: =RANK(AH27,AH12:AH27,1) -> 1 | AJ27: =(AF27*65)+AI27 -> 66 | AK27: =RANK(AJ27,AJ12:AJ27,1) -> 1 | AL27: =IF(AND(A27<>"",Q27=""),AE27,0) -> 0 | AM27: =IF(AND(A27<>"",Q27=""),1,0) -> 0 | AN27: =E27+G27 -> 0 | AO27: =AN27-AP27 -> 0 | AP27: =G27 -> 0 | AQ27: =IF(C27>0,IF(AN27>0,COUNTIF(AN12:AN27,">0"),0),0) -> 0 | AR27: =IF(AQ27>0,AQ27,MAX(AQ12:AQ27)+COUNTIF(AQ12:AQ27,"=0")) -> 16 | AS27: =IF(P42>MAX(AQ12:AQ27),"",DGET(A11:AR27,"Signatur",P41:P42)) | AT27: =IF(P42>MAX(AQ12:AQ27),0,DGET(A11:AR27,"Deltager E",P41:P42)) -> 0 | AU27: =IF(P42>MAX(AQ12:AQ27),0,DGET(A11:AR27,"2. runde E",P41:P42)) -> 0 | AV27: =IF(P42>MAX(AQ12:AQ27),0,DGET(A11:AR27,"Kval E",P41:P42)) -> 0 | AW27: =IF(P42>MAX(AQ12:AQ27),0,DGET(A11:AR27,"Dis E",P41:P42)) -> 0 | AX27: =IF(P42>MAX(AQ12:AQ27),0,DGET(A11:AR27,"Udm E",P41:P42)) -> 0 | AY27: =IF(P42>MAX(AQ12:AQ27),0,DGET(A11:AR27,"MR E",P41:P42)) -> 0 | AZ27: =IF(P42>MAX(AQ12:AQ27),0,DGET(A11:AR27,"Res E",P41:P42)) -> 0
A29: H S | B29: H G | C29: H ID | D29: U S | E29: U G | F29: U ID | G29: Dis H | H29: Udm H | I29: MR H | J29: Res H | K29: ES H | L29: ES HR | M29: BU H | N29: Dis U | O29: Udm U | P29: MR U | Q29: Res U | R29: ES U | S29: ES UR | T29: BU U | U29: V S | V29: V G | W29: V ID | Y29: Ude
A30: =IF(B2=B4,[1]DB!A64,"") -> Idskov | B30: =IF(B2=B4,[1]DB!B64,"") -> Idskov (1) | C30: =IF(B2=B4,[1]DB!C64,"") -> 85 | D30: =IF(B2=B4,[1]DB!D64,"") -> Chelsea | E30: =IF(B2=B4,[1]DB!E64,"") -> Chelsea (14) | F30: =IF(B2=B4,[1]DB!F64,"") -> 10 | G30: =IF(A30<>"",DGET(A11:AK27,"Dis E",A43:A44),0) -> 0 | H30: =IF(A30<>"",DGET(A11:AK27,"Udm E",A43:A44),0) -> 0 | I30: =IF(A30<>"",DGET(A11:AK27,"MR E",A43:A44),0) -> 0 | J30: =IF(A30<>"",DGET(A11:AK27,"Res E",A43:A44),0) -> 0 | K30: =IF(A30<>"",DGET(A11:AK27,"ES N",A43:A44),0) -> 4 | L30: =IF(B6=13,IF(B4=B2,IF(A30=D30,"",IF(AND(G30=0,H30=0,N30=0,O30=0),K30,"")),""),"") -> 4 | M30: =IF(A30<>"",DGET(A11:AK27,"BU Pl.",A43:A44),0) -> 10 | N30: =IF(A30<>"",DGET(A11:AK27,"Dis E",I43:I44),0) -> 0 | O30: =IF(A30<>"",DGET(A11:AK27,"Udm E",I43:I44),0) -> 0 | P30: =IF(A30<>"",DGET(A11:AK27,"MR E",I43:I44),0) -> 0 | Q30: =IF(A30<>"",DGET(A11:AK27,"Res E",I43:I44),0) -> 1 | R30: =IF(A30<>"",DGET(A11:AK27,"ES N",I43:I44),0) -> 4 | S30: =IF(B6=13,IF(B4=B2,IF(A30=D30,"",IF(AND(G30=0,H30=0,N30=0,O30=0),R30,"")),""),"") -> 4 | T30: =IF(A30<>"",DGET(A11:AK27,"BU Pl.",I43:I44),0) -> 15 | U30: =IF(B6=13,IF(B4=B2,IF(OR(N30=1,O30=1),A30,IF(AND(OR(G30=1,H30=1),AND(N30=0,O30=0)),D30,IF(A30=D30,IF(F30>C30,D30,A30),""))),""),"") | V30: =IF(B6=13,IF(B4=B2,IF(OR(N30=1,O30=1),B30,IF(AND(OR(G30=1,H30=1),AND(N30=0,O30=0)),E30,IF(A30=D30,IF(F30>C30,E30,B30),""))),""),"") | W30: =IF(B6=13,IF(B4=B2,IF(OR(N30=1,O30=1),C30,IF(AND(OR(G30=1,H30=1),AND(N30=0,O30=0)),F30,IF(A30=D30,IF(F30>C30,F30,C30),""))),""),"") | Y30: =IF(U30=A30,D30,IF(U30=D30,A30,""))
A31: =IF(B2=B4,[1]DB!A65,"") -> Idskov | B31: =IF(B2=B4,[1]DB!B65,"") -> Idskov (6) | C31: =IF(B2=B4,[1]DB!C65,"") -> 79 | D31: =IF(B2=B4,[1]DB!D65,"") -> Benbo | E31: =IF(B2=B4,[1]DB!E65,"") -> Benbo (8) | F31: =IF(B2=B4,[1]DB!F65,"") -> 96 | G31: =IF(A31<>"",DGET(A11:AK27,"Dis E",B43:B44),0) -> 0 | H31: =IF(A31<>"",DGET(A11:AK27,"Udm E",B43:B44),0) -> 0 | I31: =IF(A31<>"",DGET(A11:AK27,"MR E",B43:B44),0) -> 0 | J31: =IF(A31<>"",DGET(A11:AK27,"Res E",B43:B44),0) -> 0 | K31: =IF(A31<>"",DGET(A11:AK27,"ES N",B43:B44),0) -> 4 | L31: =IF(B6=13,IF(B4=B2,IF(A31=D31,"",IF(AND(G31=0,H31=0,N31=0,O31=0),K31,"")),""),"") -> 4 | M31: =IF(A31<>"",DGET(A11:AK27,"BU Pl.",B43:B44),0) -> 10 | N31: =IF(A31<>"",DGET(A11:AK27,"Dis E",J43:J44),0) -> 0 | O31: =IF(A31<>"",DGET(A11:AK27,"Udm E",J43:J44),0) -> 0 | P31: =IF(A31<>"",DGET(A11:AK27,"MR E",J43:J44),0) -> 0 | Q31: =IF(A31<>"",DGET(A11:AK27,"Res E",J43:J44),0) -> 1 | R31: =IF(A31<>"",DGET(A11:AK27,"ES N",J43:J44),0) -> 4 | S31: =IF(B6=13,IF(B4=B2,IF(A31=D31,"",IF(AND(G31=0,H31=0,N31=0,O31=0),R31,"")),""),"") -> 4 | T31: =IF(A31<>"",DGET(A11:AK27,"BU Pl.",J43:J44),0) -> 8 | U31: =IF(B6=13,IF(B4=B2,IF(OR(N31=1,O31=1),A31,IF(AND(OR(G31=1,H31=1),AND(N31=0,O31=0)),D31,IF(A31=D31,IF(F31>C31,D31,A31),""))),""),"") | V31: =IF(B6=13,IF(B4=B2,IF(OR(N31=1,O31=1),B31,IF(AND(OR(G31=1,H31=1),AND(N31=0,O31=0)),E31,IF(A31=D31,IF(F31>C31,E31,B31),""))),""),"") | W31: =IF(B6=13,IF(B4=B2,IF(OR(N31=1,O31=1),C31,IF(AND(OR(G31=1,H31=1),AND(N31=0,O31=0)),F31,IF(A31=D31,IF(F31>C31,F31,C31),""))),""),"") | Y31: =IF(U31=A31,D31,IF(U31=D31,A31,""))
A32: =IF(B2=B4,[1]DB!A66,"") -> Forest | B32: =IF(B2=B4,[1]DB!B66,"") -> Forest (10) | C32: =IF(B2=B4,[1]DB!C66,"") -> 60 | D32: =IF(B2=B4,[1]DB!D66,"") -> Frydkær | E32: =IF(B2=B4,[1]DB!E66,"") -> Frydkær (11) | F32: =IF(B2=B4,[1]DB!F66,"") -> 91 | G32: =IF(A32<>"",DGET(A11:AK27,"Dis E",C43:C44),0) -> 0 | H32: =IF(A32<>"",DGET(A11:AK27,"Udm E",C43:C44),0) -> 0 | I32: =IF(A32<>"",DGET(A11:AK27,"MR E",C43:C44),0) -> 0 | J32: =IF(A32<>"",DGET(A11:AK27,"Res E",C43:C44),0) -> 0 | K32: =IF(A32<>"",DGET(A11:AK27,"ES N",C43:C44),0) -> 4 | L32: =IF(B6=13,IF(B4=B2,IF(A32=D32,"",IF(AND(G32=0,H32=0,N32=0,O32=0),K32,"")),""),"") -> 4 | M32: =IF(A32<>"",DGET(A11:AK27,"BU Pl.",C43:C44),0) -> 10 | N32: =IF(A32<>"",DGET(A11:AK27,"Dis E",K43:K44),0) -> 0 | O32: =IF(A32<>"",DGET(A11:AK27,"Udm E",K43:K44),0) -> 0 | P32: =IF(A32<>"",DGET(A11:AK27,"MR E",K43:K44),0) -> 0 | Q32: =IF(A32<>"",DGET(A11:AK27,"Res E",K43:K44),0) -> 1 | R32: =IF(A32<>"",DGET(A11:AK27,"ES N",K43:K44),0) -> 4 | S32: =IF(B6=13,IF(B4=B2,IF(A32=D32,"",IF(AND(G32=0,H32=0,N32=0,O32=0),R32,"")),""),"") -> 4 | T32: =IF(A32<>"",DGET(A11:AK27,"BU Pl.",K43:K44),0) -> 8 | U32: =IF(B6=13,IF(B4=B2,IF(OR(N32=1,O32=1),A32,IF(AND(OR(G32=1,H32=1),AND(N32=0,O32=0)),D32,IF(A32=D32,IF(F32>C32,D32,A32),""))),""),"") | V32: =IF(B6=13,IF(B4=B2,IF(OR(N32=1,O32=1),B32,IF(AND(OR(G32=1,H32=1),AND(N32=0,O32=0)),E32,IF(A32=D32,IF(F32>C32,E32,B32),""))),""),"") | W32: =IF(B6=13,IF(B4=B2,IF(OR(N32=1,O32=1),C32,IF(AND(OR(G32=1,H32=1),AND(N32=0,O32=0)),F32,IF(A32=D32,IF(F32>C32,F32,C32),""))),""),"") | Y32: =IF(U32=A32,D32,IF(U32=D32,A32,""))
A33: =IF(B2=B4,[1]DB!A67,"") -> Idskov | B33: =IF(B2=B4,[1]DB!B67,"") -> Idskov (14) | C33: =IF(B2=B4,[1]DB!C67,"") -> 81 | D33: =IF(B2=B4,[1]DB!D67,"") -> Benbo | E33: =IF(B2=B4,[1]DB!E67,"") -> Benbo (16) | F33: =IF(B2=B4,[1]DB!F67,"") -> 95 | G33: =IF(A33<>"",DGET(A11:AK27,"Dis E",D43:D44),0) -> 0 | H33: =IF(A33<>"",DGET(A11:AK27,"Udm E",D43:D44),0) -> 0 | I33: =IF(A33<>"",DGET(A11:AK27,"MR E",D43:D44),0) -> 0 | J33: =IF(A33<>"",DGET(A11:AK27,"Res E",D43:D44),0) -> 0 | K33: =IF(A33<>"",DGET(A11:AK27,"ES N",D43:D44),0) -> 4 | L33: =IF(B6=13,IF(B4=B2,IF(A33=D33,"",IF(AND(G33=0,H33=0,N33=0,O33=0),K33,"")),""),"") -> 4 | M33: =IF(A33<>"",DGET(A11:AK27,"BU Pl.",D43:D44),0) -> 10 | N33: =IF(A33<>"",DGET(A11:AK27,"Dis E",L43:L44),0) -> 0 | O33: =IF(A33<>"",DGET(A11:AK27,"Udm E",L43:L44),0) -> 0 | P33: =IF(A33<>"",DGET(A11:AK27,"MR E",L43:L44),0) -> 0 | Q33: =IF(A33<>"",DGET(A11:AK27,"Res E",L43:L44),0) -> 1 | R33: =IF(A33<>"",DGET(A11:AK27,"ES N",L43:L44),0) -> 4 | S33: =IF(B6=13,IF(B4=B2,IF(A33=D33,"",IF(AND(G33=0,H33=0,N33=0,O33=0),R33,"")),""),"") -> 4 | T33: =IF(A33<>"",DGET(A11:AK27,"BU Pl.",L43:L44),0) -> 8 | U33: =IF(B6=13,IF(B4=B2,IF(OR(N33=1,O33=1),A33,IF(AND(OR(G33=1,H33=1),AND(N33=0,O33=0)),D33,IF(A33=D33,IF(F33>C33,D33,A33),""))),""),"") | V33: =IF(B6=13,IF(B4=B2,IF(OR(N33=1,O33=1),B33,IF(AND(OR(G33=1,H33=1),AND(N33=0,O33=0)),E33,IF(A33=D33,IF(F33>C33,E33,B33),""))),""),"") | W33: =IF(B6=13,IF(B4=B2,IF(OR(N33=1,O33=1),C33,IF(AND(OR(G33=1,H33=1),AND(N33=0,O33=0)),F33,IF(A33=D33,IF(F33>C33,F33,C33),""))),""),"") | Y33: =IF(U33=A33,D33,IF(U33=D33,A33,""))
A34: =IF(B2=B4,[1]DB!A68,"") -> Frydkær | B34: =IF(B2=B4,[1]DB!B68,"") -> Frydkær (1) | C34: =IF(B2=B4,[1]DB!C68,"") -> 88 | D34: =IF(B2=B4,[1]DB!D68,"") -> LPHJ | E34: =IF(B2=B4,[1]DB!E68,"") -> LPHJ (4) | F34: =IF(B2=B4,[1]DB!F68,"") -> 56 | G34: =IF(A34<>"",DGET(A11:AK27,"Dis E",E43:E44),0) -> 0 | H34: =IF(A34<>"",DGET(A11:AK27,"Udm E",E43:E44),0) -> 0 | I34: =IF(A34<>"",DGET(A11:AK27,"MR E",E43:E44),0) -> 0 | J34: =IF(A34<>"",DGET(A11:AK27,"Res E",E43:E44),0) -> 1 | K34: =IF(A34<>"",DGET(A11:AK27,"ES N",E43:E44),0) -> 4 | L34: =IF(B6=13,IF(B4=B2,IF(A34=D34,"",IF(AND(G34=0,H34=0,N34=0,O34=0),K34,"")),""),"") -> 4 | M34: =IF(A34<>"",DGET(A11:AK27,"BU Pl.",E43:E44),0) -> 8 | N34: =IF(A34<>"",DGET(A11:AK27,"Dis E",M43:M44),0) -> 0 | O34: =IF(A34<>"",DGET(A11:AK27,"Udm E",M43:M44),0) -> 0 | P34: =IF(A34<>"",DGET(A11:AK27,"MR E",M43:M44),0) -> 0 | Q34: =IF(A34<>"",DGET(A11:AK27,"Res E",M43:M44),0) -> 0 | R34: =IF(A34<>"",DGET(A11:AK27,"ES N",M43:M44),0) -> 4 | S34: =IF(B6=13,IF(B4=B2,IF(A34=D34,"",IF(AND(G34=0,H34=0,N34=0,O34=0),R34,"")),""),"") -> 4 | T34: =IF(A34<>"",DGET(A11:AK27,"BU Pl.",M43:M44),0) -> 10 | U34: =IF(B6=13,IF(B4=B2,IF(OR(N34=1,O34=1),A34,IF(AND(OR(G34=1,H34=1),AND(N34=0,O34=0)),D34,IF(A34=D34,IF(F34>C34,D34,A34),""))),""),"") | V34: =IF(B6=13,IF(B4=B2,IF(OR(N34=1,O34=1),B34,IF(AND(OR(G34=1,H34=1),AND(N34=0,O34=0)),E34,IF(A34=D34,IF(F34>C34,E34,B34),""))),""),"") | W34: =IF(B6=13,IF(B4=B2,IF(OR(N34=1,O34=1),C34,IF(AND(OR(G34=1,H34=1),AND(N34=0,O34=0)),F34,IF(A34=D34,IF(F34>C34,F34,C34),""))),""),"") | Y34: =IF(U34=A34,D34,IF(U34=D34,A34,""))
A35: =IF(B2=B4,[1]DB!A69,"") -> LPHJ | B35: =IF(B2=B4,[1]DB!B69,"") -> LPHJ (6) | C35: =IF(B2=B4,[1]DB!C69,"") -> 50 | D35: =IF(B2=B4,[1]DB!D69,"") -> Select | E35: =IF(B2=B4,[1]DB!E69,"") -> Select (7) | F35: =IF(B2=B4,[1]DB!F69,"") -> 54 | G35: =IF(A35<>"",DGET(A11:AK27,"Dis E",F43:F44),0) -> 0 | H35: =IF(A35<>"",DGET(A11:AK27,"Udm E",F43:F44),0) -> 0 | I35: =IF(A35<>"",DGET(A11:AK27,"MR E",F43:F44),0) -> 0 | J35: =IF(A35<>"",DGET(A11:AK27,"Res E",F43:F44),0) -> 0 | K35: =IF(A35<>"",DGET(A11:AK27,"ES N",F43:F44),0) -> 4 | L35: =IF(B6=13,IF(B4=B2,IF(A35=D35,"",IF(AND(G35=0,H35=0,N35=0,O35=0),K35,"")),""),"") -> 4 | M35: =IF(A35<>"",DGET(A11:AK27,"BU Pl.",F43:F44),0) -> 10 | N35: =IF(A35<>"",DGET(A11:AK27,"Dis E",N43:N44),0) -> 0 | O35: =IF(A35<>"",DGET(A11:AK27,"Udm E",N43:N44),0) -> 0 | P35: =IF(A35<>"",DGET(A11:AK27,"MR E",N43:N44),0) -> 0 | Q35: =IF(A35<>"",DGET(A11:AK27,"Res E",N43:N44),0) -> 0 | R35: =IF(A35<>"",DGET(A11:AK27,"ES N",N43:N44),0) -> 4 | S35: =IF(B6=13,IF(B4=B2,IF(A35=D35,"",IF(AND(G35=0,H35=0,N35=0,O35=0),R35,"")),""),"") -> 4 | T35: =IF(A35<>"",DGET(A11:AK27,"BU Pl.",N43:N44),0) -> 10 | U35: =IF(B6=13,IF(B4=B2,IF(OR(N35=1,O35=1),A35,IF(AND(OR(G35=1,H35=1),AND(N35=0,O35=0)),D35,IF(A35=D35,IF(F35>C35,D35,A35),""))),""),"") | V35: =IF(B6=13,IF(B4=B2,IF(OR(N35=1,O35=1),B35,IF(AND(OR(G35=1,H35=1),AND(N35=0,O35=0)),E35,IF(A35=D35,IF(F35>C35,E35,B35),""))),""),"") | W35: =IF(B6=13,IF(B4=B2,IF(OR(N35=1,O35=1),C35,IF(AND(OR(G35=1,H35=1),AND(N35=0,O35=0)),F35,IF(A35=D35,IF(F35>C35,F35,C35),""))),""),"") | Y35: =IF(U35=A35,D35,IF(U35=D35,A35,""))
A36: =IF(B2=B4,[1]DB!A70,"") -> LPHJ | B36: =IF(B2=B4,[1]DB!B70,"") -> LPHJ (10) | C36: =IF(B2=B4,[1]DB!C70,"") -> 56 | D36: =IF(B2=B4,[1]DB!D70,"") -> Chelsea | E36: =IF(B2=B4,[1]DB!E70,"") -> Chelsea (11) | F36: =IF(B2=B4,[1]DB!F70,"") -> 17 | G36: =IF(A36<>"",DGET(A11:AK27,"Dis E",G43:G44),0) -> 0 | H36: =IF(A36<>"",DGET(A11:AK27,"Udm E",G43:G44),0) -> 0 | I36: =IF(A36<>"",DGET(A11:AK27,"MR E",G43:G44),0) -> 0 | J36: =IF(A36<>"",DGET(A11:AK27,"Res E",G43:G44),0) -> 0 | K36: =IF(A36<>"",DGET(A11:AK27,"ES N",G43:G44),0) -> 4 | L36: =IF(B6=13,IF(B4=B2,IF(A36=D36,"",IF(AND(G36=0,H36=0,N36=0,O36=0),K36,"")),""),"") -> 4 | M36: =IF(A36<>"",DGET(A11:AK27,"BU Pl.",G43:G44),0) -> 10 | N36: =IF(A36<>"",DGET(A11:AK27,"Dis E",O43:O44),0) -> 0 | O36: =IF(A36<>"",DGET(A11:AK27,"Udm E",O43:O44),0) -> 0 | P36: =IF(A36<>"",DGET(A11:AK27,"MR E",O43:O44),0) -> 0 | Q36: =IF(A36<>"",DGET(A11:AK27,"Res E",O43:O44),0) -> 1 | R36: =IF(A36<>"",DGET(A11:AK27,"ES N",O43:O44),0) -> 4 | S36: =IF(B6=13,IF(B4=B2,IF(A36=D36,"",IF(AND(G36=0,H36=0,N36=0,O36=0),R36,"")),""),"") -> 4 | T36: =IF(A36<>"",DGET(A11:AK27,"BU Pl.",O43:O44),0) -> 15 | U36: =IF(B6=13,IF(B4=B2,IF(OR(N36=1,O36=1),A36,IF(AND(OR(G36=1,H36=1),AND(N36=0,O36=0)),D36,IF(A36=D36,IF(F36>C36,D36,A36),""))),""),"") | V36: =IF(B6=13,IF(B4=B2,IF(OR(N36=1,O36=1),B36,IF(AND(OR(G36=1,H36=1),AND(N36=0,O36=0)),E36,IF(A36=D36,IF(F36>C36,E36,B36),""))),""),"") | W36: =IF(B6=13,IF(B4=B2,IF(OR(N36=1,O36=1),C36,IF(AND(OR(G36=1,H36=1),AND(N36=0,O36=0)),F36,IF(A36=D36,IF(F36>C36,F36,C36),""))),""),"") | Y36: =IF(U36=A36,D36,IF(U36=D36,A36,""))
A37: =IF(B2=B4,[1]DB!A71,"") -> Futte | B37: =IF(B2=B4,[1]DB!B71,"") -> Futte (14) | C37: =IF(B2=B4,[1]DB!C71,"") -> 27 | D37: =IF(B2=B4,[1]DB!D71,"") -> Robbo | E37: =IF(B2=B4,[1]DB!E71,"") -> Robbo (2) | F37: =IF(B2=B4,[1]DB!F71,"") -> 51 | G37: =IF(A37<>"",DGET(A11:AK27,"Dis E",H43:H44),0) -> 0 | H37: =IF(A37<>"",DGET(A11:AK27,"Udm E",H43:H44),0) -> 0 | I37: =IF(A37<>"",DGET(A11:AK27,"MR E",H43:H44),0) -> 0 | J37: =IF(A37<>"",DGET(A11:AK27,"Res E",H43:H44),0) -> 0 | K37: =IF(A37<>"",DGET(A11:AK27,"ES N",H43:H44),0) -> 4 | L37: =IF(B6=13,IF(B4=B2,IF(A37=D37,"",IF(AND(G37=0,H37=0,N37=0,O37=0),K37,"")),""),"") -> 4 | M37: =IF(A37<>"",DGET(A11:AK27,"BU Pl.",H43:H44),0) -> 15 | N37: =IF(A37<>"",DGET(A11:AK27,"Dis E",P43:P44),0) -> 0 | O37: =IF(A37<>"",DGET(A11:AK27,"Udm E",P43:P44),0) -> 0 | P37: =IF(A37<>"",DGET(A11:AK27,"MR E",P43:P44),0) -> 0 | Q37: =IF(A37<>"",DGET(A11:AK27,"Res E",P43:P44),0) -> 0 | R37: =IF(A37<>"",DGET(A11:AK27,"ES N",P43:P44),0) -> 4 | S37: =IF(B6=13,IF(B4=B2,IF(A37=D37,"",IF(AND(G37=0,H37=0,N37=0,O37=0),R37,"")),""),"") -> 4 | T37: =IF(A37<>"",DGET(A11:AK27,"BU Pl.",P43:P44),0) -> 10 | U37: =IF(B6=13,IF(B4=B2,IF(OR(N37=1,O37=1),A37,IF(AND(OR(G37=1,H37=1),AND(N37=0,O37=0)),D37,IF(A37=D37,IF(F37>C37,D37,A37),""))),""),"") | V37: =IF(B6=13,IF(B4=B2,IF(OR(N37=1,O37=1),B37,IF(AND(OR(G37=1,H37=1),AND(N37=0,O37=0)),E37,IF(A37=D37,IF(F37>C37,E37,B37),""))),""),"") | W37: =IF(B6=13,IF(B4=B2,IF(OR(N37=1,O37=1),C37,IF(AND(OR(G37=1,H37=1),AND(N37=0,O37=0)),F37,IF(A37=D37,IF(F37>C37,F37,C37),""))),""),"") | Y37: =IF(U37=A37,D37,IF(U37=D37,A37,""))
A39: ID | B39: ID | C39: ID | D39: ID | E39: ID | F39: ID | G39: ID | H39: ID | I39: ID | J39: ID | K39: ID | L39: ID | M39: ID | N39: ID | O39: ID | P39: ID
A40: 1 | B40: 2 | C40: 3 | D40: 4 | E40: 5 | F40: 6 | G40: 7 | H40: 8 | I40: 9 | J40: 10 | K40: 11 | L40: 12 | M40: 13 | N40: 14 | O40: 15 | P40: 16
A41: ID E | B41: ID E | C41: ID E | D41: ID E | E41: ID E | F41: ID E | G41: ID E | H41: ID E | I41: ID E | J41: ID E | K41: ID E | L41: ID E | M41: ID E | N41: ID E | O41: ID E | P41: ID E
A42: 1 | B42: 2 | C42: 3 | D42: 4 | E42: 5 | F42: 6 | G42: 7 | H42: 8 | I42: 9 | J42: 10 | K42: 11 | L42: 12 | M42: 13 | N42: 14 | O42: 15 | P42: 16
A43: Signatur | B43: Signatur | C43: Signatur | D43: Signatur | E43: Signatur | F43: Signatur | G43: Signatur | H43: Signatur | I43: Signatur | J43: Signatur | K43: Signatur | L43: Signatur | M43: Signatur | N43: Signatur | O43: Signatur | P43: Signatur
A44: =A30 -> Idskov | B44: =A31 -> Idskov | C44: =A32 -> Forest | D44: =A33 -> Idskov | E44: =A34 -> Frydkær | F44: =A35 -> LPHJ | G44: =A36 -> LPHJ | H44: =A37 -> Futte | I44: =D30 -> Chelsea | J44: =D31 -> Benbo | K44: =D32 -> Frydkær | L44: =D33 -> Benbo | M44: =D34 -> LPHJ | N44: =D35 -> Select | O44: =D36 -> Chelsea | P44: =D37 -> Robbo
