Workbook

Sheet FraDT
A1: Uge | B1: 1 | E1: Uge | F1: 2 | I1: Uge | J1: 3 | M1: Uge | N1: 4 | Q1: Uge | R1: 5 | U1: Uge | V1: 6 | Y1: Uge | Z1: 7 | AC1: Uge | AD1: 8 | AG1: Uge | AH1: 9 | AK1: Uge | AL1: 10 | AO1: Uge | AP1: 11 | AS1: Uge | AT1: 12 | AW1: Uge | AX1: 13 | BA1: Uge | BB1: 14 | BE1: Uge | BF1: 15 | BI1: Uge | BJ1: 16 | BM1: Uge | BN1: 17 | BQ1: Uge | BR1: 18 | BU1: Uge | BV1: 19 | BY1: Uge | BZ1: 20 | CC1: Uge | CD1: 21 | CG1: Uge | CH1: 22 | CK1: Uge | CL1: 23 | CO1: Uge | CP1: 24 | CS1: Uge | CT1: 25 | CW1: Uge | CX1: 26 | DA1: Uge | DB1: 27 | DE1: Uge | DF1: 28 | DI1: Uge | DJ1: 29 | DM1: Uge | DN1: 30 | DQ1: Uge | DR1: 31 | DU1: Uge | DV1: 32 | DY1: Uge | DZ1: 33 | EC1: Uge | ED1: 34 | EG1: Uge | EH1: 35 | EK1: Uge | EL1: 36 | EO1: Uge | EP1: 37 | ES1: Uge | ET1: 38 | EW1: Uge | EX1: 39 | FA1: Uge | FB1: 40 | FE1: Uge | FF1: 41 | FI1: Uge | FJ1: 42 | FM1: Uge | FN1: 43 | FQ1: Uge | FR1: 44 | FU1: Uge | FV1: 45 | FY1: Uge | FZ1: 46 | GC1: Uge | GD1: 47 | GG1: Uge | GH1: 48 | GK1: Uge | GL1: 49 | GO1: Uge | GP1: 50 | GS1: Uge | GT1: 51 | GW1: Uge | GX1: 52 | HA1: Uge | HB1: 53
A2: Fra P10 | B2: Fra AZ10 | E2: Fra P10 | F2: Fra AZ10 | I2: Fra P10 | J2: Fra AZ10 | M2: Fra P10 | N2: Fra AZ10 | Q2: Fra P10 | R2: Fra AZ10 | U2: Fra P10 | V2: Fra AZ10 | Y2: Fra P10 | Z2: Fra AZ10 | AC2: Fra P10 | AD2: Fra AZ10 | AG2: Fra P10 | AH2: Fra AZ10 | AK2: Fra P10 | AL2: Fra AZ10 | AO2: Fra P10 | AP2: Fra AZ10 | AS2: Fra P10 | AT2: Fra AZ10 | AW2: Fra P10 | AX2: Fra AZ10 | BA2: Fra P10 | BB2: Fra AZ10 | BE2: Fra P10 | BF2: Fra AZ10 | BI2: Fra P10 | BJ2: Fra AZ10 | BM2: Fra P10 | BN2: Fra AZ10 | BQ2: Fra P10 | BR2: Fra AZ10 | BU2: Fra P10 | BV2: Fra AZ10 | BY2: Fra P10 | BZ2: Fra AZ10 | CC2: Fra P10 | CD2: Fra AZ10 | CG2: Fra P10 | CH2: Fra AZ10 | CK2: Fra P10 | CL2: Fra AZ10 | CO2: Fra P10 | CP2: Fra AZ10 | CS2: Fra P10 | CT2: Fra AZ10 | CW2: Fra P10 | CX2: Fra AZ10 | DA2: Fra P10 | DB2: Fra AZ10 | DE2: Fra P10 | DF2: Fra AZ10 | DI2: Fra P10 | DJ2: Fra AZ10 | DM2: Fra P10 | DN2: Fra AZ10 | DQ2: Fra P10 | DR2: Fra AZ10 | DU2: Fra P10 | DV2: Fra AZ10 | DY2: Fra P10 | DZ2: Fra AZ10 | EC2: Fra P10 | ED2: Fra AZ10 | EG2: Fra P10 | EH2: Fra AZ10 | EK2: Fra P10 | EL2: Fra AZ10 | EO2: Fra P10 | EP2: Fra AZ10 | ES2: Fra P10 | ET2: Fra AZ10 | EW2: Fra P10 | EX2: Fra AZ10 | FA2: Fra P10 | FB2: Fra AZ10 | FE2: Fra P10 | FF2: Fra AZ10 | FI2: Fra P10 | FJ2: Fra AZ10 | FM2: Fra P10 | FN2: Fra AZ10 | FQ2: Fra P10 | FR2: Fra AZ10 | FU2: Fra P10 | FV2: Fra AZ10 | FY2: Fra P10 | FZ2: Fra AZ10 | GC2: Fra P10 | GD2: Fra AZ10 | GG2: Fra P10 | GH2: Fra AZ10 | GK2: Fra P10 | GL2: Fra AZ10 | GO2: Fra P10 | GP2: Fra AZ10 | GS2: Fra P10 | GT2: Fra AZ10 | GW2: Fra P10 | GX2: Fra AZ10 | HA2: Fra P10 | HB2: Fra AZ10
A3: Signatur | B3: Uge Point | E3: Signatur | F3: Uge Point | I3: Signatur | J3: Uge Point | M3: Signatur | N3: Uge Point | Q3: Signatur | R3: Uge Point | U3: Signatur | V3: Uge Point | Y3: Signatur | Z3: Uge Point | AC3: Signatur | AD3: Uge Point | AG3: Signatur | AH3: Uge Point | AK3: Signatur | AL3: Uge Point | AO3: Signatur | AP3: Uge Point | AS3: Signatur | AT3: Uge Point | AW3: Signatur | AX3: Uge Point | BA3: Signatur | BB3: Uge Point | BE3: Signatur | BF3: Uge Point | BI3: Signatur | BJ3: Uge Point | BM3: Signatur | BN3: Uge Point | BQ3: Signatur | BR3: Uge Point | BU3: Signatur | BV3: Uge Point | BY3: Signatur | BZ3: Uge Point | CC3: Signatur | CD3: Uge Point | CG3: Signatur | CH3: Uge Point | CK3: Signatur | CL3: Uge Point | CO3: Signatur | CP3: Uge Point | CS3: Signatur | CT3: Uge Point | CW3: Signatur | CX3: Uge Point | DA3: Signatur | DB3: Uge Point | DE3: Signatur | DF3: Uge Point | DI3: Signatur | DJ3: Uge Point | DM3: Signatur | DN3: Uge Point | DQ3: Signatur | DR3: Uge Point | DU3: Signatur | DV3: Uge Point | DY3: Signatur | DZ3: Uge Point | EC3: Signatur | ED3: Uge Point | EG3: Signatur | EH3: Uge Point | EK3: Signatur | EL3: Uge Point | EO3: Signatur | EP3: Uge Point | ES3: Signatur | ET3: Uge Point | EW3: Signatur | EX3: Uge Point | FA3: Signatur | FB3: Uge Point | FE3: Signatur | FF3: Uge Point | FI3: Signatur | FJ3: Uge Point | FM3: Signatur | FN3: Uge Point | FQ3: Signatur | FR3: Uge Point | FU3: Signatur | FV3: Uge Point | FY3: Signatur | FZ3: Uge Point | GC3: Signatur | GD3: Uge Point | GG3: Signatur | GH3: Uge Point | GK3: Signatur | GL3: Uge Point | GO3: Signatur | GP3: Uge Point | GS3: Signatur | GT3: Uge Point | GW3: Signatur | GX3: Uge Point | HA3: Signatur | HB3: Uge Point
A4: Arsenal | B4: 0 | C4: {=_xlfn._xlws.SORT(A4:B23)} -> Arsenal | D4: 0 | E4: Cork | F4: 0 | G4: {=_xlfn._xlws.SORT(E4:F23)} -> Arsenal | H4: 0 | I4: Cork | J4: 0 | K4: {=_xlfn._xlws.SORT(I4:J23)} -> Arsenal | L4: 0 | M4: Kinks | N4: 0 | O4: {=_xlfn._xlws.SORT(M4:N23)} -> Arsenal | P4: 0 | Q4: Arsenal | R4: 0 | S4: {=_xlfn._xlws.SORT(Q4:R23)} -> Arsenal | T4: 0 | U4: Arsenal | V4: 0 | W4: {=_xlfn._xlws.SORT(U4:V23)} -> Arsenal | X4: 0 | Y4: Arsenal | Z4: 0 | AA4: {=_xlfn._xlws.SORT(Y4:Z23)} -> Arsenal | AB4: 0 | AC4: Arsenal | AD4: 0 | AE4: {=_xlfn._xlws.SORT(AC4:AD23)} -> Arsenal | AF4: 0 | AG4: Arsenal | AH4: 0 | AI4: {=_xlfn._xlws.SORT(AG4:AH23)} -> Arsenal | AJ4: 0 | AK4: Arsenal | AL4: 0 | AM4: {=_xlfn._xlws.SORT(AK4:AL23)} -> Arsenal | AN4: 0 | AO4: Arsenal | AP4: 0 | AQ4: {=_xlfn._xlws.SORT(AO4:AP23)} -> Arsenal | AR4: 0 | AS4: Arsenal | AT4: 0 | AU4: {=_xlfn._xlws.SORT(AS4:AT23)} -> Arsenal | AV4: 0 | AW4: Arsenal | AX4: 0 | AY4: {=_xlfn._xlws.SORT(AW4:AX23)} -> Arsenal | AZ4: 0 | BA4: Arsenal | BB4: 0 | BC4: {=_xlfn._xlws.SORT(BA4:BB23)} -> Arsenal | BD4: 0 | BE4: Arsenal | BF4: 0 | BG4: {=_xlfn._xlws.SORT(BE4:BF23)} -> Arsenal | BH4: 0 | BI4: Arsenal | BJ4: 0 | BK4: {=_xlfn._xlws.SORT(BI4:BJ23)} -> Arsenal | BL4: 0 | BM4: Arsenal | BN4: 0 | BO4: {=_xlfn._xlws.SORT(BM4:BN23)} -> Arsenal | BP4: 0 | BQ4: Arsenal | BR4: 0 | BS4: {=_xlfn._xlws.SORT(BQ4:BR23)} -> Arsenal | BT4: 0 | BU4: Arsenal | BV4: 0 | BW4: {=_xlfn._xlws.SORT(BU4:BV23)} -> Arsenal | BX4: 0 | BY4: Arsenal | BZ4: 0 | CA4: {=_xlfn._xlws.SORT(BY4:BZ23)} -> Arsenal | CB4: 0 | CC4: Arsenal | CD4: 0 | CE4: {=_xlfn._xlws.SORT(CC4:CD23)} -> Arsenal | CF4: 0 | CG4: Arsenal | CH4: 0 | CI4: {=_xlfn._xlws.SORT(CG4:CH23)} -> Arsenal | CJ4: 0 | CK4: Arsenal | CL4: 0 | CM4: {=_xlfn._xlws.SORT(CK4:CL23)} -> Arsenal | CN4: 0 | CO4: Arsenal | CP4: 0 | CQ4: {=_xlfn._xlws.SORT(CO4:CP23)} -> Arsenal | CR4: 0 | CS4: Arsenal | CT4: 0 | CU4: {=_xlfn._xlws.SORT(CS4:CT23)} -> Arsenal | CV4: 0 | CW4: Arsenal | CX4: 0 | CY4: {=_xlfn._xlws.SORT(CW4:CX23)} -> Arsenal | CZ4: 0 | DA4: Arsenal | DB4: 10 | DC4: {=_xlfn._xlws.SORT(DA4:DB23)} -> Arsenal | DD4: 10 | DE4: Arsenal | DF4: 0 | DG4: {=_xlfn._xlws.SORT(DE4:DF23)} -> Arsenal | DH4: 0 | DI4: Arsenal | DJ4: 0 | DK4: {=_xlfn._xlws.SORT(DI4:DJ23)} -> Arsenal | DL4: 0 | DM4: Arsenal | DN4: 0 | DO4: {=_xlfn._xlws.SORT(DM4:DN23)} -> Arsenal | DP4: 0 | DQ4: Arsenal | DR4: 0 | DS4: {=_xlfn._xlws.SORT(DQ4:DR23)} -> Arsenal | DT4: 0 | DU4: Arsenal | DV4: 0 | DW4: {=_xlfn._xlws.SORT(DU4:DV23)} -> Arsenal | DX4: 0 | DY4: Arsenal | DZ4: 0 | EA4: {=_xlfn._xlws.SORT(DY4:DZ23)} -> Arsenal | EB4: 0 | EC4: Arsenal | ED4: 0 | EE4: {=_xlfn._xlws.SORT(EC4:ED23)} -> Arsenal | EF4: 0 | EG4: Arsenal | EH4: 0 | EI4: {=_xlfn._xlws.SORT(EG4:EH23)} -> Arsenal | EJ4: 0 | EK4: Arsenal | EL4: 0 | EM4: {=_xlfn._xlws.SORT(EK4:EL23)} -> Arsenal | EN4: 0 | EO4: Arsenal | EP4: 0 | EQ4: {=_xlfn._xlws.SORT(EO4:EP23)} -> Arsenal | ER4: 0 | ES4: Arsenal | ET4: 0 | EU4: {=_xlfn._xlws.SORT(ES4:ET23)} -> Arsenal | EV4: 0 | EW4: Arsenal | EX4: 0 | EY4: {=_xlfn._xlws.SORT(EW4:EX23)} -> Arsenal | EZ4: 0 | FA4: Arsenal | FB4: 0 | FC4: {=_xlfn._xlws.SORT(FA4:FB23)} -> Arsenal | FD4: 0 | FE4: Arsenal | FF4: 0 | FG4: {=_xlfn._xlws.SORT(FE4:FF23)} -> Arsenal | FH4: 0 | FI4: Arsenal | FJ4: 0 | FK4: {=_xlfn._xlws.SORT(FI4:FJ23)} -> Arsenal | FL4: 0 | FM4: Arsenal | FN4: 0 | FO4: {=_xlfn._xlws.SORT(FM4:FN23)} -> Arsenal | FP4: 0 | FQ4: Arsenal | FR4: 0 | FS4: {=_xlfn._xlws.SORT(FQ4:FR23)} -> Arsenal | FT4: 0 | FU4: Arsenal | FV4: 0 | FW4: {=_xlfn._xlws.SORT(FU4:FV23)} -> Arsenal | FX4: 0 | FY4: Arsenal | FZ4: 0 | GA4: {=_xlfn._xlws.SORT(FY4:FZ23)} -> Arsenal | GB4: 0 | GC4: Arsenal | GD4: 0 | GE4: {=_xlfn._xlws.SORT(GC4:GD23)} -> Arsenal | GF4: 0 | GG4: Arsenal | GH4: 0 | GI4: {=_xlfn._xlws.SORT(GG4:GH23)} -> Arsenal | GJ4: 0 | GK4: Arsenal | GL4: 0 | GM4: {=_xlfn._xlws.SORT(GK4:GL23)} -> Arsenal | GN4: 0 | GO4: Arsenal | GP4: 0 | GQ4: {=_xlfn._xlws.SORT(GO4:GP23)} -> Arsenal | GR4: 0 | GS4: Arsenal | GT4: 0 | GU4: {=_xlfn._xlws.SORT(GS4:GT23)} -> Arsenal | GV4: 0 | GW4: Arsenal | GX4: 0 | GY4: {=_xlfn._xlws.SORT(GW4:GX23)} -> Arsenal | GZ4: 0 | HA4: Arsenal | HB4: 0 | HC4: {=_xlfn._xlws.SORT(HA4:HB23)} -> Arsenal | HD4: 0
A5: Chelsea | B5: 0 | C5: Chelsea | D5: 0 | E5: Stoke | F5: 0 | G5: Chelsea | H5: 0 | I5: Kinks | J5: 0 | K5: Chelsea | L5: 0 | M5: Himbo | N5: 0 | O5: Chelsea | P5: 0 | Q5: Chelsea | R5: 0 | S5: Chelsea | T5: 0 | U5: Chelsea | V5: 0 | W5: Chelsea | X5: 0 | Y5: Chelsea | Z5: 0 | AA5: Chelsea | AB5: 0 | AC5: Chelsea | AD5: 0 | AE5: Chelsea | AF5: 0 | AG5: Chelsea | AH5: 0 | AI5: Chelsea | AJ5: 0 | AK5: Chelsea | AL5: 0 | AM5: Chelsea | AN5: 0 | AO5: Chelsea | AP5: 0 | AQ5: Chelsea | AR5: 0 | AS5: Chelsea | AT5: 0 | AU5: Chelsea | AV5: 0 | AW5: Chelsea | AX5: 0 | AY5: Chelsea | AZ5: 0 | BA5: Chelsea | BB5: 0 | BC5: Chelsea | BD5: 0 | BE5: Chelsea | BF5: 0 | BG5: Chelsea | BH5: 0 | BI5: Chelsea | BJ5: 0 | BK5: Chelsea | BL5: 0 | BM5: Chelsea | BN5: 0 | BO5: Chelsea | BP5: 0 | BQ5: Chelsea | BR5: 0 | BS5: Chelsea | BT5: 0 | BU5: Chelsea | BV5: 0 | BW5: Chelsea | BX5: 0 | BY5: Chelsea | BZ5: 0 | CA5: Chelsea | CB5: 0 | CC5: Chelsea | CD5: 0 | CE5: Chelsea | CF5: 0 | CG5: Chelsea | CH5: 0 | CI5: Chelsea | CJ5: 0 | CK5: Chelsea | CL5: 0 | CM5: Chelsea | CN5: 0 | CO5: Chelsea | CP5: 10 | CQ5: Chelsea | CR5: 10 | CS5: Chelsea | CT5: 0 | CU5: Chelsea | CV5: 0 | CW5: Chelsea | CX5: 0 | CY5: Chelsea | CZ5: 0 | DA5: Chelsea | DB5: 10 | DC5: Chelsea | DD5: 10 | DE5: Chelsea | DF5: 0 | DG5: Chelsea | DH5: 0 | DI5: Chelsea | DJ5: 0 | DK5: Chelsea | DL5: 0 | DM5: Chelsea | DN5: 0 | DO5: Chelsea | DP5: 0 | DQ5: Chelsea | DR5: 0 | DS5: Chelsea | DT5: 0 | DU5: Chelsea | DV5: 0 | DW5: Chelsea | DX5: 0 | DY5: Chelsea | DZ5: 0 | EA5: Chelsea | EB5: 0 | EC5: Chelsea | ED5: 0 | EE5: Chelsea | EF5: 0 | EG5: Chelsea | EH5: 0 | EI5: Chelsea | EJ5: 0 | EK5: Chelsea | EL5: 0 | EM5: Chelsea | EN5: 0 | EO5: Chelsea | EP5: 0 | EQ5: Chelsea | ER5: 0 | ES5: Chelsea | ET5: 0 | EU5: Chelsea | EV5: 0 | EW5: Chelsea | EX5: 0 | EY5: Chelsea | EZ5: 0 | FA5: Chelsea | FB5: 0 | FC5: Chelsea | FD5: 0 | FE5: Chelsea | FF5: 0 | FG5: Chelsea | FH5: 0 | FI5: Chelsea | FJ5: 0 | FK5: Chelsea | FL5: 0 | FM5: Chelsea | FN5: 0 | FO5: Chelsea | FP5: 0 | FQ5: Chelsea | FR5: 0 | FS5: Chelsea | FT5: 0 | FU5: Chelsea | FV5: 0 | FW5: Chelsea | FX5: 0 | FY5: Chelsea | FZ5: 0 | GA5: Chelsea | GB5: 0 | GC5: Chelsea | GD5: 0 | GE5: Chelsea | GF5: 0 | GG5: Chelsea | GH5: 0 | GI5: Chelsea | GJ5: 0 | GK5: Chelsea | GL5: 0 | GM5: Chelsea | GN5: 0 | GO5: Chelsea | GP5: 0 | GQ5: Chelsea | GR5: 0 | GS5: Chelsea | GT5: 0 | GU5: Chelsea | GV5: 0 | GW5: Chelsea | GX5: 0 | GY5: Chelsea | GZ5: 0 | HA5: Chelsea | HB5: 0 | HC5: Chelsea | HD5: 0
A6: Cork | B6: 10 | C6: Cork | D6: 10 | E6: Fox | F6: 0 | G6: Cork | H6: 0 | I6: Arsenal | J6: 0 | K6: Cork | L6: 0 | M6: Arsenal | N6: 0 | O6: Cork | P6: 0 | Q6: Cork | R6: 0 | S6: Cork | T6: 0 | U6: Cork | V6: 0 | W6: Cork | X6: 0 | Y6: Cork | Z6: 0 | AA6: Cork | AB6: 0 | AC6: Cork | AD6: 0 | AE6: Cork | AF6: 0 | AG6: Cork | AH6: 10 | AI6: Cork | AJ6: 10 | AK6: Cork | AL6: 0 | AM6: Cork | AN6: 0 | AO6: Cork | AP6: 0 | AQ6: Cork | AR6: 0 | AS6: Cork | AT6: 0 | AU6: Cork | AV6: 0 | AW6: Cork | AX6: 10 | AY6: Cork | AZ6: 10 | BA6: Cork | BB6: 0 | BC6: Cork | BD6: 0 | BE6: Cork | BF6: 0 | BG6: Cork | BH6: 0 | BI6: Cork | BJ6: 0 | BK6: Cork | BL6: 0 | BM6: Cork | BN6: 0 | BO6: Cork | BP6: 0 | BQ6: Cork | BR6: 0 | BS6: Cork | BT6: 0 | BU6: Cork | BV6: 0 | BW6: Cork | BX6: 0 | BY6: Cork | BZ6: 0 | CA6: Cork | CB6: 0 | CC6: Cork | CD6: 0 | CE6: Cork | CF6: 0 | CG6: Cork | CH6: 0 | CI6: Cork | CJ6: 0 | CK6: Cork | CL6: 0 | CM6: Cork | CN6: 0 | CO6: Cork | CP6: 0 | CQ6: Cork | CR6: 0 | CS6: Cork | CT6: 0 | CU6: Cork | CV6: 0 | CW6: Cork | CX6: 0 | CY6: Cork | CZ6: 0 | DA6: Cork | DB6: 10 | DC6: Cork | DD6: 10 | DE6: Cork | DF6: 0 | DG6: Cork | DH6: 0 | DI6: Cork | DJ6: 0 | DK6: Cork | DL6: 0 | DM6: Cork | DN6: 0 | DO6: Cork | DP6: 0 | DQ6: Cork | DR6: 0 | DS6: Cork | DT6: 0 | DU6: Cork | DV6: 0 | DW6: Cork | DX6: 0 | DY6: Cork | DZ6: 0 | EA6: Cork | EB6: 0 | EC6: Cork | ED6: 0 | EE6: Cork | EF6: 0 | EG6: Cork | EH6: 0 | EI6: Cork | EJ6: 0 | EK6: Cork | EL6: 0 | EM6: Cork | EN6: 0 | EO6: Cork | EP6: 10 | EQ6: Cork | ER6: 10 | ES6: Cork | ET6: 0 | EU6: Cork | EV6: 0 | EW6: Cork | EX6: 0 | EY6: Cork | EZ6: 0 | FA6: Cork | FB6: 0 | FC6: Cork | FD6: 0 | FE6: Cork | FF6: 0 | FG6: Cork | FH6: 0 | FI6: Cork | FJ6: 0 | FK6: Cork | FL6: 0 | FM6: Cork | FN6: 0 | FO6: Cork | FP6: 0 | FQ6: Cork | FR6: 0 | FS6: Cork | FT6: 0 | FU6: Cork | FV6: 0 | FW6: Cork | FX6: 0 | FY6: Cork | FZ6: 0 | GA6: Cork | GB6: 0 | GC6: Cork | GD6: 0 | GE6: Cork | GF6: 0 | GG6: Cork | GH6: 0 | GI6: Cork | GJ6: 0 | GK6: Cork | GL6: 0 | GM6: Cork | GN6: 0 | GO6: Cork | GP6: 0 | GQ6: Cork | GR6: 0 | GS6: Cork | GT6: 0 | GU6: Cork | GV6: 0 | GW6: Cork | GX6: 0 | GY6: Cork | GZ6: 0 | HA6: Cork | HB6: 0 | HC6: Cork | HD6: 0
A7: Degnen | B7: 0 | C7: Degnen | D7: 0 | E7: Kinks | F7: 0 | G7: Degnen | H7: 3 | I7: Degnen | J7: 0 | K7: Degnen | L7: 0 | M7: Degnen | N7: 0 | O7: Degnen | P7: 0 | Q7: Degnen | R7: 0 | S7: Degnen | T7: 0 | U7: Degnen | V7: 0 | W7: Degnen | X7: 0 | Y7: Degnen | Z7: 0 | AA7: Degnen | AB7: 0 | AC7: Degnen | AD7: 0 | AE7: Degnen | AF7: 0 | AG7: Degnen | AH7: 10 | AI7: Degnen | AJ7: 10 | AK7: Degnen | AL7: 0 | AM7: Degnen | AN7: 0 | AO7: Degnen | AP7: 0 | AQ7: Degnen | AR7: 0 | AS7: Degnen | AT7: 0 | AU7: Degnen | AV7: 0 | AW7: Degnen | AX7: 0 | AY7: Degnen | AZ7: 0 | BA7: Degnen | BB7: 0 | BC7: Degnen | BD7: 0 | BE7: Degnen | BF7: 0 | BG7: Degnen | BH7: 0 | BI7: Degnen | BJ7: 0 | BK7: Degnen | BL7: 0 | BM7: Degnen | BN7: 0 | BO7: Degnen | BP7: 0 | BQ7: Degnen | BR7: 0 | BS7: Degnen | BT7: 0 | BU7: Degnen | BV7: 0 | BW7: Degnen | BX7: 0 | BY7: Degnen | BZ7: 0 | CA7: Degnen | CB7: 0 | CC7: Degnen | CD7: 0 | CE7: Degnen | CF7: 0 | CG7: Degnen | CH7: 0 | CI7: Degnen | CJ7: 0 | CK7: Degnen | CL7: 0 | CM7: Degnen | CN7: 0 | CO7: Degnen | CP7: 0 | CQ7: Degnen | CR7: 0 | CS7: Degnen | CT7: 0 | CU7: Degnen | CV7: 0 | CW7: Degnen | CX7: 0 | CY7: Degnen | CZ7: 0 | DA7: Degnen | DB7: 10 | DC7: Degnen | DD7: 10 | DE7: Degnen | DF7: 0 | DG7: Degnen | DH7: 0 | DI7: Degnen | DJ7: 0 | DK7: Degnen | DL7: 0 | DM7: Degnen | DN7: 0 | DO7: Degnen | DP7: 0 | DQ7: Degnen | DR7: 0 | DS7: Degnen | DT7: 0 | DU7: Degnen | DV7: 0 | DW7: Degnen | DX7: 0 | DY7: Degnen | DZ7: 0 | EA7: Degnen | EB7: 0 | EC7: Degnen | ED7: 0 | EE7: Degnen | EF7: 0 | EG7: Degnen | EH7: 0 | EI7: Degnen | EJ7: 0 | EK7: Degnen | EL7: 0 | EM7: Degnen | EN7: 0 | EO7: Degnen | EP7: 0 | EQ7: Degnen | ER7: 0 | ES7: Degnen | ET7: 0 | EU7: Degnen | EV7: 0 | EW7: Degnen | EX7: 0 | EY7: Degnen | EZ7: 0 | FA7: Degnen | FB7: 0 | FC7: Degnen | FD7: 0 | FE7: Degnen | FF7: 0 | FG7: Degnen | FH7: 0 | FI7: Degnen | FJ7: 0 | FK7: Degnen | FL7: 0 | FM7: Degnen | FN7: 0 | FO7: Degnen | FP7: 0 | FQ7: Degnen | FR7: 0 | FS7: Degnen | FT7: 0 | FU7: Degnen | FV7: 0 | FW7: Degnen | FX7: 0 | FY7: Degnen | FZ7: 0 | GA7: Degnen | GB7: 0 | GC7: Degnen | GD7: 0 | GE7: Degnen | GF7: 0 | GG7: Degnen | GH7: 0 | GI7: Degnen | GJ7: 0 | GK7: Degnen | GL7: 0 | GM7: Degnen | GN7: 0 | GO7: Degnen | GP7: 0 | GQ7: Degnen | GR7: 0 | GS7: Degnen | GT7: 0 | GU7: Degnen | GV7: 0 | GW7: Degnen | GX7: 0 | GY7: Degnen | GZ7: 0 | HA7: Degnen | HB7: 0 | HC7: Degnen | HD7: 0
A8: Derby | B8: 0 | C8: Derby | D8: 0 | E8: Arsenal | F8: 0 | G8: Derby | H8: 0 | I8: Select | J8: 0 | K8: Derby | L8: 0 | M8: Select | N8: 0 | O8: Derby | P8: 0 | Q8: Derby | R8: 0 | S8: Derby | T8: 0 | U8: Derby | V8: 0 | W8: Derby | X8: 0 | Y8: Derby | Z8: 0 | AA8: Derby | AB8: 0 | AC8: Derby | AD8: 0 | AE8: Derby | AF8: 0 | AG8: Derby | AH8: 0 | AI8: Derby | AJ8: 0 | AK8: Derby | AL8: 0 | AM8: Derby | AN8: 0 | AO8: Derby | AP8: 0 | AQ8: Derby | AR8: 0 | AS8: Derby | AT8: 0 | AU8: Derby | AV8: 0 | AW8: Derby | AX8: 0 | AY8: Derby | AZ8: 0 | BA8: Derby | BB8: 0 | BC8: Derby | BD8: 0 | BE8: Derby | BF8: 0 | BG8: Derby | BH8: 0 | BI8: Derby | BJ8: 0 | BK8: Derby | BL8: 0 | BM8: Derby | BN8: 10 | BO8: Derby | BP8: 10 | BQ8: Derby | BR8: 0 | BS8: Derby | BT8: 0 | BU8: Derby | BV8: 0 | BW8: Derby | BX8: 0 | BY8: Derby | BZ8: 0 | CA8: Derby | CB8: 0 | CC8: Derby | CD8: 0 | CE8: Derby | CF8: 0 | CG8: Derby | CH8: 0 | CI8: Derby | CJ8: 0 | CK8: Derby | CL8: 0 | CM8: Derby | CN8: 0 | CO8: Derby | CP8: 0 | CQ8: Derby | CR8: 0 | CS8: Derby | CT8: 0 | CU8: Derby | CV8: 0 | CW8: Derby | CX8: 0 | CY8: Derby | CZ8: 0 | DA8: Derby | DB8: 10 | DC8: Derby | DD8: 10 | DE8: Derby | DF8: 0 | DG8: Derby | DH8: 0 | DI8: Derby | DJ8: 0 | DK8: Derby | DL8: 0 | DM8: Derby | DN8: 0 | DO8: Derby | DP8: 0 | DQ8: Derby | DR8: 0 | DS8: Derby | DT8: 0 | DU8: Derby | DV8: 0 | DW8: Derby | DX8: 0 | DY8: Derby | DZ8: 0 | EA8: Derby | EB8: 0 | EC8: Derby | ED8: 0 | EE8: Derby | EF8: 0 | EG8: Derby | EH8: 0 | EI8: Derby | EJ8: 0 | EK8: Derby | EL8: 0 | EM8: Derby | EN8: 0 | EO8: Derby | EP8: 0 | EQ8: Derby | ER8: 0 | ES8: Derby | ET8: 0 | EU8: Derby | EV8: 0 | EW8: Derby | EX8: 0 | EY8: Derby | EZ8: 0 | FA8: Derby | FB8: 0 | FC8: Derby | FD8: 0 | FE8: Derby | FF8: 0 | FG8: Derby | FH8: 0 | FI8: Derby | FJ8: 0 | FK8: Derby | FL8: 0 | FM8: Derby | FN8: 0 | FO8: Derby | FP8: 0 | FQ8: Derby | FR8: 0 | FS8: Derby | FT8: 0 | FU8: Derby | FV8: 0 | FW8: Derby | FX8: 0 | FY8: Derby | FZ8: 0 | GA8: Derby | GB8: 0 | GC8: Derby | GD8: 0 | GE8: Derby | GF8: 0 | GG8: Derby | GH8: 0 | GI8: Derby | GJ8: 0 | GK8: Derby | GL8: 0 | GM8: Derby | GN8: 0 | GO8: Derby | GP8: 0 | GQ8: Derby | GR8: 0 | GS8: Derby | GT8: 0 | GU8: Derby | GV8: 0 | GW8: Derby | GX8: 0 | GY8: Derby | GZ8: 0 | HA8: Derby | HB8: 0 | HC8: Derby | HD8: 0
A9: Far | B9: 0 | C9: Far | D9: 0 | E9: Derby | F9: 0 | G9: Far | H9: 0 | I9: Zico | J9: 0 | K9: Far | L9: 3 | M9: Fox | N9: 4 | O9: Far | P9: 0 | Q9: Far | R9: 0 | S9: Far | T9: 0 | U9: Far | V9: 0 | W9: Far | X9: 0 | Y9: Far | Z9: 0 | AA9: Far | AB9: 0 | AC9: Far | AD9: 0 | AE9: Far | AF9: 0 | AG9: Far | AH9: 0 | AI9: Far | AJ9: 0 | AK9: Far | AL9: 0 | AM9: Far | AN9: 0 | AO9: Far | AP9: 0 | AQ9: Far | AR9: 0 | AS9: Far | AT9: 0 | AU9: Far | AV9: 0 | AW9: Far | AX9: 0 | AY9: Far | AZ9: 0 | BA9: Far | BB9: 0 | BC9: Far | BD9: 0 | BE9: Far | BF9: 0 | BG9: Far | BH9: 0 | BI9: Far | BJ9: 0 | BK9: Far | BL9: 0 | BM9: Far | BN9: 0 | BO9: Far | BP9: 0 | BQ9: Far | BR9: 0 | BS9: Far | BT9: 0 | BU9: Far | BV9: 0 | BW9: Far | BX9: 0 | BY9: Far | BZ9: 0 | CA9: Far | CB9: 0 | CC9: Far | CD9: 0 | CE9: Far | CF9: 0 | CG9: Far | CH9: 0 | CI9: Far | CJ9: 0 | CK9: Far | CL9: 0 | CM9: Far | CN9: 0 | CO9: Far | CP9: 0 | CQ9: Far | CR9: 0 | CS9: Far | CT9: 0 | CU9: Far | CV9: 0 | CW9: Far | CX9: 0 | CY9: Far | CZ9: 0 | DA9: Far | DB9: 10 | DC9: Far | DD9: 10 | DE9: Far | DF9: 0 | DG9: Far | DH9: 0 | DI9: Far | DJ9: 0 | DK9: Far | DL9: 0 | DM9: Far | DN9: 0 | DO9: Far | DP9: 0 | DQ9: Far | DR9: 0 | DS9: Far | DT9: 0 | DU9: Far | DV9: 0 | DW9: Far | DX9: 0 | DY9: Far | DZ9: 0 | EA9: Far | EB9: 0 | EC9: Far | ED9: 0 | EE9: Far | EF9: 0 | EG9: Far | EH9: 0 | EI9: Far | EJ9: 0 | EK9: Far | EL9: 0 | EM9: Far | EN9: 0 | EO9: Far | EP9: 0 | EQ9: Far | ER9: 0 | ES9: Far | ET9: 0 | EU9: Far | EV9: 0 | EW9: Far | EX9: 0 | EY9: Far | EZ9: 0 | FA9: Far | FB9: 0 | FC9: Far | FD9: 0 | FE9: Far | FF9: 0 | FG9: Far | FH9: 0 | FI9: Far | FJ9: 0 | FK9: Far | FL9: 0 | FM9: Far | FN9: 0 | FO9: Far | FP9: 0 | FQ9: Far | FR9: 0 | FS9: Far | FT9: 0 | FU9: Far | FV9: 0 | FW9: Far | FX9: 0 | FY9: Far | FZ9: 0 | GA9: Far | GB9: 0 | GC9: Far | GD9: 0 | GE9: Far | GF9: 0 | GG9: Far | GH9: 0 | GI9: Far | GJ9: 0 | GK9: Far | GL9: 0 | GM9: Far | GN9: 0 | GO9: Far | GP9: 0 | GQ9: Far | GR9: 0 | GS9: Far | GT9: 0 | GU9: Far | GV9: 0 | GW9: Far | GX9: 0 | GY9: Far | GZ9: 0 | HA9: Far | HB9: 0 | HC9: Far | HD9: 0
A10: Flinca | B10: 0 | C10: Flinca | D10: 0 | E10: Himbo | F10: 0 | G10: Flinca | H10: 0 | I10: Lund | J10: 0 | K10: Flinca | L10: 0 | M10: Stoke | N10: 0 | O10: Flinca | P10: 0 | Q10: Flinca | R10: 0 | S10: Flinca | T10: 0 | U10: Flinca | V10: 0 | W10: Flinca | X10: 0 | Y10: Flinca | Z10: 10 | AA10: Flinca | AB10: 10 | AC10: Flinca | AD10: 0 | AE10: Flinca | AF10: 0 | AG10: Flinca | AH10: 0 | AI10: Flinca | AJ10: 0 | AK10: Flinca | AL10: 0 | AM10: Flinca | AN10: 0 | AO10: Flinca | AP10: 0 | AQ10: Flinca | AR10: 0 | AS10: Flinca | AT10: 0 | AU10: Flinca | AV10: 0 | AW10: Flinca | AX10: 0 | AY10: Flinca | AZ10: 0 | BA10: Flinca | BB10: 0 | BC10: Flinca | BD10: 0 | BE10: Flinca | BF10: 0 | BG10: Flinca | BH10: 0 | BI10: Flinca | BJ10: 0 | BK10: Flinca | BL10: 0 | BM10: Flinca | BN10: 0 | BO10: Flinca | BP10: 0 | BQ10: Flinca | BR10: 0 | BS10: Flinca | BT10: 0 | BU10: Flinca | BV10: 0 | BW10: Flinca | BX10: 0 | BY10: Flinca | BZ10: 0 | CA10: Flinca | CB10: 0 | CC10: Flinca | CD10: 0 | CE10: Flinca | CF10: 0 | CG10: Flinca | CH10: 0 | CI10: Flinca | CJ10: 0 | CK10: Flinca | CL10: 0 | CM10: Flinca | CN10: 0 | CO10: Flinca | CP10: 0 | CQ10: Flinca | CR10: 0 | CS10: Flinca | CT10: 0 | CU10: Flinca | CV10: 0 | CW10: Flinca | CX10: 0 | CY10: Flinca | CZ10: 0 | DA10: Flinca | DB10: 10 | DC10: Flinca | DD10: 10 | DE10: Flinca | DF10: 0 | DG10: Flinca | DH10: 0 | DI10: Flinca | DJ10: 0 | DK10: Flinca | DL10: 0 | DM10: Flinca | DN10: 0 | DO10: Flinca | DP10: 0 | DQ10: Flinca | DR10: 0 | DS10: Flinca | DT10: 0 | DU10: Flinca | DV10: 0 | DW10: Flinca | DX10: 0 | DY10: Flinca | DZ10: 0 | EA10: Flinca | EB10: 0 | EC10: Flinca | ED10: 0 | EE10: Flinca | EF10: 0 | EG10: Flinca | EH10: 0 | EI10: Flinca | EJ10: 0 | EK10: Flinca | EL10: 0 | EM10: Flinca | EN10: 0 | EO10: Flinca | EP10: 10 | EQ10: Flinca | ER10: 10 | ES10: Flinca | ET10: 0 | EU10: Flinca | EV10: 0 | EW10: Flinca | EX10: 0 | EY10: Flinca | EZ10: 0 | FA10: Flinca | FB10: 0 | FC10: Flinca | FD10: 0 | FE10: Flinca | FF10: 0 | FG10: Flinca | FH10: 0 | FI10: Flinca | FJ10: 10 | FK10: Flinca | FL10: 10 | FM10: Flinca | FN10: 0 | FO10: Flinca | FP10: 0 | FQ10: Flinca | FR10: 0 | FS10: Flinca | FT10: 0 | FU10: Flinca | FV10: 0 | FW10: Flinca | FX10: 0 | FY10: Flinca | FZ10: 0 | GA10: Flinca | GB10: 0 | GC10: Flinca | GD10: 0 | GE10: Flinca | GF10: 0 | GG10: Flinca | GH10: 0 | GI10: Flinca | GJ10: 0 | GK10: Flinca | GL10: 0 | GM10: Flinca | GN10: 0 | GO10: Flinca | GP10: 0 | GQ10: Flinca | GR10: 0 | GS10: Flinca | GT10: 0 | GU10: Flinca | GV10: 0 | GW10: Flinca | GX10: 0 | GY10: Flinca | GZ10: 0 | HA10: Flinca | HB10: 0 | HC10: Flinca | HD10: 0
A11: Fox | B11: 2 | C11: Fox | D11: 2 | E11: Percy | F11: 0 | G11: Fox | H11: 0 | I11: Frydkær | J11: 3 | K11: Fox | L11: 3 | M11: Percy | N11: 0 | O11: Fox | P11: 4 | Q11: Fox | R11: 0 | S11: Fox | T11: 0 | U11: Fox | V11: 0 | W11: Fox | X11: 0 | Y11: Fox | Z11: 0 | AA11: Fox | AB11: 0 | AC11: Fox | AD11: 0 | AE11: Fox | AF11: 0 | AG11: Fox | AH11: 0 | AI11: Fox | AJ11: 0 | AK11: Fox | AL11: 0 | AM11: Fox | AN11: 0 | AO11: Fox | AP11: 0 | AQ11: Fox | AR11: 0 | AS11: Fox | AT11: 0 | AU11: Fox | AV11: 0 | AW11: Fox | AX11: 0 | AY11: Fox | AZ11: 0 | BA11: Fox | BB11: 0 | BC11: Fox | BD11: 0 | BE11: Fox | BF11: 0 | BG11: Fox | BH11: 0 | BI11: Fox | BJ11: 0 | BK11: Fox | BL11: 0 | BM11: Fox | BN11: 0 | BO11: Fox | BP11: 0 | BQ11: Fox | BR11: 0 | BS11: Fox | BT11: 0 | BU11: Fox | BV11: 0 | BW11: Fox | BX11: 0 | BY11: Fox | BZ11: 0 | CA11: Fox | CB11: 0 | CC11: Fox | CD11: 0 | CE11: Fox | CF11: 0 | CG11: Fox | CH11: 0 | CI11: Fox | CJ11: 0 | CK11: Fox | CL11: 10 | CM11: Fox | CN11: 10 | CO11: Fox | CP11: 0 | CQ11: Fox | CR11: 0 | CS11: Fox | CT11: 0 | CU11: Fox | CV11: 0 | CW11: Fox | CX11: 0 | CY11: Fox | CZ11: 0 | DA11: Fox | DB11: 10 | DC11: Fox | DD11: 10 | DE11: Fox | DF11: 0 | DG11: Fox | DH11: 0 | DI11: Fox | DJ11: 0 | DK11: Fox | DL11: 0 | DM11: Fox | DN11: 0 | DO11: Fox | DP11: 0 | DQ11: Fox | DR11: 0 | DS11: Fox | DT11: 0 | DU11: Fox | DV11: 0 | DW11: Fox | DX11: 0 | DY11: Fox | DZ11: 0 | EA11: Fox | EB11: 0 | EC11: Fox | ED11: 0 | EE11: Fox | EF11: 0 | EG11: Fox | EH11: 0 | EI11: Fox | EJ11: 0 | EK11: Fox | EL11: 0 | EM11: Fox | EN11: 0 | EO11: Fox | EP11: 0 | EQ11: Fox | ER11: 0 | ES11: Fox | ET11: 0 | EU11: Fox | EV11: 0 | EW11: Fox | EX11: 0 | EY11: Fox | EZ11: 0 | FA11: Fox | FB11: 0 | FC11: Fox | FD11: 0 | FE11: Fox | FF11: 0 | FG11: Fox | FH11: 0 | FI11: Fox | FJ11: 0 | FK11: Fox | FL11: 0 | FM11: Fox | FN11: 0 | FO11: Fox | FP11: 0 | FQ11: Fox | FR11: 0 | FS11: Fox | FT11: 0 | FU11: Fox | FV11: 0 | FW11: Fox | FX11: 0 | FY11: Fox | FZ11: 0 | GA11: Fox | GB11: 0 | GC11: Fox | GD11: 0 | GE11: Fox | GF11: 0 | GG11: Fox | GH11: 0 | GI11: Fox | GJ11: 0 | GK11: Fox | GL11: 0 | GM11: Fox | GN11: 0 | GO11: Fox | GP11: 0 | GQ11: Fox | GR11: 0 | GS11: Fox | GT11: 0 | GU11: Fox | GV11: 0 | GW11: Fox | GX11: 0 | GY11: Fox | GZ11: 0 | HA11: Fox | HB11: 0 | HC11: Fox | HD11: 0
A12: Frydkær | B12: 0 | C12: Frydkær | D12: 0 | E12: Select | F12: 0 | G12: Frydkær | H12: 3 | I12: Futte | J12: 0 | K12: Frydkær | L12: 3 | M12: Cork | N12: 0 | O12: Frydkær | P12: 0 | Q12: Frydkær | R12: 0 | S12: Frydkær | T12: 0 | U12: Frydkær | V12: 0 | W12: Frydkær | X12: 0 | Y12: Frydkær | Z12: 0 | AA12: Frydkær | AB12: 0 | AC12: Frydkær | AD12: 0 | AE12: Frydkær | AF12: 0 | AG12: Frydkær | AH12: 10 | AI12: Frydkær | AJ12: 10 | AK12: Frydkær | AL12: 0 | AM12: Frydkær | AN12: 0 | AO12: Frydkær | AP12: 0 | AQ12: Frydkær | AR12: 0 | AS12: Frydkær | AT12: 0 | AU12: Frydkær | AV12: 0 | AW12: Frydkær | AX12: 0 | AY12: Frydkær | AZ12: 0 | BA12: Frydkær | BB12: 0 | BC12: Frydkær | BD12: 0 | BE12: Frydkær | BF12: 0 | BG12: Frydkær | BH12: 0 | BI12: Frydkær | BJ12: 0 | BK12: Frydkær | BL12: 0 | BM12: Frydkær | BN12: 0 | BO12: Frydkær | BP12: 0 | BQ12: Frydkær | BR12: 0 | BS12: Frydkær | BT12: 0 | BU12: Frydkær | BV12: 0 | BW12: Frydkær | BX12: 0 | BY12: Frydkær | BZ12: 0 | CA12: Frydkær | CB12: 0 | CC12: Frydkær | CD12: 0 | CE12: Frydkær | CF12: 0 | CG12: Frydkær | CH12: 0 | CI12: Frydkær | CJ12: 0 | CK12: Frydkær | CL12: 0 | CM12: Frydkær | CN12: 0 | CO12: Frydkær | CP12: 0 | CQ12: Frydkær | CR12: 0 | CS12: Frydkær | CT12: 0 | CU12: Frydkær | CV12: 0 | CW12: Frydkær | CX12: 0 | CY12: Frydkær | CZ12: 0 | DA12: Frydkær | DB12: 10 | DC12: Frydkær | DD12: 10 | DE12: Frydkær | DF12: 0 | DG12: Frydkær | DH12: 0 | DI12: Frydkær | DJ12: 0 | DK12: Frydkær | DL12: 0 | DM12: Frydkær | DN12: 0 | DO12: Frydkær | DP12: 0 | DQ12: Frydkær | DR12: 0 | DS12: Frydkær | DT12: 0 | DU12: Frydkær | DV12: 0 | DW12: Frydkær | DX12: 0 | DY12: Frydkær | DZ12: 0 | EA12: Frydkær | EB12: 0 | EC12: Frydkær | ED12: 0 | EE12: Frydkær | EF12: 0 | EG12: Frydkær | EH12: 0 | EI12: Frydkær | EJ12: 0 | EK12: Frydkær | EL12: 0 | EM12: Frydkær | EN12: 0 | EO12: Frydkær | EP12: 0 | EQ12: Frydkær | ER12: 0 | ES12: Frydkær | ET12: 0 | EU12: Frydkær | EV12: 0 | EW12: Frydkær | EX12: 0 | EY12: Frydkær | EZ12: 0 | FA12: Frydkær | FB12: 0 | FC12: Frydkær | FD12: 0 | FE12: Frydkær | FF12: 0 | FG12: Frydkær | FH12: 0 | FI12: Frydkær | FJ12: 10 | FK12: Frydkær | FL12: 10 | FM12: Frydkær | FN12: 0 | FO12: Frydkær | FP12: 0 | FQ12: Frydkær | FR12: 0 | FS12: Frydkær | FT12: 0 | FU12: Frydkær | FV12: 0 | FW12: Frydkær | FX12: 0 | FY12: Frydkær | FZ12: 0 | GA12: Frydkær | GB12: 0 | GC12: Frydkær | GD12: 0 | GE12: Frydkær | GF12: 0 | GG12: Frydkær | GH12: 0 | GI12: Frydkær | GJ12: 0 | GK12: Frydkær | GL12: 0 | GM12: Frydkær | GN12: 0 | GO12: Frydkær | GP12: 0 | GQ12: Frydkær | GR12: 0 | GS12: Frydkær | GT12: 0 | GU12: Frydkær | GV12: 0 | GW12: Frydkær | GX12: 0 | GY12: Frydkær | GZ12: 0 | HA12: Frydkær | HB12: 0 | HC12: Frydkær | HD12: 0
A13: Futte | B13: 0 | C13: Futte | D13: 0 | E13: United | F13: 0 | G13: Futte | H13: 3 | I13: Himbo | J13: 3 | K13: Futte | L13: 0 | M13: Zico | N13: 4 | O13: Futte | P13: 0 | Q13: Futte | R13: 0 | S13: Futte | T13: 0 | U13: Futte | V13: 0 | W13: Futte | X13: 0 | Y13: Futte | Z13: 0 | AA13: Futte | AB13: 0 | AC13: Futte | AD13: 0 | AE13: Futte | AF13: 0 | AG13: Futte | AH13: 0 | AI13: Futte | AJ13: 0 | AK13: Futte | AL13: 0 | AM13: Futte | AN13: 0 | AO13: Futte | AP13: 0 | AQ13: Futte | AR13: 0 | AS13: Futte | AT13: 0 | AU13: Futte | AV13: 0 | AW13: Futte | AX13: 0 | AY13: Futte | AZ13: 0 | BA13: Futte | BB13: 0 | BC13: Futte | BD13: 0 | BE13: Futte | BF13: 0 | BG13: Futte | BH13: 0 | BI13: Futte | BJ13: 0 | BK13: Futte | BL13: 0 | BM13: Futte | BN13: 0 | BO13: Futte | BP13: 0 | BQ13: Futte | BR13: 0 | BS13: Futte | BT13: 0 | BU13: Futte | BV13: 0 | BW13: Futte | BX13: 0 | BY13: Futte | BZ13: 0 | CA13: Futte | CB13: 0 | CC13: Futte | CD13: 0 | CE13: Futte | CF13: 0 | CG13: Futte | CH13: 0 | CI13: Futte | CJ13: 0 | CK13: Futte | CL13: 0 | CM13: Futte | CN13: 0 | CO13: Futte | CP13: 0 | CQ13: Futte | CR13: 0 | CS13: Futte | CT13: 0 | CU13: Futte | CV13: 0 | CW13: Futte | CX13: 0 | CY13: Futte | CZ13: 0 | DA13: Futte | DB13: 10 | DC13: Futte | DD13: 10 | DE13: Futte | DF13: 0 | DG13: Futte | DH13: 0 | DI13: Futte | DJ13: 10 | DK13: Futte | DL13: 10 | DM13: Futte | DN13: 0 | DO13: Futte | DP13: 0 | DQ13: Futte | DR13: 0 | DS13: Futte | DT13: 0 | DU13: Futte | DV13: 0 | DW13: Futte | DX13: 0 | DY13: Futte | DZ13: 0 | EA13: Futte | EB13: 0 | EC13: Futte | ED13: 0 | EE13: Futte | EF13: 0 | EG13: Futte | EH13: 0 | EI13: Futte | EJ13: 0 | EK13: Futte | EL13: 0 | EM13: Futte | EN13: 0 | EO13: Futte | EP13: 0 | EQ13: Futte | ER13: 0 | ES13: Futte | ET13: 0 | EU13: Futte | EV13: 0 | EW13: Futte | EX13: 0 | EY13: Futte | EZ13: 0 | FA13: Futte | FB13: 0 | FC13: Futte | FD13: 0 | FE13: Futte | FF13: 0 | FG13: Futte | FH13: 0 | FI13: Futte | FJ13: 0 | FK13: Futte | FL13: 0 | FM13: Futte | FN13: 0 | FO13: Futte | FP13: 0 | FQ13: Futte | FR13: 0 | FS13: Futte | FT13: 0 | FU13: Futte | FV13: 0 | FW13: Futte | FX13: 0 | FY13: Futte | FZ13: 0 | GA13: Futte | GB13: 0 | GC13: Futte | GD13: 0 | GE13: Futte | GF13: 0 | GG13: Futte | GH13: 0 | GI13: Futte | GJ13: 0 | GK13: Futte | GL13: 0 | GM13: Futte | GN13: 0 | GO13: Futte | GP13: 0 | GQ13: Futte | GR13: 0 | GS13: Futte | GT13: 0 | GU13: Futte | GV13: 0 | GW13: Futte | GX13: 0 | GY13: Futte | GZ13: 0 | HA13: Futte | HB13: 0 | HC13: Futte | HD13: 0
A14: Himbo | B14: 0 | C14: Himbo | D14: 0 | E14: Kailua | F14: 0 | G14: Himbo | H14: 0 | I14: Fox | J14: 3 | K14: Himbo | L14: 3 | M14: Futte | N14: 0 | O14: Himbo | P14: 0 | Q14: Himbo | R14: 0 | S14: Himbo | T14: 0 | U14: Himbo | V14: 0 | W14: Himbo | X14: 0 | Y14: Himbo | Z14: 0 | AA14: Himbo | AB14: 0 | AC14: Himbo | AD14: 0 | AE14: Himbo | AF14: 0 | AG14: Himbo | AH14: 0 | AI14: Himbo | AJ14: 0 | AK14: Himbo | AL14: 0 | AM14: Himbo | AN14: 0 | AO14: Himbo | AP14: 0 | AQ14: Himbo | AR14: 0 | AS14: Himbo | AT14: 0 | AU14: Himbo | AV14: 0 | AW14: Himbo | AX14: 0 | AY14: Himbo | AZ14: 0 | BA14: Himbo | BB14: 0 | BC14: Himbo | BD14: 0 | BE14: Himbo | BF14: 0 | BG14: Himbo | BH14: 0 | BI14: Himbo | BJ14: 0 | BK14: Himbo | BL14: 0 | BM14: Himbo | BN14: 0 | BO14: Himbo | BP14: 0 | BQ14: Himbo | BR14: 0 | BS14: Himbo | BT14: 0 | BU14: Himbo | BV14: 0 | BW14: Himbo | BX14: 0 | BY14: Himbo | BZ14: 0 | CA14: Himbo | CB14: 0 | CC14: Himbo | CD14: 0 | CE14: Himbo | CF14: 0 | CG14: Himbo | CH14: 0 | CI14: Himbo | CJ14: 0 | CK14: Himbo | CL14: 0 | CM14: Himbo | CN14: 0 | CO14: Himbo | CP14: 0 | CQ14: Himbo | CR14: 0 | CS14: Himbo | CT14: 0 | CU14: Himbo | CV14: 0 | CW14: Himbo | CX14: 0 | CY14: Himbo | CZ14: 0 | DA14: Himbo | DB14: 10 | DC14: Himbo | DD14: 10 | DE14: Himbo | DF14: 0 | DG14: Himbo | DH14: 0 | DI14: Himbo | DJ14: 10 | DK14: Himbo | DL14: 10 | DM14: Himbo | DN14: 0 | DO14: Himbo | DP14: 0 | DQ14: Himbo | DR14: 0 | DS14: Himbo | DT14: 0 | DU14: Himbo | DV14: 0 | DW14: Himbo | DX14: 0 | DY14: Himbo | DZ14: 0 | EA14: Himbo | EB14: 0 | EC14: Himbo | ED14: 0 | EE14: Himbo | EF14: 0 | EG14: Himbo | EH14: 0 | EI14: Himbo | EJ14: 0 | EK14: Himbo | EL14: 0 | EM14: Himbo | EN14: 0 | EO14: Himbo | EP14: 10 | EQ14: Himbo | ER14: 10 | ES14: Himbo | ET14: 0 | EU14: Himbo | EV14: 0 | EW14: Himbo | EX14: 0 | EY14: Himbo | EZ14: 0 | FA14: Himbo | FB14: 0 | FC14: Himbo | FD14: 0 | FE14: Himbo | FF14: 0 | FG14: Himbo | FH14: 0 | FI14: Himbo | FJ14: 0 | FK14: Himbo | FL14: 0 | FM14: Himbo | FN14: 0 | FO14: Himbo | FP14: 0 | FQ14: Himbo | FR14: 0 | FS14: Himbo | FT14: 0 | FU14: Himbo | FV14: 0 | FW14: Himbo | FX14: 0 | FY14: Himbo | FZ14: 0 | GA14: Himbo | GB14: 0 | GC14: Himbo | GD14: 0 | GE14: Himbo | GF14: 0 | GG14: Himbo | GH14: 0 | GI14: Himbo | GJ14: 0 | GK14: Himbo | GL14: 0 | GM14: Himbo | GN14: 0 | GO14: Himbo | GP14: 0 | GQ14: Himbo | GR14: 0 | GS14: Himbo | GT14: 0 | GU14: Himbo | GV14: 0 | GW14: Himbo | GX14: 0 | GY14: Himbo | GZ14: 0 | HA14: Himbo | HB14: 0 | HC14: Himbo | HD14: 0
A15: Idskov | B15: 0 | C15: Idskov | D15: 0 | E15: Zico | F15: 3 | G15: Idskov | H15: 0 | I15: United | J15: 0 | K15: Idskov | L15: 0 | M15: Frydkær | N15: 0 | O15: Idskov | P15: 0 | Q15: Idskov | R15: 0 | S15: Idskov | T15: 0 | U15: Idskov | V15: 0 | W15: Idskov | X15: 0 | Y15: Idskov | Z15: 0 | AA15: Idskov | AB15: 0 | AC15: Idskov | AD15: 0 | AE15: Idskov | AF15: 0 | AG15: Idskov | AH15: 0 | AI15: Idskov | AJ15: 0 | AK15: Idskov | AL15: 0 | AM15: Idskov | AN15: 0 | AO15: Idskov | AP15: 0 | AQ15: Idskov | AR15: 0 | AS15: Idskov | AT15: 0 | AU15: Idskov | AV15: 0 | AW15: Idskov | AX15: 0 | AY15: Idskov | AZ15: 0 | BA15: Idskov | BB15: 0 | BC15: Idskov | BD15: 0 | BE15: Idskov | BF15: 10 | BG15: Idskov | BH15: 10 | BI15: Idskov | BJ15: 0 | BK15: Idskov | BL15: 0 | BM15: Idskov | BN15: 0 | BO15: Idskov | BP15: 0 | BQ15: Idskov | BR15: 0 | BS15: Idskov | BT15: 0 | BU15: Idskov | BV15: 0 | BW15: Idskov | BX15: 0 | BY15: Idskov | BZ15: 0 | CA15: Idskov | CB15: 0 | CC15: Idskov | CD15: 0 | CE15: Idskov | CF15: 0 | CG15: Idskov | CH15: 0 | CI15: Idskov | CJ15: 0 | CK15: Idskov | CL15: 0 | CM15: Idskov | CN15: 0 | CO15: Idskov | CP15: 0 | CQ15: Idskov | CR15: 0 | CS15: Idskov | CT15: 0 | CU15: Idskov | CV15: 0 | CW15: Idskov | CX15: 0 | CY15: Idskov | CZ15: 0 | DA15: Idskov | DB15: 10 | DC15: Idskov | DD15: 10 | DE15: Idskov | DF15: 0 | DG15: Idskov | DH15: 0 | DI15: Idskov | DJ15: 0 | DK15: Idskov | DL15: 0 | DM15: Idskov | DN15: 0 | DO15: Idskov | DP15: 0 | DQ15: Idskov | DR15: 0 | DS15: Idskov | DT15: 0 | DU15: Idskov | DV15: 0 | DW15: Idskov | DX15: 0 | DY15: Idskov | DZ15: 0 | EA15: Idskov | EB15: 0 | EC15: Idskov | ED15: 0 | EE15: Idskov | EF15: 0 | EG15: Idskov | EH15: 0 | EI15: Idskov | EJ15: 0 | EK15: Idskov | EL15: 0 | EM15: Idskov | EN15: 0 | EO15: Idskov | EP15: 0 | EQ15: Idskov | ER15: 0 | ES15: Idskov | ET15: 0 | EU15: Idskov | EV15: 0 | EW15: Idskov | EX15: 0 | EY15: Idskov | EZ15: 0 | FA15: Idskov | FB15: 0 | FC15: Idskov | FD15: 0 | FE15: Idskov | FF15: 0 | FG15: Idskov | FH15: 0 | FI15: Idskov | FJ15: 0 | FK15: Idskov | FL15: 0 | FM15: Idskov | FN15: 0 | FO15: Idskov | FP15: 0 | FQ15: Idskov | FR15: 0 | FS15: Idskov | FT15: 0 | FU15: Idskov | FV15: 0 | FW15: Idskov | FX15: 0 | FY15: Idskov | FZ15: 0 | GA15: Idskov | GB15: 0 | GC15: Idskov | GD15: 0 | GE15: Idskov | GF15: 0 | GG15: Idskov | GH15: 0 | GI15: Idskov | GJ15: 0 | GK15: Idskov | GL15: 0 | GM15: Idskov | GN15: 0 | GO15: Idskov | GP15: 0 | GQ15: Idskov | GR15: 0 | GS15: Idskov | GT15: 0 | GU15: Idskov | GV15: 0 | GW15: Idskov | GX15: 0 | GY15: Idskov | GZ15: 0 | HA15: Idskov | HB15: 0 | HC15: Idskov | HD15: 0
A16: Kailua | B16: 0 | C16: Kailua | D16: 0 | E16: Degnen | F16: 3 | G16: Kailua | H16: 0 | I16: Stoke | J16: 3 | K16: Kailua | L16: 0 | M16: United | N16: 0 | O16: Kailua | P16: 0 | Q16: Kailua | R16: 0 | S16: Kailua | T16: 0 | U16: Kailua | V16: 0 | W16: Kailua | X16: 0 | Y16: Kailua | Z16: 0 | AA16: Kailua | AB16: 0 | AC16: Kailua | AD16: 0 | AE16: Kailua | AF16: 0 | AG16: Kailua | AH16: 10 | AI16: Kailua | AJ16: 10 | AK16: Kailua | AL16: 0 | AM16: Kailua | AN16: 0 | AO16: Kailua | AP16: 0 | AQ16: Kailua | AR16: 0 | AS16: Kailua | AT16: 0 | AU16: Kailua | AV16: 0 | AW16: Kailua | AX16: 0 | AY16: Kailua | AZ16: 0 | BA16: Kailua | BB16: 0 | BC16: Kailua | BD16: 0 | BE16: Kailua | BF16: 0 | BG16: Kailua | BH16: 0 | BI16: Kailua | BJ16: 0 | BK16: Kailua | BL16: 0 | BM16: Kailua | BN16: 0 | BO16: Kailua | BP16: 0 | BQ16: Kailua | BR16: 0 | BS16: Kailua | BT16: 0 | BU16: Kailua | BV16: 0 | BW16: Kailua | BX16: 0 | BY16: Kailua | BZ16: 0 | CA16: Kailua | CB16: 0 | CC16: Kailua | CD16: 0 | CE16: Kailua | CF16: 0 | CG16: Kailua | CH16: 0 | CI16: Kailua | CJ16: 0 | CK16: Kailua | CL16: 10 | CM16: Kailua | CN16: 10 | CO16: Kailua | CP16: 0 | CQ16: Kailua | CR16: 0 | CS16: Kailua | CT16: 0 | CU16: Kailua | CV16: 0 | CW16: Kailua | CX16: 0 | CY16: Kailua | CZ16: 0 | DA16: Kailua | DB16: 10 | DC16: Kailua | DD16: 10 | DE16: Kailua | DF16: 0 | DG16: Kailua | DH16: 0 | DI16: Kailua | DJ16: 0 | DK16: Kailua | DL16: 0 | DM16: Kailua | DN16: 10 | DO16: Kailua | DP16: 10 | DQ16: Kailua | DR16: 0 | DS16: Kailua | DT16: 0 | DU16: Kailua | DV16: 0 | DW16: Kailua | DX16: 0 | DY16: Kailua | DZ16: 0 | EA16: Kailua | EB16: 0 | EC16: Kailua | ED16: 0 | EE16: Kailua | EF16: 0 | EG16: Kailua | EH16: 0 | EI16: Kailua | EJ16: 0 | EK16: Kailua | EL16: 0 | EM16: Kailua | EN16: 0 | EO16: Kailua | EP16: 0 | EQ16: Kailua | ER16: 0 | ES16: Kailua | ET16: 0 | EU16: Kailua | EV16: 0 | EW16: Kailua | EX16: 0 | EY16: Kailua | EZ16: 0 | FA16: Kailua | FB16: 0 | FC16: Kailua | FD16: 0 | FE16: Kailua | FF16: 0 | FG16: Kailua | FH16: 0 | FI16: Kailua | FJ16: 0 | FK16: Kailua | FL16: 0 | FM16: Kailua | FN16: 0 | FO16: Kailua | FP16: 0 | FQ16: Kailua | FR16: 0 | FS16: Kailua | FT16: 0 | FU16: Kailua | FV16: 0 | FW16: Kailua | FX16: 0 | FY16: Kailua | FZ16: 0 | GA16: Kailua | GB16: 0 | GC16: Kailua | GD16: 0 | GE16: Kailua | GF16: 0 | GG16: Kailua | GH16: 0 | GI16: Kailua | GJ16: 0 | GK16: Kailua | GL16: 0 | GM16: Kailua | GN16: 0 | GO16: Kailua | GP16: 0 | GQ16: Kailua | GR16: 0 | GS16: Kailua | GT16: 0 | GU16: Kailua | GV16: 0 | GW16: Kailua | GX16: 0 | GY16: Kailua | GZ16: 0 | HA16: Kailua | HB16: 0 | HC16: Kailua | HD16: 0
... A23: Zico | B23: 0 | C23: Zico | D23: 0 | E23: Flinca | F23: 0 | G23: Zico | H23: 3 | I23: Idskov | J23: 0 | K23: Zico | L23: 0 | M23: Chelsea | N23: 0 | O23: Zico | P23: 4 | Q23: Zico | R23: 0 | S23: Zico | T23: 0 | U23: Zico | V23: 0 | W23: Zico | X23: 0 | Y23: Zico | Z23: 0 | AA23: Zico | AB23: 0 | AC23: Zico | AD23: 0 | AE23: Zico | AF23: 0 | AG23: Zico | AH23: 0 | AI23: Zico | AJ23: 0 | AK23: Zico | AL23: 0 | AM23: Zico | AN23: 0 | AO23: Zico | AP23: 0 | AQ23: Zico | AR23: 0 | AS23: Zico | AT23: 0 | AU23: Zico | AV23: 0 | AW23: Zico | AX23: 0 | AY23: Zico | AZ23: 0 | BA23: Zico | BB23: 0 | BC23: Zico | BD23: 0 | BE23: Zico | BF23: 0 | BG23: Zico | BH23: 0 | BI23: Zico | BJ23: 0 | BK23: Zico | BL23: 0 | BM23: Zico | BN23: 0 | BO23: Zico | BP23: 0 | BQ23: Zico | BR23: 0 | BS23: Zico | BT23: 0 | BU23: Zico | BV23: 0 | BW23: Zico | BX23: 0 | BY23: Zico | BZ23: 0 | CA23: Zico | CB23: 0 | CC23: Zico | CD23: 0 | CE23: Zico | CF23: 0 | CG23: Zico | CH23: 0 | CI23: Zico | CJ23: 0 | CK23: Zico | CL23: 0 | CM23: Zico | CN23: 0 | CO23: Zico | CP23: 0 | CQ23: Zico | CR23: 0 | CS23: Zico | CT23: 0 | CU23: Zico | CV23: 0 | CW23: Zico | CX23: 0 | CY23: Zico | CZ23: 0 | DA23: Zico | DB23: 10 | DC23: Zico | DD23: 10 | DE23: Zico | DF23: 0 | DG23: Zico | DH23: 0 | DI23: Zico | DJ23: 0 | DK23: Zico | DL23: 0 | DM23: Zico | DN23: 0 | DO23: Zico | DP23: 0 | DQ23: Zico | DR23: 0 | DS23: Zico | DT23: 0 | DU23: Zico | DV23: 0 | DW23: Zico | DX23: 0 | DY23: Zico | DZ23: 0 | EA23: Zico | EB23: 0 | EC23: Zico | ED23: 0 | EE23: Zico | EF23: 0 | EG23: Zico | EH23: 0 | EI23: Zico | EJ23: 0 | EK23: Zico | EL23: 0 | EM23: Zico | EN23: 0 | EO23: Zico | EP23: 0 | EQ23: Zico | ER23: 0 | ES23: Zico | ET23: 0 | EU23: Zico | EV23: 0 | EW23: Zico | EX23: 0 | EY23: Zico | EZ23: 0 | FA23: Zico | FB23: 0 | FC23: Zico | FD23: 0 | FE23: Zico | FF23: 0 | FG23: Zico | FH23: 0 | FI23: Zico | FJ23: 0 | FK23: Zico | FL23: 0 | FM23: Zico | FN23: 0 | FO23: Zico | FP23: 0 | FQ23: Zico | FR23: 0 | FS23: Zico | FT23: 0 | FU23: Zico | FV23: 0 | FW23: Zico | FX23: 0 | FY23: Zico | FZ23: 0 | GA23: Zico | GB23: 0 | GC23: Zico | GD23: 0 | GE23: Zico | GF23: 0 | GG23: Zico | GH23: 0 | GI23: Zico | GJ23: 0 | GK23: Zico | GL23: 0 | GM23: Zico | GN23: 0 | GO23: Zico | GP23: 0 | GQ23: Zico | GR23: 0 | GS23: Zico | GT23: 0 | GU23: Zico | GV23: 0 | GW23: Zico | GX23: 0 | GY23: Zico | GZ23: 0 | HA23: Zico | HB23: 0 | HC23: Zico | HD23: 0
A25: Agger | B25: 0 | C25: {=_xlfn._xlws.SORT(A25:B44)} -> Agger | D25: 0 | E25: McCoist | F25: 0 | G25: {=_xlfn._xlws.SORT(E25:F44)} -> Agger | H25: 5 | I25: Agger | J25: 0 | K25: {=_xlfn._xlws.SORT(I25:J44)} -> Agger | L25: 0 | M25: Anderup | N25: 4 | O25: {=_xlfn._xlws.SORT(M25:N44)} -> Agger | P25: 0 | Q25: Agger | R25: 0 | S25: {=_xlfn._xlws.SORT(Q25:R44)} -> Agger | T25: 0 | U25: Agger | V25: 0 | W25: {=_xlfn._xlws.SORT(U25:V44)} -> Agger | X25: 0 | Y25: Agger | Z25: 0 | AA25: {=_xlfn._xlws.SORT(Y25:Z44)} -> Agger | AB25: 0 | AC25: Agger | AD25: 0 | AE25: {=_xlfn._xlws.SORT(AC25:AD44)} -> Agger | AF25: 0 | AG25: Agger | AH25: 0 | AI25: {=_xlfn._xlws.SORT(AG25:AH44)} -> Agger | AJ25: 0 | AK25: Agger | AL25: 0 | AM25: {=_xlfn._xlws.SORT(AK25:AL44)} -> Agger | AN25: 0 | AO25: Agger | AP25: 0 | AQ25: {=_xlfn._xlws.SORT(AO25:AP44)} -> Agger | AR25: 0 | AS25: Agger | AT25: 0 | AU25: {=_xlfn._xlws.SORT(AS25:AT44)} -> Agger | AV25: 0 | AW25: Agger | AX25: 0 | AY25: {=_xlfn._xlws.SORT(AW25:AX44)} -> Agger | AZ25: 0 | BA25: Agger | BB25: 0 | BC25: {=_xlfn._xlws.SORT(BA25:BB44)} -> Agger | BD25: 0 | BE25: Agger | BF25: 0 | BG25: {=_xlfn._xlws.SORT(BE25:BF44)} -> Agger | BH25: 0 | BI25: Agger | BJ25: 0 | BK25: {=_xlfn._xlws.SORT(BI25:BJ44)} -> Agger | BL25: 0 | BM25: Agger | BN25: 0 | BO25: {=_xlfn._xlws.SORT(BM25:BN44)} -> Agger | BP25: 0 | BQ25: Agger | BR25: 0 | BS25: {=_xlfn._xlws.SORT(BQ25:BR44)} -> Agger | BT25: 0 | BU25: Agger | BV25: 0 | BW25: {=_xlfn._xlws.SORT(BU25:BV44)} -> Agger | BX25: 0 | BY25: Agger | BZ25: 0 | CA25: {=_xlfn._xlws.SORT(BY25:BZ44)} -> Agger | CB25: 0 | CC25: Agger | CD25: 0 | CE25: {=_xlfn._xlws.SORT(CC25:CD44)} -> Agger | CF25: 0 | CG25: Agger | CH25: 0 | CI25: {=_xlfn._xlws.SORT(CG25:CH44)} -> Agger | CJ25: 0 | CK25: Agger | CL25: 0 | CM25: {=_xlfn._xlws.SORT(CK25:CL44)} -> Agger | CN25: 0 | CO25: Agger | CP25: 0 | CQ25: {=_xlfn._xlws.SORT(CO25:CP44)} -> Agger | CR25: 0 | CS25: Agger | CT25: 0 | CU25: {=_xlfn._xlws.SORT(CS25:CT44)} -> Agger | CV25: 0 | CW25: Agger | CX25: 0 | CY25: {=_xlfn._xlws.SORT(CW25:CX44)} -> Agger | CZ25: 0 | DA25: Agger | DB25: 10 | DC25: {=_xlfn._xlws.SORT(DA25:DB44)} -> Agger | DD25: 10 | DE25: Agger | DF25: 0 | DG25: {=_xlfn._xlws.SORT(DE25:DF44)} -> Agger | DH25: 0 | DI25: Agger | DJ25: 10 | DK25: {=_xlfn._xlws.SORT(DI25:DJ44)} -> Agger | DL25: 10 | DM25: Agger | DN25: 0 | DO25: {=_xlfn._xlws.SORT(DM25:DN44)} -> Agger | DP25: 0 | DQ25: Agger | DR25: 0 | DS25: {=_xlfn._xlws.SORT(DQ25:DR44)} -> Agger | DT25: 0 | DU25: Agger | DV25: 0 | DW25: {=_xlfn._xlws.SORT(DU25:DV44)} -> Agger | DX25: 0 | DY25: Agger | DZ25: 0 | EA25: {=_xlfn._xlws.SORT(DY25:DZ44)} -> Agger | EB25: 0 | EC25: Agger | ED25: 0 | EE25: {=_xlfn._xlws.SORT(EC25:ED44)} -> Agger | EF25: 0 | EG25: Agger | EH25: 0 | EI25: {=_xlfn._xlws.SORT(EG25:EH44)} -> Agger | EJ25: 0 | EK25: Agger | EL25: 0 | EM25: {=_xlfn._xlws.SORT(EK25:EL44)} -> Agger | EN25: 0 | EO25: Agger | EP25: 0 | EQ25: {=_xlfn._xlws.SORT(EO25:EP44)} -> Agger | ER25: 0 | ES25: Agger | ET25: 0 | EU25: {=_xlfn._xlws.SORT(ES25:ET44)} -> Agger | EV25: 0 | EW25: Agger | EX25: 0 | EY25: {=_xlfn._xlws.SORT(EW25:EX44)} -> Agger | EZ25: 0 | FA25: Agger | FB25: 0 | FC25: {=_xlfn._xlws.SORT(FA25:FB44)} -> Agger | FD25: 0 | FE25: Agger | FF25: 0 | FG25: {=_xlfn._xlws.SORT(FE25:FF44)} -> Agger | FH25: 0 | FI25: Agger | FJ25: 0 | FK25: {=_xlfn._xlws.SORT(FI25:FJ44)} -> Agger | FL25: 0 | FM25: Agger | FN25: 0 | FO25: {=_xlfn._xlws.SORT(FM25:FN44)} -> Agger | FP25: 0 | FQ25: Agger | FR25: 0 | FS25: {=_xlfn._xlws.SORT(FQ25:FR44)} -> Agger | FT25: 0 | FU25: Agger | FV25: 0 | FW25: {=_xlfn._xlws.SORT(FU25:FV44)} -> Agger | FX25: 0 | FY25: Agger | FZ25: 0 | GA25: {=_xlfn._xlws.SORT(FY25:FZ44)} -> Agger | GB25: 0 | GC25: Agger | GD25: 0 | GE25: {=_xlfn._xlws.SORT(GC25:GD44)} -> Agger | GF25: 0 | GG25: Agger | GH25: 0 | GI25: {=_xlfn._xlws.SORT(GG25:GH44)} -> Agger | GJ25: 0 | GK25: Agger | GL25: 0 | GM25: {=_xlfn._xlws.SORT(GK25:GL44)} -> Agger | GN25: 0 | GO25: Agger | GP25: 0 | GQ25: {=_xlfn._xlws.SORT(GO25:GP44)} -> Agger | GR25: 0 | GS25: Agger | GT25: 0 | GU25: {=_xlfn._xlws.SORT(GS25:GT44)} -> Agger | GV25: 0 | GW25: Agger | GX25: 0 | GY25: {=_xlfn._xlws.SORT(GW25:GX44)} -> Agger | GZ25: 0 | HA25: Agger | HB25: 0 | HC25: {=_xlfn._xlws.SORT(HA25:HB44)} -> Agger | HD25: 0
A26: Anderup | B26: 0 | C26: Anderup | D26: 0 | E26: Piquet | F26: 0 | G26: Anderup | H26: 3 | I26: SPVK | J26: 0 | K26: Anderup | L26: 10 | M26: Culopip | N26: 0 | O26: Anderup | P26: 4 | Q26: Anderup | R26: 10 | S26: Anderup | T26: 10 | U26: Anderup | V26: 0 | W26: Anderup | X26: 0 | Y26: Anderup | Z26: 0 | AA26: Anderup | AB26: 0 | AC26: Anderup | AD26: 0 | AE26: Anderup | AF26: 0 | AG26: Anderup | AH26: 0 | AI26: Anderup | AJ26: 0 | AK26: Anderup | AL26: 0 | AM26: Anderup | AN26: 0 | AO26: Anderup | AP26: 0 | AQ26: Anderup | AR26: 0 | AS26: Anderup | AT26: 0 | AU26: Anderup | AV26: 0 | AW26: Anderup | AX26: 0 | AY26: Anderup | AZ26: 0 | BA26: Anderup | BB26: 0 | BC26: Anderup | BD26: 0 | BE26: Anderup | BF26: 0 | BG26: Anderup | BH26: 0 | BI26: Anderup | BJ26: 10 | BK26: Anderup | BL26: 10 | BM26: Anderup | BN26: 0 | BO26: Anderup | BP26: 0 | BQ26: Anderup | BR26: 0 | BS26: Anderup | BT26: 0 | BU26: Anderup | BV26: 0 | BW26: Anderup | BX26: 0 | BY26: Anderup | BZ26: 0 | CA26: Anderup | CB26: 0 | CC26: Anderup | CD26: 0 | CE26: Anderup | CF26: 0 | CG26: Anderup | CH26: 0 | CI26: Anderup | CJ26: 0 | CK26: Anderup | CL26: 0 | CM26: Anderup | CN26: 0 | CO26: Anderup | CP26: 0 | CQ26: Anderup | CR26: 0 | CS26: Anderup | CT26: 0 | CU26: Anderup | CV26: 0 | CW26: Anderup | CX26: 0 | CY26: Anderup | CZ26: 0 | DA26: Anderup | DB26: 10 | DC26: Anderup | DD26: 10 | DE26: Anderup | DF26: 0 | DG26: Anderup | DH26: 0 | DI26: Anderup | DJ26: 0 | DK26: Anderup | DL26: 0 | DM26: Anderup | DN26: 0 | DO26: Anderup | DP26: 0 | DQ26: Anderup | DR26: 0 | DS26: Anderup | DT26: 0 | DU26: Anderup | DV26: 0 | DW26: Anderup | DX26: 0 | DY26: Anderup | DZ26: 0 | EA26: Anderup | EB26: 0 | EC26: Anderup | ED26: 0 | EE26: Anderup | EF26: 0 | EG26: Anderup | EH26: 0 | EI26: Anderup | EJ26: 0 | EK26: Anderup | EL26: 0 | EM26: Anderup | EN26: 0 | EO26: Anderup | EP26: 0 | EQ26: Anderup | ER26: 0 | ES26: Anderup | ET26: 0 | EU26: Anderup | EV26: 0 | EW26: Anderup | EX26: 0 | EY26: Anderup | EZ26: 0 | FA26: Anderup | FB26: 0 | FC26: Anderup | FD26: 0 | FE26: Anderup | FF26: 0 | FG26: Anderup | FH26: 0 | FI26: Anderup | FJ26: 0 | FK26: Anderup | FL26: 0 | FM26: Anderup | FN26: 0 | FO26: Anderup | FP26: 0 | FQ26: Anderup | FR26: 0 | FS26: Anderup | FT26: 0 | FU26: Anderup | FV26: 0 | FW26: Anderup | FX26: 0 | FY26: Anderup | FZ26: 0 | GA26: Anderup | GB26: 0 | GC26: Anderup | GD26: 0 | GE26: Anderup | GF26: 0 | GG26: Anderup | GH26: 0 | GI26: Anderup | GJ26: 0 | GK26: Anderup | GL26: 0 | GM26: Anderup | GN26: 0 | GO26: Anderup | GP26: 0 | GQ26: Anderup | GR26: 0 | GS26: Anderup | GT26: 0 | GU26: Anderup | GV26: 0 | GW26: Anderup | GX26: 0 | GY26: Anderup | GZ26: 0 | HA26: Anderup | HB26: 0 | HC26: Anderup | HD26: 0
A27: Cottee | B27: 0 | C27: Cottee | D27: 0 | E27: Agger | F27: 5 | G27: Cottee | H27: 0 | I27: Culopip | J27: 3 | K27: Cottee | L27: 0 | M27: McCoist | N27: 0 | O27: Cottee | P27: 0 | Q27: Cottee | R27: 0 | S27: Cottee | T27: 0 | U27: Cottee | V27: 0 | W27: Cottee | X27: 0 | Y27: Cottee | Z27: 0 | AA27: Cottee | AB27: 0 | AC27: Cottee | AD27: 0 | AE27: Cottee | AF27: 0 | AG27: Cottee | AH27: 10 | AI27: Cottee | AJ27: 10 | AK27: Cottee | AL27: 0 | AM27: Cottee | AN27: 0 | AO27: Cottee | AP27: 0 | AQ27: Cottee | AR27: 0 | AS27: Cottee | AT27: 0 | AU27: Cottee | AV27: 0 | AW27: Cottee | AX27: 0 | AY27: Cottee | AZ27: 0 | BA27: Cottee | BB27: 0 | BC27: Cottee | BD27: 0 | BE27: Cottee | BF27: 0 | BG27: Cottee | BH27: 0 | BI27: Cottee | BJ27: 0 | BK27: Cottee | BL27: 0 | BM27: Cottee | BN27: 0 | BO27: Cottee | BP27: 0 | BQ27: Cottee | BR27: 0 | BS27: Cottee | BT27: 0 | BU27: Cottee | BV27: 0 | BW27: Cottee | BX27: 0 | BY27: Cottee | BZ27: 0 | CA27: Cottee | CB27: 0 | CC27: Cottee | CD27: 10 | CE27: Cottee | CF27: 10 | CG27: Cottee | CH27: 10 | CI27: Cottee | CJ27: 10 | CK27: Cottee | CL27: 0 | CM27: Cottee | CN27: 0 | CO27: Cottee | CP27: 0 | CQ27: Cottee | CR27: 0 | CS27: Cottee | CT27: 0 | CU27: Cottee | CV27: 0 | CW27: Cottee | CX27: 0 | CY27: Cottee | CZ27: 0 | DA27: Cottee | DB27: 10 | DC27: Cottee | DD27: 10 | DE27: Cottee | DF27: 0 | DG27: Cottee | DH27: 0 | DI27: Cottee | DJ27: 0 | DK27: Cottee | DL27: 0 | DM27: Cottee | DN27: 0 | DO27: Cottee | DP27: 0 | DQ27: Cottee | DR27: 0 | DS27: Cottee | DT27: 0 | DU27: Cottee | DV27: 0 | DW27: Cottee | DX27: 0 | DY27: Cottee | DZ27: 0 | EA27: Cottee | EB27: 0 | EC27: Cottee | ED27: 0 | EE27: Cottee | EF27: 0 | EG27: Cottee | EH27: 0 | EI27: Cottee | EJ27: 0 | EK27: Cottee | EL27: 0 | EM27: Cottee | EN27: 0 | EO27: Cottee | EP27: 0 | EQ27: Cottee | ER27: 0 | ES27: Cottee | ET27: 0 | EU27: Cottee | EV27: 0 | EW27: Cottee | EX27: 0 | EY27: Cottee | EZ27: 0 | FA27: Cottee | FB27: 0 | FC27: Cottee | FD27: 0 | FE27: Cottee | FF27: 0 | FG27: Cottee | FH27: 0 | FI27: Cottee | FJ27: 10 | FK27: Cottee | FL27: 10 | FM27: Cottee | FN27: 0 | FO27: Cottee | FP27: 0 | FQ27: Cottee | FR27: 0 | FS27: Cottee | FT27: 0 | FU27: Cottee | FV27: 0 | FW27: Cottee | FX27: 0 | FY27: Cottee | FZ27: 0 | GA27: Cottee | GB27: 0 | GC27: Cottee | GD27: 0 | GE27: Cottee | GF27: 0 | GG27: Cottee | GH27: 0 | GI27: Cottee | GJ27: 0 | GK27: Cottee | GL27: 0 | GM27: Cottee | GN27: 0 | GO27: Cottee | GP27: 0 | GQ27: Cottee | GR27: 0 | GS27: Cottee | GT27: 0 | GU27: Cottee | GV27: 0 | GW27: Cottee | GX27: 0 | GY27: Cottee | GZ27: 0 | HA27: Cottee | HB27: 0 | HC27: Cottee | HD27: 0
A28: Culopip | B28: 0 | C28: Culopip | D28: 0 | E28: Culopip | F28: 3 | G28: Culopip | H28: 3 | I28: McCoist | J28: 0 | K28: Culopip | L28: 3 | M28: Forest | N28: 0 | O28: Culopip | P28: 0 | Q28: Culopip | R28: 0 | S28: Culopip | T28: 0 | U28: Culopip | V28: 0 | W28: Culopip | X28: 0 | Y28: Culopip | Z28: 0 | AA28: Culopip | AB28: 0 | AC28: Culopip | AD28: 0 | AE28: Culopip | AF28: 0 | AG28: Culopip | AH28: 0 | AI28: Culopip | AJ28: 0 | AK28: Culopip | AL28: 0 | AM28: Culopip | AN28: 0 | AO28: Culopip | AP28: 0 | AQ28: Culopip | AR28: 0 | AS28: Culopip | AT28: 0 | AU28: Culopip | AV28: 0 | AW28: Culopip | AX28: 0 | AY28: Culopip | AZ28: 0 | BA28: Culopip | BB28: 0 | BC28: Culopip | BD28: 0 | BE28: Culopip | BF28: 0 | BG28: Culopip | BH28: 0 | BI28: Culopip | BJ28: 0 | BK28: Culopip | BL28: 0 | BM28: Culopip | BN28: 0 | BO28: Culopip | BP28: 0 | BQ28: Culopip | BR28: 10 | BS28: Culopip | BT28: 10 | BU28: Culopip | BV28: 0 | BW28: Culopip | BX28: 0 | BY28: Culopip | BZ28: 0 | CA28: Culopip | CB28: 0 | CC28: Culopip | CD28: 0 | CE28: Culopip | CF28: 0 | CG28: Culopip | CH28: 0 | CI28: Culopip | CJ28: 0 | CK28: Culopip | CL28: 0 | CM28: Culopip | CN28: 0 | CO28: Culopip | CP28: 0 | CQ28: Culopip | CR28: 0 | CS28: Culopip | CT28: 0 | CU28: Culopip | CV28: 0 | CW28: Culopip | CX28: 0 | CY28: Culopip | CZ28: 0 | DA28: Culopip | DB28: 10 | DC28: Culopip | DD28: 10 | DE28: Culopip | DF28: 0 | DG28: Culopip | DH28: 0 | DI28: Culopip | DJ28: 10 | DK28: Culopip | DL28: 10 | DM28: Culopip | DN28: 0 | DO28: Culopip | DP28: 0 | DQ28: Culopip | DR28: 10 | DS28: Culopip | DT28: 10 | DU28: Culopip | DV28: 0 | DW28: Culopip | DX28: 0 | DY28: Culopip | DZ28: 0 | EA28: Culopip | EB28: 0 | EC28: Culopip | ED28: 0 | EE28: Culopip | EF28: 0 | EG28: Culopip | EH28: 0 | EI28: Culopip | EJ28: 0 | EK28: Culopip | EL28: 0 | EM28: Culopip | EN28: 0 | EO28: Culopip | EP28: 0 | EQ28: Culopip | ER28: 0 | ES28: Culopip | ET28: 0 | EU28: Culopip | EV28: 0 | EW28: Culopip | EX28: 0 | EY28: Culopip | EZ28: 0 | FA28: Culopip | FB28: 0 | FC28: Culopip | FD28: 0 | FE28: Culopip | FF28: 0 | FG28: Culopip | FH28: 0 | FI28: Culopip | FJ28: 0 | FK28: Culopip | FL28: 0 | FM28: Culopip | FN28: 0 | FO28: Culopip | FP28: 0 | FQ28: Culopip | FR28: 0 | FS28: Culopip | FT28: 0 | FU28: Culopip | FV28: 0 | FW28: Culopip | FX28: 0 | FY28: Culopip | FZ28: 0 | GA28: Culopip | GB28: 0 | GC28: Culopip | GD28: 0 | GE28: Culopip | GF28: 0 | GG28: Culopip | GH28: 0 | GI28: Culopip | GJ28: 0 | GK28: Culopip | GL28: 0 | GM28: Culopip | GN28: 0 | GO28: Culopip | GP28: 0 | GQ28: Culopip | GR28: 0 | GS28: Culopip | GT28: 0 | GU28: Culopip | GV28: 0 | GW28: Culopip | GX28: 0 | GY28: Culopip | GZ28: 0 | HA28: Culopip | HB28: 0 | HC28: Culopip | HD28: 0
A29: Forest | B29: 0 | C29: Forest | D29: 0 | E29: Harry | F29: 0 | G29: Forest | H29: 0 | I29: Anderup | J29: 10 | K29: Forest | L29: 0 | M29: Piquet | N29: 4 | O29: Forest | P29: 0 | Q29: Forest | R29: 0 | S29: Forest | T29: 0 | U29: Forest | V29: 0 | W29: Forest | X29: 0 | Y29: Forest | Z29: 0 | AA29: Forest | AB29: 0 | AC29: Forest | AD29: 0 | AE29: Forest | AF29: 0 | AG29: Forest | AH29: 0 | AI29: Forest | AJ29: 0 | AK29: Forest | AL29: 0 | AM29: Forest | AN29: 0 | AO29: Forest | AP29: 0 | AQ29: Forest | AR29: 0 | AS29: Forest | AT29: 0 | AU29: Forest | AV29: 0 | AW29: Forest | AX29: 0 | AY29: Forest | AZ29: 0 | BA29: Forest | BB29: 0 | BC29: Forest | BD29: 0 | BE29: Forest | BF29: 0 | BG29: Forest | BH29: 0 | BI29: Forest | BJ29: 0 | BK29: Forest | BL29: 0 | BM29: Forest | BN29: 0 | BO29: Forest | BP29: 0 | BQ29: Forest | BR29: 0 | BS29: Forest | BT29: 0 | BU29: Forest | BV29: 0 | BW29: Forest | BX29: 0 | BY29: Forest | BZ29: 0 | CA29: Forest | CB29: 0 | CC29: Forest | CD29: 0 | CE29: Forest | CF29: 0 | CG29: Forest | CH29: 0 | CI29: Forest | CJ29: 0 | CK29: Forest | CL29: 0 | CM29: Forest | CN29: 0 | CO29: Forest | CP29: 0 | CQ29: Forest | CR29: 0 | CS29: Forest | CT29: 0 | CU29: Forest | CV29: 0 | CW29: Forest | CX29: 0 | CY29: Forest | CZ29: 0 | DA29: Forest | DB29: 10 | DC29: Forest | DD29: 10 | DE29: Forest | DF29: 0 | DG29: Forest | DH29: 0 | DI29: Forest | DJ29: 0 | DK29: Forest | DL29: 0 | DM29: Forest | DN29: 0 | DO29: Forest | DP29: 0 | DQ29: Forest | DR29: 0 | DS29: Forest | DT29: 0 | DU29: Forest | DV29: 0 | DW29: Forest | DX29: 0 | DY29: Forest | DZ29: 0 | EA29: Forest | EB29: 0 | EC29: Forest | ED29: 0 | EE29: Forest | EF29: 0 | EG29: Forest | EH29: 0 | EI29: Forest | EJ29: 0 | EK29: Forest | EL29: 0 | EM29: Forest | EN29: 0 | EO29: Forest | EP29: 10 | EQ29: Forest | ER29: 10 | ES29: Forest | ET29: 0 | EU29: Forest | EV29: 0 | EW29: Forest | EX29: 0 | EY29: Forest | EZ29: 0 | FA29: Forest | FB29: 0 | FC29: Forest | FD29: 0 | FE29: Forest | FF29: 0 | FG29: Forest | FH29: 0 | FI29: Forest | FJ29: 0 | FK29: Forest | FL29: 0 | FM29: Forest | FN29: 0 | FO29: Forest | FP29: 0 | FQ29: Forest | FR29: 0 | FS29: Forest | FT29: 0 | FU29: Forest | FV29: 0 | FW29: Forest | FX29: 0 | FY29: Forest | FZ29: 0 | GA29: Forest | GB29: 0 | GC29: Forest | GD29: 0 | GE29: Forest | GF29: 0 | GG29: Forest | GH29: 0 | GI29: Forest | GJ29: 0 | GK29: Forest | GL29: 0 | GM29: Forest | GN29: 0 | GO29: Forest | GP29: 0 | GQ29: Forest | GR29: 0 | GS29: Forest | GT29: 0 | GU29: Forest | GV29: 0 | GW29: Forest | GX29: 0 | GY29: Forest | GZ29: 0 | HA29: Forest | HB29: 0 | HC29: Forest | HD29: 0
A30: Harry | B30: 0 | C30: Harry | D30: 0 | E30: Watson | F30: 0 | G30: Harry | H30: 0 | I30: Nielsen | J30: 0 | K30: Harry | L30: 0 | M30: Agger | N30: 0 | O30: Harry | P30: 4 | Q30: Harry | R30: 0 | S30: Harry | T30: 0 | U30: Harry | V30: 0 | W30: Harry | X30: 0 | Y30: Harry | Z30: 0 | AA30: Harry | AB30: 0 | AC30: Harry | AD30: 0 | AE30: Harry | AF30: 0 | AG30: Harry | AH30: 0 | AI30: Harry | AJ30: 0 | AK30: Harry | AL30: 0 | AM30: Harry | AN30: 0 | AO30: Harry | AP30: 0 | AQ30: Harry | AR30: 0 | AS30: Harry | AT30: 0 | AU30: Harry | AV30: 0 | AW30: Harry | AX30: 0 | AY30: Harry | AZ30: 0 | BA30: Harry | BB30: 0 | BC30: Harry | BD30: 0 | BE30: Harry | BF30: 0 | BG30: Harry | BH30: 0 | BI30: Harry | BJ30: 0 | BK30: Harry | BL30: 0 | BM30: Harry | BN30: 0 | BO30: Harry | BP30: 0 | BQ30: Harry | BR30: 0 | BS30: Harry | BT30: 0 | BU30: Harry | BV30: 0 | BW30: Harry | BX30: 0 | BY30: Harry | BZ30: 0 | CA30: Harry | CB30: 0 | CC30: Harry | CD30: 0 | CE30: Harry | CF30: 0 | CG30: Harry | CH30: 0 | CI30: Harry | CJ30: 0 | CK30: Harry | CL30: 0 | CM30: Harry | CN30: 0 | CO30: Harry | CP30: 0 | CQ30: Harry | CR30: 0 | CS30: Harry | CT30: 0 | CU30: Harry | CV30: 0 | CW30: Harry | CX30: 0 | CY30: Harry | CZ30: 0 | DA30: Harry | DB30: 10 | DC30: Harry | DD30: 10 | DE30: Harry | DF30: 0 | DG30: Harry | DH30: 0 | DI30: Harry | DJ30: 0 | DK30: Harry | DL30: 0 | DM30: Harry | DN30: 0 | DO30: Harry | DP30: 0 | DQ30: Harry | DR30: 0 | DS30: Harry | DT30: 0 | DU30: Harry | DV30: 0 | DW30: Harry | DX30: 0 | DY30: Harry | DZ30: 0 | EA30: Harry | EB30: 0 | EC30: Harry | ED30: 0 | EE30: Harry | EF30: 0 | EG30: Harry | EH30: 0 | EI30: Harry | EJ30: 0 | EK30: Harry | EL30: 0 | EM30: Harry | EN30: 0 | EO30: Harry | EP30: 0 | EQ30: Harry | ER30: 0 | ES30: Harry | ET30: 0 | EU30: Harry | EV30: 0 | EW30: Harry | EX30: 0 | EY30: Harry | EZ30: 0 | FA30: Harry | FB30: 0 | FC30: Harry | FD30: 0 | FE30: Harry | FF30: 0 | FG30: Harry | FH30: 0 | FI30: Harry | FJ30: 0 | FK30: Harry | FL30: 0 | FM30: Harry | FN30: 0 | FO30: Harry | FP30: 0 | FQ30: Harry | FR30: 0 | FS30: Harry | FT30: 0 | FU30: Harry | FV30: 0 | FW30: Harry | FX30: 0 | FY30: Harry | FZ30: 0 | GA30: Harry | GB30: 0 | GC30: Harry | GD30: 0 | GE30: Harry | GF30: 0 | GG30: Harry | GH30: 0 | GI30: Harry | GJ30: 0 | GK30: Harry | GL30: 0 | GM30: Harry | GN30: 0 | GO30: Harry | GP30: 0 | GQ30: Harry | GR30: 0 | GS30: Harry | GT30: 0 | GU30: Harry | GV30: 0 | GW30: Harry | GX30: 0 | GY30: Harry | GZ30: 0 | HA30: Harry | HB30: 0 | HC30: Harry | HD30: 0
