Workbook

Sheet FraDT
A1: Uge | B1: 1 | E1: Uge | F1: 2 | I1: Uge | J1: 3 | M1: Uge | N1: 4 | Q1: Uge | R1: 5 | U1: Uge | V1: 6 | Y1: Uge | Z1: 7 | AC1: Uge | AD1: 8 | AG1: Uge | AH1: 9 | AK1: Uge | AL1: 10 | AO1: Uge | AP1: 11 | AS1: Uge | AT1: 12 | AW1: Uge | AX1: 13 | BA1: Uge | BB1: 14 | BE1: Uge | BF1: 15 | BI1: Uge | BJ1: 16 | BM1: Uge | BN1: 17 | BQ1: Uge | BR1: 18 | BU1: Uge | BV1: 19 | BY1: Uge | BZ1: 20 | CC1: Uge | CD1: 21 | CG1: Uge | CH1: 22 | CK1: Uge | CL1: 23 | CO1: Uge | CP1: 24 | CS1: Uge | CT1: 25 | CW1: Uge | CX1: 26 | DA1: Uge | DB1: 27 | DE1: Uge | DF1: 28 | DI1: Uge | DJ1: 29 | DM1: Uge | DN1: 30 | DQ1: Uge | DR1: 31 | DU1: Uge | DV1: 32 | DY1: Uge | DZ1: 33 | EC1: Uge | ED1: 34 | EG1: Uge | EH1: 35 | EK1: Uge | EL1: 36 | EO1: Uge | EP1: 37 | ES1: Uge | ET1: 38 | EW1: Uge | EX1: 39 | FA1: Uge | FB1: 40 | FE1: Uge | FF1: 41 | FI1: Uge | FJ1: 42 | FM1: Uge | FN1: 43 | FQ1: Uge | FR1: 44 | FU1: Uge | FV1: 45 | FY1: Uge | FZ1: 46 | GC1: Uge | GD1: 47 | GG1: Uge | GH1: 48 | GK1: Uge | GL1: 49 | GO1: Uge | GP1: 50 | GS1: Uge | GT1: 51 | GW1: Uge | GX1: 52 | HA1: Uge | HB1: 53
A2: Fra P10 | B2: Fra AZ10 | E2: Fra P10 | F2: Fra AZ10 | I2: Fra P10 | J2: Fra AZ10 | M2: Fra P10 | N2: Fra AZ10 | Q2: Fra P10 | R2: Fra AZ10 | U2: Fra P10 | V2: Fra AZ10 | Y2: Fra P10 | Z2: Fra AZ10 | AC2: Fra P10 | AD2: Fra AZ10 | AG2: Fra P10 | AH2: Fra AZ10 | AK2: Fra P10 | AL2: Fra AZ10 | AO2: Fra P10 | AP2: Fra AZ10 | AS2: Fra P10 | AT2: Fra AZ10 | AW2: Fra P10 | AX2: Fra AZ10 | BA2: Fra P10 | BB2: Fra AZ10 | BE2: Fra P10 | BF2: Fra AZ10 | BI2: Fra P10 | BJ2: Fra AZ10 | BM2: Fra P10 | BN2: Fra AZ10 | BQ2: Fra P10 | BR2: Fra AZ10 | BU2: Fra P10 | BV2: Fra AZ10 | BY2: Fra P10 | BZ2: Fra AZ10 | CC2: Fra P10 | CD2: Fra AZ10 | CG2: Fra P10 | CH2: Fra AZ10 | CK2: Fra P10 | CL2: Fra AZ10 | CO2: Fra P10 | CP2: Fra AZ10 | CS2: Fra P10 | CT2: Fra AZ10 | CW2: Fra P10 | CX2: Fra AZ10 | DA2: Fra P10 | DB2: Fra AZ10 | DE2: Fra P10 | DF2: Fra AZ10 | DI2: Fra P10 | DJ2: Fra AZ10 | DM2: Fra P10 | DN2: Fra AZ10 | DQ2: Fra P10 | DR2: Fra AZ10 | DU2: Fra P10 | DV2: Fra AZ10 | DY2: Fra P10 | DZ2: Fra AZ10 | EC2: Fra P10 | ED2: Fra AZ10 | EG2: Fra P10 | EH2: Fra AZ10 | EK2: Fra P10 | EL2: Fra AZ10 | EO2: Fra P10 | EP2: Fra AZ10 | ES2: Fra P10 | ET2: Fra AZ10 | EW2: Fra P10 | EX2: Fra AZ10 | FA2: Fra P10 | FB2: Fra AZ10 | FE2: Fra P10 | FF2: Fra AZ10 | FI2: Fra P10 | FJ2: Fra AZ10 | FM2: Fra P10 | FN2: Fra AZ10 | FQ2: Fra P10 | FR2: Fra AZ10 | FU2: Fra P10 | FV2: Fra AZ10 | FY2: Fra P10 | FZ2: Fra AZ10 | GC2: Fra P10 | GD2: Fra AZ10 | GG2: Fra P10 | GH2: Fra AZ10 | GK2: Fra P10 | GL2: Fra AZ10 | GO2: Fra P10 | GP2: Fra AZ10 | GS2: Fra P10 | GT2: Fra AZ10 | GW2: Fra P10 | GX2: Fra AZ10 | HA2: Fra P10 | HB2: Fra AZ10
A3: Signatur | B3: Uge Point | E3: Signatur | F3: Uge Point | I3: Signatur | J3: Uge Point | M3: Signatur | N3: Uge Point | Q3: Signatur | R3: Uge Point | U3: Signatur | V3: Uge Point | Y3: Signatur | Z3: Uge Point | AC3: Signatur | AD3: Uge Point | AG3: Signatur | AH3: Uge Point | AK3: Signatur | AL3: Uge Point | AO3: Signatur | AP3: Uge Point | AS3: Signatur | AT3: Uge Point | AW3: Signatur | AX3: Uge Point | BA3: Signatur | BB3: Uge Point | BE3: Signatur | BF3: Uge Point | BI3: Signatur | BJ3: Uge Point | BM3: Signatur | BN3: Uge Point | BQ3: Signatur | BR3: Uge Point | BU3: Signatur | BV3: Uge Point | BY3: Signatur | BZ3: Uge Point | CC3: Signatur | CD3: Uge Point | CG3: Signatur | CH3: Uge Point | CK3: Signatur | CL3: Uge Point | CO3: Signatur | CP3: Uge Point | CS3: Signatur | CT3: Uge Point | CW3: Signatur | CX3: Uge Point | DA3: Signatur | DB3: Uge Point | DE3: Signatur | DF3: Uge Point | DI3: Signatur | DJ3: Uge Point | DM3: Signatur | DN3: Uge Point | DQ3: Signatur | DR3: Uge Point | DU3: Signatur | DV3: Uge Point | DY3: Signatur | DZ3: Uge Point | EC3: Signatur | ED3: Uge Point | EG3: Signatur | EH3: Uge Point | EK3: Signatur | EL3: Uge Point | EO3: Signatur | EP3: Uge Point | ES3: Signatur | ET3: Uge Point | EW3: Signatur | EX3: Uge Point | FA3: Signatur | FB3: Uge Point | FE3: Signatur | FF3: Uge Point | FI3: Signatur | FJ3: Uge Point | FM3: Signatur | FN3: Uge Point | FQ3: Signatur | FR3: Uge Point | FU3: Signatur | FV3: Uge Point | FY3: Signatur | FZ3: Uge Point | GC3: Signatur | GD3: Uge Point | GG3: Signatur | GH3: Uge Point | GK3: Signatur | GL3: Uge Point | GO3: Signatur | GP3: Uge Point | GS3: Signatur | GT3: Uge Point | GW3: Signatur | GX3: Uge Point | HA3: Signatur | HB3: Uge Point
A4: Arsenal | B4: 0 | C4: {=_xlfn._xlws.SORT(A4:B23)} -> Arsenal | D4: 0 | E4: Cork | F4: 0 | G4: {=_xlfn._xlws.SORT(E4:F23)} -> Arsenal | H4: 0 | I4: Cork | J4: 0 | K4: {=_xlfn._xlws.SORT(I4:J23)} -> Arsenal | L4: 0 | M4: Kinks | N4: 0 | O4: {=_xlfn._xlws.SORT(M4:N23)} -> Arsenal | P4: 0 | Q4: Arsenal | R4: 0 | S4: {=_xlfn._xlws.SORT(Q4:R23)} -> Arsenal | T4: 0 | U4: Arsenal | V4: 0 | W4: {=_xlfn._xlws.SORT(U4:V23)} -> Arsenal | X4: 0 | Y4: Arsenal | Z4: 0 | AA4: {=_xlfn._xlws.SORT(Y4:Z23)} -> Arsenal | AB4: 0 | AC4: Arsenal | AD4: 0 | AE4: {=_xlfn._xlws.SORT(AC4:AD23)} -> Arsenal | AF4: 0 | AG4: Arsenal | AH4: 0 | AI4: {=_xlfn._xlws.SORT(AG4:AH23)} -> Arsenal | AJ4: 0 | AK4: Arsenal | AL4: 0 | AM4: {=_xlfn._xlws.SORT(AK4:AL23)} -> Arsenal | AN4: 0 | AO4: Arsenal | AP4: 0 | AQ4: {=_xlfn._xlws.SORT(AO4:AP23)} -> Arsenal | AR4: 0 | AS4: Arsenal | AT4: 0 | AU4: {=_xlfn._xlws.SORT(AS4:AT23)} -> Arsenal | AV4: 0 | AW4: Arsenal | AX4: 0 | AY4: {=_xlfn._xlws.SORT(AW4:AX23)} -> Arsenal | AZ4: 0 | BA4: Arsenal | BB4: 0 | BC4: {=_xlfn._xlws.SORT(BA4:BB23)} -> Arsenal | BD4: 0 | BE4: Arsenal | BF4: 0 | BG4: {=_xlfn._xlws.SORT(BE4:BF23)} -> Arsenal | BH4: 0 | BI4: Arsenal | BJ4: 0 | BK4: {=_xlfn._xlws.SORT(BI4:BJ23)} -> Arsenal | BL4: 0 | BM4: Arsenal | BN4: 0 | BO4: {=_xlfn._xlws.SORT(BM4:BN23)} -> Arsenal | BP4: 0 | BQ4: Arsenal | BR4: 0 | BS4: {=_xlfn._xlws.SORT(BQ4:BR23)} -> Arsenal | BT4: 0 | BU4: Arsenal | BV4: 0 | BW4: {=_xlfn._xlws.SORT(BU4:BV23)} -> Arsenal | BX4: 0 | BY4: Arsenal | BZ4: 0 | CA4: {=_xlfn._xlws.SORT(BY4:BZ23)} -> Arsenal | CB4: 0 | CC4: Arsenal | CD4: 0 | CE4: {=_xlfn._xlws.SORT(CC4:CD23)} -> Arsenal | CF4: 0 | CG4: Arsenal | CH4: 0 | CI4: {=_xlfn._xlws.SORT(CG4:CH23)} -> Arsenal | CJ4: 0 | CK4: Arsenal | CL4: 0 | CM4: {=_xlfn._xlws.SORT(CK4:CL23)} -> Arsenal | CN4: 0 | CO4: Arsenal | CP4: 0 | CQ4: {=_xlfn._xlws.SORT(CO4:CP23)} -> Arsenal | CR4: 0 | CS4: Arsenal | CT4: 0 | CU4: {=_xlfn._xlws.SORT(CS4:CT23)} -> Arsenal | CV4: 0 | CW4: Arsenal | CX4: 0 | CY4: {=_xlfn._xlws.SORT(CW4:CX23)} -> Arsenal | CZ4: 0 | DA4: Arsenal | DB4: 10 | DC4: {=_xlfn._xlws.SORT(DA4:DB23)} -> Arsenal | DD4: 10 | DE4: Arsenal | DF4: 0 | DG4: {=_xlfn._xlws.SORT(DE4:DF23)} -> Arsenal | DH4: 0 | DI4: Arsenal | DJ4: 0 | DK4: {=_xlfn._xlws.SORT(DI4:DJ23)} -> Arsenal | DL4: 0 | DM4: Arsenal | DN4: 0 | DO4: {=_xlfn._xlws.SORT(DM4:DN23)} -> Arsenal | DP4: 0 | DQ4: Arsenal | DR4: 0 | DS4: {=_xlfn._xlws.SORT(DQ4:DR23)} -> Arsenal | DT4: 0 | DU4: Arsenal | DV4: 0 | DW4: {=_xlfn._xlws.SORT(DU4:DV23)} -> Arsenal | DX4: 0 | DY4: Arsenal | DZ4: 0 | EA4: {=_xlfn._xlws.SORT(DY4:DZ23)} -> Arsenal | EB4: 0 | EC4: Arsenal | ED4: 0 | EE4: {=_xlfn._xlws.SORT(EC4:ED23)} -> Arsenal | EF4: 0 | EG4: Arsenal | EH4: 0 | EI4: {=_xlfn._xlws.SORT(EG4:EH23)} -> Arsenal | EJ4: 0 | EK4: Arsenal | EL4: 0 | EM4: {=_xlfn._xlws.SORT(EK4:EL23)} -> Arsenal | EN4: 0 | EO4: Arsenal | EP4: 0 | EQ4: {=_xlfn._xlws.SORT(EO4:EP23)} -> Arsenal | ER4: 0 | ES4: Arsenal | ET4: 0 | EU4: {=_xlfn._xlws.SORT(ES4:ET23)} -> Arsenal | EV4: 0 | EW4: Arsenal | EX4: 0 | EY4: {=_xlfn._xlws.SORT(EW4:EX23)} -> Arsenal | EZ4: 0 | FA4: Arsenal | FB4: 0 | FC4: {=_xlfn._xlws.SORT(FA4:FB23)} -> Arsenal | FD4: 0 | FE4: Arsenal | FF4: 0 | FG4: {=_xlfn._xlws.SORT(FE4:FF23)} -> Arsenal | FH4: 0 | FI4: Arsenal | FJ4: 0 | FK4: {=_xlfn._xlws.SORT(FI4:FJ23)} -> Arsenal | FL4: 0 | FM4: Arsenal | FN4: 0 | FO4: {=_xlfn._xlws.SORT(FM4:FN23)} -> Arsenal | FP4: 0 | FQ4: Arsenal | FR4: 0 | FS4: {=_xlfn._xlws.SORT(FQ4:FR23)} -> Arsenal | FT4: 0 | FU4: Arsenal | FV4: 0 | FW4: {=_xlfn._xlws.SORT(FU4:FV23)} -> Arsenal | FX4: 0 | FY4: Arsenal | FZ4: 0 | GA4: {=_xlfn._xlws.SORT(FY4:FZ23)} -> Arsenal | GB4: 0 | GC4: Arsenal | GD4: 0 | GE4: {=_xlfn._xlws.SORT(GC4:GD23)} -> Arsenal | GF4: 0 | GG4: Arsenal | GH4: 0 | GI4: {=_xlfn._xlws.SORT(GG4:GH23)} -> Arsenal | GJ4: 0 | GK4: Arsenal | GL4: 0 | GM4: {=_xlfn._xlws.SORT(GK4:GL23)} -> Arsenal | GN4: 0 | GO4: Arsenal | GP4: 0 | GQ4: {=_xlfn._xlws.SORT(GO4:GP23)} -> Arsenal | GR4: 0 | GS4: Arsenal | GT4: 0 | GU4: {=_xlfn._xlws.SORT(GS4:GT23)} -> Arsenal | GV4: 0 | GW4: Arsenal | GX4: 0 | GY4: {=_xlfn._xlws.SORT(GW4:GX23)} -> Arsenal | GZ4: 0 | HA4: Arsenal | HB4: 0 | HC4: {=_xlfn._xlws.SORT(HA4:HB23)} -> Arsenal | HD4: 0
A5: Chelsea | B5: 0 | C5: Chelsea | D5: 0 | E5: Stoke | F5: 0 | G5: Chelsea | H5: 0 | I5: Kinks | J5: 0 | K5: Chelsea | L5: 0 | M5: Himbo | N5: 0 | O5: Chelsea | P5: 0 | Q5: Chelsea | R5: 0 | S5: Chelsea | T5: 0 | U5: Chelsea | V5: 0 | W5: Chelsea | X5: 0 | Y5: Chelsea | Z5: 0 | AA5: Chelsea | AB5: 0 | AC5: Chelsea | AD5: 0 | AE5: Chelsea | AF5: 0 | AG5: Chelsea | AH5: 0 | AI5: Chelsea | AJ5: 0 | AK5: Chelsea | AL5: 0 | AM5: Chelsea | AN5: 0 | AO5: Chelsea | AP5: 0 | AQ5: Chelsea | AR5: 0 | AS5: Chelsea | AT5: 0 | AU5: Chelsea | AV5: 0 | AW5: Chelsea | AX5: 0 | AY5: Chelsea | AZ5: 0 | BA5: Chelsea | BB5: 0 | BC5: Chelsea | BD5: 0 | BE5: Chelsea | BF5: 0 | BG5: Chelsea | BH5: 0 | BI5: Chelsea | BJ5: 0 | BK5: Chelsea | BL5: 0 | BM5: Chelsea | BN5: 0 | BO5: Chelsea | BP5: 0 | BQ5: Chelsea | BR5: 0 | BS5: Chelsea | BT5: 0 | BU5: Chelsea | BV5: 0 | BW5: Chelsea | BX5: 0 | BY5: Chelsea | BZ5: 0 | CA5: Chelsea | CB5: 0 | CC5: Chelsea | CD5: 0 | CE5: Chelsea | CF5: 0 | CG5: Chelsea | CH5: 0 | CI5: Chelsea | CJ5: 0 | CK5: Chelsea | CL5: 0 | CM5: Chelsea | CN5: 0 | CO5: Chelsea | CP5: 10 | CQ5: Chelsea | CR5: 10 | CS5: Chelsea | CT5: 0 | CU5: Chelsea | CV5: 0 | CW5: Chelsea | CX5: 0 | CY5: Chelsea | CZ5: 0 | DA5: Chelsea | DB5: 10 | DC5: Chelsea | DD5: 10 | DE5: Chelsea | DF5: 0 | DG5: Chelsea | DH5: 0 | DI5: Chelsea | DJ5: 0 | DK5: Chelsea | DL5: 0 | DM5: Chelsea | DN5: 0 | DO5: Chelsea | DP5: 0 | DQ5: Chelsea | DR5: 0 | DS5: Chelsea | DT5: 0 | DU5: Chelsea | DV5: 0 | DW5: Chelsea | DX5: 0 | DY5: Chelsea | DZ5: 0 | EA5: Chelsea | EB5: 0 | EC5: Chelsea | ED5: 0 | EE5: Chelsea | EF5: 0 | EG5: Chelsea | EH5: 0 | EI5: Chelsea | EJ5: 0 | EK5: Chelsea | EL5: 0 | EM5: Chelsea | EN5: 0 | EO5: Chelsea | EP5: 0 | EQ5: Chelsea | ER5: 0 | ES5: Chelsea | ET5: 0 | EU5: Chelsea | EV5: 0 | EW5: Chelsea | EX5: 0 | EY5: Chelsea | EZ5: 0 | FA5: Chelsea | FB5: 0 | FC5: Chelsea | FD5: 0 | FE5: Chelsea | FF5: 0 | FG5: Chelsea | FH5: 0 | FI5: Chelsea | FJ5: 0 | FK5: Chelsea | FL5: 0 | FM5: Chelsea | FN5: 0 | FO5: Chelsea | FP5: 0 | FQ5: Chelsea | FR5: 0 | FS5: Chelsea | FT5: 0 | FU5: Chelsea | FV5: 0 | FW5: Chelsea | FX5: 0 | FY5: Chelsea | FZ5: 0 | GA5: Chelsea | GB5: 0 | GC5: Chelsea | GD5: 0 | GE5: Chelsea | GF5: 0 | GG5: Chelsea | GH5: 0 | GI5: Chelsea | GJ5: 0 | GK5: Chelsea | GL5: 0 | GM5: Chelsea | GN5: 0 | GO5: Chelsea | GP5: 0 | GQ5: Chelsea | GR5: 0 | GS5: Chelsea | GT5: 0 | GU5: Chelsea | GV5: 0 | GW5: Chelsea | GX5: 0 | GY5: Chelsea | GZ5: 0 | HA5: Chelsea | HB5: 0 | HC5: Chelsea | HD5: 0
A6: Cork | B6: 10 | C6: Cork | D6: 10 | E6: Fox | F6: 0 | G6: Cork | H6: 0 | I6: Arsenal | J6: 0 | K6: Cork | L6: 0 | M6: Arsenal | N6: 0 | O6: Cork | P6: 0 | Q6: Cork | R6: 0 | S6: Cork | T6: 0 | U6: Cork | V6: 0 | W6: Cork | X6: 0 | Y6: Cork | Z6: 0 | AA6: Cork | AB6: 0 | AC6: Cork | AD6: 0 | AE6: Cork | AF6: 0 | AG6: Cork | AH6: 10 | AI6: Cork | AJ6: 10 | AK6: Cork | AL6: 0 | AM6: Cork | AN6: 0 | AO6: Cork | AP6: 0 | AQ6: Cork | AR6: 0 | AS6: Cork | AT6: 0 | AU6: Cork | AV6: 0 | AW6: Cork | AX6: 10 | AY6: Cork | AZ6: 10 | BA6: Cork | BB6: 0 | BC6: Cork | BD6: 0 | BE6: Cork | BF6: 0 | BG6: Cork | BH6: 0 | BI6: Cork | BJ6: 0 | BK6: Cork | BL6: 0 | BM6: Cork | BN6: 0 | BO6: Cork | BP6: 0 | BQ6: Cork | BR6: 0 | BS6: Cork | BT6: 0 | BU6: Cork | BV6: 0 | BW6: Cork | BX6: 0 | BY6: Cork | BZ6: 0 | CA6: Cork | CB6: 0 | CC6: Cork | CD6: 0 | CE6: Cork | CF6: 0 | CG6: Cork | CH6: 0 | CI6: Cork | CJ6: 0 | CK6: Cork | CL6: 0 | CM6: Cork | CN6: 0 | CO6: Cork | CP6: 0 | CQ6: Cork | CR6: 0 | CS6: Cork | CT6: 0 | CU6: Cork | CV6: 0 | CW6: Cork | CX6: 0 | CY6: Cork | CZ6: 0 | DA6: Cork | DB6: 10 | DC6: Cork | DD6: 10 | DE6: Cork | DF6: 0 | DG6: Cork | DH6: 0 | DI6: Cork | DJ6: 0 | DK6: Cork | DL6: 0 | DM6: Cork | DN6: 0 | DO6: Cork | DP6: 0 | DQ6: Cork | DR6: 0 | DS6: Cork | DT6: 0 | DU6: Cork | DV6: 0 | DW6: Cork | DX6: 0 | DY6: Cork | DZ6: 0 | EA6: Cork | EB6: 0 | EC6: Cork | ED6: 0 | EE6: Cork | EF6: 0 | EG6: Cork | EH6: 0 | EI6: Cork | EJ6: 0 | EK6: Cork | EL6: 0 | EM6: Cork | EN6: 0 | EO6: Cork | EP6: 10 | EQ6: Cork | ER6: 10 | ES6: Cork | ET6: 0 | EU6: Cork | EV6: 0 | EW6: Cork | EX6: 0 | EY6: Cork | EZ6: 0 | FA6: Cork | FB6: 0 | FC6: Cork | FD6: 0 | FE6: Cork | FF6: 0 | FG6: Cork | FH6: 0 | FI6: Cork | FJ6: 0 | FK6: Cork | FL6: 0 | FM6: Cork | FN6: 0 | FO6: Cork | FP6: 0 | FQ6: Cork | FR6: 0 | FS6: Cork | FT6: 0 | FU6: Cork | FV6: 0 | FW6: Cork | FX6: 0 | FY6: Cork | FZ6: 0 | GA6: Cork | GB6: 0 | GC6: Cork | GD6: 0 | GE6: Cork | GF6: 0 | GG6: Cork | GH6: 0 | GI6: Cork | GJ6: 0 | GK6: Cork | GL6: 0 | GM6: Cork | GN6: 0 | GO6: Cork | GP6: 0 | GQ6: Cork | GR6: 0 | GS6: Cork | GT6: 0 | GU6: Cork | GV6: 0 | GW6: Cork | GX6: 0 | GY6: Cork | GZ6: 0 | HA6: Cork | HB6: 0 | HC6: Cork | HD6: 0
A7: Degnen | B7: 0 | C7: Degnen | D7: 0 | E7: Kinks | F7: 0 | G7: Degnen | H7: 3 | I7: Degnen | J7: 0 | K7: Degnen | L7: 0 | M7: Degnen | N7: 0 | O7: Degnen | P7: 0 | Q7: Degnen | R7: 0 | S7: Degnen | T7: 0 | U7: Degnen | V7: 0 | W7: Degnen | X7: 0 | Y7: Degnen | Z7: 0 | AA7: Degnen | AB7: 0 | AC7: Degnen | AD7: 0 | AE7: Degnen | AF7: 0 | AG7: Degnen | AH7: 10 | AI7: Degnen | AJ7: 10 | AK7: Degnen | AL7: 0 | AM7: Degnen | AN7: 0 | AO7: Degnen | AP7: 0 | AQ7: Degnen | AR7: 0 | AS7: Degnen | AT7: 0 | AU7: Degnen | AV7: 0 | AW7: Degnen | AX7: 0 | AY7: Degnen | AZ7: 0 | BA7: Degnen | BB7: 0 | BC7: Degnen | BD7: 0 | BE7: Degnen | BF7: 0 | BG7: Degnen | BH7: 0 | BI7: Degnen | BJ7: 0 | BK7: Degnen | BL7: 0 | BM7: Degnen | BN7: 0 | BO7: Degnen | BP7: 0 | BQ7: Degnen | BR7: 0 | BS7: Degnen | BT7: 0 | BU7: Degnen | BV7: 0 | BW7: Degnen | BX7: 0 | BY7: Degnen | BZ7: 0 | CA7: Degnen | CB7: 0 | CC7: Degnen | CD7: 0 | CE7: Degnen | CF7: 0 | CG7: Degnen | CH7: 0 | CI7: Degnen | CJ7: 0 | CK7: Degnen | CL7: 0 | CM7: Degnen | CN7: 0 | CO7: Degnen | CP7: 0 | CQ7: Degnen | CR7: 0 | CS7: Degnen | CT7: 0 | CU7: Degnen | CV7: 0 | CW7: Degnen | CX7: 0 | CY7: Degnen | CZ7: 0 | DA7: Degnen | DB7: 10 | DC7: Degnen | DD7: 10 | DE7: Degnen | DF7: 0 | DG7: Degnen | DH7: 0 | DI7: Degnen | DJ7: 0 | DK7: Degnen | DL7: 0 | DM7: Degnen | DN7: 0 | DO7: Degnen | DP7: 0 | DQ7: Degnen | DR7: 0 | DS7: Degnen | DT7: 0 | DU7: Degnen | DV7: 0 | DW7: Degnen | DX7: 0 | DY7: Degnen | DZ7: 0 | EA7: Degnen | EB7: 0 | EC7: Degnen | ED7: 0 | EE7: Degnen | EF7: 0 | EG7: Degnen | EH7: 0 | EI7: Degnen | EJ7: 0 | EK7: Degnen | EL7: 0 | EM7: Degnen | EN7: 0 | EO7: Degnen | EP7: 0 | EQ7: Degnen | ER7: 0 | ES7: Degnen | ET7: 0 | EU7: Degnen | EV7: 0 | EW7: Degnen | EX7: 0 | EY7: Degnen | EZ7: 0 | FA7: Degnen | FB7: 0 | FC7: Degnen | FD7: 0 | FE7: Degnen | FF7: 0 | FG7: Degnen | FH7: 0 | FI7: Degnen | FJ7: 0 | FK7: Degnen | FL7: 0 | FM7: Degnen | FN7: 0 | FO7: Degnen | FP7: 0 | FQ7: Degnen | FR7: 0 | FS7: Degnen | FT7: 0 | FU7: Degnen | FV7: 0 | FW7: Degnen | FX7: 0 | FY7: Degnen | FZ7: 0 | GA7: Degnen | GB7: 0 | GC7: Degnen | GD7: 0 | GE7: Degnen | GF7: 0 | GG7: Degnen | GH7: 0 | GI7: Degnen | GJ7: 0 | GK7: Degnen | GL7: 0 | GM7: Degnen | GN7: 0 | GO7: Degnen | GP7: 0 | GQ7: Degnen | GR7: 0 | GS7: Degnen | GT7: 0 | GU7: Degnen | GV7: 0 | GW7: Degnen | GX7: 0 | GY7: Degnen | GZ7: 0 | HA7: Degnen | HB7: 0 | HC7: Degnen | HD7: 0
A8: Derby | B8: 0 | C8: Derby | D8: 0 | E8: Arsenal | F8: 0 | G8: Derby | H8: 0 | I8: Select | J8: 0 | K8: Derby | L8: 0 | M8: Select | N8: 0 | O8: Derby | P8: 0 | Q8: Derby | R8: 0 | S8: Derby | T8: 0 | U8: Derby | V8: 0 | W8: Derby | X8: 0 | Y8: Derby | Z8: 0 | AA8: Derby | AB8: 0 | AC8: Derby | AD8: 0 | AE8: Derby | AF8: 0 | AG8: Derby | AH8: 0 | AI8: Derby | AJ8: 0 | AK8: Derby | AL8: 0 | AM8: Derby | AN8: 0 | AO8: Derby | AP8: 0 | AQ8: Derby | AR8: 0 | AS8: Derby | AT8: 0 | AU8: Derby | AV8: 0 | AW8: Derby | AX8: 0 | AY8: Derby | AZ8: 0 | BA8: Derby | BB8: 0 | BC8: Derby | BD8: 0 | BE8: Derby | BF8: 0 | BG8: Derby | BH8: 0 | BI8: Derby | BJ8: 0 | BK8: Derby | BL8: 0 | BM8: Derby | BN8: 10 | BO8: Derby | BP8: 10 | BQ8: Derby | BR8: 0 | BS8: Derby | BT8: 0 | BU8: Derby | BV8: 0 | BW8: Derby | BX8: 0 | BY8: Derby | BZ8: 0 | CA8: Derby | CB8: 0 | CC8: Derby | CD8: 0 | CE8: Derby | CF8: 0 | CG8: Derby | CH8: 0 | CI8: Derby | CJ8: 0 | CK8: Derby | CL8: 0 | CM8: Derby | CN8: 0 | CO8: Derby | CP8: 0 | CQ8: Derby | CR8: 0 | CS8: Derby | CT8: 0 | CU8: Derby | CV8: 0 | CW8: Derby | CX8: 0 | CY8: Derby | CZ8: 0 | DA8: Derby | DB8: 10 | DC8: Derby | DD8: 10 | DE8: Derby | DF8: 0 | DG8: Derby | DH8: 0 | DI8: Derby | DJ8: 0 | DK8: Derby | DL8: 0 | DM8: Derby | DN8: 0 | DO8: Derby | DP8: 0 | DQ8: Derby | DR8: 0 | DS8: Derby | DT8: 0 | DU8: Derby | DV8: 0 | DW8: Derby | DX8: 0 | DY8: Derby | DZ8: 0 | EA8: Derby | EB8: 0 | EC8: Derby | ED8: 0 | EE8: Derby | EF8: 0 | EG8: Derby | EH8: 0 | EI8: Derby | EJ8: 0 | EK8: Derby | EL8: 0 | EM8: Derby | EN8: 0 | EO8: Derby | EP8: 0 | EQ8: Derby | ER8: 0 | ES8: Derby | ET8: 0 | EU8: Derby | EV8: 0 | EW8: Derby | EX8: 0 | EY8: Derby | EZ8: 0 | FA8: Derby | FB8: 0 | FC8: Derby | FD8: 0 | FE8: Derby | FF8: 0 | FG8: Derby | FH8: 0 | FI8: Derby | FJ8: 0 | FK8: Derby | FL8: 0 | FM8: Derby | FN8: 0 | FO8: Derby | FP8: 0 | FQ8: Derby | FR8: 0 | FS8: Derby | FT8: 0 | FU8: Derby | FV8: 0 | FW8: Derby | FX8: 0 | FY8: Derby | FZ8: 0 | GA8: Derby | GB8: 0 | GC8: Derby | GD8: 0 | GE8: Derby | GF8: 0 | GG8: Derby | GH8: 0 | GI8: Derby | GJ8: 0 | GK8: Derby | GL8: 0 | GM8: Derby | GN8: 0 | GO8: Derby | GP8: 0 | GQ8: Derby | GR8: 0 | GS8: Derby | GT8: 0 | GU8: Derby | GV8: 0 | GW8: Derby | GX8: 0 | GY8: Derby | GZ8: 0 | HA8: Derby | HB8: 0 | HC8: Derby | HD8: 0
A9: Far | B9: 0 | C9: Far | D9: 0 | E9: Derby | F9: 0 | G9: Far | H9: 0 | I9: Zico | J9: 0 | K9: Far | L9: 3 | M9: Fox | N9: 4 | O9: Far | P9: 0 | Q9: Far | R9: 0 | S9: Far | T9: 0 | U9: Far | V9: 0 | W9: Far | X9: 0 | Y9: Far | Z9: 0 | AA9: Far | AB9: 0 | AC9: Far | AD9: 0 | AE9: Far | AF9: 0 | AG9: Far | AH9: 0 | AI9: Far | AJ9: 0 | AK9: Far | AL9: 0 | AM9: Far | AN9: 0 | AO9: Far | AP9: 0 | AQ9: Far | AR9: 0 | AS9: Far | AT9: 0 | AU9: Far | AV9: 0 | AW9: Far | AX9: 0 | AY9: Far | AZ9: 0 | BA9: Far | BB9: 0 | BC9: Far | BD9: 0 | BE9: Far | BF9: 0 | BG9: Far | BH9: 0 | BI9: Far | BJ9: 0 | BK9: Far | BL9: 0 | BM9: Far | BN9: 0 | BO9: Far | BP9: 0 | BQ9: Far | BR9: 0 | BS9: Far | BT9: 0 | BU9: Far | BV9: 0 | BW9: Far | BX9: 0 | BY9: Far | BZ9: 0 | CA9: Far | CB9: 0 | CC9: Far | CD9: 0 | CE9: Far | CF9: 0 | CG9: Far | CH9: 0 | CI9: Far | CJ9: 0 | CK9: Far | CL9: 0 | CM9: Far | CN9: 0 | CO9: Far | CP9: 0 | CQ9: Far | CR9: 0 | CS9: Far | CT9: 0 | CU9: Far | CV9: 0 | CW9: Far | CX9: 0 | CY9: Far | CZ9: 0 | DA9: Far | DB9: 10 | DC9: Far | DD9: 10 | DE9: Far | DF9: 0 | DG9: Far | DH9: 0 | DI9: Far | DJ9: 0 | DK9: Far | DL9: 0 | DM9: Far | DN9: 0 | DO9: Far | DP9: 0 | DQ9: Far | DR9: 0 | DS9: Far | DT9: 0 | DU9: Far | DV9: 0 | DW9: Far | DX9: 0 | DY9: Far | DZ9: 0 | EA9: Far | EB9: 0 | EC9: Far | ED9: 0 | EE9: Far | EF9: 0 | EG9: Far | EH9: 0 | EI9: Far | EJ9: 0 | EK9: Far | EL9: 0 | EM9: Far | EN9: 0 | EO9: Far | EP9: 0 | EQ9: Far | ER9: 0 | ES9: Far | ET9: 0 | EU9: Far | EV9: 0 | EW9: Far | EX9: 0 | EY9: Far | EZ9: 0 | FA9: Far | FB9: 0 | FC9: Far | FD9: 0 | FE9: Far | FF9: 0 | FG9: Far | FH9: 0 | FI9: Far | FJ9: 0 | FK9: Far | FL9: 0 | FM9: Far | FN9: 0 | FO9: Far | FP9: 0 | FQ9: Far | FR9: 0 | FS9: Far | FT9: 0 | FU9: Far | FV9: 0 | FW9: Far | FX9: 0 | FY9: Far | FZ9: 0 | GA9: Far | GB9: 0 | GC9: Far | GD9: 0 | GE9: Far | GF9: 0 | GG9: Far | GH9: 0 | GI9: Far | GJ9: 0 | GK9: Far | GL9: 0 | GM9: Far | GN9: 0 | GO9: Far | GP9: 0 | GQ9: Far | GR9: 0 | GS9: Far | GT9: 0 | GU9: Far | GV9: 0 | GW9: Far | GX9: 0 | GY9: Far | GZ9: 0 | HA9: Far | HB9: 0 | HC9: Far | HD9: 0
A10: Flinca | B10: 0 | C10: Flinca | D10: 0 | E10: Himbo | F10: 0 | G10: Flinca | H10: 0 | I10: Lund | J10: 0 | K10: Flinca | L10: 0 | M10: Stoke | N10: 0 | O10: Flinca | P10: 0 | Q10: Flinca | R10: 0 | S10: Flinca | T10: 0 | U10: Flinca | V10: 0 | W10: Flinca | X10: 0 | Y10: Flinca | Z10: 10 | AA10: Flinca | AB10: 10 | AC10: Flinca | AD10: 0 | AE10: Flinca | AF10: 0 | AG10: Flinca | AH10: 0 | AI10: Flinca | AJ10: 0 | AK10: Flinca | AL10: 0 | AM10: Flinca | AN10: 0 | AO10: Flinca | AP10: 0 | AQ10: Flinca | AR10: 0 | AS10: Flinca | AT10: 0 | AU10: Flinca | AV10: 0 | AW10: Flinca | AX10: 0 | AY10: Flinca | AZ10: 0 | BA10: Flinca | BB10: 0 | BC10: Flinca | BD10: 0 | BE10: Flinca | BF10: 0 | BG10: Flinca | BH10: 0 | BI10: Flinca | BJ10: 0 | BK10: Flinca | BL10: 0 | BM10: Flinca | BN10: 0 | BO10: Flinca | BP10: 0 | BQ10: Flinca | BR10: 0 | BS10: Flinca | BT10: 0 | BU10: Flinca | BV10: 0 | BW10: Flinca | BX10: 0 | BY10: Flinca | BZ10: 0 | CA10: Flinca | CB10: 0 | CC10: Flinca | CD10: 0 | CE10: Flinca | CF10: 0 | CG10: Flinca | CH10: 0 | CI10: Flinca | CJ10: 0 | CK10: Flinca | CL10: 0 | CM10: Flinca | CN10: 0 | CO10: Flinca | CP10: 0 | CQ10: Flinca | CR10: 0 | CS10: Flinca | CT10: 0 | CU10: Flinca | CV10: 0 | CW10: Flinca | CX10: 0 | CY10: Flinca | CZ10: 0 | DA10: Flinca | DB10: 10 | DC10: Flinca | DD10: 10 | DE10: Flinca | DF10: 0 | DG10: Flinca | DH10: 0 | DI10: Flinca | DJ10: 0 | DK10: Flinca | DL10: 0 | DM10: Flinca | DN10: 0 | DO10: Flinca | DP10: 0 | DQ10: Flinca | DR10: 0 | DS10: Flinca | DT10: 0 | DU10: Flinca | DV10: 0 | DW10: Flinca | DX10: 0 | DY10: Flinca | DZ10: 0 | EA10: Flinca | EB10: 0 | EC10: Flinca | ED10: 0 | EE10: Flinca | EF10: 0 | EG10: Flinca | EH10: 0 | EI10: Flinca | EJ10: 0 | EK10: Flinca | EL10: 0 | EM10: Flinca | EN10: 0 | EO10: Flinca | EP10: 10 | EQ10: Flinca | ER10: 10 | ES10: Flinca | ET10: 0 | EU10: Flinca | EV10: 0 | EW10: Flinca | EX10: 0 | EY10: Flinca | EZ10: 0 | FA10: Flinca | FB10: 0 | FC10: Flinca | FD10: 0 | FE10: Flinca | FF10: 0 | FG10: Flinca | FH10: 0 | FI10: Flinca | FJ10: 10 | FK10: Flinca | FL10: 10 | FM10: Flinca | FN10: 0 | FO10: Flinca | FP10: 0 | FQ10: Flinca | FR10: 0 | FS10: Flinca | FT10: 0 | FU10: Flinca | FV10: 0 | FW10: Flinca | FX10: 0 | FY10: Flinca | FZ10: 0 | GA10: Flinca | GB10: 0 | GC10: Flinca | GD10: 0 | GE10: Flinca | GF10: 0 | GG10: Flinca | GH10: 0 | GI10: Flinca | GJ10: 0 | GK10: Flinca | GL10: 0 | GM10: Flinca | GN10: 0 | GO10: Flinca | GP10: 0 | GQ10: Flinca | GR10: 0 | GS10: Flinca | GT10: 0 | GU10: Flinca | GV10: 0 | GW10: Flinca | GX10: 0 | GY10: Flinca | GZ10: 0 | HA10: Flinca | HB10: 0 | HC10: Flinca | HD10: 0
A11: Fox | B11: 2 | C11: Fox | D11: 2 | E11: Percy | F11: 0 | G11: Fox | H11: 0 | I11: Frydkær | J11: 3 | K11: Fox | L11: 3 | M11: Percy | N11: 0 | O11: Fox | P11: 4 | Q11: Fox | R11: 0 | S11: Fox | T11: 0 | U11: Fox | V11: 0 | W11: Fox | X11: 0 | Y11: Fox | Z11: 0 | AA11: Fox | AB11: 0 | AC11: Fox | AD11: 0 | AE11: Fox | AF11: 0 | AG11: Fox | AH11: 0 | AI11: Fox | AJ11: 0 | AK11: Fox | AL11: 0 | AM11: Fox | AN11: 0 | AO11: Fox | AP11: 0 | AQ11: Fox | AR11: 0 | AS11: Fox | AT11: 0 | AU11: Fox | AV11: 0 | AW11: Fox | AX11: 0 | AY11: Fox | AZ11: 0 | BA11: Fox | BB11: 0 | BC11: Fox | BD11: 0 | BE11: Fox | BF11: 0 | BG11: Fox | BH11: 0 | BI11: Fox | BJ11: 0 | BK11: Fox | BL11: 0 | BM11: Fox | BN11: 0 | BO11: Fox | BP11: 0 | BQ11: Fox | BR11: 0 | BS11: Fox | BT11: 0 | BU11: Fox | BV11: 0 | BW11: Fox | BX11: 0 | BY11: Fox | BZ11: 0 | CA11: Fox | CB11: 0 | CC11: Fox | CD11: 0 | CE11: Fox | CF11: 0 | CG11: Fox | CH11: 0 | CI11: Fox | CJ11: 0 | CK11: Fox | CL11: 10 | CM11: Fox | CN11: 10 | CO11: Fox | CP11: 0 | CQ11: Fox | CR11: 0 | CS11: Fox | CT11: 0 | CU11: Fox | CV11: 0 | CW11: Fox | CX11: 0 | CY11: Fox | CZ11: 0 | DA11: Fox | DB11: 10 | DC11: Fox | DD11: 10 | DE11: Fox | DF11: 0 | DG11: Fox | DH11: 0 | DI11: Fox | DJ11: 0 | DK11: Fox | DL11: 0 | DM11: Fox | DN11: 0 | DO11: Fox | DP11: 0 | DQ11: Fox | DR11: 0 | DS11: Fox | DT11: 0 | DU11: Fox | DV11: 0 | DW11: Fox | DX11: 0 | DY11: Fox | DZ11: 0 | EA11: Fox | EB11: 0 | EC11: Fox | ED11: 0 | EE11: Fox | EF11: 0 | EG11: Fox | EH11: 0 | EI11: Fox | EJ11: 0 | EK11: Fox | EL11: 0 | EM11: Fox | EN11: 0 | EO11: Fox | EP11: 0 | EQ11: Fox | ER11: 0 | ES11: Fox | ET11: 0 | EU11: Fox | EV11: 0 | EW11: Fox | EX11: 0 | EY11: Fox | EZ11: 0 | FA11: Fox | FB11: 0 | FC11: Fox | FD11: 0 | FE11: Fox | FF11: 0 | FG11: Fox | FH11: 0 | FI11: Fox | FJ11: 0 | FK11: Fox | FL11: 0 | FM11: Fox | FN11: 0 | FO11: Fox | FP11: 0 | FQ11: Fox | FR11: 0 | FS11: Fox | FT11: 0 | FU11: Fox | FV11: 0 | FW11: Fox | FX11: 0 | FY11: Fox | FZ11: 0 | GA11: Fox | GB11: 0 | GC11: Fox | GD11: 0 | GE11: Fox | GF11: 0 | GG11: Fox | GH11: 0 | GI11: Fox | GJ11: 0 | GK11: Fox | GL11: 0 | GM11: Fox | GN11: 0 | GO11: Fox | GP11: 0 | GQ11: Fox | GR11: 0 | GS11: Fox | GT11: 0 | GU11: Fox | GV11: 0 | GW11: Fox | GX11: 0 | GY11: Fox | GZ11: 0 | HA11: Fox | HB11: 0 | HC11: Fox | HD11: 0
A12: Frydkær | B12: 0 | C12: Frydkær | D12: 0 | E12: Select | F12: 0 | G12: Frydkær | H12: 3 | I12: Futte | J12: 0 | K12: Frydkær | L12: 3 | M12: Cork | N12: 0 | O12: Frydkær | P12: 0 | Q12: Frydkær | R12: 0 | S12: Frydkær | T12: 0 | U12: Frydkær | V12: 0 | W12: Frydkær | X12: 0 | Y12: Frydkær | Z12: 0 | AA12: Frydkær | AB12: 0 | AC12: Frydkær | AD12: 0 | AE12: Frydkær | AF12: 0 | AG12: Frydkær | AH12: 10 | AI12: Frydkær | AJ12: 10 | AK12: Frydkær | AL12: 0 | AM12: Frydkær | AN12: 0 | AO12: Frydkær | AP12: 0 | AQ12: Frydkær | AR12: 0 | AS12: Frydkær | AT12: 0 | AU12: Frydkær | AV12: 0 | AW12: Frydkær | AX12: 0 | AY12: Frydkær | AZ12: 0 | BA12: Frydkær | BB12: 0 | BC12: Frydkær | BD12: 0 | BE12: Frydkær | BF12: 0 | BG12: Frydkær | BH12: 0 | BI12: Frydkær | BJ12: 0 | BK12: Frydkær | BL12: 0 | BM12: Frydkær | BN12: 0 | BO12: Frydkær | BP12: 0 | BQ12: Frydkær | BR12: 0 | BS12: Frydkær | BT12: 0 | BU12: Frydkær | BV12: 0 | BW12: Frydkær | BX12: 0 | BY12: Frydkær | BZ12: 0 | CA12: Frydkær | CB12: 0 | CC12: Frydkær | CD12: 0 | CE12: Frydkær | CF12: 0 | CG12: Frydkær | CH12: 0 | CI12: Frydkær | CJ12: 0 | CK12: Frydkær | CL12: 0 | CM12: Frydkær | CN12: 0 | CO12: Frydkær | CP12: 0 | CQ12: Frydkær | CR12: 0 | CS12: Frydkær | CT12: 0 | CU12: Frydkær | CV12: 0 | CW12: Frydkær | CX12: 0 | CY12: Frydkær | CZ12: 0 | DA12: Frydkær | DB12: 10 | DC12: Frydkær | DD12: 10 | DE12: Frydkær | DF12: 0 | DG12: Frydkær | DH12: 0 | DI12: Frydkær | DJ12: 0 | DK12: Frydkær | DL12: 0 | DM12: Frydkær | DN12: 0 | DO12: Frydkær | DP12: 0 | DQ12: Frydkær | DR12: 0 | DS12: Frydkær | DT12: 0 | DU12: Frydkær | DV12: 0 | DW12: Frydkær | DX12: 0 | DY12: Frydkær | DZ12: 0 | EA12: Frydkær | EB12: 0 | EC12: Frydkær | ED12: 0 | EE12: Frydkær | EF12: 0 | EG12: Frydkær | EH12: 0 | EI12: Frydkær | EJ12: 0 | EK12: Frydkær | EL12: 0 | EM12: Frydkær | EN12: 0 | EO12: Frydkær | EP12: 0 | EQ12: Frydkær | ER12: 0 | ES12: Frydkær | ET12: 0 | EU12: Frydkær | EV12: 0 | EW12: Frydkær | EX12: 0 | EY12: Frydkær | EZ12: 0 | FA12: Frydkær | FB12: 0 | FC12: Frydkær | FD12: 0 | FE12: Frydkær | FF12: 0 | FG12: Frydkær | FH12: 0 | FI12: Frydkær | FJ12: 10 | FK12: Frydkær | FL12: 10 | FM12: Frydkær | FN12: 0 | FO12: Frydkær | FP12: 0 | FQ12: Frydkær | FR12: 0 | FS12: Frydkær | FT12: 0 | FU12: Frydkær | FV12: 0 | FW12: Frydkær | FX12: 0 | FY12: Frydkær | FZ12: 0 | GA12: Frydkær | GB12: 0 | GC12: Frydkær | GD12: 0 | GE12: Frydkær | GF12: 0 | GG12: Frydkær | GH12: 0 | GI12: Frydkær | GJ12: 0 | GK12: Frydkær | GL12: 0 | GM12: Frydkær | GN12: 0 | GO12: Frydkær | GP12: 0 | GQ12: Frydkær | GR12: 0 | GS12: Frydkær | GT12: 0 | GU12: Frydkær | GV12: 0 | GW12: Frydkær | GX12: 0 | GY12: Frydkær | GZ12: 0 | HA12: Frydkær | HB12: 0 | HC12: Frydkær | HD12: 0
A13: Futte | B13: 0 | C13: Futte | D13: 0 | E13: United | F13: 0 | G13: Futte | H13: 3 | I13: Himbo | J13: 3 | K13: Futte | L13: 0 | M13: Zico | N13: 4 | O13: Futte | P13: 0 | Q13: Futte | R13: 0 | S13: Futte | T13: 0 | U13: Futte | V13: 0 | W13: Futte | X13: 0 | Y13: Futte | Z13: 0 | AA13: Futte | AB13: 0 | AC13: Futte | AD13: 0 | AE13: Futte | AF13: 0 | AG13: Futte | AH13: 0 | AI13: Futte | AJ13: 0 | AK13: Futte | AL13: 0 | AM13: Futte | AN13: 0 | AO13: Futte | AP13: 0 | AQ13: Futte | AR13: 0 | AS13: Futte | AT13: 0 | AU13: Futte | AV13: 0 | AW13: Futte | AX13: 0 | AY13: Futte | AZ13: 0 | BA13: Futte | BB13: 0 | BC13: Futte | BD13: 0 | BE13: Futte | BF13: 0 | BG13: Futte | BH13: 0 | BI13: Futte | BJ13: 0 | BK13: Futte | BL13: 0 | BM13: Futte | BN13: 0 | BO13: Futte | BP13: 0 | BQ13: Futte | BR13: 0 | BS13: Futte | BT13: 0 | BU13: Futte | BV13: 0 | BW13: Futte | BX13: 0 | BY13: Futte | BZ13: 0 | CA13: Futte | CB13: 0 | CC13: Futte | CD13: 0 | CE13: Futte | CF13: 0 | CG13: Futte | CH13: 0 | CI13: Futte | CJ13: 0 | CK13: Futte | CL13: 0 | CM13: Futte | CN13: 0 | CO13: Futte | CP13: 0 | CQ13: Futte | CR13: 0 | CS13: Futte | CT13: 0 | CU13: Futte | CV13: 0 | CW13: Futte | CX13: 0 | CY13: Futte | CZ13: 0 | DA13: Futte | DB13: 10 | DC13: Futte | DD13: 10 | DE13: Futte | DF13: 0 | DG13: Futte | DH13: 0 | DI13: Futte | DJ13: 10 | DK13: Futte | DL13: 10 | DM13: Futte | DN13: 0 | DO13: Futte | DP13: 0 | DQ13: Futte | DR13: 0 | DS13: Futte | DT13: 0 | DU13: Futte | DV13: 0 | DW13: Futte | DX13: 0 | DY13: Futte | DZ13: 0 | EA13: Futte | EB13: 0 | EC13: Futte | ED13: 0 | EE13: Futte | EF13: 0 | EG13: Futte | EH13: 0 | EI13: Futte | EJ13: 0 | EK13: Futte | EL13: 0 | EM13: Futte | EN13: 0 | EO13: Futte | EP13: 0 | EQ13: Futte | ER13: 0 | ES13: Futte | ET13: 0 | EU13: Futte | EV13: 0 | EW13: Futte | EX13: 0 | EY13: Futte | EZ13: 0 | FA13: Futte | FB13: 0 | FC13: Futte | FD13: 0 | FE13: Futte | FF13: 0 | FG13: Futte | FH13: 0 | FI13: Futte | FJ13: 0 | FK13: Futte | FL13: 0 | FM13: Futte | FN13: 0 | FO13: Futte | FP13: 0 | FQ13: Futte | FR13: 0 | FS13: Futte | FT13: 0 | FU13: Futte | FV13: 0 | FW13: Futte | FX13: 0 | FY13: Futte | FZ13: 0 | GA13: Futte | GB13: 0 | GC13: Futte | GD13: 0 | GE13: Futte | GF13: 0 | GG13: Futte | GH13: 0 | GI13: Futte | GJ13: 0 | GK13: Futte | GL13: 0 | GM13: Futte | GN13: 0 | GO13: Futte | GP13: 0 | GQ13: Futte | GR13: 0 | GS13: Futte | GT13: 0 | GU13: Futte | GV13: 0 | GW13: Futte | GX13: 0 | GY13: Futte | GZ13: 0 | HA13: Futte | HB13: 0 | HC13: Futte | HD13: 0
A14: Himbo | B14: 0 | C14: Himbo | D14: 0 | E14: Kailua | F14: 0 | G14: Himbo | H14: 0 | I14: Fox | J14: 3 | K14: Himbo | L14: 3 | M14: Futte | N14: 0 | O14: Himbo | P14: 0 | Q14: Himbo | R14: 0 | S14: Himbo | T14: 0 | U14: Himbo | V14: 0 | W14: Himbo | X14: 0 | Y14: Himbo | Z14: 0 | AA14: Himbo | AB14: 0 | AC14: Himbo | AD14: 0 | AE14: Himbo | AF14: 0 | AG14: Himbo | AH14: 0 | AI14: Himbo | AJ14: 0 | AK14: Himbo | AL14: 0 | AM14: Himbo | AN14: 0 | AO14: Himbo | AP14: 0 | AQ14: Himbo | AR14: 0 | AS14: Himbo | AT14: 0 | AU14: Himbo | AV14: 0 | AW14: Himbo | AX14: 0 | AY14: Himbo | AZ14: 0 | BA14: Himbo | BB14: 0 | BC14: Himbo | BD14: 0 | BE14: Himbo | BF14: 0 | BG14: Himbo | BH14: 0 | BI14: Himbo | BJ14: 0 | BK14: Himbo | BL14: 0 | BM14: Himbo | BN14: 0 | BO14: Himbo | BP14: 0 | BQ14: Himbo | BR14: 0 | BS14: Himbo | BT14: 0 | BU14: Himbo | BV14: 0 | BW14: Himbo | BX14: 0 | BY14: Himbo | BZ14: 0 | CA14: Himbo | CB14: 0 | CC14: Himbo | CD14: 0 | CE14: Himbo | CF14: 0 | CG14: Himbo | CH14: 0 | CI14: Himbo | CJ14: 0 | CK14: Himbo | CL14: 0 | CM14: Himbo | CN14: 0 | CO14: Himbo | CP14: 0 | CQ14: Himbo | CR14: 0 | CS14: Himbo | CT14: 0 | CU14: Himbo | CV14: 0 | CW14: Himbo | CX14: 0 | CY14: Himbo | CZ14: 0 | DA14: Himbo | DB14: 10 | DC14: Himbo | DD14: 10 | DE14: Himbo | DF14: 0 | DG14: Himbo | DH14: 0 | DI14: Himbo | DJ14: 10 | DK14: Himbo | DL14: 10 | DM14: Himbo | DN14: 0 | DO14: Himbo | DP14: 0 | DQ14: Himbo | DR14: 0 | DS14: Himbo | DT14: 0 | DU14: Himbo | DV14: 0 | DW14: Himbo | DX14: 0 | DY14: Himbo | DZ14: 0 | EA14: Himbo | EB14: 0 | EC14: Himbo | ED14: 0 | EE14: Himbo | EF14: 0 | EG14: Himbo | EH14: 0 | EI14: Himbo | EJ14: 0 | EK14: Himbo | EL14: 0 | EM14: Himbo | EN14: 0 | EO14: Himbo | EP14: 10 | EQ14: Himbo | ER14: 10 | ES14: Himbo | ET14: 0 | EU14: Himbo | EV14: 0 | EW14: Himbo | EX14: 0 | EY14: Himbo | EZ14: 0 | FA14: Himbo | FB14: 0 | FC14: Himbo | FD14: 0 | FE14: Himbo | FF14: 0 | FG14: Himbo | FH14: 0 | FI14: Himbo | FJ14: 0 | FK14: Himbo | FL14: 0 | FM14: Himbo | FN14: 0 | FO14: Himbo | FP14: 0 | FQ14: Himbo | FR14: 0 | FS14: Himbo | FT14: 0 | FU14: Himbo | FV14: 0 | FW14: Himbo | FX14: 0 | FY14: Himbo | FZ14: 0 | GA14: Himbo | GB14: 0 | GC14: Himbo | GD14: 0 | GE14: Himbo | GF14: 0 | GG14: Himbo | GH14: 0 | GI14: Himbo | GJ14: 0 | GK14: Himbo | GL14: 0 | GM14: Himbo | GN14: 0 | GO14: Himbo | GP14: 0 | GQ14: Himbo | GR14: 0 | GS14: Himbo | GT14: 0 | GU14: Himbo | GV14: 0 | GW14: Himbo | GX14: 0 | GY14: Himbo | GZ14: 0 | HA14: Himbo | HB14: 0 | HC14: Himbo | HD14: 0
A15: Idskov | B15: 0 | C15: Idskov | D15: 0 | E15: Zico | F15: 3 | G15: Idskov | H15: 0 | I15: United | J15: 0 | K15: Idskov | L15: 0 | M15: Frydkær | N15: 0 | O15: Idskov | P15: 0 | Q15: Idskov | R15: 0 | S15: Idskov | T15: 0 | U15: Idskov | V15: 0 | W15: Idskov | X15: 0 | Y15: Idskov | Z15: 0 | AA15: Idskov | AB15: 0 | AC15: Idskov | AD15: 0 | AE15: Idskov | AF15: 0 | AG15: Idskov | AH15: 0 | AI15: Idskov | AJ15: 0 | AK15: Idskov | AL15: 0 | AM15: Idskov | AN15: 0 | AO15: Idskov | AP15: 0 | AQ15: Idskov | AR15: 0 | AS15: Idskov | AT15: 0 | AU15: Idskov | AV15: 0 | AW15: Idskov | AX15: 0 | AY15: Idskov | AZ15: 0 | BA15: Idskov | BB15: 0 | BC15: Idskov | BD15: 0 | BE15: Idskov | BF15: 10 | BG15: Idskov | BH15: 10 | BI15: Idskov | BJ15: 0 | BK15: Idskov | BL15: 0 | BM15: Idskov | BN15: 0 | BO15: Idskov | BP15: 0 | BQ15: Idskov | BR15: 0 | BS15: Idskov | BT15: 0 | BU15: Idskov | BV15: 0 | BW15: Idskov | BX15: 0 | BY15: Idskov | BZ15: 0 | CA15: Idskov | CB15: 0 | CC15: Idskov | CD15: 0 | CE15: Idskov | CF15: 0 | CG15: Idskov | CH15: 0 | CI15: Idskov | CJ15: 0 | CK15: Idskov | CL15: 0 | CM15: Idskov | CN15: 0 | CO15: Idskov | CP15: 0 | CQ15: Idskov | CR15: 0 | CS15: Idskov | CT15: 0 | CU15: Idskov | CV15: 0 | CW15: Idskov | CX15: 0 | CY15: Idskov | CZ15: 0 | DA15: Idskov | DB15: 10 | DC15: Idskov | DD15: 10 | DE15: Idskov | DF15: 0 | DG15: Idskov | DH15: 0 | DI15: Idskov | DJ15: 0 | DK15: Idskov | DL15: 0 | DM15: Idskov | DN15: 0 | DO15: Idskov | DP15: 0 | DQ15: Idskov | DR15: 0 | DS15: Idskov | DT15: 0 | DU15: Idskov | DV15: 0 | DW15: Idskov | DX15: 0 | DY15: Idskov | DZ15: 0 | EA15: Idskov | EB15: 0 | EC15: Idskov | ED15: 0 | EE15: Idskov | EF15: 0 | EG15: Idskov | EH15: 0 | EI15: Idskov | EJ15: 0 | EK15: Idskov | EL15: 0 | EM15: Idskov | EN15: 0 | EO15: Idskov | EP15: 0 | EQ15: Idskov | ER15: 0 | ES15: Idskov | ET15: 0 | EU15: Idskov | EV15: 0 | EW15: Idskov | EX15: 0 | EY15: Idskov | EZ15: 0 | FA15: Idskov | FB15: 0 | FC15: Idskov | FD15: 0 | FE15: Idskov | FF15: 0 | FG15: Idskov | FH15: 0 | FI15: Idskov | FJ15: 0 | FK15: Idskov | FL15: 0 | FM15: Idskov | FN15: 0 | FO15: Idskov | FP15: 0 | FQ15: Idskov | FR15: 0 | FS15: Idskov | FT15: 0 | FU15: Idskov | FV15: 0 | FW15: Idskov | FX15: 0 | FY15: Idskov | FZ15: 0 | GA15: Idskov | GB15: 0 | GC15: Idskov | GD15: 0 | GE15: Idskov | GF15: 0 | GG15: Idskov | GH15: 0 | GI15: Idskov | GJ15: 0 | GK15: Idskov | GL15: 0 | GM15: Idskov | GN15: 0 | GO15: Idskov | GP15: 0 | GQ15: Idskov | GR15: 0 | GS15: Idskov | GT15: 0 | GU15: Idskov | GV15: 0 | GW15: Idskov | GX15: 0 | GY15: Idskov | GZ15: 0 | HA15: Idskov | HB15: 0 | HC15: Idskov | HD15: 0
A16: Kailua | B16: 0 | C16: Kailua | D16: 0 | E16: Degnen | F16: 3 | G16: Kailua | H16: 0 | I16: Stoke | J16: 3 | K16: Kailua | L16: 0 | M16: United | N16: 0 | O16: Kailua | P16: 0 | Q16: Kailua | R16: 0 | S16: Kailua | T16: 0 | U16: Kailua | V16: 0 | W16: Kailua | X16: 0 | Y16: Kailua | Z16: 0 | AA16: Kailua | AB16: 0 | AC16: Kailua | AD16: 0 | AE16: Kailua | AF16: 0 | AG16: Kailua | AH16: 10 | AI16: Kailua | AJ16: 10 | AK16: Kailua | AL16: 0 | AM16: Kailua | AN16: 0 | AO16: Kailua | AP16: 0 | AQ16: Kailua | AR16: 0 | AS16: Kailua | AT16: 0 | AU16: Kailua | AV16: 0 | AW16: Kailua | AX16: 0 | AY16: Kailua | AZ16: 0 | BA16: Kailua | BB16: 0 | BC16: Kailua | BD16: 0 | BE16: Kailua | BF16: 0 | BG16: Kailua | BH16: 0 | BI16: Kailua | BJ16: 0 | BK16: Kailua | BL16: 0 | BM16: Kailua | BN16: 0 | BO16: Kailua | BP16: 0 | BQ16: Kailua | BR16: 0 | BS16: Kailua | BT16: 0 | BU16: Kailua | BV16: 0 | BW16: Kailua | BX16: 0 | BY16: Kailua | BZ16: 0 | CA16: Kailua | CB16: 0 | CC16: Kailua | CD16: 0 | CE16: Kailua | CF16: 0 | CG16: Kailua | CH16: 0 | CI16: Kailua | CJ16: 0 | CK16: Kailua | CL16: 10 | CM16: Kailua | CN16: 10 | CO16: Kailua | CP16: 0 | CQ16: Kailua | CR16: 0 | CS16: Kailua | CT16: 0 | CU16: Kailua | CV16: 0 | CW16: Kailua | CX16: 0 | CY16: Kailua | CZ16: 0 | DA16: Kailua | DB16: 10 | DC16: Kailua | DD16: 10 | DE16: Kailua | DF16: 0 | DG16: Kailua | DH16: 0 | DI16: Kailua | DJ16: 0 | DK16: Kailua | DL16: 0 | DM16: Kailua | DN16: 10 | DO16: Kailua | DP16: 10 | DQ16: Kailua | DR16: 0 | DS16: Kailua | DT16: 0 | DU16: Kailua | DV16: 0 | DW16: Kailua | DX16: 0 | DY16: Kailua | DZ16: 0 | EA16: Kailua | EB16: 0 | EC16: Kailua | ED16: 0 | EE16: Kailua | EF16: 0 | EG16: Kailua | EH16: 0 | EI16: Kailua | EJ16: 0 | EK16: Kailua | EL16: 0 | EM16: Kailua | EN16: 0 | EO16: Kailua | EP16: 0 | EQ16: Kailua | ER16: 0 | ES16: Kailua | ET16: 0 | EU16: Kailua | EV16: 0 | EW16: Kailua | EX16: 0 | EY16: Kailua | EZ16: 0 | FA16: Kailua | FB16: 0 | FC16: Kailua | FD16: 0 | FE16: Kailua | FF16: 0 | FG16: Kailua | FH16: 0 | FI16: Kailua | FJ16: 0 | FK16: Kailua | FL16: 0 | FM16: Kailua | FN16: 0 | FO16: Kailua | FP16: 0 | FQ16: Kailua | FR16: 0 | FS16: Kailua | FT16: 0 | FU16: Kailua | FV16: 0 | FW16: Kailua | FX16: 0 | FY16: Kailua | FZ16: 0 | GA16: Kailua | GB16: 0 | GC16: Kailua | GD16: 0 | GE16: Kailua | GF16: 0 | GG16: Kailua | GH16: 0 | GI16: Kailua | GJ16: 0 | GK16: Kailua | GL16: 0 | GM16: Kailua | GN16: 0 | GO16: Kailua | GP16: 0 | GQ16: Kailua | GR16: 0 | GS16: Kailua | GT16: 0 | GU16: Kailua | GV16: 0 | GW16: Kailua | GX16: 0 | GY16: Kailua | GZ16: 0 | HA16: Kailua | HB16: 0 | HC16: Kailua | HD16: 0
... A23: Zico | B23: 0 | C23: Zico | D23: 0 | E23: Flinca | F23: 0 | G23: Zico | H23: 3 | I23: Idskov | J23: 0 | K23: Zico | L23: 0 | M23: Chelsea | N23: 0 | O23: Zico | P23: 4 | Q23: Zico | R23: 0 | S23: Zico | T23: 0 | U23: Zico | V23: 0 | W23: Zico | X23: 0 | Y23: Zico | Z23: 0 | AA23: Zico | AB23: 0 | AC23: Zico | AD23: 0 | AE23: Zico | AF23: 0 | AG23: Zico | AH23: 0 | AI23: Zico | AJ23: 0 | AK23: Zico | AL23: 0 | AM23: Zico | AN23: 0 | AO23: Zico | AP23: 0 | AQ23: Zico | AR23: 0 | AS23: Zico | AT23: 0 | AU23: Zico | AV23: 0 | AW23: Zico | AX23: 0 | AY23: Zico | AZ23: 0 | BA23: Zico | BB23: 0 | BC23: Zico | BD23: 0 | BE23: Zico | BF23: 0 | BG23: Zico | BH23: 0 | BI23: Zico | BJ23: 0 | BK23: Zico | BL23: 0 | BM23: Zico | BN23: 0 | BO23: Zico | BP23: 0 | BQ23: Zico | BR23: 0 | BS23: Zico | BT23: 0 | BU23: Zico | BV23: 0 | BW23: Zico | BX23: 0 | BY23: Zico | BZ23: 0 | CA23: Zico | CB23: 0 | CC23: Zico | CD23: 0 | CE23: Zico | CF23: 0 | CG23: Zico | CH23: 0 | CI23: Zico | CJ23: 0 | CK23: Zico | CL23: 0 | CM23: Zico | CN23: 0 | CO23: Zico | CP23: 0 | CQ23: Zico | CR23: 0 | CS23: Zico | CT23: 0 | CU23: Zico | CV23: 0 | CW23: Zico | CX23: 0 | CY23: Zico | CZ23: 0 | DA23: Zico | DB23: 10 | DC23: Zico | DD23: 10 | DE23: Zico | DF23: 0 | DG23: Zico | DH23: 0 | DI23: Zico | DJ23: 0 | DK23: Zico | DL23: 0 | DM23: Zico | DN23: 0 | DO23: Zico | DP23: 0 | DQ23: Zico | DR23: 0 | DS23: Zico | DT23: 0 | DU23: Zico | DV23: 0 | DW23: Zico | DX23: 0 | DY23: Zico | DZ23: 0 | EA23: Zico | EB23: 0 | EC23: Zico | ED23: 0 | EE23: Zico | EF23: 0 | EG23: Zico | EH23: 0 | EI23: Zico | EJ23: 0 | EK23: Zico | EL23: 0 | EM23: Zico | EN23: 0 | EO23: Zico | EP23: 0 | EQ23: Zico | ER23: 0 | ES23: Zico | ET23: 0 | EU23: Zico | EV23: 0 | EW23: Zico | EX23: 0 | EY23: Zico | EZ23: 0 | FA23: Zico | FB23: 0 | FC23: Zico | FD23: 0 | FE23: Zico | FF23: 0 | FG23: Zico | FH23: 0 | FI23: Zico | FJ23: 0 | FK23: Zico | FL23: 0 | FM23: Zico | FN23: 0 | FO23: Zico | FP23: 0 | FQ23: Zico | FR23: 0 | FS23: Zico | FT23: 0 | FU23: Zico | FV23: 0 | FW23: Zico | FX23: 0 | FY23: Zico | FZ23: 0 | GA23: Zico | GB23: 0 | GC23: Zico | GD23: 0 | GE23: Zico | GF23: 0 | GG23: Zico | GH23: 0 | GI23: Zico | GJ23: 0 | GK23: Zico | GL23: 0 | GM23: Zico | GN23: 0 | GO23: Zico | GP23: 0 | GQ23: Zico | GR23: 0 | GS23: Zico | GT23: 0 | GU23: Zico | GV23: 0 | GW23: Zico | GX23: 0 | GY23: Zico | GZ23: 0 | HA23: Zico | HB23: 0 | HC23: Zico | HD23: 0
A25: Agger | B25: 0 | C25: {=_xlfn._xlws.SORT(A25:B44)} -> Agger | D25: 0 | E25: McCoist | F25: 0 | G25: {=_xlfn._xlws.SORT(E25:F44)} -> Agger | H25: 5 | I25: Agger | J25: 0 | K25: {=_xlfn._xlws.SORT(I25:J44)} -> Agger | L25: 0 | M25: Anderup | N25: 4 | O25: {=_xlfn._xlws.SORT(M25:N44)} -> Agger | P25: 0 | Q25: Agger | R25: 0 | S25: {=_xlfn._xlws.SORT(Q25:R44)} -> Agger | T25: 0 | U25: Agger | V25: 0 | W25: {=_xlfn._xlws.SORT(U25:V44)} -> Agger | X25: 0 | Y25: Agger | Z25: 0 | AA25: {=_xlfn._xlws.SORT(Y25:Z44)} -> Agger | AB25: 0 | AC25: Agger | AD25: 0 | AE25: {=_xlfn._xlws.SORT(AC25:AD44)} -> Agger | AF25: 0 | AG25: Agger | AH25: 0 | AI25: {=_xlfn._xlws.SORT(AG25:AH44)} -> Agger | AJ25: 0 | AK25: Agger | AL25: 0 | AM25: {=_xlfn._xlws.SORT(AK25:AL44)} -> Agger | AN25: 0 | AO25: Agger | AP25: 0 | AQ25: {=_xlfn._xlws.SORT(AO25:AP44)} -> Agger | AR25: 0 | AS25: Agger | AT25: 0 | AU25: {=_xlfn._xlws.SORT(AS25:AT44)} -> Agger | AV25: 0 | AW25: Agger | AX25: 0 | AY25: {=_xlfn._xlws.SORT(AW25:AX44)} -> Agger | AZ25: 0 | BA25: Agger | BB25: 0 | BC25: {=_xlfn._xlws.SORT(BA25:BB44)} -> Agger | BD25: 0 | BE25: Agger | BF25: 0 | BG25: {=_xlfn._xlws.SORT(BE25:BF44)} -> Agger | BH25: 0 | BI25: Agger | BJ25: 0 | BK25: {=_xlfn._xlws.SORT(BI25:BJ44)} -> Agger | BL25: 0 | BM25: Agger | BN25: 0 | BO25: {=_xlfn._xlws.SORT(BM25:BN44)} -> Agger | BP25: 0 | BQ25: Agger | BR25: 0 | BS25: {=_xlfn._xlws.SORT(BQ25:BR44)} -> Agger | BT25: 0 | BU25: Agger | BV25: 0 | BW25: {=_xlfn._xlws.SORT(BU25:BV44)} -> Agger | BX25: 0 | BY25: Agger | BZ25: 0 | CA25: {=_xlfn._xlws.SORT(BY25:BZ44)} -> Agger | CB25: 0 | CC25: Agger | CD25: 0 | CE25: {=_xlfn._xlws.SORT(CC25:CD44)} -> Agger | CF25: 0 | CG25: Agger | CH25: 0 | CI25: {=_xlfn._xlws.SORT(CG25:CH44)} -> Agger | CJ25: 0 | CK25: Agger | CL25: 0 | CM25: {=_xlfn._xlws.SORT(CK25:CL44)} -> Agger | CN25: 0 | CO25: Agger | CP25: 0 | CQ25: {=_xlfn._xlws.SORT(CO25:CP44)} -> Agger | CR25: 0 | CS25: Agger | CT25: 0 | CU25: {=_xlfn._xlws.SORT(CS25:CT44)} -> Agger | CV25: 0 | CW25: Agger | CX25: 0 | CY25: {=_xlfn._xlws.SORT(CW25:CX44)} -> Agger | CZ25: 0 | DA25: Agger | DB25: 10 | DC25: {=_xlfn._xlws.SORT(DA25:DB44)} -> Agger | DD25: 10 | DE25: Agger | DF25: 0 | DG25: {=_xlfn._xlws.SORT(DE25:DF44)} -> Agger | DH25: 0 | DI25: Agger | DJ25: 10 | DK25: {=_xlfn._xlws.SORT(DI25:DJ44)} -> Agger | DL25: 10 | DM25: Agger | DN25: 0 | DO25: {=_xlfn._xlws.SORT(DM25:DN44)} -> Agger | DP25: 0 | DQ25: Agger | DR25: 0 | DS25: {=_xlfn._xlws.SORT(DQ25:DR44)} -> Agger | DT25: 0 | DU25: Agger | DV25: 0 | DW25: {=_xlfn._xlws.SORT(DU25:DV44)} -> Agger | DX25: 0 | DY25: Agger | DZ25: 0 | EA25: {=_xlfn._xlws.SORT(DY25:DZ44)} -> Agger | EB25: 0 | EC25: Agger | ED25: 0 | EE25: {=_xlfn._xlws.SORT(EC25:ED44)} -> Agger | EF25: 0 | EG25: Agger | EH25: 0 | EI25: {=_xlfn._xlws.SORT(EG25:EH44)} -> Agger | EJ25: 0 | EK25: Agger | EL25: 0 | EM25: {=_xlfn._xlws.SORT(EK25:EL44)} -> Agger | EN25: 0 | EO25: Agger | EP25: 0 | EQ25: {=_xlfn._xlws.SORT(EO25:EP44)} -> Agger | ER25: 0 | ES25: Agger | ET25: 0 | EU25: {=_xlfn._xlws.SORT(ES25:ET44)} -> Agger | EV25: 0 | EW25: Agger | EX25: 0 | EY25: {=_xlfn._xlws.SORT(EW25:EX44)} -> Agger | EZ25: 0 | FA25: Agger | FB25: 0 | FC25: {=_xlfn._xlws.SORT(FA25:FB44)} -> Agger | FD25: 0 | FE25: Agger | FF25: 0 | FG25: {=_xlfn._xlws.SORT(FE25:FF44)} -> Agger | FH25: 0 | FI25: Agger | FJ25: 0 | FK25: {=_xlfn._xlws.SORT(FI25:FJ44)} -> Agger | FL25: 0 | FM25: Agger | FN25: 0 | FO25: {=_xlfn._xlws.SORT(FM25:FN44)} -> Agger | FP25: 0 | FQ25: Agger | FR25: 0 | FS25: {=_xlfn._xlws.SORT(FQ25:FR44)} -> Agger | FT25: 0 | FU25: Agger | FV25: 0 | FW25: {=_xlfn._xlws.SORT(FU25:FV44)} -> Agger | FX25: 0 | FY25: Agger | FZ25: 0 | GA25: {=_xlfn._xlws.SORT(FY25:FZ44)} -> Agger | GB25: 0 | GC25: Agger | GD25: 0 | GE25: {=_xlfn._xlws.SORT(GC25:GD44)} -> Agger | GF25: 0 | GG25: Agger | GH25: 0 | GI25: {=_xlfn._xlws.SORT(GG25:GH44)} -> Agger | GJ25: 0 | GK25: Agger | GL25: 0 | GM25: {=_xlfn._xlws.SORT(GK25:GL44)} -> Agger | GN25: 0 | GO25: Agger | GP25: 0 | GQ25: {=_xlfn._xlws.SORT(GO25:GP44)} -> Agger | GR25: 0 | GS25: Agger | GT25: 0 | GU25: {=_xlfn._xlws.SORT(GS25:GT44)} -> Agger | GV25: 0 | GW25: Agger | GX25: 0 | GY25: {=_xlfn._xlws.SORT(GW25:GX44)} -> Agger | GZ25: 0 | HA25: Agger | HB25: 0 | HC25: {=_xlfn._xlws.SORT(HA25:HB44)} -> Agger | HD25: 0
A26: Anderup | B26: 0 | C26: Anderup | D26: 0 | E26: Piquet | F26: 0 | G26: Anderup | H26: 3 | I26: SPVK | J26: 0 | K26: Anderup | L26: 10 | M26: Culopip | N26: 0 | O26: Anderup | P26: 4 | Q26: Anderup | R26: 10 | S26: Anderup | T26: 10 | U26: Anderup | V26: 0 | W26: Anderup | X26: 0 | Y26: Anderup | Z26: 0 | AA26: Anderup | AB26: 0 | AC26: Anderup | AD26: 0 | AE26: Anderup | AF26: 0 | AG26: Anderup | AH26: 0 | AI26: Anderup | AJ26: 0 | AK26: Anderup | AL26: 0 | AM26: Anderup | AN26: 0 | AO26: Anderup | AP26: 0 | AQ26: Anderup | AR26: 0 | AS26: Anderup | AT26: 0 | AU26: Anderup | AV26: 0 | AW26: Anderup | AX26: 0 | AY26: Anderup | AZ26: 0 | BA26: Anderup | BB26: 0 | BC26: Anderup | BD26: 0 | BE26: Anderup | BF26: 0 | BG26: Anderup | BH26: 0 | BI26: Anderup | BJ26: 10 | BK26: Anderup | BL26: 10 | BM26: Anderup | BN26: 0 | BO26: Anderup | BP26: 0 | BQ26: Anderup | BR26: 0 | BS26: Anderup | BT26: 0 | BU26: Anderup | BV26: 0 | BW26: Anderup | BX26: 0 | BY26: Anderup | BZ26: 0 | CA26: Anderup | CB26: 0 | CC26: Anderup | CD26: 0 | CE26: Anderup | CF26: 0 | CG26: Anderup | CH26: 0 | CI26: Anderup | CJ26: 0 | CK26: Anderup | CL26: 0 | CM26: Anderup | CN26: 0 | CO26: Anderup | CP26: 0 | CQ26: Anderup | CR26: 0 | CS26: Anderup | CT26: 0 | CU26: Anderup | CV26: 0 | CW26: Anderup | CX26: 0 | CY26: Anderup | CZ26: 0 | DA26: Anderup | DB26: 10 | DC26: Anderup | DD26: 10 | DE26: Anderup | DF26: 0 | DG26: Anderup | DH26: 0 | DI26: Anderup | DJ26: 0 | DK26: Anderup | DL26: 0 | DM26: Anderup | DN26: 0 | DO26: Anderup | DP26: 0 | DQ26: Anderup | DR26: 0 | DS26: Anderup | DT26: 0 | DU26: Anderup | DV26: 0 | DW26: Anderup | DX26: 0 | DY26: Anderup | DZ26: 0 | EA26: Anderup | EB26: 0 | EC26: Anderup | ED26: 0 | EE26: Anderup | EF26: 0 | EG26: Anderup | EH26: 0 | EI26: Anderup | EJ26: 0 | EK26: Anderup | EL26: 0 | EM26: Anderup | EN26: 0 | EO26: Anderup | EP26: 0 | EQ26: Anderup | ER26: 0 | ES26: Anderup | ET26: 0 | EU26: Anderup | EV26: 0 | EW26: Anderup | EX26: 0 | EY26: Anderup | EZ26: 0 | FA26: Anderup | FB26: 0 | FC26: Anderup | FD26: 0 | FE26: Anderup | FF26: 0 | FG26: Anderup | FH26: 0 | FI26: Anderup | FJ26: 0 | FK26: Anderup | FL26: 0 | FM26: Anderup | FN26: 0 | FO26: Anderup | FP26: 0 | FQ26: Anderup | FR26: 0 | FS26: Anderup | FT26: 0 | FU26: Anderup | FV26: 0 | FW26: Anderup | FX26: 0 | FY26: Anderup | FZ26: 0 | GA26: Anderup | GB26: 0 | GC26: Anderup | GD26: 0 | GE26: Anderup | GF26: 0 | GG26: Anderup | GH26: 0 | GI26: Anderup | GJ26: 0 | GK26: Anderup | GL26: 0 | GM26: Anderup | GN26: 0 | GO26: Anderup | GP26: 0 | GQ26: Anderup | GR26: 0 | GS26: Anderup | GT26: 0 | GU26: Anderup | GV26: 0 | GW26: Anderup | GX26: 0 | GY26: Anderup | GZ26: 0 | HA26: Anderup | HB26: 0 | HC26: Anderup | HD26: 0
A27: Cottee | B27: 0 | C27: Cottee | D27: 0 | E27: Agger | F27: 5 | G27: Cottee | H27: 0 | I27: Culopip | J27: 3 | K27: Cottee | L27: 0 | M27: McCoist | N27: 0 | O27: Cottee | P27: 0 | Q27: Cottee | R27: 0 | S27: Cottee | T27: 0 | U27: Cottee | V27: 0 | W27: Cottee | X27: 0 | Y27: Cottee | Z27: 0 | AA27: Cottee | AB27: 0 | AC27: Cottee | AD27: 0 | AE27: Cottee | AF27: 0 | AG27: Cottee | AH27: 10 | AI27: Cottee | AJ27: 10 | AK27: Cottee | AL27: 0 | AM27: Cottee | AN27: 0 | AO27: Cottee | AP27: 0 | AQ27: Cottee | AR27: 0 | AS27: Cottee | AT27: 0 | AU27: Cottee | AV27: 0 | AW27: Cottee | AX27: 0 | AY27: Cottee | AZ27: 0 | BA27: Cottee | BB27: 0 | BC27: Cottee | BD27: 0 | BE27: Cottee | BF27: 0 | BG27: Cottee | BH27: 0 | BI27: Cottee | BJ27: 0 | BK27: Cottee | BL27: 0 | BM27: Cottee | BN27: 0 | BO27: Cottee | BP27: 0 | BQ27: Cottee | BR27: 0 | BS27: Cottee | BT27: 0 | BU27: Cottee | BV27: 0 | BW27: Cottee | BX27: 0 | BY27: Cottee | BZ27: 0 | CA27: Cottee | CB27: 0 | CC27: Cottee | CD27: 10 | CE27: Cottee | CF27: 10 | CG27: Cottee | CH27: 10 | CI27: Cottee | CJ27: 10 | CK27: Cottee | CL27: 0 | CM27: Cottee | CN27: 0 | CO27: Cottee | CP27: 0 | CQ27: Cottee | CR27: 0 | CS27: Cottee | CT27: 0 | CU27: Cottee | CV27: 0 | CW27: Cottee | CX27: 0 | CY27: Cottee | CZ27: 0 | DA27: Cottee | DB27: 10 | DC27: Cottee | DD27: 10 | DE27: Cottee | DF27: 0 | DG27: Cottee | DH27: 0 | DI27: Cottee | DJ27: 0 | DK27: Cottee | DL27: 0 | DM27: Cottee | DN27: 0 | DO27: Cottee | DP27: 0 | DQ27: Cottee | DR27: 0 | DS27: Cottee | DT27: 0 | DU27: Cottee | DV27: 0 | DW27: Cottee | DX27: 0 | DY27: Cottee | DZ27: 0 | EA27: Cottee | EB27: 0 | EC27: Cottee | ED27: 0 | EE27: Cottee | EF27: 0 | EG27: Cottee | EH27: 0 | EI27: Cottee | EJ27: 0 | EK27: Cottee | EL27: 0 | EM27: Cottee | EN27: 0 | EO27: Cottee | EP27: 0 | EQ27: Cottee | ER27: 0 | ES27: Cottee | ET27: 0 | EU27: Cottee | EV27: 0 | EW27: Cottee | EX27: 0 | EY27: Cottee | EZ27: 0 | FA27: Cottee | FB27: 0 | FC27: Cottee | FD27: 0 | FE27: Cottee | FF27: 0 | FG27: Cottee | FH27: 0 | FI27: Cottee | FJ27: 10 | FK27: Cottee | FL27: 10 | FM27: Cottee | FN27: 0 | FO27: Cottee | FP27: 0 | FQ27: Cottee | FR27: 0 | FS27: Cottee | FT27: 0 | FU27: Cottee | FV27: 0 | FW27: Cottee | FX27: 0 | FY27: Cottee | FZ27: 0 | GA27: Cottee | GB27: 0 | GC27: Cottee | GD27: 0 | GE27: Cottee | GF27: 0 | GG27: Cottee | GH27: 0 | GI27: Cottee | GJ27: 0 | GK27: Cottee | GL27: 0 | GM27: Cottee | GN27: 0 | GO27: Cottee | GP27: 0 | GQ27: Cottee | GR27: 0 | GS27: Cottee | GT27: 0 | GU27: Cottee | GV27: 0 | GW27: Cottee | GX27: 0 | GY27: Cottee | GZ27: 0 | HA27: Cottee | HB27: 0 | HC27: Cottee | HD27: 0
A28: Culopip | B28: 0 | C28: Culopip | D28: 0 | E28: Culopip | F28: 3 | G28: Culopip | H28: 3 | I28: McCoist | J28: 0 | K28: Culopip | L28: 3 | M28: Forest | N28: 0 | O28: Culopip | P28: 0 | Q28: Culopip | R28: 0 | S28: Culopip | T28: 0 | U28: Culopip | V28: 0 | W28: Culopip | X28: 0 | Y28: Culopip | Z28: 0 | AA28: Culopip | AB28: 0 | AC28: Culopip | AD28: 0 | AE28: Culopip | AF28: 0 | AG28: Culopip | AH28: 0 | AI28: Culopip | AJ28: 0 | AK28: Culopip | AL28: 0 | AM28: Culopip | AN28: 0 | AO28: Culopip | AP28: 0 | AQ28: Culopip | AR28: 0 | AS28: Culopip | AT28: 0 | AU28: Culopip | AV28: 0 | AW28: Culopip | AX28: 0 | AY28: Culopip | AZ28: 0 | BA28: Culopip | BB28: 0 | BC28: Culopip | BD28: 0 | BE28: Culopip | BF28: 0 | BG28: Culopip | BH28: 0 | BI28: Culopip | BJ28: 0 | BK28: Culopip | BL28: 0 | BM28: Culopip | BN28: 0 | BO28: Culopip | BP28: 0 | BQ28: Culopip | BR28: 10 | BS28: Culopip | BT28: 10 | BU28: Culopip | BV28: 0 | BW28: Culopip | BX28: 0 | BY28: Culopip | BZ28: 0 | CA28: Culopip | CB28: 0 | CC28: Culopip | CD28: 0 | CE28: Culopip | CF28: 0 | CG28: Culopip | CH28: 0 | CI28: Culopip | CJ28: 0 | CK28: Culopip | CL28: 0 | CM28: Culopip | CN28: 0 | CO28: Culopip | CP28: 0 | CQ28: Culopip | CR28: 0 | CS28: Culopip | CT28: 0 | CU28: Culopip | CV28: 0 | CW28: Culopip | CX28: 0 | CY28: Culopip | CZ28: 0 | DA28: Culopip | DB28: 10 | DC28: Culopip | DD28: 10 | DE28: Culopip | DF28: 0 | DG28: Culopip | DH28: 0 | DI28: Culopip | DJ28: 10 | DK28: Culopip | DL28: 10 | DM28: Culopip | DN28: 0 | DO28: Culopip | DP28: 0 | DQ28: Culopip | DR28: 10 | DS28: Culopip | DT28: 10 | DU28: Culopip | DV28: 0 | DW28: Culopip | DX28: 0 | DY28: Culopip | DZ28: 0 | EA28: Culopip | EB28: 0 | EC28: Culopip | ED28: 0 | EE28: Culopip | EF28: 0 | EG28: Culopip | EH28: 0 | EI28: Culopip | EJ28: 0 | EK28: Culopip | EL28: 0 | EM28: Culopip | EN28: 0 | EO28: Culopip | EP28: 0 | EQ28: Culopip | ER28: 0 | ES28: Culopip | ET28: 0 | EU28: Culopip | EV28: 0 | EW28: Culopip | EX28: 0 | EY28: Culopip | EZ28: 0 | FA28: Culopip | FB28: 0 | FC28: Culopip | FD28: 0 | FE28: Culopip | FF28: 0 | FG28: Culopip | FH28: 0 | FI28: Culopip | FJ28: 0 | FK28: Culopip | FL28: 0 | FM28: Culopip | FN28: 0 | FO28: Culopip | FP28: 0 | FQ28: Culopip | FR28: 0 | FS28: Culopip | FT28: 0 | FU28: Culopip | FV28: 0 | FW28: Culopip | FX28: 0 | FY28: Culopip | FZ28: 0 | GA28: Culopip | GB28: 0 | GC28: Culopip | GD28: 0 | GE28: Culopip | GF28: 0 | GG28: Culopip | GH28: 0 | GI28: Culopip | GJ28: 0 | GK28: Culopip | GL28: 0 | GM28: Culopip | GN28: 0 | GO28: Culopip | GP28: 0 | GQ28: Culopip | GR28: 0 | GS28: Culopip | GT28: 0 | GU28: Culopip | GV28: 0 | GW28: Culopip | GX28: 0 | GY28: Culopip | GZ28: 0 | HA28: Culopip | HB28: 0 | HC28: Culopip | HD28: 0
A29: Forest | B29: 0 | C29: Forest | D29: 0 | E29: Harry | F29: 0 | G29: Forest | H29: 0 | I29: Anderup | J29: 10 | K29: Forest | L29: 0 | M29: Piquet | N29: 4 | O29: Forest | P29: 0 | Q29: Forest | R29: 0 | S29: Forest | T29: 0 | U29: Forest | V29: 0 | W29: Forest | X29: 0 | Y29: Forest | Z29: 0 | AA29: Forest | AB29: 0 | AC29: Forest | AD29: 0 | AE29: Forest | AF29: 0 | AG29: Forest | AH29: 0 | AI29: Forest | AJ29: 0 | AK29: Forest | AL29: 0 | AM29: Forest | AN29: 0 | AO29: Forest | AP29: 0 | AQ29: Forest | AR29: 0 | AS29: Forest | AT29: 0 | AU29: Forest | AV29: 0 | AW29: Forest | AX29: 0 | AY29: Forest | AZ29: 0 | BA29: Forest | BB29: 0 | BC29: Forest | BD29: 0 | BE29: Forest | BF29: 0 | BG29: Forest | BH29: 0 | BI29: Forest | BJ29: 0 | BK29: Forest | BL29: 0 | BM29: Forest | BN29: 0 | BO29: Forest | BP29: 0 | BQ29: Forest | BR29: 0 | BS29: Forest | BT29: 0 | BU29: Forest | BV29: 0 | BW29: Forest | BX29: 0 | BY29: Forest | BZ29: 0 | CA29: Forest | CB29: 0 | CC29: Forest | CD29: 0 | CE29: Forest | CF29: 0 | CG29: Forest | CH29: 0 | CI29: Forest | CJ29: 0 | CK29: Forest | CL29: 0 | CM29: Forest | CN29: 0 | CO29: Forest | CP29: 0 | CQ29: Forest | CR29: 0 | CS29: Forest | CT29: 0 | CU29: Forest | CV29: 0 | CW29: Forest | CX29: 0 | CY29: Forest | CZ29: 0 | DA29: Forest | DB29: 10 | DC29: Forest | DD29: 10 | DE29: Forest | DF29: 0 | DG29: Forest | DH29: 0 | DI29: Forest | DJ29: 0 | DK29: Forest | DL29: 0 | DM29: Forest | DN29: 0 | DO29: Forest | DP29: 0 | DQ29: Forest | DR29: 0 | DS29: Forest | DT29: 0 | DU29: Forest | DV29: 0 | DW29: Forest | DX29: 0 | DY29: Forest | DZ29: 0 | EA29: Forest | EB29: 0 | EC29: Forest | ED29: 0 | EE29: Forest | EF29: 0 | EG29: Forest | EH29: 0 | EI29: Forest | EJ29: 0 | EK29: Forest | EL29: 0 | EM29: Forest | EN29: 0 | EO29: Forest | EP29: 10 | EQ29: Forest | ER29: 10 | ES29: Forest | ET29: 0 | EU29: Forest | EV29: 0 | EW29: Forest | EX29: 0 | EY29: Forest | EZ29: 0 | FA29: Forest | FB29: 0 | FC29: Forest | FD29: 0 | FE29: Forest | FF29: 0 | FG29: Forest | FH29: 0 | FI29: Forest | FJ29: 0 | FK29: Forest | FL29: 0 | FM29: Forest | FN29: 0 | FO29: Forest | FP29: 0 | FQ29: Forest | FR29: 0 | FS29: Forest | FT29: 0 | FU29: Forest | FV29: 0 | FW29: Forest | FX29: 0 | FY29: Forest | FZ29: 0 | GA29: Forest | GB29: 0 | GC29: Forest | GD29: 0 | GE29: Forest | GF29: 0 | GG29: Forest | GH29: 0 | GI29: Forest | GJ29: 0 | GK29: Forest | GL29: 0 | GM29: Forest | GN29: 0 | GO29: Forest | GP29: 0 | GQ29: Forest | GR29: 0 | GS29: Forest | GT29: 0 | GU29: Forest | GV29: 0 | GW29: Forest | GX29: 0 | GY29: Forest | GZ29: 0 | HA29: Forest | HB29: 0 | HC29: Forest | HD29: 0
A30: Harry | B30: 0 | C30: Harry | D30: 0 | E30: Watson | F30: 0 | G30: Harry | H30: 0 | I30: Nielsen | J30: 0 | K30: Harry | L30: 0 | M30: Agger | N30: 0 | O30: Harry | P30: 4 | Q30: Harry | R30: 0 | S30: Harry | T30: 0 | U30: Harry | V30: 0 | W30: Harry | X30: 0 | Y30: Harry | Z30: 0 | AA30: Harry | AB30: 0 | AC30: Harry | AD30: 0 | AE30: Harry | AF30: 0 | AG30: Harry | AH30: 0 | AI30: Harry | AJ30: 0 | AK30: Harry | AL30: 0 | AM30: Harry | AN30: 0 | AO30: Harry | AP30: 0 | AQ30: Harry | AR30: 0 | AS30: Harry | AT30: 0 | AU30: Harry | AV30: 0 | AW30: Harry | AX30: 0 | AY30: Harry | AZ30: 0 | BA30: Harry | BB30: 0 | BC30: Harry | BD30: 0 | BE30: Harry | BF30: 0 | BG30: Harry | BH30: 0 | BI30: Harry | BJ30: 0 | BK30: Harry | BL30: 0 | BM30: Harry | BN30: 0 | BO30: Harry | BP30: 0 | BQ30: Harry | BR30: 0 | BS30: Harry | BT30: 0 | BU30: Harry | BV30: 0 | BW30: Harry | BX30: 0 | BY30: Harry | BZ30: 0 | CA30: Harry | CB30: 0 | CC30: Harry | CD30: 0 | CE30: Harry | CF30: 0 | CG30: Harry | CH30: 0 | CI30: Harry | CJ30: 0 | CK30: Harry | CL30: 0 | CM30: Harry | CN30: 0 | CO30: Harry | CP30: 0 | CQ30: Harry | CR30: 0 | CS30: Harry | CT30: 0 | CU30: Harry | CV30: 0 | CW30: Harry | CX30: 0 | CY30: Harry | CZ30: 0 | DA30: Harry | DB30: 10 | DC30: Harry | DD30: 10 | DE30: Harry | DF30: 0 | DG30: Harry | DH30: 0 | DI30: Harry | DJ30: 0 | DK30: Harry | DL30: 0 | DM30: Harry | DN30: 0 | DO30: Harry | DP30: 0 | DQ30: Harry | DR30: 0 | DS30: Harry | DT30: 0 | DU30: Harry | DV30: 0 | DW30: Harry | DX30: 0 | DY30: Harry | DZ30: 0 | EA30: Harry | EB30: 0 | EC30: Harry | ED30: 0 | EE30: Harry | EF30: 0 | EG30: Harry | EH30: 0 | EI30: Harry | EJ30: 0 | EK30: Harry | EL30: 0 | EM30: Harry | EN30: 0 | EO30: Harry | EP30: 0 | EQ30: Harry | ER30: 0 | ES30: Harry | ET30: 0 | EU30: Harry | EV30: 0 | EW30: Harry | EX30: 0 | EY30: Harry | EZ30: 0 | FA30: Harry | FB30: 0 | FC30: Harry | FD30: 0 | FE30: Harry | FF30: 0 | FG30: Harry | FH30: 0 | FI30: Harry | FJ30: 0 | FK30: Harry | FL30: 0 | FM30: Harry | FN30: 0 | FO30: Harry | FP30: 0 | FQ30: Harry | FR30: 0 | FS30: Harry | FT30: 0 | FU30: Harry | FV30: 0 | FW30: Harry | FX30: 0 | FY30: Harry | FZ30: 0 | GA30: Harry | GB30: 0 | GC30: Harry | GD30: 0 | GE30: Harry | GF30: 0 | GG30: Harry | GH30: 0 | GI30: Harry | GJ30: 0 | GK30: Harry | GL30: 0 | GM30: Harry | GN30: 0 | GO30: Harry | GP30: 0 | GQ30: Harry | GR30: 0 | GS30: Harry | GT30: 0 | GU30: Harry | GV30: 0 | GW30: Harry | GX30: 0 | GY30: Harry | GZ30: 0 | HA30: Harry | HB30: 0 | HC30: Harry | HD30: 0
A31: Højgård | B31: 0 | C31: Højgård | D31: 0 | E31: Anderup | F31: 3 | G31: Højgård | H31: 0 | I31: Sergio | J31: 0 | K31: Højgård | L31: 0 | M31: SPVK | N31: 0 | O31: Højgård | P31: 0 | Q31: Højgård | R31: 0 | S31: Højgård | T31: 0 | U31: Højgård | V31: 0 | W31: Højgård | X31: 0 | Y31: Højgård | Z31: 0 | AA31: Højgård | AB31: 0 | AC31: Højgård | AD31: 0 | AE31: Højgård | AF31: 0 | AG31: Højgård | AH31: 0 | AI31: Højgård | AJ31: 0 | AK31: Højgård | AL31: 0 | AM31: Højgård | AN31: 0 | AO31: Højgård | AP31: 0 | AQ31: Højgård | AR31: 0 | AS31: Højgård | AT31: 0 | AU31: Højgård | AV31: 0 | AW31: Højgård | AX31: 0 | AY31: Højgård | AZ31: 0 | BA31: Højgård | BB31: 0 | BC31: Højgård | BD31: 0 | BE31: Højgård | BF31: 0 | BG31: Højgård | BH31: 0 | BI31: Højgård | BJ31: 0 | BK31: Højgård | BL31: 0 | BM31: Højgård | BN31: 0 | BO31: Højgård | BP31: 0 | BQ31: Højgård | BR31: 0 | BS31: Højgård | BT31: 0 | BU31: Højgård | BV31: 0 | BW31: Højgård | BX31: 0 | BY31: Højgård | BZ31: 0 | CA31: Højgård | CB31: 0 | CC31: Højgård | CD31: 0 | CE31: Højgård | CF31: 0 | CG31: Højgård | CH31: 0 | CI31: Højgård | CJ31: 0 | CK31: Højgård | CL31: 0 | CM31: Højgård | CN31: 0 | CO31: Højgård | CP31: 0 | CQ31: Højgård | CR31: 0 | CS31: Højgård | CT31: 0 | CU31: Højgård | CV31: 0 | CW31: Højgård | CX31: 0 | CY31: Højgård | CZ31: 0 | DA31: Højgård | DB31: 10 | DC31: Højgård | DD31: 10 | DE31: Højgård | DF31: 0 | DG31: Højgård | DH31: 0 | DI31: Højgård | DJ31: 0 | DK31: Højgård | DL31: 0 | DM31: Højgård | DN31: 0 | DO31: Højgård | DP31: 0 | DQ31: Højgård | DR31: 0 | DS31: Højgård | DT31: 0 | DU31: Højgård | DV31: 0 | DW31: Højgård | DX31: 0 | DY31: Højgård | DZ31: 0 | EA31: Højgård | EB31: 0 | EC31: Højgård | ED31: 0 | EE31: Højgård | EF31: 0 | EG31: Højgård | EH31: 0 | EI31: Højgård | EJ31: 0 | EK31: Højgård | EL31: 0 | EM31: Højgård | EN31: 0 | EO31: Højgård | EP31: 0 | EQ31: Højgård | ER31: 0 | ES31: Højgård | ET31: 0 | EU31: Højgård | EV31: 0 | EW31: Højgård | EX31: 0 | EY31: Højgård | EZ31: 0 | FA31: Højgård | FB31: 0 | FC31: Højgård | FD31: 0 | FE31: Højgård | FF31: 0 | FG31: Højgård | FH31: 0 | FI31: Højgård | FJ31: 0 | FK31: Højgård | FL31: 0 | FM31: Højgård | FN31: 0 | FO31: Højgård | FP31: 0 | FQ31: Højgård | FR31: 0 | FS31: Højgård | FT31: 0 | FU31: Højgård | FV31: 0 | FW31: Højgård | FX31: 0 | FY31: Højgård | FZ31: 0 | GA31: Højgård | GB31: 0 | GC31: Højgård | GD31: 0 | GE31: Højgård | GF31: 0 | GG31: Højgård | GH31: 0 | GI31: Højgård | GJ31: 0 | GK31: Højgård | GL31: 0 | GM31: Højgård | GN31: 0 | GO31: Højgård | GP31: 0 | GQ31: Højgård | GR31: 0 | GS31: Højgård | GT31: 0 | GU31: Højgård | GV31: 0 | GW31: Højgård | GX31: 0 | GY31: Højgård | GZ31: 0 | HA31: Højgård | HB31: 0 | HC31: Højgård | HD31: 0
A32: IanRush | B32: 0 | C32: IanRush | D32: 0 | E32: Højgård | F32: 0 | G32: IanRush | H32: 0 | I32: Lions | J32: 0 | K32: IanRush | L32: 0 | M32: Lions | N32: 0 | O32: IanRush | P32: 0 | Q32: IanRush | R32: 0 | S32: IanRush | T32: 0 | U32: IanRush | V32: 0 | W32: IanRush | X32: 0 | Y32: IanRush | Z32: 0 | AA32: IanRush | AB32: 0 | AC32: IanRush | AD32: 0 | AE32: IanRush | AF32: 0 | AG32: IanRush | AH32: 10 | AI32: IanRush | AJ32: 10 | AK32: IanRush | AL32: 0 | AM32: IanRush | AN32: 0 | AO32: IanRush | AP32: 10 | AQ32: IanRush | AR32: 10 | AS32: IanRush | AT32: 0 | AU32: IanRush | AV32: 0 | AW32: IanRush | AX32: 0 | AY32: IanRush | AZ32: 0 | BA32: IanRush | BB32: 0 | BC32: IanRush | BD32: 0 | BE32: IanRush | BF32: 0 | BG32: IanRush | BH32: 0 | BI32: IanRush | BJ32: 0 | BK32: IanRush | BL32: 0 | BM32: IanRush | BN32: 0 | BO32: IanRush | BP32: 0 | BQ32: IanRush | BR32: 0 | BS32: IanRush | BT32: 0 | BU32: IanRush | BV32: 0 | BW32: IanRush | BX32: 0 | BY32: IanRush | BZ32: 0 | CA32: IanRush | CB32: 0 | CC32: IanRush | CD32: 0 | CE32: IanRush | CF32: 0 | CG32: IanRush | CH32: 0 | CI32: IanRush | CJ32: 0 | CK32: IanRush | CL32: 0 | CM32: IanRush | CN32: 0 | CO32: IanRush | CP32: 10 | CQ32: IanRush | CR32: 10 | CS32: IanRush | CT32: 0 | CU32: IanRush | CV32: 0 | CW32: IanRush | CX32: 0 | CY32: IanRush | CZ32: 0 | DA32: IanRush | DB32: 10 | DC32: IanRush | DD32: 10 | DE32: IanRush | DF32: 0 | DG32: IanRush | DH32: 0 | DI32: IanRush | DJ32: 0 | DK32: IanRush | DL32: 0 | DM32: IanRush | DN32: 0 | DO32: IanRush | DP32: 0 | DQ32: IanRush | DR32: 0 | DS32: IanRush | DT32: 0 | DU32: IanRush | DV32: 0 | DW32: IanRush | DX32: 0 | DY32: IanRush | DZ32: 0 | EA32: IanRush | EB32: 0 | EC32: IanRush | ED32: 0 | EE32: IanRush | EF32: 0 | EG32: IanRush | EH32: 0 | EI32: IanRush | EJ32: 0 | EK32: IanRush | EL32: 0 | EM32: IanRush | EN32: 0 | EO32: IanRush | EP32: 0 | EQ32: IanRush | ER32: 0 | ES32: IanRush | ET32: 0 | EU32: IanRush | EV32: 0 | EW32: IanRush | EX32: 0 | EY32: IanRush | EZ32: 0 | FA32: IanRush | FB32: 0 | FC32: IanRush | FD32: 0 | FE32: IanRush | FF32: 0 | FG32: IanRush | FH32: 0 | FI32: IanRush | FJ32: 0 | FK32: IanRush | FL32: 0 | FM32: IanRush | FN32: 0 | FO32: IanRush | FP32: 0 | FQ32: IanRush | FR32: 0 | FS32: IanRush | FT32: 0 | FU32: IanRush | FV32: 0 | FW32: IanRush | FX32: 0 | FY32: IanRush | FZ32: 0 | GA32: IanRush | GB32: 0 | GC32: IanRush | GD32: 0 | GE32: IanRush | GF32: 0 | GG32: IanRush | GH32: 0 | GI32: IanRush | GJ32: 0 | GK32: IanRush | GL32: 0 | GM32: IanRush | GN32: 0 | GO32: IanRush | GP32: 0 | GQ32: IanRush | GR32: 0 | GS32: IanRush | GT32: 0 | GU32: IanRush | GV32: 0 | GW32: IanRush | GX32: 0 | GY32: IanRush | GZ32: 0 | HA32: IanRush | HB32: 0 | HC32: IanRush | HD32: 0
A33: Lions | B33: 0 | C33: Lions | D33: 0 | E33: Nielsen | F33: 3 | G33: Lions | H33: 3 | I33: Forest | J33: 0 | K33: Lions | L33: 0 | M33: Tynde | N33: 0 | O33: Lions | P33: 0 | Q33: Lions | R33: 0 | S33: Lions | T33: 0 | U33: Lions | V33: 0 | W33: Lions | X33: 0 | Y33: Lions | Z33: 0 | AA33: Lions | AB33: 0 | AC33: Lions | AD33: 0 | AE33: Lions | AF33: 0 | AG33: Lions | AH33: 0 | AI33: Lions | AJ33: 0 | AK33: Lions | AL33: 0 | AM33: Lions | AN33: 0 | AO33: Lions | AP33: 0 | AQ33: Lions | AR33: 0 | AS33: Lions | AT33: 0 | AU33: Lions | AV33: 0 | AW33: Lions | AX33: 0 | AY33: Lions | AZ33: 0 | BA33: Lions | BB33: 0 | BC33: Lions | BD33: 0 | BE33: Lions | BF33: 0 | BG33: Lions | BH33: 0 | BI33: Lions | BJ33: 0 | BK33: Lions | BL33: 0 | BM33: Lions | BN33: 0 | BO33: Lions | BP33: 0 | BQ33: Lions | BR33: 0 | BS33: Lions | BT33: 0 | BU33: Lions | BV33: 0 | BW33: Lions | BX33: 0 | BY33: Lions | BZ33: 0 | CA33: Lions | CB33: 0 | CC33: Lions | CD33: 0 | CE33: Lions | CF33: 0 | CG33: Lions | CH33: 0 | CI33: Lions | CJ33: 0 | CK33: Lions | CL33: 0 | CM33: Lions | CN33: 0 | CO33: Lions | CP33: 0 | CQ33: Lions | CR33: 0 | CS33: Lions | CT33: 0 | CU33: Lions | CV33: 0 | CW33: Lions | CX33: 0 | CY33: Lions | CZ33: 0 | DA33: Lions | DB33: 10 | DC33: Lions | DD33: 10 | DE33: Lions | DF33: 0 | DG33: Lions | DH33: 0 | DI33: Lions | DJ33: 10 | DK33: Lions | DL33: 10 | DM33: Lions | DN33: 0 | DO33: Lions | DP33: 0 | DQ33: Lions | DR33: 0 | DS33: Lions | DT33: 0 | DU33: Lions | DV33: 0 | DW33: Lions | DX33: 0 | DY33: Lions | DZ33: 0 | EA33: Lions | EB33: 0 | EC33: Lions | ED33: 0 | EE33: Lions | EF33: 0 | EG33: Lions | EH33: 0 | EI33: Lions | EJ33: 0 | EK33: Lions | EL33: 0 | EM33: Lions | EN33: 0 | EO33: Lions | EP33: 0 | EQ33: Lions | ER33: 0 | ES33: Lions | ET33: 0 | EU33: Lions | EV33: 0 | EW33: Lions | EX33: 0 | EY33: Lions | EZ33: 0 | FA33: Lions | FB33: 0 | FC33: Lions | FD33: 0 | FE33: Lions | FF33: 0 | FG33: Lions | FH33: 0 | FI33: Lions | FJ33: 0 | FK33: Lions | FL33: 0 | FM33: Lions | FN33: 0 | FO33: Lions | FP33: 0 | FQ33: Lions | FR33: 0 | FS33: Lions | FT33: 0 | FU33: Lions | FV33: 0 | FW33: Lions | FX33: 0 | FY33: Lions | FZ33: 0 | GA33: Lions | GB33: 0 | GC33: Lions | GD33: 0 | GE33: Lions | GF33: 0 | GG33: Lions | GH33: 0 | GI33: Lions | GJ33: 0 | GK33: Lions | GL33: 0 | GM33: Lions | GN33: 0 | GO33: Lions | GP33: 0 | GQ33: Lions | GR33: 0 | GS33: Lions | GT33: 0 | GU33: Lions | GV33: 0 | GW33: Lions | GX33: 0 | GY33: Lions | GZ33: 0 | HA33: Lions | HB33: 0 | HC33: Lions | HD33: 0
A34: Livpool | B34: 0 | C34: Livpool | D34: 0 | E34: Sergio | F34: 3 | G34: Livpool | H34: 0 | I34: Harry | J34: 0 | K34: Livpool | L34: 0 | M34: Watson | N34: 0 | O34: Livpool | P34: 4 | Q34: Livpool | R34: 0 | S34: Livpool | T34: 0 | U34: Livpool | V34: 0 | W34: Livpool | X34: 0 | Y34: Livpool | Z34: 0 | AA34: Livpool | AB34: 0 | AC34: Livpool | AD34: 0 | AE34: Livpool | AF34: 0 | AG34: Livpool | AH34: 0 | AI34: Livpool | AJ34: 0 | AK34: Livpool | AL34: 0 | AM34: Livpool | AN34: 0 | AO34: Livpool | AP34: 0 | AQ34: Livpool | AR34: 0 | AS34: Livpool | AT34: 0 | AU34: Livpool | AV34: 0 | AW34: Livpool | AX34: 0 | AY34: Livpool | AZ34: 0 | BA34: Livpool | BB34: 0 | BC34: Livpool | BD34: 0 | BE34: Livpool | BF34: 0 | BG34: Livpool | BH34: 0 | BI34: Livpool | BJ34: 0 | BK34: Livpool | BL34: 0 | BM34: Livpool | BN34: 0 | BO34: Livpool | BP34: 0 | BQ34: Livpool | BR34: 0 | BS34: Livpool | BT34: 0 | BU34: Livpool | BV34: 0 | BW34: Livpool | BX34: 0 | BY34: Livpool | BZ34: 0 | CA34: Livpool | CB34: 0 | CC34: Livpool | CD34: 0 | CE34: Livpool | CF34: 0 | CG34: Livpool | CH34: 0 | CI34: Livpool | CJ34: 0 | CK34: Livpool | CL34: 0 | CM34: Livpool | CN34: 0 | CO34: Livpool | CP34: 0 | CQ34: Livpool | CR34: 0 | CS34: Livpool | CT34: 0 | CU34: Livpool | CV34: 0 | CW34: Livpool | CX34: 0 | CY34: Livpool | CZ34: 0 | DA34: Livpool | DB34: 10 | DC34: Livpool | DD34: 10 | DE34: Livpool | DF34: 0 | DG34: Livpool | DH34: 0 | DI34: Livpool | DJ34: 0 | DK34: Livpool | DL34: 0 | DM34: Livpool | DN34: 0 | DO34: Livpool | DP34: 0 | DQ34: Livpool | DR34: 0 | DS34: Livpool | DT34: 0 | DU34: Livpool | DV34: 0 | DW34: Livpool | DX34: 0 | DY34: Livpool | DZ34: 0 | EA34: Livpool | EB34: 0 | EC34: Livpool | ED34: 0 | EE34: Livpool | EF34: 0 | EG34: Livpool | EH34: 0 | EI34: Livpool | EJ34: 0 | EK34: Livpool | EL34: 0 | EM34: Livpool | EN34: 0 | EO34: Livpool | EP34: 10 | EQ34: Livpool | ER34: 10 | ES34: Livpool | ET34: 0 | EU34: Livpool | EV34: 0 | EW34: Livpool | EX34: 0 | EY34: Livpool | EZ34: 0 | FA34: Livpool | FB34: 0 | FC34: Livpool | FD34: 0 | FE34: Livpool | FF34: 0 | FG34: Livpool | FH34: 0 | FI34: Livpool | FJ34: 0 | FK34: Livpool | FL34: 0 | FM34: Livpool | FN34: 0 | FO34: Livpool | FP34: 0 | FQ34: Livpool | FR34: 0 | FS34: Livpool | FT34: 0 | FU34: Livpool | FV34: 0 | FW34: Livpool | FX34: 0 | FY34: Livpool | FZ34: 0 | GA34: Livpool | GB34: 0 | GC34: Livpool | GD34: 0 | GE34: Livpool | GF34: 0 | GG34: Livpool | GH34: 0 | GI34: Livpool | GJ34: 0 | GK34: Livpool | GL34: 0 | GM34: Livpool | GN34: 0 | GO34: Livpool | GP34: 0 | GQ34: Livpool | GR34: 0 | GS34: Livpool | GT34: 0 | GU34: Livpool | GV34: 0 | GW34: Livpool | GX34: 0 | GY34: Livpool | GZ34: 0 | HA34: Livpool | HB34: 0 | HC34: Livpool | HD34: 0
A35: LUFCMOT | B35: 0 | C35: LUFCMOT | D35: 0 | E35: Forest | F35: 0 | G35: LUFCMOT | H35: 0 | I35: LUFCMOT | J35: 0 | K35: LUFCMOT | L35: 0 | M35: Cottee | N35: 0 | O35: LUFCMOT | P35: 0 | Q35: LUFCMOT | R35: 0 | S35: LUFCMOT | T35: 0 | U35: LUFCMOT | V35: 0 | W35: LUFCMOT | X35: 0 | Y35: LUFCMOT | Z35: 0 | AA35: LUFCMOT | AB35: 0 | AC35: LUFCMOT | AD35: 0 | AE35: LUFCMOT | AF35: 0 | AG35: LUFCMOT | AH35: 0 | AI35: LUFCMOT | AJ35: 0 | AK35: LUFCMOT | AL35: 0 | AM35: LUFCMOT | AN35: 0 | AO35: LUFCMOT | AP35: 0 | AQ35: LUFCMOT | AR35: 0 | AS35: LUFCMOT | AT35: 0 | AU35: LUFCMOT | AV35: 0 | AW35: LUFCMOT | AX35: 0 | AY35: LUFCMOT | AZ35: 0 | BA35: LUFCMOT | BB35: 0 | BC35: LUFCMOT | BD35: 0 | BE35: LUFCMOT | BF35: 0 | BG35: LUFCMOT | BH35: 0 | BI35: LUFCMOT | BJ35: 0 | BK35: LUFCMOT | BL35: 0 | BM35: LUFCMOT | BN35: 0 | BO35: LUFCMOT | BP35: 0 | BQ35: LUFCMOT | BR35: 0 | BS35: LUFCMOT | BT35: 0 | BU35: LUFCMOT | BV35: 0 | BW35: LUFCMOT | BX35: 0 | BY35: LUFCMOT | BZ35: 0 | CA35: LUFCMOT | CB35: 0 | CC35: LUFCMOT | CD35: 0 | CE35: LUFCMOT | CF35: 0 | CG35: LUFCMOT | CH35: 0 | CI35: LUFCMOT | CJ35: 0 | CK35: LUFCMOT | CL35: 0 | CM35: LUFCMOT | CN35: 0 | CO35: LUFCMOT | CP35: 0 | CQ35: LUFCMOT | CR35: 0 | CS35: LUFCMOT | CT35: 0 | CU35: LUFCMOT | CV35: 0 | CW35: LUFCMOT | CX35: 0 | CY35: LUFCMOT | CZ35: 0 | DA35: LUFCMOT | DB35: 10 | DC35: LUFCMOT | DD35: 10 | DE35: LUFCMOT | DF35: 0 | DG35: LUFCMOT | DH35: 0 | DI35: LUFCMOT | DJ35: 0 | DK35: LUFCMOT | DL35: 0 | DM35: LUFCMOT | DN35: 0 | DO35: LUFCMOT | DP35: 0 | DQ35: LUFCMOT | DR35: 0 | DS35: LUFCMOT | DT35: 0 | DU35: LUFCMOT | DV35: 0 | DW35: LUFCMOT | DX35: 0 | DY35: LUFCMOT | DZ35: 0 | EA35: LUFCMOT | EB35: 0 | EC35: LUFCMOT | ED35: 0 | EE35: LUFCMOT | EF35: 0 | EG35: LUFCMOT | EH35: 0 | EI35: LUFCMOT | EJ35: 0 | EK35: LUFCMOT | EL35: 0 | EM35: LUFCMOT | EN35: 0 | EO35: LUFCMOT | EP35: 0 | EQ35: LUFCMOT | ER35: 0 | ES35: LUFCMOT | ET35: 0 | EU35: LUFCMOT | EV35: 0 | EW35: LUFCMOT | EX35: 0 | EY35: LUFCMOT | EZ35: 0 | FA35: LUFCMOT | FB35: 0 | FC35: LUFCMOT | FD35: 0 | FE35: LUFCMOT | FF35: 0 | FG35: LUFCMOT | FH35: 0 | FI35: LUFCMOT | FJ35: 0 | FK35: LUFCMOT | FL35: 0 | FM35: LUFCMOT | FN35: 0 | FO35: LUFCMOT | FP35: 0 | FQ35: LUFCMOT | FR35: 0 | FS35: LUFCMOT | FT35: 0 | FU35: LUFCMOT | FV35: 0 | FW35: LUFCMOT | FX35: 0 | FY35: LUFCMOT | FZ35: 0 | GA35: LUFCMOT | GB35: 0 | GC35: LUFCMOT | GD35: 0 | GE35: LUFCMOT | GF35: 0 | GG35: LUFCMOT | GH35: 0 | GI35: LUFCMOT | GJ35: 0 | GK35: LUFCMOT | GL35: 0 | GM35: LUFCMOT | GN35: 0 | GO35: LUFCMOT | GP35: 0 | GQ35: LUFCMOT | GR35: 0 | GS35: LUFCMOT | GT35: 0 | GU35: LUFCMOT | GV35: 0 | GW35: LUFCMOT | GX35: 0 | GY35: LUFCMOT | GZ35: 0 | HA35: LUFCMOT | HB35: 0 | HC35: LUFCMOT | HD35: 0
A36: Malthe | B36: 0 | C36: Malthe | D36: 0 | E36: Malthe | F36: 0 | G36: Malthe | H36: 0 | I36: Piquet | J36: 3 | K36: Malthe | L36: 0 | M36: LUFCMOT | N36: 0 | O36: Malthe | P36: 0 | Q36: Malthe | R36: 0 | S36: Malthe | T36: 0 | U36: Malthe | V36: 0 | W36: Malthe | X36: 0 | Y36: Malthe | Z36: 0 | AA36: Malthe | AB36: 0 | AC36: Malthe | AD36: 0 | AE36: Malthe | AF36: 0 | AG36: Malthe | AH36: 0 | AI36: Malthe | AJ36: 0 | AK36: Malthe | AL36: 0 | AM36: Malthe | AN36: 0 | AO36: Malthe | AP36: 0 | AQ36: Malthe | AR36: 0 | AS36: Malthe | AT36: 0 | AU36: Malthe | AV36: 0 | AW36: Malthe | AX36: 0 | AY36: Malthe | AZ36: 0 | BA36: Malthe | BB36: 0 | BC36: Malthe | BD36: 0 | BE36: Malthe | BF36: 10 | BG36: Malthe | BH36: 10 | BI36: Malthe | BJ36: 0 | BK36: Malthe | BL36: 0 | BM36: Malthe | BN36: 0 | BO36: Malthe | BP36: 0 | BQ36: Malthe | BR36: 0 | BS36: Malthe | BT36: 0 | BU36: Malthe | BV36: 0 | BW36: Malthe | BX36: 0 | BY36: Malthe | BZ36: 0 | CA36: Malthe | CB36: 0 | CC36: Malthe | CD36: 0 | CE36: Malthe | CF36: 0 | CG36: Malthe | CH36: 0 | CI36: Malthe | CJ36: 0 | CK36: Malthe | CL36: 0 | CM36: Malthe | CN36: 0 | CO36: Malthe | CP36: 0 | CQ36: Malthe | CR36: 0 | CS36: Malthe | CT36: 0 | CU36: Malthe | CV36: 0 | CW36: Malthe | CX36: 0 | CY36: Malthe | CZ36: 0 | DA36: Malthe | DB36: 10 | DC36: Malthe | DD36: 10 | DE36: Malthe | DF36: 0 | DG36: Malthe | DH36: 0 | DI36: Malthe | DJ36: 0 | DK36: Malthe | DL36: 0 | DM36: Malthe | DN36: 0 | DO36: Malthe | DP36: 0 | DQ36: Malthe | DR36: 0 | DS36: Malthe | DT36: 0 | DU36: Malthe | DV36: 0 | DW36: Malthe | DX36: 0 | DY36: Malthe | DZ36: 0 | EA36: Malthe | EB36: 0 | EC36: Malthe | ED36: 0 | EE36: Malthe | EF36: 0 | EG36: Malthe | EH36: 0 | EI36: Malthe | EJ36: 0 | EK36: Malthe | EL36: 0 | EM36: Malthe | EN36: 0 | EO36: Malthe | EP36: 0 | EQ36: Malthe | ER36: 0 | ES36: Malthe | ET36: 0 | EU36: Malthe | EV36: 0 | EW36: Malthe | EX36: 0 | EY36: Malthe | EZ36: 0 | FA36: Malthe | FB36: 0 | FC36: Malthe | FD36: 0 | FE36: Malthe | FF36: 0 | FG36: Malthe | FH36: 0 | FI36: Malthe | FJ36: 0 | FK36: Malthe | FL36: 0 | FM36: Malthe | FN36: 0 | FO36: Malthe | FP36: 0 | FQ36: Malthe | FR36: 0 | FS36: Malthe | FT36: 0 | FU36: Malthe | FV36: 0 | FW36: Malthe | FX36: 0 | FY36: Malthe | FZ36: 0 | GA36: Malthe | GB36: 0 | GC36: Malthe | GD36: 0 | GE36: Malthe | GF36: 0 | GG36: Malthe | GH36: 0 | GI36: Malthe | GJ36: 0 | GK36: Malthe | GL36: 0 | GM36: Malthe | GN36: 0 | GO36: Malthe | GP36: 0 | GQ36: Malthe | GR36: 0 | GS36: Malthe | GT36: 0 | GU36: Malthe | GV36: 0 | GW36: Malthe | GX36: 0 | GY36: Malthe | GZ36: 0 | HA36: Malthe | HB36: 0 | HC36: Malthe | HD36: 0
A37: McCoist | B37: 2 | C37: McCoist | D37: 2 | E37: SPVK | F37: 10 | G37: McCoist | H37: 0 | I37: Tynde | J37: 0 | K37: McCoist | L37: 0 | M37: Nielsen | N37: 0 | O37: McCoist | P37: 0 | Q37: McCoist | R37: 0 | S37: McCoist | T37: 0 | U37: McCoist | V37: 0 | W37: McCoist | X37: 0 | Y37: McCoist | Z37: 0 | AA37: McCoist | AB37: 0 | AC37: McCoist | AD37: 0 | AE37: McCoist | AF37: 0 | AG37: McCoist | AH37: 10 | AI37: McCoist | AJ37: 10 | AK37: McCoist | AL37: 0 | AM37: McCoist | AN37: 0 | AO37: McCoist | AP37: 0 | AQ37: McCoist | AR37: 0 | AS37: McCoist | AT37: 0 | AU37: McCoist | AV37: 0 | AW37: McCoist | AX37: 0 | AY37: McCoist | AZ37: 0 | BA37: McCoist | BB37: 0 | BC37: McCoist | BD37: 0 | BE37: McCoist | BF37: 0 | BG37: McCoist | BH37: 0 | BI37: McCoist | BJ37: 0 | BK37: McCoist | BL37: 0 | BM37: McCoist | BN37: 0 | BO37: McCoist | BP37: 0 | BQ37: McCoist | BR37: 0 | BS37: McCoist | BT37: 0 | BU37: McCoist | BV37: 0 | BW37: McCoist | BX37: 0 | BY37: McCoist | BZ37: 0 | CA37: McCoist | CB37: 0 | CC37: McCoist | CD37: 0 | CE37: McCoist | CF37: 0 | CG37: McCoist | CH37: 0 | CI37: McCoist | CJ37: 0 | CK37: McCoist | CL37: 0 | CM37: McCoist | CN37: 0 | CO37: McCoist | CP37: 0 | CQ37: McCoist | CR37: 0 | CS37: McCoist | CT37: 0 | CU37: McCoist | CV37: 0 | CW37: McCoist | CX37: 0 | CY37: McCoist | CZ37: 0 | DA37: McCoist | DB37: 10 | DC37: McCoist | DD37: 10 | DE37: McCoist | DF37: 0 | DG37: McCoist | DH37: 0 | DI37: McCoist | DJ37: 10 | DK37: McCoist | DL37: 10 | DM37: McCoist | DN37: 0 | DO37: McCoist | DP37: 0 | DQ37: McCoist | DR37: 0 | DS37: McCoist | DT37: 0 | DU37: McCoist | DV37: 0 | DW37: McCoist | DX37: 0 | DY37: McCoist | DZ37: 0 | EA37: McCoist | EB37: 0 | EC37: McCoist | ED37: 0 | EE37: McCoist | EF37: 0 | EG37: McCoist | EH37: 0 | EI37: McCoist | EJ37: 0 | EK37: McCoist | EL37: 0 | EM37: McCoist | EN37: 0 | EO37: McCoist | EP37: 10 | EQ37: McCoist | ER37: 10 | ES37: McCoist | ET37: 0 | EU37: McCoist | EV37: 0 | EW37: McCoist | EX37: 0 | EY37: McCoist | EZ37: 0 | FA37: McCoist | FB37: 0 | FC37: McCoist | FD37: 0 | FE37: McCoist | FF37: 0 | FG37: McCoist | FH37: 0 | FI37: McCoist | FJ37: 0 | FK37: McCoist | FL37: 0 | FM37: McCoist | FN37: 0 | FO37: McCoist | FP37: 0 | FQ37: McCoist | FR37: 0 | FS37: McCoist | FT37: 0 | FU37: McCoist | FV37: 0 | FW37: McCoist | FX37: 0 | FY37: McCoist | FZ37: 0 | GA37: McCoist | GB37: 0 | GC37: McCoist | GD37: 0 | GE37: McCoist | GF37: 0 | GG37: McCoist | GH37: 0 | GI37: McCoist | GJ37: 0 | GK37: McCoist | GL37: 0 | GM37: McCoist | GN37: 0 | GO37: McCoist | GP37: 0 | GQ37: McCoist | GR37: 0 | GS37: McCoist | GT37: 0 | GU37: McCoist | GV37: 0 | GW37: McCoist | GX37: 0 | GY37: McCoist | GZ37: 0 | HA37: McCoist | HB37: 0 | HC37: McCoist | HD37: 0
... A44: Watson | B44: 0 | C44: Watson | D44: 0 | E44: Livpool | F44: 0 | G44: Watson | H44: 0 | I44: Malthe | J44: 0 | K44: Watson | L44: 3 | M44: Livpool | N44: 4 | O44: Watson | P44: 0 | Q44: Watson | R44: 0 | S44: Watson | T44: 0 | U44: Watson | V44: 0 | W44: Watson | X44: 0 | Y44: Watson | Z44: 0 | AA44: Watson | AB44: 0 | AC44: Watson | AD44: 0 | AE44: Watson | AF44: 0 | AG44: Watson | AH44: 0 | AI44: Watson | AJ44: 0 | AK44: Watson | AL44: 0 | AM44: Watson | AN44: 0 | AO44: Watson | AP44: 0 | AQ44: Watson | AR44: 0 | AS44: Watson | AT44: 0 | AU44: Watson | AV44: 0 | AW44: Watson | AX44: 0 | AY44: Watson | AZ44: 0 | BA44: Watson | BB44: 0 | BC44: Watson | BD44: 0 | BE44: Watson | BF44: 0 | BG44: Watson | BH44: 0 | BI44: Watson | BJ44: 0 | BK44: Watson | BL44: 0 | BM44: Watson | BN44: 0 | BO44: Watson | BP44: 0 | BQ44: Watson | BR44: 0 | BS44: Watson | BT44: 0 | BU44: Watson | BV44: 0 | BW44: Watson | BX44: 0 | BY44: Watson | BZ44: 0 | CA44: Watson | CB44: 0 | CC44: Watson | CD44: 0 | CE44: Watson | CF44: 0 | CG44: Watson | CH44: 0 | CI44: Watson | CJ44: 0 | CK44: Watson | CL44: 0 | CM44: Watson | CN44: 0 | CO44: Watson | CP44: 0 | CQ44: Watson | CR44: 0 | CS44: Watson | CT44: 0 | CU44: Watson | CV44: 0 | CW44: Watson | CX44: 0 | CY44: Watson | CZ44: 0 | DA44: Watson | DB44: 10 | DC44: Watson | DD44: 10 | DE44: Watson | DF44: 0 | DG44: Watson | DH44: 0 | DI44: Watson | DJ44: 0 | DK44: Watson | DL44: 0 | DM44: Watson | DN44: 0 | DO44: Watson | DP44: 0 | DQ44: Watson | DR44: 0 | DS44: Watson | DT44: 0 | DU44: Watson | DV44: 0 | DW44: Watson | DX44: 0 | DY44: Watson | DZ44: 0 | EA44: Watson | EB44: 0 | EC44: Watson | ED44: 0 | EE44: Watson | EF44: 0 | EG44: Watson | EH44: 0 | EI44: Watson | EJ44: 0 | EK44: Watson | EL44: 0 | EM44: Watson | EN44: 0 | EO44: Watson | EP44: 0 | EQ44: Watson | ER44: 0 | ES44: Watson | ET44: 0 | EU44: Watson | EV44: 0 | EW44: Watson | EX44: 0 | EY44: Watson | EZ44: 0 | FA44: Watson | FB44: 10 | FC44: Watson | FD44: 10 | FE44: Watson | FF44: 0 | FG44: Watson | FH44: 0 | FI44: Watson | FJ44: 0 | FK44: Watson | FL44: 0 | FM44: Watson | FN44: 0 | FO44: Watson | FP44: 0 | FQ44: Watson | FR44: 0 | FS44: Watson | FT44: 0 | FU44: Watson | FV44: 0 | FW44: Watson | FX44: 0 | FY44: Watson | FZ44: 0 | GA44: Watson | GB44: 0 | GC44: Watson | GD44: 0 | GE44: Watson | GF44: 0 | GG44: Watson | GH44: 0 | GI44: Watson | GJ44: 0 | GK44: Watson | GL44: 0 | GM44: Watson | GN44: 0 | GO44: Watson | GP44: 0 | GQ44: Watson | GR44: 0 | GS44: Watson | GT44: 0 | GU44: Watson | GV44: 0 | GW44: Watson | GX44: 0 | GY44: Watson | GZ44: 0 | HA44: Watson | HB44: 0 | HC44: Watson | HD44: 0
A46: 2toNone | B46: 0 | C46: {=_xlfn._xlws.SORT(A46:B65)} -> 2toNone | D46: 0 | E46: Galway | F46: 0 | G46: {=_xlfn._xlws.SORT(E46:F65)} -> 2toNone | H46: 0 | I46: Galway | J46: 0 | K46: {=_xlfn._xlws.SORT(I46:J65)} -> 2toNone | L46: 10 | M46: Jesper | N46: 0 | O46: {=_xlfn._xlws.SORT(M46:N65)} -> 2toNone | P46: 0 | Q46: 2toNone | R46: 0 | S46: {=_xlfn._xlws.SORT(Q46:R65)} -> 2toNone | T46: 0 | U46: 2toNone | V46: 10 | W46: {=_xlfn._xlws.SORT(U46:V65)} -> 2toNone | X46: 10 | Y46: 2toNone | Z46: 0 | AA46: {=_xlfn._xlws.SORT(Y46:Z65)} -> 2toNone | AB46: 0 | AC46: 2toNone | AD46: 0 | AE46: {=_xlfn._xlws.SORT(AC46:AD65)} -> 2toNone | AF46: 0 | AG46: 2toNone | AH46: 0 | AI46: {=_xlfn._xlws.SORT(AG46:AH65)} -> 2toNone | AJ46: 0 | AK46: 2toNone | AL46: 0 | AM46: {=_xlfn._xlws.SORT(AK46:AL65)} -> 2toNone | AN46: 0 | AO46: 2toNone | AP46: 0 | AQ46: {=_xlfn._xlws.SORT(AO46:AP65)} -> 2toNone | AR46: 0 | AS46: 2toNone | AT46: 0 | AU46: {=_xlfn._xlws.SORT(AS46:AT65)} -> 2toNone | AV46: 0 | AW46: 2toNone | AX46: 0 | AY46: {=_xlfn._xlws.SORT(AW46:AX65)} -> 2toNone | AZ46: 0 | BA46: 2toNone | BB46: 0 | BC46: {=_xlfn._xlws.SORT(BA46:BB65)} -> 2toNone | BD46: 0 | BE46: 2toNone | BF46: 0 | BG46: {=_xlfn._xlws.SORT(BE46:BF65)} -> 2toNone | BH46: 0 | BI46: 2toNone | BJ46: 0 | BK46: {=_xlfn._xlws.SORT(BI46:BJ65)} -> 2toNone | BL46: 0 | BM46: 2toNone | BN46: 0 | BO46: {=_xlfn._xlws.SORT(BM46:BN65)} -> 2toNone | BP46: 0 | BQ46: 2toNone | BR46: 0 | BS46: {=_xlfn._xlws.SORT(BQ46:BR65)} -> 2toNone | BT46: 0 | BU46: 2toNone | BV46: 10 | BW46: {=_xlfn._xlws.SORT(BU46:BV65)} -> 2toNone | BX46: 10 | BY46: 2toNone | BZ46: 0 | CA46: {=_xlfn._xlws.SORT(BY46:BZ65)} -> 2toNone | CB46: 0 | CC46: 2toNone | CD46: 10 | CE46: {=_xlfn._xlws.SORT(CC46:CD65)} -> 2toNone | CF46: 10 | CG46: 2toNone | CH46: 0 | CI46: {=_xlfn._xlws.SORT(CG46:CH65)} -> 2toNone | CJ46: 0 | CK46: 2toNone | CL46: 0 | CM46: {=_xlfn._xlws.SORT(CK46:CL65)} -> 2toNone | CN46: 0 | CO46: 2toNone | CP46: 0 | CQ46: {=_xlfn._xlws.SORT(CO46:CP65)} -> 2toNone | CR46: 0 | CS46: 2toNone | CT46: 0 | CU46: {=_xlfn._xlws.SORT(CS46:CT65)} -> 2toNone | CV46: 0 | CW46: 2toNone | CX46: 0 | CY46: {=_xlfn._xlws.SORT(CW46:CX65)} -> 2toNone | CZ46: 0 | DA46: 2toNone | DB46: 10 | DC46: {=_xlfn._xlws.SORT(DA46:DB65)} -> 2toNone | DD46: 10 | DE46: 2toNone | DF46: 10 | DG46: {=_xlfn._xlws.SORT(DE46:DF65)} -> 2toNone | DH46: 10 | DI46: 2toNone | DJ46: 0 | DK46: {=_xlfn._xlws.SORT(DI46:DJ65)} -> 2toNone | DL46: 0 | DM46: 2toNone | DN46: 0 | DO46: {=_xlfn._xlws.SORT(DM46:DN65)} -> 2toNone | DP46: 0 | DQ46: 2toNone | DR46: 0 | DS46: {=_xlfn._xlws.SORT(DQ46:DR65)} -> 2toNone | DT46: 0 | DU46: 2toNone | DV46: 0 | DW46: {=_xlfn._xlws.SORT(DU46:DV65)} -> 2toNone | DX46: 0 | DY46: 2toNone | DZ46: 0 | EA46: {=_xlfn._xlws.SORT(DY46:DZ65)} -> 2toNone | EB46: 0 | EC46: 2toNone | ED46: 0 | EE46: {=_xlfn._xlws.SORT(EC46:ED65)} -> 2toNone | EF46: 0 | EG46: 2toNone | EH46: 0 | EI46: {=_xlfn._xlws.SORT(EG46:EH65)} -> 2toNone | EJ46: 0 | EK46: 2toNone | EL46: 0 | EM46: {=_xlfn._xlws.SORT(EK46:EL65)} -> 2toNone | EN46: 0 | EO46: 2toNone | EP46: 0 | EQ46: {=_xlfn._xlws.SORT(EO46:EP65)} -> 2toNone | ER46: 0 | ES46: 2toNone | ET46: 0 | EU46: {=_xlfn._xlws.SORT(ES46:ET65)} -> 2toNone | EV46: 0 | EW46: 2toNone | EX46: 0 | EY46: {=_xlfn._xlws.SORT(EW46:EX65)} -> 2toNone | EZ46: 0 | FA46: 2toNone | FB46: 0 | FC46: {=_xlfn._xlws.SORT(FA46:FB65)} -> 2toNone | FD46: 0 | FE46: 2toNone | FF46: 0 | FG46: {=_xlfn._xlws.SORT(FE46:FF65)} -> 2toNone | FH46: 0 | FI46: 2toNone | FJ46: 0 | FK46: {=_xlfn._xlws.SORT(FI46:FJ65)} -> 2toNone | FL46: 0 | FM46: 2toNone | FN46: 0 | FO46: {=_xlfn._xlws.SORT(FM46:FN65)} -> 2toNone | FP46: 0 | FQ46: 2toNone | FR46: 0 | FS46: {=_xlfn._xlws.SORT(FQ46:FR65)} -> 2toNone | FT46: 0 | FU46: 2toNone | FV46: 0 | FW46: {=_xlfn._xlws.SORT(FU46:FV65)} -> 2toNone | FX46: 0 | FY46: 2toNone | FZ46: 0 | GA46: {=_xlfn._xlws.SORT(FY46:FZ65)} -> 2toNone | GB46: 0 | GC46: 2toNone | GD46: 0 | GE46: {=_xlfn._xlws.SORT(GC46:GD65)} -> 2toNone | GF46: 0 | GG46: 2toNone | GH46: 0 | GI46: {=_xlfn._xlws.SORT(GG46:GH65)} -> 2toNone | GJ46: 0 | GK46: 2toNone | GL46: 0 | GM46: {=_xlfn._xlws.SORT(GK46:GL65)} -> 2toNone | GN46: 0 | GO46: 2toNone | GP46: 0 | GQ46: {=_xlfn._xlws.SORT(GO46:GP65)} -> 2toNone | GR46: 0 | GS46: 2toNone | GT46: 0 | GU46: {=_xlfn._xlws.SORT(GS46:GT65)} -> 2toNone | GV46: 0 | GW46: 2toNone | GX46: 0 | GY46: {=_xlfn._xlws.SORT(GW46:GX65)} -> 2toNone | GZ46: 0 | HA46: 2toNone | HB46: 0 | HC46: {=_xlfn._xlws.SORT(HA46:HB65)} -> 2toNone | HD46: 0
A47: Barca | B47: 0 | C47: Barca | D47: 0 | E47: Hede | F47: 0 | G47: Barca | H47: 0 | I47: LPHJ | J47: 0 | K47: Barca | L47: 0 | M47: Galway | N47: 0 | O47: Barca | P47: 0 | Q47: Barca | R47: 0 | S47: Barca | T47: 0 | U47: Barca | V47: 0 | W47: Barca | X47: 0 | Y47: Barca | Z47: 0 | AA47: Barca | AB47: 0 | AC47: Barca | AD47: 0 | AE47: Barca | AF47: 0 | AG47: Barca | AH47: 0 | AI47: Barca | AJ47: 0 | AK47: Barca | AL47: 0 | AM47: Barca | AN47: 0 | AO47: Barca | AP47: 0 | AQ47: Barca | AR47: 0 | AS47: Barca | AT47: 0 | AU47: Barca | AV47: 0 | AW47: Barca | AX47: 0 | AY47: Barca | AZ47: 0 | BA47: Barca | BB47: 0 | BC47: Barca | BD47: 0 | BE47: Barca | BF47: 0 | BG47: Barca | BH47: 0 | BI47: Barca | BJ47: 0 | BK47: Barca | BL47: 0 | BM47: Barca | BN47: 0 | BO47: Barca | BP47: 0 | BQ47: Barca | BR47: 0 | BS47: Barca | BT47: 0 | BU47: Barca | BV47: 0 | BW47: Barca | BX47: 0 | BY47: Barca | BZ47: 0 | CA47: Barca | CB47: 0 | CC47: Barca | CD47: 0 | CE47: Barca | CF47: 0 | CG47: Barca | CH47: 0 | CI47: Barca | CJ47: 0 | CK47: Barca | CL47: 0 | CM47: Barca | CN47: 0 | CO47: Barca | CP47: 10 | CQ47: Barca | CR47: 10 | CS47: Barca | CT47: 0 | CU47: Barca | CV47: 0 | CW47: Barca | CX47: 0 | CY47: Barca | CZ47: 0 | DA47: Barca | DB47: 10 | DC47: Barca | DD47: 10 | DE47: Barca | DF47: 0 | DG47: Barca | DH47: 0 | DI47: Barca | DJ47: 0 | DK47: Barca | DL47: 0 | DM47: Barca | DN47: 0 | DO47: Barca | DP47: 0 | DQ47: Barca | DR47: 0 | DS47: Barca | DT47: 0 | DU47: Barca | DV47: 0 | DW47: Barca | DX47: 0 | DY47: Barca | DZ47: 0 | EA47: Barca | EB47: 0 | EC47: Barca | ED47: 0 | EE47: Barca | EF47: 0 | EG47: Barca | EH47: 0 | EI47: Barca | EJ47: 0 | EK47: Barca | EL47: 0 | EM47: Barca | EN47: 0 | EO47: Barca | EP47: 0 | EQ47: Barca | ER47: 0 | ES47: Barca | ET47: 0 | EU47: Barca | EV47: 0 | EW47: Barca | EX47: 0 | EY47: Barca | EZ47: 0 | FA47: Barca | FB47: 0 | FC47: Barca | FD47: 0 | FE47: Barca | FF47: 0 | FG47: Barca | FH47: 0 | FI47: Barca | FJ47: 0 | FK47: Barca | FL47: 0 | FM47: Barca | FN47: 0 | FO47: Barca | FP47: 0 | FQ47: Barca | FR47: 0 | FS47: Barca | FT47: 0 | FU47: Barca | FV47: 0 | FW47: Barca | FX47: 0 | FY47: Barca | FZ47: 0 | GA47: Barca | GB47: 0 | GC47: Barca | GD47: 0 | GE47: Barca | GF47: 0 | GG47: Barca | GH47: 0 | GI47: Barca | GJ47: 0 | GK47: Barca | GL47: 0 | GM47: Barca | GN47: 0 | GO47: Barca | GP47: 0 | GQ47: Barca | GR47: 0 | GS47: Barca | GT47: 0 | GU47: Barca | GV47: 0 | GW47: Barca | GX47: 0 | GY47: Barca | GZ47: 0 | HA47: Barca | HB47: 0 | HC47: Barca | HD47: 0
A48: brula | B48: 0 | C48: brula | D48: 0 | E48: Steam | F48: 0 | G48: brula | H48: 0 | I48: Jesper | J48: 3 | K48: brula | L48: 0 | M48: ÅZÆTZØW | N48: 5 | O48: brula | P48: 0 | Q48: brula | R48: 0 | S48: brula | T48: 0 | U48: brula | V48: 0 | W48: brula | X48: 0 | Y48: brula | Z48: 0 | AA48: brula | AB48: 0 | AC48: brula | AD48: 0 | AE48: brula | AF48: 0 | AG48: brula | AH48: 0 | AI48: brula | AJ48: 0 | AK48: brula | AL48: 0 | AM48: brula | AN48: 0 | AO48: brula | AP48: 0 | AQ48: brula | AR48: 0 | AS48: brula | AT48: 0 | AU48: brula | AV48: 0 | AW48: brula | AX48: 0 | AY48: brula | AZ48: 0 | BA48: brula | BB48: 0 | BC48: brula | BD48: 0 | BE48: brula | BF48: 0 | BG48: brula | BH48: 0 | BI48: brula | BJ48: 0 | BK48: brula | BL48: 0 | BM48: brula | BN48: 0 | BO48: brula | BP48: 0 | BQ48: brula | BR48: 0 | BS48: brula | BT48: 0 | BU48: brula | BV48: 0 | BW48: brula | BX48: 0 | BY48: brula | BZ48: 0 | CA48: brula | CB48: 0 | CC48: brula | CD48: 0 | CE48: brula | CF48: 0 | CG48: brula | CH48: 0 | CI48: brula | CJ48: 0 | CK48: brula | CL48: 0 | CM48: brula | CN48: 0 | CO48: brula | CP48: 0 | CQ48: brula | CR48: 0 | CS48: brula | CT48: 0 | CU48: brula | CV48: 0 | CW48: brula | CX48: 0 | CY48: brula | CZ48: 0 | DA48: brula | DB48: 10 | DC48: brula | DD48: 10 | DE48: brula | DF48: 0 | DG48: brula | DH48: 0 | DI48: brula | DJ48: 0 | DK48: brula | DL48: 0 | DM48: brula | DN48: 0 | DO48: brula | DP48: 0 | DQ48: brula | DR48: 0 | DS48: brula | DT48: 0 | DU48: brula | DV48: 0 | DW48: brula | DX48: 0 | DY48: brula | DZ48: 0 | EA48: brula | EB48: 0 | EC48: brula | ED48: 0 | EE48: brula | EF48: 0 | EG48: brula | EH48: 0 | EI48: brula | EJ48: 0 | EK48: brula | EL48: 0 | EM48: brula | EN48: 0 | EO48: brula | EP48: 0 | EQ48: brula | ER48: 0 | ES48: brula | ET48: 0 | EU48: brula | EV48: 0 | EW48: brula | EX48: 0 | EY48: brula | EZ48: 0 | FA48: brula | FB48: 0 | FC48: brula | FD48: 0 | FE48: brula | FF48: 0 | FG48: brula | FH48: 0 | FI48: brula | FJ48: 0 | FK48: brula | FL48: 0 | FM48: brula | FN48: 0 | FO48: brula | FP48: 0 | FQ48: brula | FR48: 0 | FS48: brula | FT48: 0 | FU48: brula | FV48: 0 | FW48: brula | FX48: 0 | FY48: brula | FZ48: 0 | GA48: brula | GB48: 0 | GC48: brula | GD48: 0 | GE48: brula | GF48: 0 | GG48: brula | GH48: 0 | GI48: brula | GJ48: 0 | GK48: brula | GL48: 0 | GM48: brula | GN48: 0 | GO48: brula | GP48: 0 | GQ48: brula | GR48: 0 | GS48: brula | GT48: 0 | GU48: brula | GV48: 0 | GW48: brula | GX48: 0 | GY48: brula | GZ48: 0 | HA48: brula | HB48: 0 | HC48: brula | HD48: 0
A49: Galway | B49: 10 | C49: Galway | D49: 10 | E49: LPHJ | F49: 0 | G49: Galway | H49: 0 | I49: Steam | J49: 0 | K49: Galway | L49: 0 | M49: Nuser | N49: 0 | O49: Galway | P49: 0 | Q49: Galway | R49: 0 | S49: Galway | T49: 0 | U49: Galway | V49: 0 | W49: Galway | X49: 0 | Y49: Galway | Z49: 0 | AA49: Galway | AB49: 0 | AC49: Galway | AD49: 0 | AE49: Galway | AF49: 0 | AG49: Galway | AH49: 10 | AI49: Galway | AJ49: 10 | AK49: Galway | AL49: 0 | AM49: Galway | AN49: 0 | AO49: Galway | AP49: 0 | AQ49: Galway | AR49: 0 | AS49: Galway | AT49: 0 | AU49: Galway | AV49: 0 | AW49: Galway | AX49: 10 | AY49: Galway | AZ49: 10 | BA49: Galway | BB49: 0 | BC49: Galway | BD49: 0 | BE49: Galway | BF49: 0 | BG49: Galway | BH49: 0 | BI49: Galway | BJ49: 0 | BK49: Galway | BL49: 0 | BM49: Galway | BN49: 0 | BO49: Galway | BP49: 0 | BQ49: Galway | BR49: 0 | BS49: Galway | BT49: 0 | BU49: Galway | BV49: 0 | BW49: Galway | BX49: 0 | BY49: Galway | BZ49: 0 | CA49: Galway | CB49: 0 | CC49: Galway | CD49: 0 | CE49: Galway | CF49: 0 | CG49: Galway | CH49: 0 | CI49: Galway | CJ49: 0 | CK49: Galway | CL49: 0 | CM49: Galway | CN49: 0 | CO49: Galway | CP49: 0 | CQ49: Galway | CR49: 0 | CS49: Galway | CT49: 0 | CU49: Galway | CV49: 0 | CW49: Galway | CX49: 0 | CY49: Galway | CZ49: 0 | DA49: Galway | DB49: 10 | DC49: Galway | DD49: 10 | DE49: Galway | DF49: 0 | DG49: Galway | DH49: 0 | DI49: Galway | DJ49: 0 | DK49: Galway | DL49: 0 | DM49: Galway | DN49: 0 | DO49: Galway | DP49: 0 | DQ49: Galway | DR49: 0 | DS49: Galway | DT49: 0 | DU49: Galway | DV49: 0 | DW49: Galway | DX49: 0 | DY49: Galway | DZ49: 0 | EA49: Galway | EB49: 0 | EC49: Galway | ED49: 0 | EE49: Galway | EF49: 0 | EG49: Galway | EH49: 0 | EI49: Galway | EJ49: 0 | EK49: Galway | EL49: 0 | EM49: Galway | EN49: 0 | EO49: Galway | EP49: 10 | EQ49: Galway | ER49: 10 | ES49: Galway | ET49: 0 | EU49: Galway | EV49: 0 | EW49: Galway | EX49: 0 | EY49: Galway | EZ49: 0 | FA49: Galway | FB49: 0 | FC49: Galway | FD49: 0 | FE49: Galway | FF49: 0 | FG49: Galway | FH49: 0 | FI49: Galway | FJ49: 0 | FK49: Galway | FL49: 0 | FM49: Galway | FN49: 0 | FO49: Galway | FP49: 0 | FQ49: Galway | FR49: 0 | FS49: Galway | FT49: 0 | FU49: Galway | FV49: 0 | FW49: Galway | FX49: 0 | FY49: Galway | FZ49: 0 | GA49: Galway | GB49: 0 | GC49: Galway | GD49: 0 | GE49: Galway | GF49: 0 | GG49: Galway | GH49: 0 | GI49: Galway | GJ49: 0 | GK49: Galway | GL49: 0 | GM49: Galway | GN49: 0 | GO49: Galway | GP49: 0 | GQ49: Galway | GR49: 0 | GS49: Galway | GT49: 0 | GU49: Galway | GV49: 0 | GW49: Galway | GX49: 0 | GY49: Galway | GZ49: 0 | HA49: Galway | HB49: 0 | HC49: Galway | HD49: 0
A50: Hede | B50: 10 | C50: Hede | D50: 10 | E50: Nemelig | F50: 0 | G50: Hede | H50: 0 | I50: Hede | J50: 0 | K50: Hede | L50: 0 | M50: LPHJ | N50: 0 | O50: Hede | P50: 0 | Q50: Hede | R50: 0 | S50: Hede | T50: 0 | U50: Hede | V50: 0 | W50: Hede | X50: 0 | Y50: Hede | Z50: 0 | AA50: Hede | AB50: 0 | AC50: Hede | AD50: 0 | AE50: Hede | AF50: 0 | AG50: Hede | AH50: 0 | AI50: Hede | AJ50: 0 | AK50: Hede | AL50: 0 | AM50: Hede | AN50: 0 | AO50: Hede | AP50: 0 | AQ50: Hede | AR50: 0 | AS50: Hede | AT50: 0 | AU50: Hede | AV50: 0 | AW50: Hede | AX50: 0 | AY50: Hede | AZ50: 0 | BA50: Hede | BB50: 0 | BC50: Hede | BD50: 0 | BE50: Hede | BF50: 0 | BG50: Hede | BH50: 0 | BI50: Hede | BJ50: 0 | BK50: Hede | BL50: 0 | BM50: Hede | BN50: 0 | BO50: Hede | BP50: 0 | BQ50: Hede | BR50: 0 | BS50: Hede | BT50: 0 | BU50: Hede | BV50: 0 | BW50: Hede | BX50: 0 | BY50: Hede | BZ50: 0 | CA50: Hede | CB50: 0 | CC50: Hede | CD50: 0 | CE50: Hede | CF50: 0 | CG50: Hede | CH50: 0 | CI50: Hede | CJ50: 0 | CK50: Hede | CL50: 0 | CM50: Hede | CN50: 0 | CO50: Hede | CP50: 0 | CQ50: Hede | CR50: 0 | CS50: Hede | CT50: 0 | CU50: Hede | CV50: 0 | CW50: Hede | CX50: 10 | CY50: Hede | CZ50: 10 | DA50: Hede | DB50: 10 | DC50: Hede | DD50: 10 | DE50: Hede | DF50: 0 | DG50: Hede | DH50: 0 | DI50: Hede | DJ50: 0 | DK50: Hede | DL50: 0 | DM50: Hede | DN50: 0 | DO50: Hede | DP50: 0 | DQ50: Hede | DR50: 0 | DS50: Hede | DT50: 0 | DU50: Hede | DV50: 0 | DW50: Hede | DX50: 0 | DY50: Hede | DZ50: 0 | EA50: Hede | EB50: 0 | EC50: Hede | ED50: 0 | EE50: Hede | EF50: 0 | EG50: Hede | EH50: 0 | EI50: Hede | EJ50: 0 | EK50: Hede | EL50: 0 | EM50: Hede | EN50: 0 | EO50: Hede | EP50: 0 | EQ50: Hede | ER50: 0 | ES50: Hede | ET50: 0 | EU50: Hede | EV50: 0 | EW50: Hede | EX50: 0 | EY50: Hede | EZ50: 0 | FA50: Hede | FB50: 0 | FC50: Hede | FD50: 0 | FE50: Hede | FF50: 0 | FG50: Hede | FH50: 0 | FI50: Hede | FJ50: 0 | FK50: Hede | FL50: 0 | FM50: Hede | FN50: 0 | FO50: Hede | FP50: 0 | FQ50: Hede | FR50: 0 | FS50: Hede | FT50: 0 | FU50: Hede | FV50: 0 | FW50: Hede | FX50: 0 | FY50: Hede | FZ50: 0 | GA50: Hede | GB50: 0 | GC50: Hede | GD50: 0 | GE50: Hede | GF50: 0 | GG50: Hede | GH50: 0 | GI50: Hede | GJ50: 0 | GK50: Hede | GL50: 0 | GM50: Hede | GN50: 0 | GO50: Hede | GP50: 0 | GQ50: Hede | GR50: 0 | GS50: Hede | GT50: 0 | GU50: Hede | GV50: 0 | GW50: Hede | GX50: 0 | GY50: Hede | GZ50: 0 | HA50: Hede | HB50: 0 | HC50: Hede | HD50: 0
A51: Jesper | B51: 0 | C51: Jesper | D51: 0 | E51: Laplace | F51: 0 | G51: Jesper | H51: 0 | I51: Magpies | J51: 0 | K51: Jesper | L51: 3 | M51: Hede | N51: 0 | O51: Jesper | P51: 0 | Q51: Jesper | R51: 0 | S51: Jesper | T51: 0 | U51: Jesper | V51: 0 | W51: Jesper | X51: 0 | Y51: Jesper | Z51: 0 | AA51: Jesper | AB51: 0 | AC51: Jesper | AD51: 0 | AE51: Jesper | AF51: 0 | AG51: Jesper | AH51: 0 | AI51: Jesper | AJ51: 0 | AK51: Jesper | AL51: 0 | AM51: Jesper | AN51: 0 | AO51: Jesper | AP51: 0 | AQ51: Jesper | AR51: 0 | AS51: Jesper | AT51: 0 | AU51: Jesper | AV51: 0 | AW51: Jesper | AX51: 0 | AY51: Jesper | AZ51: 0 | BA51: Jesper | BB51: 0 | BC51: Jesper | BD51: 0 | BE51: Jesper | BF51: 0 | BG51: Jesper | BH51: 0 | BI51: Jesper | BJ51: 0 | BK51: Jesper | BL51: 0 | BM51: Jesper | BN51: 0 | BO51: Jesper | BP51: 0 | BQ51: Jesper | BR51: 0 | BS51: Jesper | BT51: 0 | BU51: Jesper | BV51: 0 | BW51: Jesper | BX51: 0 | BY51: Jesper | BZ51: 0 | CA51: Jesper | CB51: 0 | CC51: Jesper | CD51: 0 | CE51: Jesper | CF51: 0 | CG51: Jesper | CH51: 0 | CI51: Jesper | CJ51: 0 | CK51: Jesper | CL51: 0 | CM51: Jesper | CN51: 0 | CO51: Jesper | CP51: 0 | CQ51: Jesper | CR51: 0 | CS51: Jesper | CT51: 0 | CU51: Jesper | CV51: 0 | CW51: Jesper | CX51: 0 | CY51: Jesper | CZ51: 0 | DA51: Jesper | DB51: 10 | DC51: Jesper | DD51: 10 | DE51: Jesper | DF51: 0 | DG51: Jesper | DH51: 0 | DI51: Jesper | DJ51: 0 | DK51: Jesper | DL51: 0 | DM51: Jesper | DN51: 0 | DO51: Jesper | DP51: 0 | DQ51: Jesper | DR51: 0 | DS51: Jesper | DT51: 0 | DU51: Jesper | DV51: 0 | DW51: Jesper | DX51: 0 | DY51: Jesper | DZ51: 0 | EA51: Jesper | EB51: 0 | EC51: Jesper | ED51: 0 | EE51: Jesper | EF51: 0 | EG51: Jesper | EH51: 0 | EI51: Jesper | EJ51: 0 | EK51: Jesper | EL51: 0 | EM51: Jesper | EN51: 0 | EO51: Jesper | EP51: 0 | EQ51: Jesper | ER51: 0 | ES51: Jesper | ET51: 0 | EU51: Jesper | EV51: 0 | EW51: Jesper | EX51: 0 | EY51: Jesper | EZ51: 0 | FA51: Jesper | FB51: 0 | FC51: Jesper | FD51: 0 | FE51: Jesper | FF51: 0 | FG51: Jesper | FH51: 0 | FI51: Jesper | FJ51: 0 | FK51: Jesper | FL51: 0 | FM51: Jesper | FN51: 0 | FO51: Jesper | FP51: 0 | FQ51: Jesper | FR51: 0 | FS51: Jesper | FT51: 0 | FU51: Jesper | FV51: 0 | FW51: Jesper | FX51: 0 | FY51: Jesper | FZ51: 0 | GA51: Jesper | GB51: 0 | GC51: Jesper | GD51: 0 | GE51: Jesper | GF51: 0 | GG51: Jesper | GH51: 0 | GI51: Jesper | GJ51: 0 | GK51: Jesper | GL51: 0 | GM51: Jesper | GN51: 0 | GO51: Jesper | GP51: 0 | GQ51: Jesper | GR51: 0 | GS51: Jesper | GT51: 0 | GU51: Jesper | GV51: 0 | GW51: Jesper | GX51: 0 | GY51: Jesper | GZ51: 0 | HA51: Jesper | HB51: 0 | HC51: Jesper | HD51: 0
A52: Kudsken | B52: 0 | C52: Kudsken | D52: 0 | E52: Sebjoh | F52: 0 | G52: Kudsken | H52: 0 | I52: Schøn | J52: 0 | K52: Kudsken | L52: 0 | M52: Steam | N52: 0 | O52: Kudsken | P52: 0 | Q52: Kudsken | R52: 0 | S52: Kudsken | T52: 0 | U52: Kudsken | V52: 0 | W52: Kudsken | X52: 0 | Y52: Kudsken | Z52: 0 | AA52: Kudsken | AB52: 0 | AC52: Kudsken | AD52: 0 | AE52: Kudsken | AF52: 0 | AG52: Kudsken | AH52: 0 | AI52: Kudsken | AJ52: 0 | AK52: Kudsken | AL52: 0 | AM52: Kudsken | AN52: 0 | AO52: Kudsken | AP52: 0 | AQ52: Kudsken | AR52: 0 | AS52: Kudsken | AT52: 0 | AU52: Kudsken | AV52: 0 | AW52: Kudsken | AX52: 0 | AY52: Kudsken | AZ52: 0 | BA52: Kudsken | BB52: 0 | BC52: Kudsken | BD52: 0 | BE52: Kudsken | BF52: 0 | BG52: Kudsken | BH52: 0 | BI52: Kudsken | BJ52: 0 | BK52: Kudsken | BL52: 0 | BM52: Kudsken | BN52: 0 | BO52: Kudsken | BP52: 0 | BQ52: Kudsken | BR52: 0 | BS52: Kudsken | BT52: 0 | BU52: Kudsken | BV52: 0 | BW52: Kudsken | BX52: 0 | BY52: Kudsken | BZ52: 0 | CA52: Kudsken | CB52: 0 | CC52: Kudsken | CD52: 0 | CE52: Kudsken | CF52: 0 | CG52: Kudsken | CH52: 0 | CI52: Kudsken | CJ52: 0 | CK52: Kudsken | CL52: 0 | CM52: Kudsken | CN52: 0 | CO52: Kudsken | CP52: 0 | CQ52: Kudsken | CR52: 0 | CS52: Kudsken | CT52: 0 | CU52: Kudsken | CV52: 0 | CW52: Kudsken | CX52: 0 | CY52: Kudsken | CZ52: 0 | DA52: Kudsken | DB52: 10 | DC52: Kudsken | DD52: 10 | DE52: Kudsken | DF52: 0 | DG52: Kudsken | DH52: 0 | DI52: Kudsken | DJ52: 0 | DK52: Kudsken | DL52: 0 | DM52: Kudsken | DN52: 0 | DO52: Kudsken | DP52: 0 | DQ52: Kudsken | DR52: 0 | DS52: Kudsken | DT52: 0 | DU52: Kudsken | DV52: 0 | DW52: Kudsken | DX52: 0 | DY52: Kudsken | DZ52: 0 | EA52: Kudsken | EB52: 0 | EC52: Kudsken | ED52: 0 | EE52: Kudsken | EF52: 0 | EG52: Kudsken | EH52: 0 | EI52: Kudsken | EJ52: 0 | EK52: Kudsken | EL52: 0 | EM52: Kudsken | EN52: 0 | EO52: Kudsken | EP52: 0 | EQ52: Kudsken | ER52: 0 | ES52: Kudsken | ET52: 0 | EU52: Kudsken | EV52: 0 | EW52: Kudsken | EX52: 0 | EY52: Kudsken | EZ52: 0 | FA52: Kudsken | FB52: 0 | FC52: Kudsken | FD52: 0 | FE52: Kudsken | FF52: 0 | FG52: Kudsken | FH52: 0 | FI52: Kudsken | FJ52: 0 | FK52: Kudsken | FL52: 0 | FM52: Kudsken | FN52: 0 | FO52: Kudsken | FP52: 0 | FQ52: Kudsken | FR52: 0 | FS52: Kudsken | FT52: 0 | FU52: Kudsken | FV52: 0 | FW52: Kudsken | FX52: 0 | FY52: Kudsken | FZ52: 0 | GA52: Kudsken | GB52: 0 | GC52: Kudsken | GD52: 0 | GE52: Kudsken | GF52: 0 | GG52: Kudsken | GH52: 0 | GI52: Kudsken | GJ52: 0 | GK52: Kudsken | GL52: 0 | GM52: Kudsken | GN52: 0 | GO52: Kudsken | GP52: 0 | GQ52: Kudsken | GR52: 0 | GS52: Kudsken | GT52: 0 | GU52: Kudsken | GV52: 0 | GW52: Kudsken | GX52: 0 | GY52: Kudsken | GZ52: 0 | HA52: Kudsken | HB52: 0 | HC52: Kudsken | HD52: 0
A53: Laplace | B53: 0 | C53: Laplace | D53: 0 | E53: Jesper | F53: 0 | G53: Laplace | H53: 0 | I53: Laplace | J53: 0 | K53: Laplace | L53: 0 | M53: Nemelig | N53: 10 | O53: Laplace | P53: 0 | Q53: Laplace | R53: 0 | S53: Laplace | T53: 0 | U53: Laplace | V53: 0 | W53: Laplace | X53: 0 | Y53: Laplace | Z53: 0 | AA53: Laplace | AB53: 0 | AC53: Laplace | AD53: 0 | AE53: Laplace | AF53: 0 | AG53: Laplace | AH53: 0 | AI53: Laplace | AJ53: 0 | AK53: Laplace | AL53: 0 | AM53: Laplace | AN53: 0 | AO53: Laplace | AP53: 0 | AQ53: Laplace | AR53: 0 | AS53: Laplace | AT53: 0 | AU53: Laplace | AV53: 0 | AW53: Laplace | AX53: 0 | AY53: Laplace | AZ53: 0 | BA53: Laplace | BB53: 0 | BC53: Laplace | BD53: 0 | BE53: Laplace | BF53: 0 | BG53: Laplace | BH53: 0 | BI53: Laplace | BJ53: 0 | BK53: Laplace | BL53: 0 | BM53: Laplace | BN53: 0 | BO53: Laplace | BP53: 0 | BQ53: Laplace | BR53: 0 | BS53: Laplace | BT53: 0 | BU53: Laplace | BV53: 0 | BW53: Laplace | BX53: 0 | BY53: Laplace | BZ53: 0 | CA53: Laplace | CB53: 0 | CC53: Laplace | CD53: 0 | CE53: Laplace | CF53: 0 | CG53: Laplace | CH53: 0 | CI53: Laplace | CJ53: 0 | CK53: Laplace | CL53: 0 | CM53: Laplace | CN53: 0 | CO53: Laplace | CP53: 0 | CQ53: Laplace | CR53: 0 | CS53: Laplace | CT53: 0 | CU53: Laplace | CV53: 0 | CW53: Laplace | CX53: 0 | CY53: Laplace | CZ53: 0 | DA53: Laplace | DB53: 10 | DC53: Laplace | DD53: 10 | DE53: Laplace | DF53: 0 | DG53: Laplace | DH53: 0 | DI53: Laplace | DJ53: 0 | DK53: Laplace | DL53: 0 | DM53: Laplace | DN53: 0 | DO53: Laplace | DP53: 0 | DQ53: Laplace | DR53: 0 | DS53: Laplace | DT53: 0 | DU53: Laplace | DV53: 0 | DW53: Laplace | DX53: 0 | DY53: Laplace | DZ53: 0 | EA53: Laplace | EB53: 0 | EC53: Laplace | ED53: 0 | EE53: Laplace | EF53: 0 | EG53: Laplace | EH53: 0 | EI53: Laplace | EJ53: 0 | EK53: Laplace | EL53: 0 | EM53: Laplace | EN53: 0 | EO53: Laplace | EP53: 0 | EQ53: Laplace | ER53: 0 | ES53: Laplace | ET53: 0 | EU53: Laplace | EV53: 0 | EW53: Laplace | EX53: 0 | EY53: Laplace | EZ53: 0 | FA53: Laplace | FB53: 0 | FC53: Laplace | FD53: 0 | FE53: Laplace | FF53: 0 | FG53: Laplace | FH53: 0 | FI53: Laplace | FJ53: 0 | FK53: Laplace | FL53: 0 | FM53: Laplace | FN53: 0 | FO53: Laplace | FP53: 0 | FQ53: Laplace | FR53: 0 | FS53: Laplace | FT53: 0 | FU53: Laplace | FV53: 0 | FW53: Laplace | FX53: 0 | FY53: Laplace | FZ53: 0 | GA53: Laplace | GB53: 0 | GC53: Laplace | GD53: 0 | GE53: Laplace | GF53: 0 | GG53: Laplace | GH53: 0 | GI53: Laplace | GJ53: 0 | GK53: Laplace | GL53: 0 | GM53: Laplace | GN53: 0 | GO53: Laplace | GP53: 0 | GQ53: Laplace | GR53: 0 | GS53: Laplace | GT53: 0 | GU53: Laplace | GV53: 0 | GW53: Laplace | GX53: 0 | GY53: Laplace | GZ53: 0 | HA53: Laplace | HB53: 0 | HC53: Laplace | HD53: 0
A54: LPHJ | B54: 0 | C54: LPHJ | D54: 0 | E54: Kudsken | F54: 0 | G54: LPHJ | H54: 0 | I54: Nuser | J54: 0 | K54: LPHJ | L54: 0 | M54: Laplace | N54: 0 | O54: LPHJ | P54: 0 | Q54: LPHJ | R54: 0 | S54: LPHJ | T54: 0 | U54: LPHJ | V54: 0 | W54: LPHJ | X54: 0 | Y54: LPHJ | Z54: 0 | AA54: LPHJ | AB54: 0 | AC54: LPHJ | AD54: 0 | AE54: LPHJ | AF54: 0 | AG54: LPHJ | AH54: 0 | AI54: LPHJ | AJ54: 0 | AK54: LPHJ | AL54: 0 | AM54: LPHJ | AN54: 0 | AO54: LPHJ | AP54: 10 | AQ54: LPHJ | AR54: 10 | AS54: LPHJ | AT54: 0 | AU54: LPHJ | AV54: 0 | AW54: LPHJ | AX54: 0 | AY54: LPHJ | AZ54: 0 | BA54: LPHJ | BB54: 0 | BC54: LPHJ | BD54: 0 | BE54: LPHJ | BF54: 0 | BG54: LPHJ | BH54: 0 | BI54: LPHJ | BJ54: 0 | BK54: LPHJ | BL54: 0 | BM54: LPHJ | BN54: 0 | BO54: LPHJ | BP54: 0 | BQ54: LPHJ | BR54: 0 | BS54: LPHJ | BT54: 0 | BU54: LPHJ | BV54: 0 | BW54: LPHJ | BX54: 0 | BY54: LPHJ | BZ54: 0 | CA54: LPHJ | CB54: 0 | CC54: LPHJ | CD54: 0 | CE54: LPHJ | CF54: 0 | CG54: LPHJ | CH54: 0 | CI54: LPHJ | CJ54: 0 | CK54: LPHJ | CL54: 10 | CM54: LPHJ | CN54: 10 | CO54: LPHJ | CP54: 0 | CQ54: LPHJ | CR54: 0 | CS54: LPHJ | CT54: 0 | CU54: LPHJ | CV54: 0 | CW54: LPHJ | CX54: 0 | CY54: LPHJ | CZ54: 0 | DA54: LPHJ | DB54: 10 | DC54: LPHJ | DD54: 10 | DE54: LPHJ | DF54: 0 | DG54: LPHJ | DH54: 0 | DI54: LPHJ | DJ54: 0 | DK54: LPHJ | DL54: 0 | DM54: LPHJ | DN54: 0 | DO54: LPHJ | DP54: 0 | DQ54: LPHJ | DR54: 0 | DS54: LPHJ | DT54: 0 | DU54: LPHJ | DV54: 0 | DW54: LPHJ | DX54: 0 | DY54: LPHJ | DZ54: 0 | EA54: LPHJ | EB54: 0 | EC54: LPHJ | ED54: 0 | EE54: LPHJ | EF54: 0 | EG54: LPHJ | EH54: 0 | EI54: LPHJ | EJ54: 0 | EK54: LPHJ | EL54: 0 | EM54: LPHJ | EN54: 0 | EO54: LPHJ | EP54: 0 | EQ54: LPHJ | ER54: 0 | ES54: LPHJ | ET54: 0 | EU54: LPHJ | EV54: 0 | EW54: LPHJ | EX54: 0 | EY54: LPHJ | EZ54: 0 | FA54: LPHJ | FB54: 0 | FC54: LPHJ | FD54: 0 | FE54: LPHJ | FF54: 10 | FG54: LPHJ | FH54: 10 | FI54: LPHJ | FJ54: 0 | FK54: LPHJ | FL54: 0 | FM54: LPHJ | FN54: 0 | FO54: LPHJ | FP54: 0 | FQ54: LPHJ | FR54: 0 | FS54: LPHJ | FT54: 0 | FU54: LPHJ | FV54: 0 | FW54: LPHJ | FX54: 0 | FY54: LPHJ | FZ54: 0 | GA54: LPHJ | GB54: 0 | GC54: LPHJ | GD54: 0 | GE54: LPHJ | GF54: 0 | GG54: LPHJ | GH54: 0 | GI54: LPHJ | GJ54: 0 | GK54: LPHJ | GL54: 0 | GM54: LPHJ | GN54: 0 | GO54: LPHJ | GP54: 0 | GQ54: LPHJ | GR54: 0 | GS54: LPHJ | GT54: 0 | GU54: LPHJ | GV54: 0 | GW54: LPHJ | GX54: 0 | GY54: LPHJ | GZ54: 0 | HA54: LPHJ | HB54: 0 | HC54: LPHJ | HD54: 0
A55: Lucky | B55: 0 | C55: Lucky | D55: 0 | E55: Barca | F55: 0 | G55: Lucky | H55: 0 | I55: Barca | J55: 0 | K55: Lucky | L55: 0 | M55: Magpies | N55: 0 | O55: Lucky | P55: 0 | Q55: Lucky | R55: 0 | S55: Lucky | T55: 0 | U55: Lucky | V55: 0 | W55: Lucky | X55: 0 | Y55: Lucky | Z55: 0 | AA55: Lucky | AB55: 0 | AC55: Lucky | AD55: 0 | AE55: Lucky | AF55: 0 | AG55: Lucky | AH55: 0 | AI55: Lucky | AJ55: 0 | AK55: Lucky | AL55: 0 | AM55: Lucky | AN55: 0 | AO55: Lucky | AP55: 0 | AQ55: Lucky | AR55: 0 | AS55: Lucky | AT55: 0 | AU55: Lucky | AV55: 0 | AW55: Lucky | AX55: 0 | AY55: Lucky | AZ55: 0 | BA55: Lucky | BB55: 0 | BC55: Lucky | BD55: 0 | BE55: Lucky | BF55: 0 | BG55: Lucky | BH55: 0 | BI55: Lucky | BJ55: 0 | BK55: Lucky | BL55: 0 | BM55: Lucky | BN55: 0 | BO55: Lucky | BP55: 0 | BQ55: Lucky | BR55: 0 | BS55: Lucky | BT55: 0 | BU55: Lucky | BV55: 0 | BW55: Lucky | BX55: 0 | BY55: Lucky | BZ55: 0 | CA55: Lucky | CB55: 0 | CC55: Lucky | CD55: 0 | CE55: Lucky | CF55: 0 | CG55: Lucky | CH55: 0 | CI55: Lucky | CJ55: 0 | CK55: Lucky | CL55: 0 | CM55: Lucky | CN55: 0 | CO55: Lucky | CP55: 0 | CQ55: Lucky | CR55: 0 | CS55: Lucky | CT55: 0 | CU55: Lucky | CV55: 0 | CW55: Lucky | CX55: 0 | CY55: Lucky | CZ55: 0 | DA55: Lucky | DB55: 10 | DC55: Lucky | DD55: 10 | DE55: Lucky | DF55: 0 | DG55: Lucky | DH55: 0 | DI55: Lucky | DJ55: 0 | DK55: Lucky | DL55: 0 | DM55: Lucky | DN55: 0 | DO55: Lucky | DP55: 0 | DQ55: Lucky | DR55: 0 | DS55: Lucky | DT55: 0 | DU55: Lucky | DV55: 0 | DW55: Lucky | DX55: 0 | DY55: Lucky | DZ55: 0 | EA55: Lucky | EB55: 0 | EC55: Lucky | ED55: 10 | EE55: Lucky | EF55: 10 | EG55: Lucky | EH55: 0 | EI55: Lucky | EJ55: 0 | EK55: Lucky | EL55: 0 | EM55: Lucky | EN55: 0 | EO55: Lucky | EP55: 0 | EQ55: Lucky | ER55: 0 | ES55: Lucky | ET55: 0 | EU55: Lucky | EV55: 0 | EW55: Lucky | EX55: 10 | EY55: Lucky | EZ55: 10 | FA55: Lucky | FB55: 0 | FC55: Lucky | FD55: 0 | FE55: Lucky | FF55: 0 | FG55: Lucky | FH55: 0 | FI55: Lucky | FJ55: 0 | FK55: Lucky | FL55: 0 | FM55: Lucky | FN55: 0 | FO55: Lucky | FP55: 0 | FQ55: Lucky | FR55: 0 | FS55: Lucky | FT55: 0 | FU55: Lucky | FV55: 0 | FW55: Lucky | FX55: 0 | FY55: Lucky | FZ55: 0 | GA55: Lucky | GB55: 0 | GC55: Lucky | GD55: 0 | GE55: Lucky | GF55: 0 | GG55: Lucky | GH55: 0 | GI55: Lucky | GJ55: 0 | GK55: Lucky | GL55: 0 | GM55: Lucky | GN55: 0 | GO55: Lucky | GP55: 0 | GQ55: Lucky | GR55: 0 | GS55: Lucky | GT55: 0 | GU55: Lucky | GV55: 0 | GW55: Lucky | GX55: 0 | GY55: Lucky | GZ55: 0 | HA55: Lucky | HB55: 0 | HC55: Lucky | HD55: 0
A56: Magpies | B56: 0 | C56: Magpies | D56: 0 | E56: Søknud | F56: 0 | G56: Magpies | H56: 0 | I56: Sebjoh | J56: 0 | K56: Magpies | L56: 0 | M56: Søknud | N56: 0 | O56: Magpies | P56: 0 | Q56: Magpies | R56: 0 | S56: Magpies | T56: 0 | U56: Magpies | V56: 0 | W56: Magpies | X56: 0 | Y56: Magpies | Z56: 0 | AA56: Magpies | AB56: 0 | AC56: Magpies | AD56: 0 | AE56: Magpies | AF56: 0 | AG56: Magpies | AH56: 0 | AI56: Magpies | AJ56: 0 | AK56: Magpies | AL56: 0 | AM56: Magpies | AN56: 0 | AO56: Magpies | AP56: 0 | AQ56: Magpies | AR56: 0 | AS56: Magpies | AT56: 0 | AU56: Magpies | AV56: 0 | AW56: Magpies | AX56: 0 | AY56: Magpies | AZ56: 0 | BA56: Magpies | BB56: 0 | BC56: Magpies | BD56: 0 | BE56: Magpies | BF56: 0 | BG56: Magpies | BH56: 0 | BI56: Magpies | BJ56: 0 | BK56: Magpies | BL56: 0 | BM56: Magpies | BN56: 0 | BO56: Magpies | BP56: 0 | BQ56: Magpies | BR56: 0 | BS56: Magpies | BT56: 0 | BU56: Magpies | BV56: 0 | BW56: Magpies | BX56: 0 | BY56: Magpies | BZ56: 0 | CA56: Magpies | CB56: 0 | CC56: Magpies | CD56: 0 | CE56: Magpies | CF56: 0 | CG56: Magpies | CH56: 0 | CI56: Magpies | CJ56: 0 | CK56: Magpies | CL56: 0 | CM56: Magpies | CN56: 0 | CO56: Magpies | CP56: 0 | CQ56: Magpies | CR56: 0 | CS56: Magpies | CT56: 0 | CU56: Magpies | CV56: 0 | CW56: Magpies | CX56: 0 | CY56: Magpies | CZ56: 0 | DA56: Magpies | DB56: 10 | DC56: Magpies | DD56: 10 | DE56: Magpies | DF56: 0 | DG56: Magpies | DH56: 0 | DI56: Magpies | DJ56: 0 | DK56: Magpies | DL56: 0 | DM56: Magpies | DN56: 0 | DO56: Magpies | DP56: 0 | DQ56: Magpies | DR56: 0 | DS56: Magpies | DT56: 0 | DU56: Magpies | DV56: 0 | DW56: Magpies | DX56: 0 | DY56: Magpies | DZ56: 0 | EA56: Magpies | EB56: 0 | EC56: Magpies | ED56: 0 | EE56: Magpies | EF56: 0 | EG56: Magpies | EH56: 0 | EI56: Magpies | EJ56: 0 | EK56: Magpies | EL56: 0 | EM56: Magpies | EN56: 0 | EO56: Magpies | EP56: 10 | EQ56: Magpies | ER56: 10 | ES56: Magpies | ET56: 0 | EU56: Magpies | EV56: 0 | EW56: Magpies | EX56: 0 | EY56: Magpies | EZ56: 0 | FA56: Magpies | FB56: 0 | FC56: Magpies | FD56: 0 | FE56: Magpies | FF56: 0 | FG56: Magpies | FH56: 0 | FI56: Magpies | FJ56: 0 | FK56: Magpies | FL56: 0 | FM56: Magpies | FN56: 0 | FO56: Magpies | FP56: 0 | FQ56: Magpies | FR56: 0 | FS56: Magpies | FT56: 0 | FU56: Magpies | FV56: 0 | FW56: Magpies | FX56: 0 | FY56: Magpies | FZ56: 0 | GA56: Magpies | GB56: 0 | GC56: Magpies | GD56: 0 | GE56: Magpies | GF56: 0 | GG56: Magpies | GH56: 0 | GI56: Magpies | GJ56: 0 | GK56: Magpies | GL56: 0 | GM56: Magpies | GN56: 0 | GO56: Magpies | GP56: 0 | GQ56: Magpies | GR56: 0 | GS56: Magpies | GT56: 0 | GU56: Magpies | GV56: 0 | GW56: Magpies | GX56: 0 | GY56: Magpies | GZ56: 0 | HA56: Magpies | HB56: 0 | HC56: Magpies | HD56: 0
A57: Murer | B57: 0 | C57: Murer | D57: 0 | E57: ÅZÆTZØW | F57: 0 | G57: Murer | H57: 0 | I57: Søknud | J57: 0 | K57: Murer | L57: 0 | M57: Lucky | N57: 0 | O57: Murer | P57: 0 | Q57: Murer | R57: 0 | S57: Murer | T57: 0 | U57: Murer | V57: 0 | W57: Murer | X57: 0 | Y57: Murer | Z57: 0 | AA57: Murer | AB57: 0 | AC57: Murer | AD57: 0 | AE57: Murer | AF57: 0 | AG57: Murer | AH57: 0 | AI57: Murer | AJ57: 0 | AK57: Murer | AL57: 0 | AM57: Murer | AN57: 0 | AO57: Murer | AP57: 0 | AQ57: Murer | AR57: 0 | AS57: Murer | AT57: 0 | AU57: Murer | AV57: 0 | AW57: Murer | AX57: 0 | AY57: Murer | AZ57: 0 | BA57: Murer | BB57: 0 | BC57: Murer | BD57: 0 | BE57: Murer | BF57: 0 | BG57: Murer | BH57: 0 | BI57: Murer | BJ57: 0 | BK57: Murer | BL57: 0 | BM57: Murer | BN57: 0 | BO57: Murer | BP57: 0 | BQ57: Murer | BR57: 0 | BS57: Murer | BT57: 0 | BU57: Murer | BV57: 0 | BW57: Murer | BX57: 0 | BY57: Murer | BZ57: 0 | CA57: Murer | CB57: 0 | CC57: Murer | CD57: 0 | CE57: Murer | CF57: 0 | CG57: Murer | CH57: 0 | CI57: Murer | CJ57: 0 | CK57: Murer | CL57: 0 | CM57: Murer | CN57: 0 | CO57: Murer | CP57: 0 | CQ57: Murer | CR57: 0 | CS57: Murer | CT57: 0 | CU57: Murer | CV57: 0 | CW57: Murer | CX57: 0 | CY57: Murer | CZ57: 0 | DA57: Murer | DB57: 10 | DC57: Murer | DD57: 10 | DE57: Murer | DF57: 0 | DG57: Murer | DH57: 0 | DI57: Murer | DJ57: 0 | DK57: Murer | DL57: 0 | DM57: Murer | DN57: 0 | DO57: Murer | DP57: 0 | DQ57: Murer | DR57: 0 | DS57: Murer | DT57: 0 | DU57: Murer | DV57: 0 | DW57: Murer | DX57: 0 | DY57: Murer | DZ57: 0 | EA57: Murer | EB57: 0 | EC57: Murer | ED57: 0 | EE57: Murer | EF57: 0 | EG57: Murer | EH57: 0 | EI57: Murer | EJ57: 0 | EK57: Murer | EL57: 0 | EM57: Murer | EN57: 0 | EO57: Murer | EP57: 0 | EQ57: Murer | ER57: 0 | ES57: Murer | ET57: 0 | EU57: Murer | EV57: 0 | EW57: Murer | EX57: 0 | EY57: Murer | EZ57: 0 | FA57: Murer | FB57: 0 | FC57: Murer | FD57: 0 | FE57: Murer | FF57: 0 | FG57: Murer | FH57: 0 | FI57: Murer | FJ57: 0 | FK57: Murer | FL57: 0 | FM57: Murer | FN57: 0 | FO57: Murer | FP57: 0 | FQ57: Murer | FR57: 0 | FS57: Murer | FT57: 0 | FU57: Murer | FV57: 0 | FW57: Murer | FX57: 0 | FY57: Murer | FZ57: 0 | GA57: Murer | GB57: 0 | GC57: Murer | GD57: 0 | GE57: Murer | GF57: 0 | GG57: Murer | GH57: 0 | GI57: Murer | GJ57: 0 | GK57: Murer | GL57: 0 | GM57: Murer | GN57: 0 | GO57: Murer | GP57: 0 | GQ57: Murer | GR57: 0 | GS57: Murer | GT57: 0 | GU57: Murer | GV57: 0 | GW57: Murer | GX57: 0 | GY57: Murer | GZ57: 0 | HA57: Murer | HB57: 0 | HC57: Murer | HD57: 0
A58: Nemelig | B58: 0 | C58: Nemelig | D58: 0 | E58: Magpies | F58: 0 | G58: Nemelig | H58: 0 | I58: ÅZÆTZØW | J58: 4 | K58: Nemelig | L58: 0 | M58: Murer | N58: 0 | O58: Nemelig | P58: 10 | Q58: Nemelig | R58: 0 | S58: Nemelig | T58: 0 | U58: Nemelig | V58: 0 | W58: Nemelig | X58: 0 | Y58: Nemelig | Z58: 0 | AA58: Nemelig | AB58: 0 | AC58: Nemelig | AD58: 10 | AE58: Nemelig | AF58: 10 | AG58: Nemelig | AH58: 0 | AI58: Nemelig | AJ58: 0 | AK58: Nemelig | AL58: 0 | AM58: Nemelig | AN58: 0 | AO58: Nemelig | AP58: 0 | AQ58: Nemelig | AR58: 0 | AS58: Nemelig | AT58: 0 | AU58: Nemelig | AV58: 0 | AW58: Nemelig | AX58: 0 | AY58: Nemelig | AZ58: 0 | BA58: Nemelig | BB58: 0 | BC58: Nemelig | BD58: 0 | BE58: Nemelig | BF58: 0 | BG58: Nemelig | BH58: 0 | BI58: Nemelig | BJ58: 10 | BK58: Nemelig | BL58: 10 | BM58: Nemelig | BN58: 0 | BO58: Nemelig | BP58: 0 | BQ58: Nemelig | BR58: 0 | BS58: Nemelig | BT58: 0 | BU58: Nemelig | BV58: 0 | BW58: Nemelig | BX58: 0 | BY58: Nemelig | BZ58: 0 | CA58: Nemelig | CB58: 0 | CC58: Nemelig | CD58: 0 | CE58: Nemelig | CF58: 0 | CG58: Nemelig | CH58: 0 | CI58: Nemelig | CJ58: 0 | CK58: Nemelig | CL58: 0 | CM58: Nemelig | CN58: 0 | CO58: Nemelig | CP58: 0 | CQ58: Nemelig | CR58: 0 | CS58: Nemelig | CT58: 0 | CU58: Nemelig | CV58: 0 | CW58: Nemelig | CX58: 0 | CY58: Nemelig | CZ58: 0 | DA58: Nemelig | DB58: 10 | DC58: Nemelig | DD58: 10 | DE58: Nemelig | DF58: 0 | DG58: Nemelig | DH58: 0 | DI58: Nemelig | DJ58: 0 | DK58: Nemelig | DL58: 0 | DM58: Nemelig | DN58: 0 | DO58: Nemelig | DP58: 0 | DQ58: Nemelig | DR58: 0 | DS58: Nemelig | DT58: 0 | DU58: Nemelig | DV58: 0 | DW58: Nemelig | DX58: 0 | DY58: Nemelig | DZ58: 0 | EA58: Nemelig | EB58: 0 | EC58: Nemelig | ED58: 0 | EE58: Nemelig | EF58: 0 | EG58: Nemelig | EH58: 10 | EI58: Nemelig | EJ58: 10 | EK58: Nemelig | EL58: 0 | EM58: Nemelig | EN58: 0 | EO58: Nemelig | EP58: 0 | EQ58: Nemelig | ER58: 0 | ES58: Nemelig | ET58: 0 | EU58: Nemelig | EV58: 0 | EW58: Nemelig | EX58: 0 | EY58: Nemelig | EZ58: 0 | FA58: Nemelig | FB58: 0 | FC58: Nemelig | FD58: 0 | FE58: Nemelig | FF58: 0 | FG58: Nemelig | FH58: 0 | FI58: Nemelig | FJ58: 0 | FK58: Nemelig | FL58: 0 | FM58: Nemelig | FN58: 0 | FO58: Nemelig | FP58: 0 | FQ58: Nemelig | FR58: 0 | FS58: Nemelig | FT58: 0 | FU58: Nemelig | FV58: 0 | FW58: Nemelig | FX58: 0 | FY58: Nemelig | FZ58: 0 | GA58: Nemelig | GB58: 0 | GC58: Nemelig | GD58: 0 | GE58: Nemelig | GF58: 0 | GG58: Nemelig | GH58: 0 | GI58: Nemelig | GJ58: 0 | GK58: Nemelig | GL58: 0 | GM58: Nemelig | GN58: 0 | GO58: Nemelig | GP58: 0 | GQ58: Nemelig | GR58: 0 | GS58: Nemelig | GT58: 0 | GU58: Nemelig | GV58: 0 | GW58: Nemelig | GX58: 0 | GY58: Nemelig | GZ58: 0 | HA58: Nemelig | HB58: 0 | HC58: Nemelig | HD58: 0
... A65: ÅZÆTZØW | B65: 0 | C65: ÅZÆTZØW | D65: 0 | E65: Randers | F65: 0 | G65: ÅZÆTZØW | H65: 0 | I65: 2toNone | J65: 10 | K65: ÅZÆTZØW | L65: 4 | M65: 2toNone | N65: 0 | O65: ÅZÆTZØW | P65: 5 | Q65: ÅZÆTZØW | R65: 0 | S65: ÅZÆTZØW | T65: 0 | U65: ÅZÆTZØW | V65: 0 | W65: ÅZÆTZØW | X65: 0 | Y65: ÅZÆTZØW | Z65: 0 | AA65: ÅZÆTZØW | AB65: 0 | AC65: ÅZÆTZØW | AD65: 0 | AE65: ÅZÆTZØW | AF65: 0 | AG65: ÅZÆTZØW | AH65: 0 | AI65: ÅZÆTZØW | AJ65: 0 | AK65: ÅZÆTZØW | AL65: 0 | AM65: ÅZÆTZØW | AN65: 0 | AO65: ÅZÆTZØW | AP65: 0 | AQ65: ÅZÆTZØW | AR65: 0 | AS65: ÅZÆTZØW | AT65: 10 | AU65: ÅZÆTZØW | AV65: 10 | AW65: ÅZÆTZØW | AX65: 0 | AY65: ÅZÆTZØW | AZ65: 0 | BA65: ÅZÆTZØW | BB65: 0 | BC65: ÅZÆTZØW | BD65: 0 | BE65: ÅZÆTZØW | BF65: 0 | BG65: ÅZÆTZØW | BH65: 0 | BI65: ÅZÆTZØW | BJ65: 0 | BK65: ÅZÆTZØW | BL65: 0 | BM65: ÅZÆTZØW | BN65: 0 | BO65: ÅZÆTZØW | BP65: 0 | BQ65: ÅZÆTZØW | BR65: 0 | BS65: ÅZÆTZØW | BT65: 0 | BU65: ÅZÆTZØW | BV65: 0 | BW65: ÅZÆTZØW | BX65: 0 | BY65: ÅZÆTZØW | BZ65: 0 | CA65: ÅZÆTZØW | CB65: 0 | CC65: ÅZÆTZØW | CD65: 0 | CE65: ÅZÆTZØW | CF65: 0 | CG65: ÅZÆTZØW | CH65: 0 | CI65: ÅZÆTZØW | CJ65: 0 | CK65: ÅZÆTZØW | CL65: 0 | CM65: ÅZÆTZØW | CN65: 0 | CO65: ÅZÆTZØW | CP65: 0 | CQ65: ÅZÆTZØW | CR65: 0 | CS65: ÅZÆTZØW | CT65: 0 | CU65: ÅZÆTZØW | CV65: 0 | CW65: ÅZÆTZØW | CX65: 0 | CY65: ÅZÆTZØW | CZ65: 0 | DA65: ÅZÆTZØW | DB65: 10 | DC65: ÅZÆTZØW | DD65: 10 | DE65: ÅZÆTZØW | DF65: 0 | DG65: ÅZÆTZØW | DH65: 0 | DI65: ÅZÆTZØW | DJ65: 0 | DK65: ÅZÆTZØW | DL65: 0 | DM65: ÅZÆTZØW | DN65: 0 | DO65: ÅZÆTZØW | DP65: 0 | DQ65: ÅZÆTZØW | DR65: 0 | DS65: ÅZÆTZØW | DT65: 0 | DU65: ÅZÆTZØW | DV65: 0 | DW65: ÅZÆTZØW | DX65: 0 | DY65: ÅZÆTZØW | DZ65: 0 | EA65: ÅZÆTZØW | EB65: 0 | EC65: ÅZÆTZØW | ED65: 0 | EE65: ÅZÆTZØW | EF65: 0 | EG65: ÅZÆTZØW | EH65: 0 | EI65: ÅZÆTZØW | EJ65: 0 | EK65: ÅZÆTZØW | EL65: 0 | EM65: ÅZÆTZØW | EN65: 0 | EO65: ÅZÆTZØW | EP65: 0 | EQ65: ÅZÆTZØW | ER65: 0 | ES65: ÅZÆTZØW | ET65: 0 | EU65: ÅZÆTZØW | EV65: 0 | EW65: ÅZÆTZØW | EX65: 0 | EY65: ÅZÆTZØW | EZ65: 0 | FA65: ÅZÆTZØW | FB65: 0 | FC65: ÅZÆTZØW | FD65: 0 | FE65: ÅZÆTZØW | FF65: 0 | FG65: ÅZÆTZØW | FH65: 0 | FI65: ÅZÆTZØW | FJ65: 0 | FK65: ÅZÆTZØW | FL65: 0 | FM65: ÅZÆTZØW | FN65: 0 | FO65: ÅZÆTZØW | FP65: 0 | FQ65: ÅZÆTZØW | FR65: 0 | FS65: ÅZÆTZØW | FT65: 0 | FU65: ÅZÆTZØW | FV65: 0 | FW65: ÅZÆTZØW | FX65: 0 | FY65: ÅZÆTZØW | FZ65: 0 | GA65: ÅZÆTZØW | GB65: 0 | GC65: ÅZÆTZØW | GD65: 0 | GE65: ÅZÆTZØW | GF65: 0 | GG65: ÅZÆTZØW | GH65: 0 | GI65: ÅZÆTZØW | GJ65: 0 | GK65: ÅZÆTZØW | GL65: 0 | GM65: ÅZÆTZØW | GN65: 0 | GO65: ÅZÆTZØW | GP65: 0 | GQ65: ÅZÆTZØW | GR65: 0 | GS65: ÅZÆTZØW | GT65: 0 | GU65: ÅZÆTZØW | GV65: 0 | GW65: ÅZÆTZØW | GX65: 0 | GY65: ÅZÆTZØW | GZ65: 0 | HA65: ÅZÆTZØW | HB65: 0 | HC65: ÅZÆTZØW | HD65: 0

Sheet Udregning
D1: Pulje | E1: Overfør | G1: Pulje | H1: Overfør | J1: Pulje | K1: Overfør | M1: Pulje | N1: Overfør | P1: Pulje | Q1: Overfør | S1: Pulje | T1: Overfør | V1: Pulje | W1: Overfør | Y1: Pulje | Z1: Overfør | AB1: Pulje | AC1: Overfør | AE1: Pulje | AF1: Overfør | AH1: Pulje | AI1: Overfør | AK1: Pulje | AL1: Overfør | AN1: Pulje | AO1: Overfør | AQ1: Pulje | AR1: Overfør | AT1: Pulje | AU1: Overfør | AW1: Pulje | AX1: Overfør | AZ1: Pulje | BA1: Overfør | BC1: Pulje | BD1: Overfør | BF1: Pulje | BG1: Overfør | BI1: Pulje | BJ1: Overfør | BL1: Pulje | BM1: Overfør | BO1: Pulje | BP1: Overfør | BR1: Pulje | BS1: Overfør | BU1: Pulje | BV1: Overfør | BX1: Pulje | BY1: Overfør | CA1: Pulje | CB1: Overfør | CD1: Pulje | CE1: Overfør | CG1: Pulje | CH1: Overfør | CJ1: Pulje | CK1: Overfør | CM1: Pulje | CN1: Overfør | CP1: Pulje | CQ1: Overfør | CS1: Pulje | CT1: Overfør | CV1: Pulje | CW1: Overfør | CY1: Pulje | CZ1: Overfør | DB1: Pulje | DC1: Overfør | DE1: Pulje | DF1: Overfør | DH1: Pulje | DI1: Overfør | DK1: Pulje | DL1: Overfør | DN1: Pulje | DO1: Overfør | DQ1: Pulje | DR1: Overfør | DT1: Pulje | DU1: Overfør | DW1: Pulje | DX1: Overfør | DZ1: Pulje | EA1: Overfør | EC1: Pulje | ED1: Overfør | EF1: Pulje | EG1: Overfør | EI1: Pulje | EJ1: Overfør | EL1: Pulje | EM1: Overfør | EO1: Pulje | EP1: Overfør | ER1: Pulje | ES1: Overfør | EU1: Pulje | EV1: Overfør | EX1: Pulje | EY1: Overfør | FA1: Pulje | FB1: Overfør | FD1: Pulje | FE1: Overfør
A2: Uge | C2: 1 | D2: 60 | E2: =D2-E66 -> 0 | F2: 2 | G2: =E2+60 -> 60 | H2: =G2-H66 -> 0 | I2: 3 | J2: =H2+60 -> 60 | K2: =J2-K66 -> 0 | L2: 4 | M2: =K2+60 -> 60 | N2: =M2-N66 -> 0 | O2: 5 | P2: =N2+60 -> 60 | Q2: =P2-Q66 -> 0 | R2: 6 | S2: =Q2+60 -> 60 | T2: =S2-T66 -> 0 | U2: 7 | V2: =T2+60 -> 60 | W2: =V2-W66 -> 0 | X2: 8 | Y2: =W2+60 -> 60 | Z2: =Y2-Z66 -> 0 | AA2: 9 | AB2: =Z2+60 -> 60 | AC2: =AB2-AC66 -> 60 | AD2: 10 | AE2: =AC2+60 -> 120 | AF2: =AE2-AF66 -> 0 | AG2: 11 | AH2: =AF2+60 -> 60 | AI2: =AH2-AI66 -> 0 | AJ2: 12 | AK2: =AI2+60 -> 60 | AL2: =AK2-AL66 -> 0 | AM2: 13 | AN2: =AL2+60 -> 60 | AO2: =AN2-AO66 -> 0 | AP2: 14 | AQ2: =AO2+60 -> 60 | AR2: =AQ2-AR66 -> 0 | AS2: 15 | AT2: =AR2+60 -> 60 | AU2: =AT2-AU66 -> 0 | AV2: 16 | AW2: =AU2+60 -> 60 | AX2: =AW2-AX66 -> 0 | AY2: 17 | AZ2: =AX2+60 -> 60 | BA2: =AZ2-BA66 -> 0 | BB2: 18 | BC2: =BA2+60 -> 60 | BD2: =BC2-BD66 -> 0 | BE2: 19 | BF2: =BD2+60 -> 60 | BG2: =BF2-BG66 -> 0 | BH2: 20 | BI2: =BG2+60 -> 60 | BJ2: =BI2-BJ66 -> 0 | BK2: 21 | BL2: =BJ2+60 -> 60 | BM2: =BL2-BM66 -> 0 | BN2: 22 | BO2: =BM2+60 -> 60 | BP2: =BO2-BP66 -> 0 | BQ2: 23 | BR2: =BP2+60 -> 60 | BS2: =BR2-BS66 -> 0 | BT2: 24 | BU2: =BS2+60 -> 60 | BV2: =BU2-BV66 -> 0 | BW2: 25 | BX2: =BV2+60 -> 60 | BY2: =BX2-BY66 -> 0 | BZ2: 26 | CA2: =BY2+60 -> 60 | CB2: =CA2-CB66 -> 0 | CC2: 27 | CD2: =CB2+60 -> 60 | CE2: =CD2-CE66 -> 60 | CF2: 28 | CG2: =CE2+60 -> 120 | CH2: =CG2-CH66 -> 0 | CI2: 29 | CJ2: =CH2+60 -> 60 | CK2: =CJ2-CK66 -> 60 | CL2: 30 | CM2: =CK2+60 -> 120 | CN2: =CM2-CN66 -> 0 | CO2: 31 | CP2: =CN2+60 -> 60 | CQ2: =CP2-CQ66 -> 0 | CR2: 32 | CS2: =CQ2+60 -> 60 | CT2: =CS2-CT66 -> 0 | CU2: 33 | CV2: =CT2+60 -> 60 | CW2: =CV2-CW66 -> 0 | CX2: 34 | CY2: =CW2+60 -> 60 | CZ2: =CY2-CZ66 -> 0 | DA2: 35 | DB2: =CZ2+60 -> 60 | DC2: =DB2-DC66 -> 0 | DD2: 36 | DE2: =DC2+60 -> 60 | DF2: =DE2-DF66 -> 0 | DG2: 37 | DH2: =DF2+60 -> 60 | DI2: =DH2-DI66 -> 60 | DJ2: 38 | DK2: =DI2+60 -> 120 | DL2: =DK2-DL66 -> 0 | DM2: 39 | DN2: =DL2+60 -> 60 | DO2: =DN2-DO66 -> 0 | DP2: 40 | DQ2: =DO2+60 -> 60 | DR2: =DQ2-DR66 -> 0 | DS2: 41 | DT2: =DR2+60 -> 60 | DU2: =DT2-DU66 -> 0 | DV2: 42 | DW2: =DU2+60 -> 60 | DX2: =DW2-DX66 -> 0 | DY2: 43 | DZ2: =DX2+60 -> 60 | EA2: =DZ2-EA66 -> 60 | EB2: 44 | EC2: =EA2+60 -> 120 | ED2: =EC2-ED66 -> 120 | EE2: 45 | EF2: =ED2+60 -> 180 | EG2: =EF2-EG66 -> 180 | EH2: 46 | EI2: =EG2+60 -> 240 | EJ2: =EI2-EJ66 -> 240 | EK2: 47 | EL2: =EJ2+60 -> 300 | EM2: =EL2-EM66 -> 300 | EN2: 48 | EO2: =EM2+60 -> 360 | EP2: =EO2-EP66 -> 360 | EQ2: 49 | ER2: =EP2+60 -> 420 | ES2: =ER2-ES66 -> 420 | ET2: 50 | EU2: =ES2+60 -> 480 | EV2: =EU2-EV66 -> 480 | EW2: 51 | EX2: =EV2+60 -> 540 | EY2: =EX2-EY66 -> 540 | EZ2: 52 | FA2: =EY2+60 -> 600 | FB2: =FA2-FB66 -> 600 | FC2: 53 | FD2: =FB2+60 -> 660 | FE2: =FD2-FE66 -> 660
B3: TOTAL | C3: Point | D3: Check | E3: Gevinst | F3: Point | G3: Check | H3: Gevinst | I3: Point | J3: Check | K3: Gevinst | L3: Point | M3: Check | N3: Gevinst | O3: Point | P3: Check | Q3: Gevinst | R3: Point | S3: Check | T3: Gevinst | U3: Point | V3: Check | W3: Gevinst | X3: Point | Y3: Check | Z3: Gevinst | AA3: Point | AB3: Check | AC3: Gevinst | AD3: Point | AE3: Check | AF3: Gevinst | AG3: Point | AH3: Check | AI3: Gevinst | AJ3: Point | AK3: Check | AL3: Gevinst | AM3: Point | AN3: Check | AO3: Gevinst | AP3: Point | AQ3: Check | AR3: Gevinst | AS3: Point | AT3: Check | AU3: Gevinst | AV3: Point | AW3: Check | AX3: Gevinst | AY3: Point | AZ3: Check | BA3: Gevinst | BB3: Point | BC3: Check | BD3: Gevinst | BE3: Point | BF3: Check | BG3: Gevinst | BH3: Point | BI3: Check | BJ3: Gevinst | BK3: Point | BL3: Check | BM3: Gevinst | BN3: Point | BO3: Check | BP3: Gevinst | BQ3: Point | BR3: Check | BS3: Gevinst | BT3: Point | BU3: Check | BV3: Gevinst | BW3: Point | BX3: Check | BY3: Gevinst | BZ3: Point | CA3: Check | CB3: Gevinst | CC3: Point | CD3: Check | CE3: Gevinst | CF3: Point | CG3: Check | CH3: Gevinst | CI3: Point | CJ3: Check | CK3: Gevinst | CL3: Point | CM3: Check | CN3: Gevinst | CO3: Point | CP3: Check | CQ3: Gevinst | CR3: Point | CS3: Check | CT3: Gevinst | CU3: Point | CV3: Check | CW3: Gevinst | CX3: Point | CY3: Check | CZ3: Gevinst | DA3: Point | DB3: Check | DC3: Gevinst | DD3: Point | DE3: Check | DF3: Gevinst | DG3: Point | DH3: Check | DI3: Gevinst | DJ3: Point | DK3: Check | DL3: Gevinst | DM3: Point | DN3: Check | DO3: Gevinst | DP3: Point | DQ3: Check | DR3: Gevinst | DS3: Point | DT3: Check | DU3: Gevinst | DV3: Point | DW3: Check | DX3: Gevinst | DY3: Point | DZ3: Check | EA3: Gevinst | EB3: Point | EC3: Check | ED3: Gevinst | EE3: Point | EF3: Check | EG3: Gevinst | EH3: Point | EI3: Check | EJ3: Gevinst | EK3: Point | EL3: Check | EM3: Gevinst | EN3: Point | EO3: Check | EP3: Gevinst | EQ3: Point | ER3: Check | ES3: Gevinst | ET3: Point | EU3: Check | EV3: Gevinst | EW3: Point | EX3: Check | EY3: Gevinst | EZ3: Point | FA3: Check | FB3: Gevinst | FC3: Point | FD3: Check | FE3: Gevinst
A4: Arsenal | B4: =DD6 -> 0 | C4: =FraDT!D4 -> 0 | D4: =IF(C4=10,1,0) -> 0 | E4: =IF(AND(D4=1,$D$66<7),$D$2/$D$66,0) -> 0 | F4: =FraDT!H4 -> 0 | G4: =IF(F4=10,1,0) -> 0 | H4: =IF(AND(G4=1,$G$66<7),$G$2/$G$66,0) -> 0 | I4: =FraDT!L4 -> 0 | J4: =IF(I4=10,1,0) -> 0 | K4: =IF(AND(J4=1,$J$66<7),$J$2/$J$66,0) -> 0 | L4: =FraDT!P4 -> 0 | M4: =IF(L4=10,1,0) -> 0 | N4: =IF(AND(M4=1,$M$66<7),$M$2/$M$66,0) -> 0 | O4: =FraDT!T4 -> 0 | P4: =IF(O4=10,1,0) -> 0 | Q4: =IF(AND(P4=1,$P$66<7),$P$2/$P$66,0) -> 0 | R4: =FraDT!X4 -> 0 | S4: =IF(R4=10,1,0) -> 0 | T4: =IF(AND(S4=1,$S$66<7),$S$2/$S$66,0) -> 0 | U4: =FraDT!AB4 -> 0 | V4: =IF(U4=10,1,0) -> 0 | W4: =IF(AND(V4=1,$V$66<7),$V$2/$V$66,0) -> 0 | X4: =FraDT!AF4 -> 0 | Y4: =IF(X4=10,1,0) -> 0 | Z4: =IF(AND(Y4=1,$Y$66<7),$Y$2/$Y$66,0) -> 0 | AA4: =FraDT!AJ4 -> 0 | AB4: =IF(AA4=10,1,0) -> 0 | AC4: =IF(AND(AB4=1,$AB$66<7),$AB$2/$AB$66,0) -> 0 | AD4: =FraDT!AN4 -> 0 | AE4: =IF(AD4=10,1,0) -> 0 | AF4: =IF(AND(AE4=1,$AE$66<7),$AE$2/$AE$66,0) -> 0 | AG4: =FraDT!AR4 -> 0 | AH4: =IF(AG4=10,1,0) -> 0 | AI4: =IF(AND(AH4=1,$AH$66<7),$AH$2/$AH$66,0) -> 0 | AJ4: =FraDT!AV4 -> 0 | AK4: =IF(AJ4=10,1,0) -> 0 | AL4: =IF(AND(AK4=1,$AK$66<7),$AK$2/$AK$66,0) -> 0 | AM4: =FraDT!AZ4 -> 0 | AN4: =IF(AM4=10,1,0) -> 0 | AO4: =IF(AND(AN4=1,$AN$66<7),$AN$2/$AN$66,0) -> 0 | AP4: =FraDT!BD4 -> 0 | AQ4: =IF(AP4=10,1,0) -> 0 | AR4: =IF(AND(AQ4=1,$AQ$66<7),$AQ$2/$AQ$66,0) -> 0 | AS4: =FraDT!BH4 -> 0 | AT4: =IF(AS4=10,1,0) -> 0 | AU4: =IF(AND(AT4=1,$AT$66<7),$AT$2/$AT$66,0) -> 0 | AV4: =FraDT!BL4 -> 0 | AW4: =IF(AV4=10,1,0) -> 0 | AX4: =IF(AND(AW4=1,$AW$66<7),$AW$2/$AW$66,0) -> 0 | AY4: =FraDT!BP4 -> 0 | AZ4: =IF(AY4=10,1,0) -> 0 | BA4: =IF(AND(AZ4=1,$AZ$66<7),$AZ$2/$AZ$66,0) -> 0 | BB4: =FraDT!BT4 -> 0 | BC4: =IF(BB4=10,1,0) -> 0 | BD4: =IF(AND(BC4=1,$BC$66<7),$BC$2/$BC$66,0) -> 0 | BE4: =FraDT!BX4 -> 0 | BF4: =IF(BE4=10,1,0) -> 0 | BG4: =IF(AND(BF4=1,$BF$66<7),$BF$2/$BF$66,0) -> 0 | BH4: =FraDT!CB4 -> 0 | BI4: =IF(BH4=10,1,0) -> 0 | BJ4: =IF(AND(BI4=1,$BI$66<7),$BI$2/$BI$66,0) -> 0 | BK4: =FraDT!CF4 -> 0 | BL4: =IF(BK4=10,1,0) -> 0 | BM4: =IF(AND(BL4=1,$BL$66<7),$BL$2/$BL$66,0) -> 0 | BN4: =FraDT!CJ4 -> 0 | BO4: =IF(BN4=10,1,0) -> 0 | BP4: =IF(AND(BO4=1,$BO$66<7),$BO$2/$BO$66,0) -> 0 | BQ4: =FraDT!CN4 -> 0 | BR4: =IF(BQ4=10,1,0) -> 0 | BS4: =IF(AND(BR4=1,$BR$66<7),$BR$2/$BR$66,0) -> 0 | BT4: =FraDT!CR4 -> 0 | BU4: =IF(BT4=10,1,0) -> 0 | BV4: =IF(AND(BU4=1,$BU$66<7),$BU$2/$BU$66,0) -> 0 | BW4: =FraDT!CV4 -> 0 | BX4: =IF(BW4=10,1,0) -> 0 | BY4: =IF(AND(BX4=1,$BX$66<7),$BX$2/$BX$66,0) -> 0 | BZ4: =FraDT!CZ4 -> 0 | CA4: =IF(BZ4=10,1,0) -> 0 | CB4: =IF(AND(CA4=1,$CA$66<7),$CA$2/$CA$66,0) -> 0 | CC4: =FraDT!DD4 -> 10 | CD4: =IF(CC4=10,1,0) -> 1 | CE4: =IF(AND(CD4=1,$CD$66<7),$CD$2/$CD$66,0) -> 0 | CF4: =FraDT!DH4 -> 0 | CG4: =IF(CF4=10,1,0) -> 0 | CH4: =IF(AND(CG4=1,$CG$66<7),$CG$2/$CG$66,0) -> 0 | CI4: =FraDT!DL4 -> 0 | CJ4: =IF(CI4=10,1,0) -> 0 | CK4: =IF(AND(CJ4=1,$CJ$66<7),$CJ$2/$CJ$66,0) -> 0 | CL4: =FraDT!DP4 -> 0 | CM4: =IF(CL4=10,1,0) -> 0 | CN4: =IF(AND(CM4=1,$CM$66<7),$CM$2/$CM$66,0) -> 0 | CO4: =FraDT!DT4 -> 0 | CP4: =IF(CO4=10,1,0) -> 0 | CQ4: =IF(AND(CP4=1,$CP$66<7),$CP$2/$CP$66,0) -> 0 | CR4: =FraDT!DX4 -> 0 | CS4: =IF(CR4=10,1,0) -> 0 | CT4: =IF(AND(CS4=1,$CS$66<7),$CS$2/$CS$66,0) -> 0 | CU4: =FraDT!EB4 -> 0 | CV4: =IF(CU4=10,1,0) -> 0 | CW4: =IF(AND(CV4=1,$CV$66<7),$CV$2/$CV$66,0) -> 0 | CX4: =FraDT!EF4 -> 0 | CY4: =IF(CX4=10,1,0) -> 0 | CZ4: =IF(AND(CY4=1,$CY$66<7),$CY$2/$CY$66,0) -> 0 | DA4: =FraDT!EJ4 -> 0 | DB4: =IF(DA4=10,1,0) -> 0 | DC4: =IF(AND(DB4=1,$DB$66<7),$DB$2/$DB$66,0) -> 0 | DD4: =FraDT!EN4 -> 0 | DE4: =IF(DD4=10,1,0) -> 0 | DF4: =IF(AND(DE4=1,$DE$66<7),$DE$2/$DE$66,0) -> 0 | DG4: =FraDT!ER4 -> 0 | DH4: =IF(DG4=10,1,0) -> 0 | DI4: =IF(AND(DH4=1,$DH$66<7),$DH$2/$DH$66,0) -> 0 | DJ4: =FraDT!EV4 -> 0 | DK4: =IF(DJ4=10,1,0) -> 0 | DL4: =IF(AND(DK4=1,$DK$66<7),$DK$2/$DK$66,0) -> 0 | DM4: =FraDT!EZ4 -> 0 | DN4: =IF(DM4=10,1,0) -> 0 | DO4: =IF(AND(DN4=1,$DN$66<7),$DN$2/$DN$66,0) -> 0 | DP4: =FraDT!FD4 -> 0 | DQ4: =IF(DP4=10,1,0) -> 0 | DR4: =IF(AND(DQ4=1,$DQ$66<7),$DQ$2/$DQ$66,0) -> 0 | DS4: =FraDT!FH4 -> 0 | DT4: =IF(DS4=10,1,0) -> 0 | DU4: =IF(AND(DT4=1,$DT$66<7),$DT$2/$DT$66,0) -> 0 | DV4: =FraDT!FL4 -> 0 | DW4: =IF(DV4=10,1,0) -> 0 | DX4: =IF(AND(DW4=1,$DW$66<7),$DW$2/$DW$66,0) -> 0 | DY4: =FraDT!FP4 -> 0 | DZ4: =IF(DY4=10,1,0) -> 0 | EA4: =IF(AND(DZ4=1,$DZ$66<7),$DZ$2/$DZ$66,0) -> 0 | EB4: =FraDT!FT4 -> 0 | EC4: =IF(EB4=10,1,0) -> 0 | ED4: =IF(AND(EC4=1,$EC$66<7),$EC$2/$EC$66,0) -> 0 | EE4: =FraDT!FX4 -> 0 | EF4: =IF(EE4=10,1,0) -> 0 | EG4: =IF(AND(EF4=1,$EF$66<7),$EF$2/$EF$66,0) -> 0 | EH4: =FraDT!GB4 -> 0 | EI4: =IF(EH4=10,1,0) -> 0 | EJ4: =IF(AND(EI4=1,$EI$66<7),$EI$2/$EI$66,0) -> 0 | EK4: =FraDT!GF4 -> 0 | EL4: =IF(EK4=10,1,0) -> 0 | EM4: =IF(AND(EL4=1,$EL$66<7),$EL$2/$EL$66,0) -> 0 | EN4: =FraDT!GJ4 -> 0 | EO4: =IF(EN4=10,1,0) -> 0 | EP4: =IF(AND(EO4=1,$EO$66<7),$EO$2/$EO$66,0) -> 0 | EQ4: =FraDT!GN4 -> 0 | ER4: =IF(EQ4=10,1,0) -> 0 | ES4: =IF(AND(ER4=1,$ER$66<7),$ER$2/$ER$66,0) -> 0 | ET4: =FraDT!GR4 -> 0 | EU4: =IF(ET4=10,1,0) -> 0 | EV4: =IF(AND(EU4=1,$EU$66<7),$EU$2/$EU$66,0) -> 0 | EW4: =FraDT!GV4 -> 0 | EX4: =IF(EW4=10,1,0) -> 0 | EY4: =IF(AND(EX4=1,$EX$66<7),$EX$2/$EX$66,0) -> 0 | EZ4: =FraDT!GZ4 -> 0 | FA4: =IF(EZ4=10,1,0) -> 0 | FB4: =IF(AND(FA4=1,$FA$66<7),$FA$2/$FA$66,0) -> 0 | FC4: =FraDT!HD4 -> 0 | FD4: =IF(FC4=10,1,0) -> 0 | FE4: =IF(AND(FD4=1,$FD$66<7),$FD$2/$FD$66,0) -> 0
A5: Chelsea | B5: =DD7 -> 0 | C5: =FraDT!D5 -> 0 | D5: =IF(C5=10,1,0) -> 0 | E5: =IF(AND(D5=1,$D$66<7),$D$2/$D$66,0) -> 0 | F5: =FraDT!H5 -> 0 | G5: =IF(F5=10,1,0) -> 0 | H5: =IF(AND(G5=1,$G$66<7),$G$2/$G$66,0) -> 0 | I5: =FraDT!L5 -> 0 | J5: =IF(I5=10,1,0) -> 0 | K5: =IF(AND(J5=1,$J$66<7),$J$2/$J$66,0) -> 0 | L5: =FraDT!P5 -> 0 | M5: =IF(L5=10,1,0) -> 0 | N5: =IF(AND(M5=1,$M$66<7),$M$2/$M$66,0) -> 0 | O5: =FraDT!T5 -> 0 | P5: =IF(O5=10,1,0) -> 0 | Q5: =IF(AND(P5=1,$P$66<7),$P$2/$P$66,0) -> 0 | R5: =FraDT!X5 -> 0 | S5: =IF(R5=10,1,0) -> 0 | T5: =IF(AND(S5=1,$S$66<7),$S$2/$S$66,0) -> 0 | U5: =FraDT!AB5 -> 0 | V5: =IF(U5=10,1,0) -> 0 | W5: =IF(AND(V5=1,$V$66<7),$V$2/$V$66,0) -> 0 | X5: =FraDT!AF5 -> 0 | Y5: =IF(X5=10,1,0) -> 0 | Z5: =IF(AND(Y5=1,$Y$66<7),$Y$2/$Y$66,0) -> 0 | AA5: =FraDT!AJ5 -> 0 | AB5: =IF(AA5=10,1,0) -> 0 | AC5: =IF(AND(AB5=1,$AB$66<7),$AB$2/$AB$66,0) -> 0 | AD5: =FraDT!AN5 -> 0 | AE5: =IF(AD5=10,1,0) -> 0 | AF5: =IF(AND(AE5=1,$AE$66<7),$AE$2/$AE$66,0) -> 0 | AG5: =FraDT!AR5 -> 0 | AH5: =IF(AG5=10,1,0) -> 0 | AI5: =IF(AND(AH5=1,$AH$66<7),$AH$2/$AH$66,0) -> 0 | AJ5: =FraDT!AV5 -> 0 | AK5: =IF(AJ5=10,1,0) -> 0 | AL5: =IF(AND(AK5=1,$AK$66<7),$AK$2/$AK$66,0) -> 0 | AM5: =FraDT!AZ5 -> 0 | AN5: =IF(AM5=10,1,0) -> 0 | AO5: =IF(AND(AN5=1,$AN$66<7),$AN$2/$AN$66,0) -> 0 | AP5: =FraDT!BD5 -> 0 | AQ5: =IF(AP5=10,1,0) -> 0 | AR5: =IF(AND(AQ5=1,$AQ$66<7),$AQ$2/$AQ$66,0) -> 0 | AS5: =FraDT!BH5 -> 0 | AT5: =IF(AS5=10,1,0) -> 0 | AU5: =IF(AND(AT5=1,$AT$66<7),$AT$2/$AT$66,0) -> 0 | AV5: =FraDT!BL5 -> 0 | AW5: =IF(AV5=10,1,0) -> 0 | AX5: =IF(AND(AW5=1,$AW$66<7),$AW$2/$AW$66,0) -> 0 | AY5: =FraDT!BP5 -> 0 | AZ5: =IF(AY5=10,1,0) -> 0 | BA5: =IF(AND(AZ5=1,$AZ$66<7),$AZ$2/$AZ$66,0) -> 0 | BB5: =FraDT!BT5 -> 0 | BC5: =IF(BB5=10,1,0) -> 0 | BD5: =IF(AND(BC5=1,$BC$66<7),$BC$2/$BC$66,0) -> 0 | BE5: =FraDT!BX5 -> 0 | BF5: =IF(BE5=10,1,0) -> 0 | BG5: =IF(AND(BF5=1,$BF$66<7),$BF$2/$BF$66,0) -> 0 | BH5: =FraDT!CB5 -> 0 | BI5: =IF(BH5=10,1,0) -> 0 | BJ5: =IF(AND(BI5=1,$BI$66<7),$BI$2/$BI$66,0) -> 0 | BK5: =FraDT!CF5 -> 0 | BL5: =IF(BK5=10,1,0) -> 0 | BM5: =IF(AND(BL5=1,$BL$66<7),$BL$2/$BL$66,0) -> 0 | BN5: =FraDT!CJ5 -> 0 | BO5: =IF(BN5=10,1,0) -> 0 | BP5: =IF(AND(BO5=1,$BO$66<7),$BO$2/$BO$66,0) -> 0 | BQ5: =FraDT!CN5 -> 0 | BR5: =IF(BQ5=10,1,0) -> 0 | BS5: =IF(AND(BR5=1,$BR$66<7),$BR$2/$BR$66,0) -> 0 | BT5: =FraDT!CR5 -> 10 | BU5: =IF(BT5=10,1,0) -> 1 | BV5: =IF(AND(BU5=1,$BU$66<7),$BU$2/$BU$66,0) -> 20 | BW5: =FraDT!CV5 -> 0 | BX5: =IF(BW5=10,1,0) -> 0 | BY5: =IF(AND(BX5=1,$BX$66<7),$BX$2/$BX$66,0) -> 0 | BZ5: =FraDT!CZ5 -> 0 | CA5: =IF(BZ5=10,1,0) -> 0 | CB5: =IF(AND(CA5=1,$CA$66<7),$CA$2/$CA$66,0) -> 0 | CC5: =FraDT!DD5 -> 10 | CD5: =IF(CC5=10,1,0) -> 1 | CE5: =IF(AND(CD5=1,$CD$66<7),$CD$2/$CD$66,0) -> 0 | CF5: =FraDT!DH5 -> 0 | CG5: =IF(CF5=10,1,0) -> 0 | CH5: =IF(AND(CG5=1,$CG$66<7),$CG$2/$CG$66,0) -> 0 | CI5: =FraDT!DL5 -> 0 | CJ5: =IF(CI5=10,1,0) -> 0 | CK5: =IF(AND(CJ5=1,$CJ$66<7),$CJ$2/$CJ$66,0) -> 0 | CL5: =FraDT!DP5 -> 0 | CM5: =IF(CL5=10,1,0) -> 0 | CN5: =IF(AND(CM5=1,$CM$66<7),$CM$2/$CM$66,0) -> 0 | CO5: =FraDT!DT5 -> 0 | CP5: =IF(CO5=10,1,0) -> 0 | CQ5: =IF(AND(CP5=1,$CP$66<7),$CP$2/$CP$66,0) -> 0 | CR5: =FraDT!DX5 -> 0 | CS5: =IF(CR5=10,1,0) -> 0 | CT5: =IF(AND(CS5=1,$CS$66<7),$CS$2/$CS$66,0) -> 0 | CU5: =FraDT!EB5 -> 0 | CV5: =IF(CU5=10,1,0) -> 0 | CW5: =IF(AND(CV5=1,$CV$66<7),$CV$2/$CV$66,0) -> 0 | CX5: =FraDT!EF5 -> 0 | CY5: =IF(CX5=10,1,0) -> 0 | CZ5: =IF(AND(CY5=1,$CY$66<7),$CY$2/$CY$66,0) -> 0 | DA5: =FraDT!EJ5 -> 0 | DB5: =IF(DA5=10,1,0) -> 0 | DC5: =IF(AND(DB5=1,$DB$66<7),$DB$2/$DB$66,0) -> 0 | DD5: =FraDT!EN5 -> 0 | DE5: =IF(DD5=10,1,0) -> 0 | DF5: =IF(AND(DE5=1,$DE$66<7),$DE$2/$DE$66,0) -> 0 | DG5: =FraDT!ER5 -> 0 | DH5: =IF(DG5=10,1,0) -> 0 | DI5: =IF(AND(DH5=1,$DH$66<7),$DH$2/$DH$66,0) -> 0 | DJ5: =FraDT!EV5 -> 0 | DK5: =IF(DJ5=10,1,0) -> 0 | DL5: =IF(AND(DK5=1,$DK$66<7),$DK$2/$DK$66,0) -> 0 | DM5: =FraDT!EZ5 -> 0 | DN5: =IF(DM5=10,1,0) -> 0 | DO5: =IF(AND(DN5=1,$DN$66<7),$DN$2/$DN$66,0) -> 0 | DP5: =FraDT!FD5 -> 0 | DQ5: =IF(DP5=10,1,0) -> 0 | DR5: =IF(AND(DQ5=1,$DQ$66<7),$DQ$2/$DQ$66,0) -> 0 | DS5: =FraDT!FH5 -> 0 | DT5: =IF(DS5=10,1,0) -> 0 | DU5: =IF(AND(DT5=1,$DT$66<7),$DT$2/$DT$66,0) -> 0 | DV5: =FraDT!FL5 -> 0 | DW5: =IF(DV5=10,1,0) -> 0 | DX5: =IF(AND(DW5=1,$DW$66<7),$DW$2/$DW$66,0) -> 0 | DY5: =FraDT!FP5 -> 0 | DZ5: =IF(DY5=10,1,0) -> 0 | EA5: =IF(AND(DZ5=1,$DZ$66<7),$DZ$2/$DZ$66,0) -> 0 | EB5: =FraDT!FT5 -> 0 | EC5: =IF(EB5=10,1,0) -> 0 | ED5: =IF(AND(EC5=1,$EC$66<7),$EC$2/$EC$66,0) -> 0 | EE5: =FraDT!FX5 -> 0 | EF5: =IF(EE5=10,1,0) -> 0 | EG5: =IF(AND(EF5=1,$EF$66<7),$EF$2/$EF$66,0) -> 0 | EH5: =FraDT!GB5 -> 0 | EI5: =IF(EH5=10,1,0) -> 0 | EJ5: =IF(AND(EI5=1,$EI$66<7),$EI$2/$EI$66,0) -> 0 | EK5: =FraDT!GF5 -> 0 | EL5: =IF(EK5=10,1,0) -> 0 | EM5: =IF(AND(EL5=1,$EL$66<7),$EL$2/$EL$66,0) -> 0 | EN5: =FraDT!GJ5 -> 0 | EO5: =IF(EN5=10,1,0) -> 0 | EP5: =IF(AND(EO5=1,$EO$66<7),$EO$2/$EO$66,0) -> 0 | EQ5: =FraDT!GN5 -> 0 | ER5: =IF(EQ5=10,1,0) -> 0 | ES5: =IF(AND(ER5=1,$ER$66<7),$ER$2/$ER$66,0) -> 0 | ET5: =FraDT!GR5 -> 0 | EU5: =IF(ET5=10,1,0) -> 0 | EV5: =IF(AND(EU5=1,$EU$66<7),$EU$2/$EU$66,0) -> 0 | EW5: =FraDT!GV5 -> 0 | EX5: =IF(EW5=10,1,0) -> 0 | EY5: =IF(AND(EX5=1,$EX$66<7),$EX$2/$EX$66,0) -> 0 | EZ5: =FraDT!GZ5 -> 0 | FA5: =IF(EZ5=10,1,0) -> 0 | FB5: =IF(AND(FA5=1,$FA$66<7),$FA$2/$FA$66,0) -> 0 | FC5: =FraDT!HD5 -> 0 | FD5: =IF(FC5=10,1,0) -> 0 | FE5: =IF(AND(FD5=1,$FD$66<7),$FD$2/$FD$66,0) -> 0
A6: Cork | B6: =DD8 -> 0 | C6: =FraDT!D6 -> 10 | D6: =IF(C6=10,1,0) -> 1 | E6: =IF(AND(D6=1,$D$66<7),$D$2/$D$66,0) -> 15 | F6: =FraDT!H6 -> 0 | G6: =IF(F6=10,1,0) -> 0 | H6: =IF(AND(G6=1,$G$66<7),$G$2/$G$66,0) -> 0 | I6: =FraDT!L6 -> 0 | J6: =IF(I6=10,1,0) -> 0 | K6: =IF(AND(J6=1,$J$66<7),$J$2/$J$66,0) -> 0 | L6: =FraDT!P6 -> 0 | M6: =IF(L6=10,1,0) -> 0 | N6: =IF(AND(M6=1,$M$66<7),$M$2/$M$66,0) -> 0 | O6: =FraDT!T6 -> 0 | P6: =IF(O6=10,1,0) -> 0 | Q6: =IF(AND(P6=1,$P$66<7),$P$2/$P$66,0) -> 0 | R6: =FraDT!X6 -> 0 | S6: =IF(R6=10,1,0) -> 0 | T6: =IF(AND(S6=1,$S$66<7),$S$2/$S$66,0) -> 0 | U6: =FraDT!AB6 -> 0 | V6: =IF(U6=10,1,0) -> 0 | W6: =IF(AND(V6=1,$V$66<7),$V$2/$V$66,0) -> 0 | X6: =FraDT!AF6 -> 0 | Y6: =IF(X6=10,1,0) -> 0 | Z6: =IF(AND(Y6=1,$Y$66<7),$Y$2/$Y$66,0) -> 0 | AA6: =FraDT!AJ6 -> 10 | AB6: =IF(AA6=10,1,0) -> 1 | AC6: =IF(AND(AB6=1,$AB$66<7),$AB$2/$AB$66,0) -> 0 | AD6: =FraDT!AN6 -> 0 | AE6: =IF(AD6=10,1,0) -> 0 | AF6: =IF(AND(AE6=1,$AE$66<7),$AE$2/$AE$66,0) -> 0 | AG6: =FraDT!AR6 -> 0 | AH6: =IF(AG6=10,1,0) -> 0 | AI6: =IF(AND(AH6=1,$AH$66<7),$AH$2/$AH$66,0) -> 0 | AJ6: =FraDT!AV6 -> 0 | AK6: =IF(AJ6=10,1,0) -> 0 | AL6: =IF(AND(AK6=1,$AK$66<7),$AK$2/$AK$66,0) -> 0 | AM6: =FraDT!AZ6 -> 10 | AN6: =IF(AM6=10,1,0) -> 1 | AO6: =IF(AND(AN6=1,$AN$66<7),$AN$2/$AN$66,0) -> 30 | AP6: =FraDT!BD6 -> 0 | AQ6: =IF(AP6=10,1,0) -> 0 | AR6: =IF(AND(AQ6=1,$AQ$66<7),$AQ$2/$AQ$66,0) -> 0 | AS6: =FraDT!BH6 -> 0 | AT6: =IF(AS6=10,1,0) -> 0 | AU6: =IF(AND(AT6=1,$AT$66<7),$AT$2/$AT$66,0) -> 0 | AV6: =FraDT!BL6 -> 0 | AW6: =IF(AV6=10,1,0) -> 0 | AX6: =IF(AND(AW6=1,$AW$66<7),$AW$2/$AW$66,0) -> 0 | AY6: =FraDT!BP6 -> 0 | AZ6: =IF(AY6=10,1,0) -> 0 | BA6: =IF(AND(AZ6=1,$AZ$66<7),$AZ$2/$AZ$66,0) -> 0 | BB6: =FraDT!BT6 -> 0 | BC6: =IF(BB6=10,1,0) -> 0 | BD6: =IF(AND(BC6=1,$BC$66<7),$BC$2/$BC$66,0) -> 0 | BE6: =FraDT!BX6 -> 0 | BF6: =IF(BE6=10,1,0) -> 0 | BG6: =IF(AND(BF6=1,$BF$66<7),$BF$2/$BF$66,0) -> 0 | BH6: =FraDT!CB6 -> 0 | BI6: =IF(BH6=10,1,0) -> 0 | BJ6: =IF(AND(BI6=1,$BI$66<7),$BI$2/$BI$66,0) -> 0 | BK6: =FraDT!CF6 -> 0 | BL6: =IF(BK6=10,1,0) -> 0 | BM6: =IF(AND(BL6=1,$BL$66<7),$BL$2/$BL$66,0) -> 0 | BN6: =FraDT!CJ6 -> 0 | BO6: =IF(BN6=10,1,0) -> 0 | BP6: =IF(AND(BO6=1,$BO$66<7),$BO$2/$BO$66,0) -> 0 | BQ6: =FraDT!CN6 -> 0 | BR6: =IF(BQ6=10,1,0) -> 0 | BS6: =IF(AND(BR6=1,$BR$66<7),$BR$2/$BR$66,0) -> 0 | BT6: =FraDT!CR6 -> 0 | BU6: =IF(BT6=10,1,0) -> 0 | BV6: =IF(AND(BU6=1,$BU$66<7),$BU$2/$BU$66,0) -> 0 | BW6: =FraDT!CV6 -> 0 | BX6: =IF(BW6=10,1,0) -> 0 | BY6: =IF(AND(BX6=1,$BX$66<7),$BX$2/$BX$66,0) -> 0 | BZ6: =FraDT!CZ6 -> 0 | CA6: =IF(BZ6=10,1,0) -> 0 | CB6: =IF(AND(CA6=1,$CA$66<7),$CA$2/$CA$66,0) -> 0 | CC6: =FraDT!DD6 -> 10 | CD6: =IF(CC6=10,1,0) -> 1 | CE6: =IF(AND(CD6=1,$CD$66<7),$CD$2/$CD$66,0) -> 0 | CF6: =FraDT!DH6 -> 0 | CG6: =IF(CF6=10,1,0) -> 0 | CH6: =IF(AND(CG6=1,$CG$66<7),$CG$2/$CG$66,0) -> 0 | CI6: =FraDT!DL6 -> 0 | CJ6: =IF(CI6=10,1,0) -> 0 | CK6: =IF(AND(CJ6=1,$CJ$66<7),$CJ$2/$CJ$66,0) -> 0 | CL6: =FraDT!DP6 -> 0 | CM6: =IF(CL6=10,1,0) -> 0 | CN6: =IF(AND(CM6=1,$CM$66<7),$CM$2/$CM$66,0) -> 0 | CO6: =FraDT!DT6 -> 0 | CP6: =IF(CO6=10,1,0) -> 0 | CQ6: =IF(AND(CP6=1,$CP$66<7),$CP$2/$CP$66,0) -> 0 | CR6: =FraDT!DX6 -> 0 | CS6: =IF(CR6=10,1,0) -> 0 | CT6: =IF(AND(CS6=1,$CS$66<7),$CS$2/$CS$66,0) -> 0 | CU6: =FraDT!EB6 -> 0 | CV6: =IF(CU6=10,1,0) -> 0 | CW6: =IF(AND(CV6=1,$CV$66<7),$CV$2/$CV$66,0) -> 0 | CX6: =FraDT!EF6 -> 0 | CY6: =IF(CX6=10,1,0) -> 0 | CZ6: =IF(AND(CY6=1,$CY$66<7),$CY$2/$CY$66,0) -> 0 | DA6: =FraDT!EJ6 -> 0 | DB6: =IF(DA6=10,1,0) -> 0 | DC6: =IF(AND(DB6=1,$DB$66<7),$DB$2/$DB$66,0) -> 0 | DD6: =FraDT!EN6 -> 0 | DE6: =IF(DD6=10,1,0) -> 0 | DF6: =IF(AND(DE6=1,$DE$66<7),$DE$2/$DE$66,0) -> 0 | DG6: =FraDT!ER6 -> 10 | DH6: =IF(DG6=10,1,0) -> 1 | DI6: =IF(AND(DH6=1,$DH$66<7),$DH$2/$DH$66,0) -> 0 | DJ6: =FraDT!EV6 -> 0 | DK6: =IF(DJ6=10,1,0) -> 0 | DL6: =IF(AND(DK6=1,$DK$66<7),$DK$2/$DK$66,0) -> 0 | DM6: =FraDT!EZ6 -> 0 | DN6: =IF(DM6=10,1,0) -> 0 | DO6: =IF(AND(DN6=1,$DN$66<7),$DN$2/$DN$66,0) -> 0 | DP6: =FraDT!FD6 -> 0 | DQ6: =IF(DP6=10,1,0) -> 0 | DR6: =IF(AND(DQ6=1,$DQ$66<7),$DQ$2/$DQ$66,0) -> 0 | DS6: =FraDT!FH6 -> 0 | DT6: =IF(DS6=10,1,0) -> 0 | DU6: =IF(AND(DT6=1,$DT$66<7),$DT$2/$DT$66,0) -> 0 | DV6: =FraDT!FL6 -> 0 | DW6: =IF(DV6=10,1,0) -> 0 | DX6: =IF(AND(DW6=1,$DW$66<7),$DW$2/$DW$66,0) -> 0 | DY6: =FraDT!FP6 -> 0 | DZ6: =IF(DY6=10,1,0) -> 0 | EA6: =IF(AND(DZ6=1,$DZ$66<7),$DZ$2/$DZ$66,0) -> 0 | EB6: =FraDT!FT6 -> 0 | EC6: =IF(EB6=10,1,0) -> 0 | ED6: =IF(AND(EC6=1,$EC$66<7),$EC$2/$EC$66,0) -> 0 | EE6: =FraDT!FX6 -> 0 | EF6: =IF(EE6=10,1,0) -> 0 | EG6: =IF(AND(EF6=1,$EF$66<7),$EF$2/$EF$66,0) -> 0 | EH6: =FraDT!GB6 -> 0 | EI6: =IF(EH6=10,1,0) -> 0 | EJ6: =IF(AND(EI6=1,$EI$66<7),$EI$2/$EI$66,0) -> 0 | EK6: =FraDT!GF6 -> 0 | EL6: =IF(EK6=10,1,0) -> 0 | EM6: =IF(AND(EL6=1,$EL$66<7),$EL$2/$EL$66,0) -> 0 | EN6: =FraDT!GJ6 -> 0 | EO6: =IF(EN6=10,1,0) -> 0 | EP6: =IF(AND(EO6=1,$EO$66<7),$EO$2/$EO$66,0) -> 0 | EQ6: =FraDT!GN6 -> 0 | ER6: =IF(EQ6=10,1,0) -> 0 | ES6: =IF(AND(ER6=1,$ER$66<7),$ER$2/$ER$66,0) -> 0 | ET6: =FraDT!GR6 -> 0 | EU6: =IF(ET6=10,1,0) -> 0 | EV6: =IF(AND(EU6=1,$EU$66<7),$EU$2/$EU$66,0) -> 0 | EW6: =FraDT!GV6 -> 0 | EX6: =IF(EW6=10,1,0) -> 0 | EY6: =IF(AND(EX6=1,$EX$66<7),$EX$2/$EX$66,0) -> 0 | EZ6: =FraDT!GZ6 -> 0 | FA6: =IF(EZ6=10,1,0) -> 0 | FB6: =IF(AND(FA6=1,$FA$66<7),$FA$2/$FA$66,0) -> 0 | FC6: =FraDT!HD6 -> 0 | FD6: =IF(FC6=10,1,0) -> 0 | FE6: =IF(AND(FD6=1,$FD$66<7),$FD$2/$FD$66,0) -> 0
A7: Degnen | B7: =DD9 -> 0 | C7: =FraDT!D7 -> 0 | D7: =IF(C7=10,1,0) -> 0 | E7: =IF(AND(D7=1,$D$66<7),$D$2/$D$66,0) -> 0 | F7: =FraDT!H7 -> 3 | G7: =IF(F7=10,1,0) -> 0 | H7: =IF(AND(G7=1,$G$66<7),$G$2/$G$66,0) -> 0 | I7: =FraDT!L7 -> 0 | J7: =IF(I7=10,1,0) -> 0 | K7: =IF(AND(J7=1,$J$66<7),$J$2/$J$66,0) -> 0 | L7: =FraDT!P7 -> 0 | M7: =IF(L7=10,1,0) -> 0 | N7: =IF(AND(M7=1,$M$66<7),$M$2/$M$66,0) -> 0 | O7: =FraDT!T7 -> 0 | P7: =IF(O7=10,1,0) -> 0 | Q7: =IF(AND(P7=1,$P$66<7),$P$2/$P$66,0) -> 0 | R7: =FraDT!X7 -> 0 | S7: =IF(R7=10,1,0) -> 0 | T7: =IF(AND(S7=1,$S$66<7),$S$2/$S$66,0) -> 0 | U7: =FraDT!AB7 -> 0 | V7: =IF(U7=10,1,0) -> 0 | W7: =IF(AND(V7=1,$V$66<7),$V$2/$V$66,0) -> 0 | X7: =FraDT!AF7 -> 0 | Y7: =IF(X7=10,1,0) -> 0 | Z7: =IF(AND(Y7=1,$Y$66<7),$Y$2/$Y$66,0) -> 0 | AA7: =FraDT!AJ7 -> 10 | AB7: =IF(AA7=10,1,0) -> 1 | AC7: =IF(AND(AB7=1,$AB$66<7),$AB$2/$AB$66,0) -> 0 | AD7: =FraDT!AN7 -> 0 | AE7: =IF(AD7=10,1,0) -> 0 | AF7: =IF(AND(AE7=1,$AE$66<7),$AE$2/$AE$66,0) -> 0 | AG7: =FraDT!AR7 -> 0 | AH7: =IF(AG7=10,1,0) -> 0 | AI7: =IF(AND(AH7=1,$AH$66<7),$AH$2/$AH$66,0) -> 0 | AJ7: =FraDT!AV7 -> 0 | AK7: =IF(AJ7=10,1,0) -> 0 | AL7: =IF(AND(AK7=1,$AK$66<7),$AK$2/$AK$66,0) -> 0 | AM7: =FraDT!AZ7 -> 0 | AN7: =IF(AM7=10,1,0) -> 0 | AO7: =IF(AND(AN7=1,$AN$66<7),$AN$2/$AN$66,0) -> 0 | AP7: =FraDT!BD7 -> 0 | AQ7: =IF(AP7=10,1,0) -> 0 | AR7: =IF(AND(AQ7=1,$AQ$66<7),$AQ$2/$AQ$66,0) -> 0 | AS7: =FraDT!BH7 -> 0 | AT7: =IF(AS7=10,1,0) -> 0 | AU7: =IF(AND(AT7=1,$AT$66<7),$AT$2/$AT$66,0) -> 0 | AV7: =FraDT!BL7 -> 0 | AW7: =IF(AV7=10,1,0) -> 0 | AX7: =IF(AND(AW7=1,$AW$66<7),$AW$2/$AW$66,0) -> 0 | AY7: =FraDT!BP7 -> 0 | AZ7: =IF(AY7=10,1,0) -> 0 | BA7: =IF(AND(AZ7=1,$AZ$66<7),$AZ$2/$AZ$66,0) -> 0 | BB7: =FraDT!BT7 -> 0 | BC7: =IF(BB7=10,1,0) -> 0 | BD7: =IF(AND(BC7=1,$BC$66<7),$BC$2/$BC$66,0) -> 0 | BE7: =FraDT!BX7 -> 0 | BF7: =IF(BE7=10,1,0) -> 0 | BG7: =IF(AND(BF7=1,$BF$66<7),$BF$2/$BF$66,0) -> 0 | BH7: =FraDT!CB7 -> 0 | BI7: =IF(BH7=10,1,0) -> 0 | BJ7: =IF(AND(BI7=1,$BI$66<7),$BI$2/$BI$66,0) -> 0 | BK7: =FraDT!CF7 -> 0 | BL7: =IF(BK7=10,1,0) -> 0 | BM7: =IF(AND(BL7=1,$BL$66<7),$BL$2/$BL$66,0) -> 0 | BN7: =FraDT!CJ7 -> 0 | BO7: =IF(BN7=10,1,0) -> 0 | BP7: =IF(AND(BO7=1,$BO$66<7),$BO$2/$BO$66,0) -> 0 | BQ7: =FraDT!CN7 -> 0 | BR7: =IF(BQ7=10,1,0) -> 0 | BS7: =IF(AND(BR7=1,$BR$66<7),$BR$2/$BR$66,0) -> 0 | BT7: =FraDT!CR7 -> 0 | BU7: =IF(BT7=10,1,0) -> 0 | BV7: =IF(AND(BU7=1,$BU$66<7),$BU$2/$BU$66,0) -> 0 | BW7: =FraDT!CV7 -> 0 | BX7: =IF(BW7=10,1,0) -> 0 | BY7: =IF(AND(BX7=1,$BX$66<7),$BX$2/$BX$66,0) -> 0 | BZ7: =FraDT!CZ7 -> 0 | CA7: =IF(BZ7=10,1,0) -> 0 | CB7: =IF(AND(CA7=1,$CA$66<7),$CA$2/$CA$66,0) -> 0 | CC7: =FraDT!DD7 -> 10 | CD7: =IF(CC7=10,1,0) -> 1 | CE7: =IF(AND(CD7=1,$CD$66<7),$CD$2/$CD$66,0) -> 0 | CF7: =FraDT!DH7 -> 0 | CG7: =IF(CF7=10,1,0) -> 0 | CH7: =IF(AND(CG7=1,$CG$66<7),$CG$2/$CG$66,0) -> 0 | CI7: =FraDT!DL7 -> 0 | CJ7: =IF(CI7=10,1,0) -> 0 | CK7: =IF(AND(CJ7=1,$CJ$66<7),$CJ$2/$CJ$66,0) -> 0 | CL7: =FraDT!DP7 -> 0 | CM7: =IF(CL7=10,1,0) -> 0 | CN7: =IF(AND(CM7=1,$CM$66<7),$CM$2/$CM$66,0) -> 0 | CO7: =FraDT!DT7 -> 0 | CP7: =IF(CO7=10,1,0) -> 0 | CQ7: =IF(AND(CP7=1,$CP$66<7),$CP$2/$CP$66,0) -> 0 | CR7: =FraDT!DX7 -> 0 | CS7: =IF(CR7=10,1,0) -> 0 | CT7: =IF(AND(CS7=1,$CS$66<7),$CS$2/$CS$66,0) -> 0 | CU7: =FraDT!EB7 -> 0 | CV7: =IF(CU7=10,1,0) -> 0 | CW7: =IF(AND(CV7=1,$CV$66<7),$CV$2/$CV$66,0) -> 0 | CX7: =FraDT!EF7 -> 0 | CY7: =IF(CX7=10,1,0) -> 0 | CZ7: =IF(AND(CY7=1,$CY$66<7),$CY$2/$CY$66,0) -> 0 | DA7: =FraDT!EJ7 -> 0 | DB7: =IF(DA7=10,1,0) -> 0 | DC7: =IF(AND(DB7=1,$DB$66<7),$DB$2/$DB$66,0) -> 0 | DD7: =FraDT!EN7 -> 0 | DE7: =IF(DD7=10,1,0) -> 0 | DF7: =IF(AND(DE7=1,$DE$66<7),$DE$2/$DE$66,0) -> 0 | DG7: =FraDT!ER7 -> 0 | DH7: =IF(DG7=10,1,0) -> 0 | DI7: =IF(AND(DH7=1,$DH$66<7),$DH$2/$DH$66,0) -> 0 | DJ7: =FraDT!EV7 -> 0 | DK7: =IF(DJ7=10,1,0) -> 0 | DL7: =IF(AND(DK7=1,$DK$66<7),$DK$2/$DK$66,0) -> 0 | DM7: =FraDT!EZ7 -> 0 | DN7: =IF(DM7=10,1,0) -> 0 | DO7: =IF(AND(DN7=1,$DN$66<7),$DN$2/$DN$66,0) -> 0 | DP7: =FraDT!FD7 -> 0 | DQ7: =IF(DP7=10,1,0) -> 0 | DR7: =IF(AND(DQ7=1,$DQ$66<7),$DQ$2/$DQ$66,0) -> 0 | DS7: =FraDT!FH7 -> 0 | DT7: =IF(DS7=10,1,0) -> 0 | DU7: =IF(AND(DT7=1,$DT$66<7),$DT$2/$DT$66,0) -> 0 | DV7: =FraDT!FL7 -> 0 | DW7: =IF(DV7=10,1,0) -> 0 | DX7: =IF(AND(DW7=1,$DW$66<7),$DW$2/$DW$66,0) -> 0 | DY7: =FraDT!FP7 -> 0 | DZ7: =IF(DY7=10,1,0) -> 0 | EA7: =IF(AND(DZ7=1,$DZ$66<7),$DZ$2/$DZ$66,0) -> 0 | EB7: =FraDT!FT7 -> 0 | EC7: =IF(EB7=10,1,0) -> 0 | ED7: =IF(AND(EC7=1,$EC$66<7),$EC$2/$EC$66,0) -> 0 | EE7: =FraDT!FX7 -> 0 | EF7: =IF(EE7=10,1,0) -> 0 | EG7: =IF(AND(EF7=1,$EF$66<7),$EF$2/$EF$66,0) -> 0 | EH7: =FraDT!GB7 -> 0 | EI7: =IF(EH7=10,1,0) -> 0 | EJ7: =IF(AND(EI7=1,$EI$66<7),$EI$2/$EI$66,0) -> 0 | EK7: =FraDT!GF7 -> 0 | EL7: =IF(EK7=10,1,0) -> 0 | EM7: =IF(AND(EL7=1,$EL$66<7),$EL$2/$EL$66,0) -> 0 | EN7: =FraDT!GJ7 -> 0 | EO7: =IF(EN7=10,1,0) -> 0 | EP7: =IF(AND(EO7=1,$EO$66<7),$EO$2/$EO$66,0) -> 0 | EQ7: =FraDT!GN7 -> 0 | ER7: =IF(EQ7=10,1,0) -> 0 | ES7: =IF(AND(ER7=1,$ER$66<7),$ER$2/$ER$66,0) -> 0 | ET7: =FraDT!GR7 -> 0 | EU7: =IF(ET7=10,1,0) -> 0 | EV7: =IF(AND(EU7=1,$EU$66<7),$EU$2/$EU$66,0) -> 0 | EW7: =FraDT!GV7 -> 0 | EX7: =IF(EW7=10,1,0) -> 0 | EY7: =IF(AND(EX7=1,$EX$66<7),$EX$2/$EX$66,0) -> 0 | EZ7: =FraDT!GZ7 -> 0 | FA7: =IF(EZ7=10,1,0) -> 0 | FB7: =IF(AND(FA7=1,$FA$66<7),$FA$2/$FA$66,0) -> 0 | FC7: =FraDT!HD7 -> 0 | FD7: =IF(FC7=10,1,0) -> 0 | FE7: =IF(AND(FD7=1,$FD$66<7),$FD$2/$FD$66,0) -> 0
A8: Derby | B8: =DD10 -> 0 | C8: =FraDT!D8 -> 0 | D8: =IF(C8=10,1,0) -> 0 | E8: =IF(AND(D8=1,$D$66<7),$D$2/$D$66,0) -> 0 | F8: =FraDT!H8 -> 0 | G8: =IF(F8=10,1,0) -> 0 | H8: =IF(AND(G8=1,$G$66<7),$G$2/$G$66,0) -> 0 | I8: =FraDT!L8 -> 0 | J8: =IF(I8=10,1,0) -> 0 | K8: =IF(AND(J8=1,$J$66<7),$J$2/$J$66,0) -> 0 | L8: =FraDT!P8 -> 0 | M8: =IF(L8=10,1,0) -> 0 | N8: =IF(AND(M8=1,$M$66<7),$M$2/$M$66,0) -> 0 | O8: =FraDT!T8 -> 0 | P8: =IF(O8=10,1,0) -> 0 | Q8: =IF(AND(P8=1,$P$66<7),$P$2/$P$66,0) -> 0 | R8: =FraDT!X8 -> 0 | S8: =IF(R8=10,1,0) -> 0 | T8: =IF(AND(S8=1,$S$66<7),$S$2/$S$66,0) -> 0 | U8: =FraDT!AB8 -> 0 | V8: =IF(U8=10,1,0) -> 0 | W8: =IF(AND(V8=1,$V$66<7),$V$2/$V$66,0) -> 0 | X8: =FraDT!AF8 -> 0 | Y8: =IF(X8=10,1,0) -> 0 | Z8: =IF(AND(Y8=1,$Y$66<7),$Y$2/$Y$66,0) -> 0 | AA8: =FraDT!AJ8 -> 0 | AB8: =IF(AA8=10,1,0) -> 0 | AC8: =IF(AND(AB8=1,$AB$66<7),$AB$2/$AB$66,0) -> 0 | AD8: =FraDT!AN8 -> 0 | AE8: =IF(AD8=10,1,0) -> 0 | AF8: =IF(AND(AE8=1,$AE$66<7),$AE$2/$AE$66,0) -> 0 | AG8: =FraDT!AR8 -> 0 | AH8: =IF(AG8=10,1,0) -> 0 | AI8: =IF(AND(AH8=1,$AH$66<7),$AH$2/$AH$66,0) -> 0 | AJ8: =FraDT!AV8 -> 0 | AK8: =IF(AJ8=10,1,0) -> 0 | AL8: =IF(AND(AK8=1,$AK$66<7),$AK$2/$AK$66,0) -> 0 | AM8: =FraDT!AZ8 -> 0 | AN8: =IF(AM8=10,1,0) -> 0 | AO8: =IF(AND(AN8=1,$AN$66<7),$AN$2/$AN$66,0) -> 0 | AP8: =FraDT!BD8 -> 0 | AQ8: =IF(AP8=10,1,0) -> 0 | AR8: =IF(AND(AQ8=1,$AQ$66<7),$AQ$2/$AQ$66,0) -> 0 | AS8: =FraDT!BH8 -> 0 | AT8: =IF(AS8=10,1,0) -> 0 | AU8: =IF(AND(AT8=1,$AT$66<7),$AT$2/$AT$66,0) -> 0 | AV8: =FraDT!BL8 -> 0 | AW8: =IF(AV8=10,1,0) -> 0 | AX8: =IF(AND(AW8=1,$AW$66<7),$AW$2/$AW$66,0) -> 0 | AY8: =FraDT!BP8 -> 10 | AZ8: =IF(AY8=10,1,0) -> 1 | BA8: =IF(AND(AZ8=1,$AZ$66<7),$AZ$2/$AZ$66,0) -> 60 | BB8: =FraDT!BT8 -> 0 | BC8: =IF(BB8=10,1,0) -> 0 | BD8: =IF(AND(BC8=1,$BC$66<7),$BC$2/$BC$66,0) -> 0 | BE8: =FraDT!BX8 -> 0 | BF8: =IF(BE8=10,1,0) -> 0 | BG8: =IF(AND(BF8=1,$BF$66<7),$BF$2/$BF$66,0) -> 0 | BH8: =FraDT!CB8 -> 0 | BI8: =IF(BH8=10,1,0) -> 0 | BJ8: =IF(AND(BI8=1,$BI$66<7),$BI$2/$BI$66,0) -> 0 | BK8: =FraDT!CF8 -> 0 | BL8: =IF(BK8=10,1,0) -> 0 | BM8: =IF(AND(BL8=1,$BL$66<7),$BL$2/$BL$66,0) -> 0 | BN8: =FraDT!CJ8 -> 0 | BO8: =IF(BN8=10,1,0) -> 0 | BP8: =IF(AND(BO8=1,$BO$66<7),$BO$2/$BO$66,0) -> 0 | BQ8: =FraDT!CN8 -> 0 | BR8: =IF(BQ8=10,1,0) -> 0 | BS8: =IF(AND(BR8=1,$BR$66<7),$BR$2/$BR$66,0) -> 0 | BT8: =FraDT!CR8 -> 0 | BU8: =IF(BT8=10,1,0) -> 0 | BV8: =IF(AND(BU8=1,$BU$66<7),$BU$2/$BU$66,0) -> 0 | BW8: =FraDT!CV8 -> 0 | BX8: =IF(BW8=10,1,0) -> 0 | BY8: =IF(AND(BX8=1,$BX$66<7),$BX$2/$BX$66,0) -> 0 | BZ8: =FraDT!CZ8 -> 0 | CA8: =IF(BZ8=10,1,0) -> 0 | CB8: =IF(AND(CA8=1,$CA$66<7),$CA$2/$CA$66,0) -> 0 | CC8: =FraDT!DD8 -> 10 | CD8: =IF(CC8=10,1,0) -> 1 | CE8: =IF(AND(CD8=1,$CD$66<7),$CD$2/$CD$66,0) -> 0 | CF8: =FraDT!DH8 -> 0 | CG8: =IF(CF8=10,1,0) -> 0 | CH8: =IF(AND(CG8=1,$CG$66<7),$CG$2/$CG$66,0) -> 0 | CI8: =FraDT!DL8 -> 0 | CJ8: =IF(CI8=10,1,0) -> 0 | CK8: =IF(AND(CJ8=1,$CJ$66<7),$CJ$2/$CJ$66,0) -> 0 | CL8: =FraDT!DP8 -> 0 | CM8: =IF(CL8=10,1,0) -> 0 | CN8: =IF(AND(CM8=1,$CM$66<7),$CM$2/$CM$66,0) -> 0 | CO8: =FraDT!DT8 -> 0 | CP8: =IF(CO8=10,1,0) -> 0 | CQ8: =IF(AND(CP8=1,$CP$66<7),$CP$2/$CP$66,0) -> 0 | CR8: =FraDT!DX8 -> 0 | CS8: =IF(CR8=10,1,0) -> 0 | CT8: =IF(AND(CS8=1,$CS$66<7),$CS$2/$CS$66,0) -> 0 | CU8: =FraDT!EB8 -> 0 | CV8: =IF(CU8=10,1,0) -> 0 | CW8: =IF(AND(CV8=1,$CV$66<7),$CV$2/$CV$66,0) -> 0 | CX8: =FraDT!EF8 -> 0 | CY8: =IF(CX8=10,1,0) -> 0 | CZ8: =IF(AND(CY8=1,$CY$66<7),$CY$2/$CY$66,0) -> 0 | DA8: =FraDT!EJ8 -> 0 | DB8: =IF(DA8=10,1,0) -> 0 | DC8: =IF(AND(DB8=1,$DB$66<7),$DB$2/$DB$66,0) -> 0 | DD8: =FraDT!EN8 -> 0 | DE8: =IF(DD8=10,1,0) -> 0 | DF8: =IF(AND(DE8=1,$DE$66<7),$DE$2/$DE$66,0) -> 0 | DG8: =FraDT!ER8 -> 0 | DH8: =IF(DG8=10,1,0) -> 0 | DI8: =IF(AND(DH8=1,$DH$66<7),$DH$2/$DH$66,0) -> 0 | DJ8: =FraDT!EV8 -> 0 | DK8: =IF(DJ8=10,1,0) -> 0 | DL8: =IF(AND(DK8=1,$DK$66<7),$DK$2/$DK$66,0) -> 0 | DM8: =FraDT!EZ8 -> 0 | DN8: =IF(DM8=10,1,0) -> 0 | DO8: =IF(AND(DN8=1,$DN$66<7),$DN$2/$DN$66,0) -> 0 | DP8: =FraDT!FD8 -> 0 | DQ8: =IF(DP8=10,1,0) -> 0 | DR8: =IF(AND(DQ8=1,$DQ$66<7),$DQ$2/$DQ$66,0) -> 0 | DS8: =FraDT!FH8 -> 0 | DT8: =IF(DS8=10,1,0) -> 0 | DU8: =IF(AND(DT8=1,$DT$66<7),$DT$2/$DT$66,0) -> 0 | DV8: =FraDT!FL8 -> 0 | DW8: =IF(DV8=10,1,0) -> 0 | DX8: =IF(AND(DW8=1,$DW$66<7),$DW$2/$DW$66,0) -> 0 | DY8: =FraDT!FP8 -> 0 | DZ8: =IF(DY8=10,1,0) -> 0 | EA8: =IF(AND(DZ8=1,$DZ$66<7),$DZ$2/$DZ$66,0) -> 0 | EB8: =FraDT!FT8 -> 0 | EC8: =IF(EB8=10,1,0) -> 0 | ED8: =IF(AND(EC8=1,$EC$66<7),$EC$2/$EC$66,0) -> 0 | EE8: =FraDT!FX8 -> 0 | EF8: =IF(EE8=10,1,0) -> 0 | EG8: =IF(AND(EF8=1,$EF$66<7),$EF$2/$EF$66,0) -> 0 | EH8: =FraDT!GB8 -> 0 | EI8: =IF(EH8=10,1,0) -> 0 | EJ8: =IF(AND(EI8=1,$EI$66<7),$EI$2/$EI$66,0) -> 0 | EK8: =FraDT!GF8 -> 0 | EL8: =IF(EK8=10,1,0) -> 0 | EM8: =IF(AND(EL8=1,$EL$66<7),$EL$2/$EL$66,0) -> 0 | EN8: =FraDT!GJ8 -> 0 | EO8: =IF(EN8=10,1,0) -> 0 | EP8: =IF(AND(EO8=1,$EO$66<7),$EO$2/$EO$66,0) -> 0 | EQ8: =FraDT!GN8 -> 0 | ER8: =IF(EQ8=10,1,0) -> 0 | ES8: =IF(AND(ER8=1,$ER$66<7),$ER$2/$ER$66,0) -> 0 | ET8: =FraDT!GR8 -> 0 | EU8: =IF(ET8=10,1,0) -> 0 | EV8: =IF(AND(EU8=1,$EU$66<7),$EU$2/$EU$66,0) -> 0 | EW8: =FraDT!GV8 -> 0 | EX8: =IF(EW8=10,1,0) -> 0 | EY8: =IF(AND(EX8=1,$EX$66<7),$EX$2/$EX$66,0) -> 0 | EZ8: =FraDT!GZ8 -> 0 | FA8: =IF(EZ8=10,1,0) -> 0 | FB8: =IF(AND(FA8=1,$FA$66<7),$FA$2/$FA$66,0) -> 0 | FC8: =FraDT!HD8 -> 0 | FD8: =IF(FC8=10,1,0) -> 0 | FE8: =IF(AND(FD8=1,$FD$66<7),$FD$2/$FD$66,0) -> 0
A9: Far | B9: =DD11 -> 0 | C9: =FraDT!D9 -> 0 | D9: =IF(C9=10,1,0) -> 0 | E9: =IF(AND(D9=1,$D$66<7),$D$2/$D$66,0) -> 0 | F9: =FraDT!H9 -> 0 | G9: =IF(F9=10,1,0) -> 0 | H9: =IF(AND(G9=1,$G$66<7),$G$2/$G$66,0) -> 0 | I9: =FraDT!L9 -> 3 | J9: =IF(I9=10,1,0) -> 0 | K9: =IF(AND(J9=1,$J$66<7),$J$2/$J$66,0) -> 0 | L9: =FraDT!P9 -> 0 | M9: =IF(L9=10,1,0) -> 0 | N9: =IF(AND(M9=1,$M$66<7),$M$2/$M$66,0) -> 0 | O9: =FraDT!T9 -> 0 | P9: =IF(O9=10,1,0) -> 0 | Q9: =IF(AND(P9=1,$P$66<7),$P$2/$P$66,0) -> 0 | R9: =FraDT!X9 -> 0 | S9: =IF(R9=10,1,0) -> 0 | T9: =IF(AND(S9=1,$S$66<7),$S$2/$S$66,0) -> 0 | U9: =FraDT!AB9 -> 0 | V9: =IF(U9=10,1,0) -> 0 | W9: =IF(AND(V9=1,$V$66<7),$V$2/$V$66,0) -> 0 | X9: =FraDT!AF9 -> 0 | Y9: =IF(X9=10,1,0) -> 0 | Z9: =IF(AND(Y9=1,$Y$66<7),$Y$2/$Y$66,0) -> 0 | AA9: =FraDT!AJ9 -> 0 | AB9: =IF(AA9=10,1,0) -> 0 | AC9: =IF(AND(AB9=1,$AB$66<7),$AB$2/$AB$66,0) -> 0 | AD9: =FraDT!AN9 -> 0 | AE9: =IF(AD9=10,1,0) -> 0 | AF9: =IF(AND(AE9=1,$AE$66<7),$AE$2/$AE$66,0) -> 0 | AG9: =FraDT!AR9 -> 0 | AH9: =IF(AG9=10,1,0) -> 0 | AI9: =IF(AND(AH9=1,$AH$66<7),$AH$2/$AH$66,0) -> 0 | AJ9: =FraDT!AV9 -> 0 | AK9: =IF(AJ9=10,1,0) -> 0 | AL9: =IF(AND(AK9=1,$AK$66<7),$AK$2/$AK$66,0) -> 0 | AM9: =FraDT!AZ9 -> 0 | AN9: =IF(AM9=10,1,0) -> 0 | AO9: =IF(AND(AN9=1,$AN$66<7),$AN$2/$AN$66,0) -> 0 | AP9: =FraDT!BD9 -> 0 | AQ9: =IF(AP9=10,1,0) -> 0 | AR9: =IF(AND(AQ9=1,$AQ$66<7),$AQ$2/$AQ$66,0) -> 0 | AS9: =FraDT!BH9 -> 0 | AT9: =IF(AS9=10,1,0) -> 0 | AU9: =IF(AND(AT9=1,$AT$66<7),$AT$2/$AT$66,0) -> 0 | AV9: =FraDT!BL9 -> 0 | AW9: =IF(AV9=10,1,0) -> 0 | AX9: =IF(AND(AW9=1,$AW$66<7),$AW$2/$AW$66,0) -> 0 | AY9: =FraDT!BP9 -> 0 | AZ9: =IF(AY9=10,1,0) -> 0 | BA9: =IF(AND(AZ9=1,$AZ$66<7),$AZ$2/$AZ$66,0) -> 0 | BB9: =FraDT!BT9 -> 0 | BC9: =IF(BB9=10,1,0) -> 0 | BD9: =IF(AND(BC9=1,$BC$66<7),$BC$2/$BC$66,0) -> 0 | BE9: =FraDT!BX9 -> 0 | BF9: =IF(BE9=10,1,0) -> 0 | BG9: =IF(AND(BF9=1,$BF$66<7),$BF$2/$BF$66,0) -> 0 | BH9: =FraDT!CB9 -> 0 | BI9: =IF(BH9=10,1,0) -> 0 | BJ9: =IF(AND(BI9=1,$BI$66<7),$BI$2/$BI$66,0) -> 0 | BK9: =FraDT!CF9 -> 0 | BL9: =IF(BK9=10,1,0) -> 0 | BM9: =IF(AND(BL9=1,$BL$66<7),$BL$2/$BL$66,0) -> 0 | BN9: =FraDT!CJ9 -> 0 | BO9: =IF(BN9=10,1,0) -> 0 | BP9: =IF(AND(BO9=1,$BO$66<7),$BO$2/$BO$66,0) -> 0 | BQ9: =FraDT!CN9 -> 0 | BR9: =IF(BQ9=10,1,0) -> 0 | BS9: =IF(AND(BR9=1,$BR$66<7),$BR$2/$BR$66,0) -> 0 | BT9: =FraDT!CR9 -> 0 | BU9: =IF(BT9=10,1,0) -> 0 | BV9: =IF(AND(BU9=1,$BU$66<7),$BU$2/$BU$66,0) -> 0 | BW9: =FraDT!CV9 -> 0 | BX9: =IF(BW9=10,1,0) -> 0 | BY9: =IF(AND(BX9=1,$BX$66<7),$BX$2/$BX$66,0) -> 0 | BZ9: =FraDT!CZ9 -> 0 | CA9: =IF(BZ9=10,1,0) -> 0 | CB9: =IF(AND(CA9=1,$CA$66<7),$CA$2/$CA$66,0) -> 0 | CC9: =FraDT!DD9 -> 10 | CD9: =IF(CC9=10,1,0) -> 1 | CE9: =IF(AND(CD9=1,$CD$66<7),$CD$2/$CD$66,0) -> 0 | CF9: =FraDT!DH9 -> 0 | CG9: =IF(CF9=10,1,0) -> 0 | CH9: =IF(AND(CG9=1,$CG$66<7),$CG$2/$CG$66,0) -> 0 | CI9: =FraDT!DL9 -> 0 | CJ9: =IF(CI9=10,1,0) -> 0 | CK9: =IF(AND(CJ9=1,$CJ$66<7),$CJ$2/$CJ$66,0) -> 0 | CL9: =FraDT!DP9 -> 0 | CM9: =IF(CL9=10,1,0) -> 0 | CN9: =IF(AND(CM9=1,$CM$66<7),$CM$2/$CM$66,0) -> 0 | CO9: =FraDT!DT9 -> 0 | CP9: =IF(CO9=10,1,0) -> 0 | CQ9: =IF(AND(CP9=1,$CP$66<7),$CP$2/$CP$66,0) -> 0 | CR9: =FraDT!DX9 -> 0 | CS9: =IF(CR9=10,1,0) -> 0 | CT9: =IF(AND(CS9=1,$CS$66<7),$CS$2/$CS$66,0) -> 0 | CU9: =FraDT!EB9 -> 0 | CV9: =IF(CU9=10,1,0) -> 0 | CW9: =IF(AND(CV9=1,$CV$66<7),$CV$2/$CV$66,0) -> 0 | CX9: =FraDT!EF9 -> 0 | CY9: =IF(CX9=10,1,0) -> 0 | CZ9: =IF(AND(CY9=1,$CY$66<7),$CY$2/$CY$66,0) -> 0 | DA9: =FraDT!EJ9 -> 0 | DB9: =IF(DA9=10,1,0) -> 0 | DC9: =IF(AND(DB9=1,$DB$66<7),$DB$2/$DB$66,0) -> 0 | DD9: =FraDT!EN9 -> 0 | DE9: =IF(DD9=10,1,0) -> 0 | DF9: =IF(AND(DE9=1,$DE$66<7),$DE$2/$DE$66,0) -> 0 | DG9: =FraDT!ER9 -> 0 | DH9: =IF(DG9=10,1,0) -> 0 | DI9: =IF(AND(DH9=1,$DH$66<7),$DH$2/$DH$66,0) -> 0 | DJ9: =FraDT!EV9 -> 0 | DK9: =IF(DJ9=10,1,0) -> 0 | DL9: =IF(AND(DK9=1,$DK$66<7),$DK$2/$DK$66,0) -> 0 | DM9: =FraDT!EZ9 -> 0 | DN9: =IF(DM9=10,1,0) -> 0 | DO9: =IF(AND(DN9=1,$DN$66<7),$DN$2/$DN$66,0) -> 0 | DP9: =FraDT!FD9 -> 0 | DQ9: =IF(DP9=10,1,0) -> 0 | DR9: =IF(AND(DQ9=1,$DQ$66<7),$DQ$2/$DQ$66,0) -> 0 | DS9: =FraDT!FH9 -> 0 | DT9: =IF(DS9=10,1,0) -> 0 | DU9: =IF(AND(DT9=1,$DT$66<7),$DT$2/$DT$66,0) -> 0 | DV9: =FraDT!FL9 -> 0 | DW9: =IF(DV9=10,1,0) -> 0 | DX9: =IF(AND(DW9=1,$DW$66<7),$DW$2/$DW$66,0) -> 0 | DY9: =FraDT!FP9 -> 0 | DZ9: =IF(DY9=10,1,0) -> 0 | EA9: =IF(AND(DZ9=1,$DZ$66<7),$DZ$2/$DZ$66,0) -> 0 | EB9: =FraDT!FT9 -> 0 | EC9: =IF(EB9=10,1,0) -> 0 | ED9: =IF(AND(EC9=1,$EC$66<7),$EC$2/$EC$66,0) -> 0 | EE9: =FraDT!FX9 -> 0 | EF9: =IF(EE9=10,1,0) -> 0 | EG9: =IF(AND(EF9=1,$EF$66<7),$EF$2/$EF$66,0) -> 0 | EH9: =FraDT!GB9 -> 0 | EI9: =IF(EH9=10,1,0) -> 0 | EJ9: =IF(AND(EI9=1,$EI$66<7),$EI$2/$EI$66,0) -> 0 | EK9: =FraDT!GF9 -> 0 | EL9: =IF(EK9=10,1,0) -> 0 | EM9: =IF(AND(EL9=1,$EL$66<7),$EL$2/$EL$66,0) -> 0 | EN9: =FraDT!GJ9 -> 0 | EO9: =IF(EN9=10,1,0) -> 0 | EP9: =IF(AND(EO9=1,$EO$66<7),$EO$2/$EO$66,0) -> 0 | EQ9: =FraDT!GN9 -> 0 | ER9: =IF(EQ9=10,1,0) -> 0 | ES9: =IF(AND(ER9=1,$ER$66<7),$ER$2/$ER$66,0) -> 0 | ET9: =FraDT!GR9 -> 0 | EU9: =IF(ET9=10,1,0) -> 0 | EV9: =IF(AND(EU9=1,$EU$66<7),$EU$2/$EU$66,0) -> 0 | EW9: =FraDT!GV9 -> 0 | EX9: =IF(EW9=10,1,0) -> 0 | EY9: =IF(AND(EX9=1,$EX$66<7),$EX$2/$EX$66,0) -> 0 | EZ9: =FraDT!GZ9 -> 0 | FA9: =IF(EZ9=10,1,0) -> 0 | FB9: =IF(AND(FA9=1,$FA$66<7),$FA$2/$FA$66,0) -> 0 | FC9: =FraDT!HD9 -> 0 | FD9: =IF(FC9=10,1,0) -> 0 | FE9: =IF(AND(FD9=1,$FD$66<7),$FD$2/$FD$66,0) -> 0
A10: Flinca | B10: =DD12 -> 0 | C10: =FraDT!D10 -> 0 | D10: =IF(C10=10,1,0) -> 0 | E10: =IF(AND(D10=1,$D$66<7),$D$2/$D$66,0) -> 0 | F10: =FraDT!H10 -> 0 | G10: =IF(F10=10,1,0) -> 0 | H10: =IF(AND(G10=1,$G$66<7),$G$2/$G$66,0) -> 0 | I10: =FraDT!L10 -> 0 | J10: =IF(I10=10,1,0) -> 0 | K10: =IF(AND(J10=1,$J$66<7),$J$2/$J$66,0) -> 0 | L10: =FraDT!P10 -> 0 | M10: =IF(L10=10,1,0) -> 0 | N10: =IF(AND(M10=1,$M$66<7),$M$2/$M$66,0) -> 0 | O10: =FraDT!T10 -> 0 | P10: =IF(O10=10,1,0) -> 0 | Q10: =IF(AND(P10=1,$P$66<7),$P$2/$P$66,0) -> 0 | R10: =FraDT!X10 -> 0 | S10: =IF(R10=10,1,0) -> 0 | T10: =IF(AND(S10=1,$S$66<7),$S$2/$S$66,0) -> 0 | U10: =FraDT!AB10 -> 10 | V10: =IF(U10=10,1,0) -> 1 | W10: =IF(AND(V10=1,$V$66<7),$V$2/$V$66,0) -> 60 | X10: =FraDT!AF10 -> 0 | Y10: =IF(X10=10,1,0) -> 0 | Z10: =IF(AND(Y10=1,$Y$66<7),$Y$2/$Y$66,0) -> 0 | AA10: =FraDT!AJ10 -> 0 | AB10: =IF(AA10=10,1,0) -> 0 | AC10: =IF(AND(AB10=1,$AB$66<7),$AB$2/$AB$66,0) -> 0 | AD10: =FraDT!AN10 -> 0 | AE10: =IF(AD10=10,1,0) -> 0 | AF10: =IF(AND(AE10=1,$AE$66<7),$AE$2/$AE$66,0) -> 0 | AG10: =FraDT!AR10 -> 0 | AH10: =IF(AG10=10,1,0) -> 0 | AI10: =IF(AND(AH10=1,$AH$66<7),$AH$2/$AH$66,0) -> 0 | AJ10: =FraDT!AV10 -> 0 | AK10: =IF(AJ10=10,1,0) -> 0 | AL10: =IF(AND(AK10=1,$AK$66<7),$AK$2/$AK$66,0) -> 0 | AM10: =FraDT!AZ10 -> 0 | AN10: =IF(AM10=10,1,0) -> 0 | AO10: =IF(AND(AN10=1,$AN$66<7),$AN$2/$AN$66,0) -> 0 | AP10: =FraDT!BD10 -> 0 | AQ10: =IF(AP10=10,1,0) -> 0 | AR10: =IF(AND(AQ10=1,$AQ$66<7),$AQ$2/$AQ$66,0) -> 0 | AS10: =FraDT!BH10 -> 0 | AT10: =IF(AS10=10,1,0) -> 0 | AU10: =IF(AND(AT10=1,$AT$66<7),$AT$2/$AT$66,0) -> 0 | AV10: =FraDT!BL10 -> 0 | AW10: =IF(AV10=10,1,0) -> 0 | AX10: =IF(AND(AW10=1,$AW$66<7),$AW$2/$AW$66,0) -> 0 | AY10: =FraDT!BP10 -> 0 | AZ10: =IF(AY10=10,1,0) -> 0 | BA10: =IF(AND(AZ10=1,$AZ$66<7),$AZ$2/$AZ$66,0) -> 0 | BB10: =FraDT!BT10 -> 0 | BC10: =IF(BB10=10,1,0) -> 0 | BD10: =IF(AND(BC10=1,$BC$66<7),$BC$2/$BC$66,0) -> 0 | BE10: =FraDT!BX10 -> 0 | BF10: =IF(BE10=10,1,0) -> 0 | BG10: =IF(AND(BF10=1,$BF$66<7),$BF$2/$BF$66,0) -> 0 | BH10: =FraDT!CB10 -> 0 | BI10: =IF(BH10=10,1,0) -> 0 | BJ10: =IF(AND(BI10=1,$BI$66<7),$BI$2/$BI$66,0) -> 0 | BK10: =FraDT!CF10 -> 0 | BL10: =IF(BK10=10,1,0) -> 0 | BM10: =IF(AND(BL10=1,$BL$66<7),$BL$2/$BL$66,0) -> 0 | BN10: =FraDT!CJ10 -> 0 | BO10: =IF(BN10=10,1,0) -> 0 | BP10: =IF(AND(BO10=1,$BO$66<7),$BO$2/$BO$66,0) -> 0 | BQ10: =FraDT!CN10 -> 0 | BR10: =IF(BQ10=10,1,0) -> 0 | BS10: =IF(AND(BR10=1,$BR$66<7),$BR$2/$BR$66,0) -> 0 | BT10: =FraDT!CR10 -> 0 | BU10: =IF(BT10=10,1,0) -> 0 | BV10: =IF(AND(BU10=1,$BU$66<7),$BU$2/$BU$66,0) -> 0 | BW10: =FraDT!CV10 -> 0 | BX10: =IF(BW10=10,1,0) -> 0 | BY10: =IF(AND(BX10=1,$BX$66<7),$BX$2/$BX$66,0) -> 0 | BZ10: =FraDT!CZ10 -> 0 | CA10: =IF(BZ10=10,1,0) -> 0 | CB10: =IF(AND(CA10=1,$CA$66<7),$CA$2/$CA$66,0) -> 0 | CC10: =FraDT!DD10 -> 10 | CD10: =IF(CC10=10,1,0) -> 1 | CE10: =IF(AND(CD10=1,$CD$66<7),$CD$2/$CD$66,0) -> 0 | CF10: =FraDT!DH10 -> 0 | CG10: =IF(CF10=10,1,0) -> 0 | CH10: =IF(AND(CG10=1,$CG$66<7),$CG$2/$CG$66,0) -> 0 | CI10: =FraDT!DL10 -> 0 | CJ10: =IF(CI10=10,1,0) -> 0 | CK10: =IF(AND(CJ10=1,$CJ$66<7),$CJ$2/$CJ$66,0) -> 0 | CL10: =FraDT!DP10 -> 0 | CM10: =IF(CL10=10,1,0) -> 0 | CN10: =IF(AND(CM10=1,$CM$66<7),$CM$2/$CM$66,0) -> 0 | CO10: =FraDT!DT10 -> 0 | CP10: =IF(CO10=10,1,0) -> 0 | CQ10: =IF(AND(CP10=1,$CP$66<7),$CP$2/$CP$66,0) -> 0 | CR10: =FraDT!DX10 -> 0 | CS10: =IF(CR10=10,1,0) -> 0 | CT10: =IF(AND(CS10=1,$CS$66<7),$CS$2/$CS$66,0) -> 0 | CU10: =FraDT!EB10 -> 0 | CV10: =IF(CU10=10,1,0) -> 0 | CW10: =IF(AND(CV10=1,$CV$66<7),$CV$2/$CV$66,0) -> 0 | CX10: =FraDT!EF10 -> 0 | CY10: =IF(CX10=10,1,0) -> 0 | CZ10: =IF(AND(CY10=1,$CY$66<7),$CY$2/$CY$66,0) -> 0 | DA10: =FraDT!EJ10 -> 0 | DB10: =IF(DA10=10,1,0) -> 0 | DC10: =IF(AND(DB10=1,$DB$66<7),$DB$2/$DB$66,0) -> 0 | DD10: =FraDT!EN10 -> 0 | DE10: =IF(DD10=10,1,0) -> 0 | DF10: =IF(AND(DE10=1,$DE$66<7),$DE$2/$DE$66,0) -> 0 | DG10: =FraDT!ER10 -> 10 | DH10: =IF(DG10=10,1,0) -> 1 | DI10: =IF(AND(DH10=1,$DH$66<7),$DH$2/$DH$66,0) -> 0 | DJ10: =FraDT!EV10 -> 0 | DK10: =IF(DJ10=10,1,0) -> 0 | DL10: =IF(AND(DK10=1,$DK$66<7),$DK$2/$DK$66,0) -> 0 | DM10: =FraDT!EZ10 -> 0 | DN10: =IF(DM10=10,1,0) -> 0 | DO10: =IF(AND(DN10=1,$DN$66<7),$DN$2/$DN$66,0) -> 0 | DP10: =FraDT!FD10 -> 0 | DQ10: =IF(DP10=10,1,0) -> 0 | DR10: =IF(AND(DQ10=1,$DQ$66<7),$DQ$2/$DQ$66,0) -> 0 | DS10: =FraDT!FH10 -> 0 | DT10: =IF(DS10=10,1,0) -> 0 | DU10: =IF(AND(DT10=1,$DT$66<7),$DT$2/$DT$66,0) -> 0 | DV10: =FraDT!FL10 -> 10 | DW10: =IF(DV10=10,1,0) -> 1 | DX10: =IF(AND(DW10=1,$DW$66<7),$DW$2/$DW$66,0) -> 15 | DY10: =FraDT!FP10 -> 0 | DZ10: =IF(DY10=10,1,0) -> 0 | EA10: =IF(AND(DZ10=1,$DZ$66<7),$DZ$2/$DZ$66,0) -> 0 | EB10: =FraDT!FT10 -> 0 | EC10: =IF(EB10=10,1,0) -> 0 | ED10: =IF(AND(EC10=1,$EC$66<7),$EC$2/$EC$66,0) -> 0 | EE10: =FraDT!FX10 -> 0 | EF10: =IF(EE10=10,1,0) -> 0 | EG10: =IF(AND(EF10=1,$EF$66<7),$EF$2/$EF$66,0) -> 0 | EH10: =FraDT!GB10 -> 0 | EI10: =IF(EH10=10,1,0) -> 0 | EJ10: =IF(AND(EI10=1,$EI$66<7),$EI$2/$EI$66,0) -> 0 | EK10: =FraDT!GF10 -> 0 | EL10: =IF(EK10=10,1,0) -> 0 | EM10: =IF(AND(EL10=1,$EL$66<7),$EL$2/$EL$66,0) -> 0 | EN10: =FraDT!GJ10 -> 0 | EO10: =IF(EN10=10,1,0) -> 0 | EP10: =IF(AND(EO10=1,$EO$66<7),$EO$2/$EO$66,0) -> 0 | EQ10: =FraDT!GN10 -> 0 | ER10: =IF(EQ10=10,1,0) -> 0 | ES10: =IF(AND(ER10=1,$ER$66<7),$ER$2/$ER$66,0) -> 0 | ET10: =FraDT!GR10 -> 0 | EU10: =IF(ET10=10,1,0) -> 0 | EV10: =IF(AND(EU10=1,$EU$66<7),$EU$2/$EU$66,0) -> 0 | EW10: =FraDT!GV10 -> 0 | EX10: =IF(EW10=10,1,0) -> 0 | EY10: =IF(AND(EX10=1,$EX$66<7),$EX$2/$EX$66,0) -> 0 | EZ10: =FraDT!GZ10 -> 0 | FA10: =IF(EZ10=10,1,0) -> 0 | FB10: =IF(AND(FA10=1,$FA$66<7),$FA$2/$FA$66,0) -> 0 | FC10: =FraDT!HD10 -> 0 | FD10: =IF(FC10=10,1,0) -> 0 | FE10: =IF(AND(FD10=1,$FD$66<7),$FD$2/$FD$66,0) -> 0
A11: Fox | B11: =DD13 -> 0 | C11: =FraDT!D11 -> 2 | D11: =IF(C11=10,1,0) -> 0 | E11: =IF(AND(D11=1,$D$66<7),$D$2/$D$66,0) -> 0 | F11: =FraDT!H11 -> 0 | G11: =IF(F11=10,1,0) -> 0 | H11: =IF(AND(G11=1,$G$66<7),$G$2/$G$66,0) -> 0 | I11: =FraDT!L11 -> 3 | J11: =IF(I11=10,1,0) -> 0 | K11: =IF(AND(J11=1,$J$66<7),$J$2/$J$66,0) -> 0 | L11: =FraDT!P11 -> 4 | M11: =IF(L11=10,1,0) -> 0 | N11: =IF(AND(M11=1,$M$66<7),$M$2/$M$66,0) -> 0 | O11: =FraDT!T11 -> 0 | P11: =IF(O11=10,1,0) -> 0 | Q11: =IF(AND(P11=1,$P$66<7),$P$2/$P$66,0) -> 0 | R11: =FraDT!X11 -> 0 | S11: =IF(R11=10,1,0) -> 0 | T11: =IF(AND(S11=1,$S$66<7),$S$2/$S$66,0) -> 0 | U11: =FraDT!AB11 -> 0 | V11: =IF(U11=10,1,0) -> 0 | W11: =IF(AND(V11=1,$V$66<7),$V$2/$V$66,0) -> 0 | X11: =FraDT!AF11 -> 0 | Y11: =IF(X11=10,1,0) -> 0 | Z11: =IF(AND(Y11=1,$Y$66<7),$Y$2/$Y$66,0) -> 0 | AA11: =FraDT!AJ11 -> 0 | AB11: =IF(AA11=10,1,0) -> 0 | AC11: =IF(AND(AB11=1,$AB$66<7),$AB$2/$AB$66,0) -> 0 | AD11: =FraDT!AN11 -> 0 | AE11: =IF(AD11=10,1,0) -> 0 | AF11: =IF(AND(AE11=1,$AE$66<7),$AE$2/$AE$66,0) -> 0 | AG11: =FraDT!AR11 -> 0 | AH11: =IF(AG11=10,1,0) -> 0 | AI11: =IF(AND(AH11=1,$AH$66<7),$AH$2/$AH$66,0) -> 0 | AJ11: =FraDT!AV11 -> 0 | AK11: =IF(AJ11=10,1,0) -> 0 | AL11: =IF(AND(AK11=1,$AK$66<7),$AK$2/$AK$66,0) -> 0 | AM11: =FraDT!AZ11 -> 0 | AN11: =IF(AM11=10,1,0) -> 0 | AO11: =IF(AND(AN11=1,$AN$66<7),$AN$2/$AN$66,0) -> 0 | AP11: =FraDT!BD11 -> 0 | AQ11: =IF(AP11=10,1,0) -> 0 | AR11: =IF(AND(AQ11=1,$AQ$66<7),$AQ$2/$AQ$66,0) -> 0 | AS11: =FraDT!BH11 -> 0 | AT11: =IF(AS11=10,1,0) -> 0 | AU11: =IF(AND(AT11=1,$AT$66<7),$AT$2/$AT$66,0) -> 0 | AV11: =FraDT!BL11 -> 0 | AW11: =IF(AV11=10,1,0) -> 0 | AX11: =IF(AND(AW11=1,$AW$66<7),$AW$2/$AW$66,0) -> 0 | AY11: =FraDT!BP11 -> 0 | AZ11: =IF(AY11=10,1,0) -> 0 | BA11: =IF(AND(AZ11=1,$AZ$66<7),$AZ$2/$AZ$66,0) -> 0 | BB11: =FraDT!BT11 -> 0 | BC11: =IF(BB11=10,1,0) -> 0 | BD11: =IF(AND(BC11=1,$BC$66<7),$BC$2/$BC$66,0) -> 0 | BE11: =FraDT!BX11 -> 0 | BF11: =IF(BE11=10,1,0) -> 0 | BG11: =IF(AND(BF11=1,$BF$66<7),$BF$2/$BF$66,0) -> 0 | BH11: =FraDT!CB11 -> 0 | BI11: =IF(BH11=10,1,0) -> 0 | BJ11: =IF(AND(BI11=1,$BI$66<7),$BI$2/$BI$66,0) -> 0 | BK11: =FraDT!CF11 -> 0 | BL11: =IF(BK11=10,1,0) -> 0 | BM11: =IF(AND(BL11=1,$BL$66<7),$BL$2/$BL$66,0) -> 0 | BN11: =FraDT!CJ11 -> 0 | BO11: =IF(BN11=10,1,0) -> 0 | BP11: =IF(AND(BO11=1,$BO$66<7),$BO$2/$BO$66,0) -> 0 | BQ11: =FraDT!CN11 -> 10 | BR11: =IF(BQ11=10,1,0) -> 1 | BS11: =IF(AND(BR11=1,$BR$66<7),$BR$2/$BR$66,0) -> 10 | BT11: =FraDT!CR11 -> 0 | BU11: =IF(BT11=10,1,0) -> 0 | BV11: =IF(AND(BU11=1,$BU$66<7),$BU$2/$BU$66,0) -> 0 | BW11: =FraDT!CV11 -> 0 | BX11: =IF(BW11=10,1,0) -> 0 | BY11: =IF(AND(BX11=1,$BX$66<7),$BX$2/$BX$66,0) -> 0 | BZ11: =FraDT!CZ11 -> 0 | CA11: =IF(BZ11=10,1,0) -> 0 | CB11: =IF(AND(CA11=1,$CA$66<7),$CA$2/$CA$66,0) -> 0 | CC11: =FraDT!DD11 -> 10 | CD11: =IF(CC11=10,1,0) -> 1 | CE11: =IF(AND(CD11=1,$CD$66<7),$CD$2/$CD$66,0) -> 0 | CF11: =FraDT!DH11 -> 0 | CG11: =IF(CF11=10,1,0) -> 0 | CH11: =IF(AND(CG11=1,$CG$66<7),$CG$2/$CG$66,0) -> 0 | CI11: =FraDT!DL11 -> 0 | CJ11: =IF(CI11=10,1,0) -> 0 | CK11: =IF(AND(CJ11=1,$CJ$66<7),$CJ$2/$CJ$66,0) -> 0 | CL11: =FraDT!DP11 -> 0 | CM11: =IF(CL11=10,1,0) -> 0 | CN11: =IF(AND(CM11=1,$CM$66<7),$CM$2/$CM$66,0) -> 0 | CO11: =FraDT!DT11 -> 0 | CP11: =IF(CO11=10,1,0) -> 0 | CQ11: =IF(AND(CP11=1,$CP$66<7),$CP$2/$CP$66,0) -> 0 | CR11: =FraDT!DX11 -> 0 | CS11: =IF(CR11=10,1,0) -> 0 | CT11: =IF(AND(CS11=1,$CS$66<7),$CS$2/$CS$66,0) -> 0 | CU11: =FraDT!EB11 -> 0 | CV11: =IF(CU11=10,1,0) -> 0 | CW11: =IF(AND(CV11=1,$CV$66<7),$CV$2/$CV$66,0) -> 0 | CX11: =FraDT!EF11 -> 0 | CY11: =IF(CX11=10,1,0) -> 0 | CZ11: =IF(AND(CY11=1,$CY$66<7),$CY$2/$CY$66,0) -> 0 | DA11: =FraDT!EJ11 -> 0 | DB11: =IF(DA11=10,1,0) -> 0 | DC11: =IF(AND(DB11=1,$DB$66<7),$DB$2/$DB$66,0) -> 0 | DD11: =FraDT!EN11 -> 0 | DE11: =IF(DD11=10,1,0) -> 0 | DF11: =IF(AND(DE11=1,$DE$66<7),$DE$2/$DE$66,0) -> 0 | DG11: =FraDT!ER11 -> 0 | DH11: =IF(DG11=10,1,0) -> 0 | DI11: =IF(AND(DH11=1,$DH$66<7),$DH$2/$DH$66,0) -> 0 | DJ11: =FraDT!EV11 -> 0 | DK11: =IF(DJ11=10,1,0) -> 0 | DL11: =IF(AND(DK11=1,$DK$66<7),$DK$2/$DK$66,0) -> 0 | DM11: =FraDT!EZ11 -> 0 | DN11: =IF(DM11=10,1,0) -> 0 | DO11: =IF(AND(DN11=1,$DN$66<7),$DN$2/$DN$66,0) -> 0 | DP11: =FraDT!FD11 -> 0 | DQ11: =IF(DP11=10,1,0) -> 0 | DR11: =IF(AND(DQ11=1,$DQ$66<7),$DQ$2/$DQ$66,0) -> 0 | DS11: =FraDT!FH11 -> 0 | DT11: =IF(DS11=10,1,0) -> 0 | DU11: =IF(AND(DT11=1,$DT$66<7),$DT$2/$DT$66,0) -> 0 | DV11: =FraDT!FL11 -> 0 | DW11: =IF(DV11=10,1,0) -> 0 | DX11: =IF(AND(DW11=1,$DW$66<7),$DW$2/$DW$66,0) -> 0 | DY11: =FraDT!FP11 -> 0 | DZ11: =IF(DY11=10,1,0) -> 0 | EA11: =IF(AND(DZ11=1,$DZ$66<7),$DZ$2/$DZ$66,0) -> 0 | EB11: =FraDT!FT11 -> 0 | EC11: =IF(EB11=10,1,0) -> 0 | ED11: =IF(AND(EC11=1,$EC$66<7),$EC$2/$EC$66,0) -> 0 | EE11: =FraDT!FX11 -> 0 | EF11: =IF(EE11=10,1,0) -> 0 | EG11: =IF(AND(EF11=1,$EF$66<7),$EF$2/$EF$66,0) -> 0 | EH11: =FraDT!GB11 -> 0 | EI11: =IF(EH11=10,1,0) -> 0 | EJ11: =IF(AND(EI11=1,$EI$66<7),$EI$2/$EI$66,0) -> 0 | EK11: =FraDT!GF11 -> 0 | EL11: =IF(EK11=10,1,0) -> 0 | EM11: =IF(AND(EL11=1,$EL$66<7),$EL$2/$EL$66,0) -> 0 | EN11: =FraDT!GJ11 -> 0 | EO11: =IF(EN11=10,1,0) -> 0 | EP11: =IF(AND(EO11=1,$EO$66<7),$EO$2/$EO$66,0) -> 0 | EQ11: =FraDT!GN11 -> 0 | ER11: =IF(EQ11=10,1,0) -> 0 | ES11: =IF(AND(ER11=1,$ER$66<7),$ER$2/$ER$66,0) -> 0 | ET11: =FraDT!GR11 -> 0 | EU11: =IF(ET11=10,1,0) -> 0 | EV11: =IF(AND(EU11=1,$EU$66<7),$EU$2/$EU$66,0) -> 0 | EW11: =FraDT!GV11 -> 0 | EX11: =IF(EW11=10,1,0) -> 0 | EY11: =IF(AND(EX11=1,$EX$66<7),$EX$2/$EX$66,0) -> 0 | EZ11: =FraDT!GZ11 -> 0 | FA11: =IF(EZ11=10,1,0) -> 0 | FB11: =IF(AND(FA11=1,$FA$66<7),$FA$2/$FA$66,0) -> 0 | FC11: =FraDT!HD11 -> 0 | FD11: =IF(FC11=10,1,0) -> 0 | FE11: =IF(AND(FD11=1,$FD$66<7),$FD$2/$FD$66,0) -> 0
A12: Frydkær | B12: =DD14 -> 0 | C12: =FraDT!D12 -> 0 | D12: =IF(C12=10,1,0) -> 0 | E12: =IF(AND(D12=1,$D$66<7),$D$2/$D$66,0) -> 0 | F12: =FraDT!H12 -> 3 | G12: =IF(F12=10,1,0) -> 0 | H12: =IF(AND(G12=1,$G$66<7),$G$2/$G$66,0) -> 0 | I12: =FraDT!L12 -> 3 | J12: =IF(I12=10,1,0) -> 0 | K12: =IF(AND(J12=1,$J$66<7),$J$2/$J$66,0) -> 0 | L12: =FraDT!P12 -> 0 | M12: =IF(L12=10,1,0) -> 0 | N12: =IF(AND(M12=1,$M$66<7),$M$2/$M$66,0) -> 0 | O12: =FraDT!T12 -> 0 | P12: =IF(O12=10,1,0) -> 0 | Q12: =IF(AND(P12=1,$P$66<7),$P$2/$P$66,0) -> 0 | R12: =FraDT!X12 -> 0 | S12: =IF(R12=10,1,0) -> 0 | T12: =IF(AND(S12=1,$S$66<7),$S$2/$S$66,0) -> 0 | U12: =FraDT!AB12 -> 0 | V12: =IF(U12=10,1,0) -> 0 | W12: =IF(AND(V12=1,$V$66<7),$V$2/$V$66,0) -> 0 | X12: =FraDT!AF12 -> 0 | Y12: =IF(X12=10,1,0) -> 0 | Z12: =IF(AND(Y12=1,$Y$66<7),$Y$2/$Y$66,0) -> 0 | AA12: =FraDT!AJ12 -> 10 | AB12: =IF(AA12=10,1,0) -> 1 | AC12: =IF(AND(AB12=1,$AB$66<7),$AB$2/$AB$66,0) -> 0 | AD12: =FraDT!AN12 -> 0 | AE12: =IF(AD12=10,1,0) -> 0 | AF12: =IF(AND(AE12=1,$AE$66<7),$AE$2/$AE$66,0) -> 0 | AG12: =FraDT!AR12 -> 0 | AH12: =IF(AG12=10,1,0) -> 0 | AI12: =IF(AND(AH12=1,$AH$66<7),$AH$2/$AH$66,0) -> 0 | AJ12: =FraDT!AV12 -> 0 | AK12: =IF(AJ12=10,1,0) -> 0 | AL12: =IF(AND(AK12=1,$AK$66<7),$AK$2/$AK$66,0) -> 0 | AM12: =FraDT!AZ12 -> 0 | AN12: =IF(AM12=10,1,0) -> 0 | AO12: =IF(AND(AN12=1,$AN$66<7),$AN$2/$AN$66,0) -> 0 | AP12: =FraDT!BD12 -> 0 | AQ12: =IF(AP12=10,1,0) -> 0 | AR12: =IF(AND(AQ12=1,$AQ$66<7),$AQ$2/$AQ$66,0) -> 0 | AS12: =FraDT!BH12 -> 0 | AT12: =IF(AS12=10,1,0) -> 0 | AU12: =IF(AND(AT12=1,$AT$66<7),$AT$2/$AT$66,0) -> 0 | AV12: =FraDT!BL12 -> 0 | AW12: =IF(AV12=10,1,0) -> 0 | AX12: =IF(AND(AW12=1,$AW$66<7),$AW$2/$AW$66,0) -> 0 | AY12: =FraDT!BP12 -> 0 | AZ12: =IF(AY12=10,1,0) -> 0 | BA12: =IF(AND(AZ12=1,$AZ$66<7),$AZ$2/$AZ$66,0) -> 0 | BB12: =FraDT!BT12 -> 0 | BC12: =IF(BB12=10,1,0) -> 0 | BD12: =IF(AND(BC12=1,$BC$66<7),$BC$2/$BC$66,0) -> 0 | BE12: =FraDT!BX12 -> 0 | BF12: =IF(BE12=10,1,0) -> 0 | BG12: =IF(AND(BF12=1,$BF$66<7),$BF$2/$BF$66,0) -> 0 | BH12: =FraDT!CB12 -> 0 | BI12: =IF(BH12=10,1,0) -> 0 | BJ12: =IF(AND(BI12=1,$BI$66<7),$BI$2/$BI$66,0) -> 0 | BK12: =FraDT!CF12 -> 0 | BL12: =IF(BK12=10,1,0) -> 0 | BM12: =IF(AND(BL12=1,$BL$66<7),$BL$2/$BL$66,0) -> 0 | BN12: =FraDT!CJ12 -> 0 | BO12: =IF(BN12=10,1,0) -> 0 | BP12: =IF(AND(BO12=1,$BO$66<7),$BO$2/$BO$66,0) -> 0 | BQ12: =FraDT!CN12 -> 0 | BR12: =IF(BQ12=10,1,0) -> 0 | BS12: =IF(AND(BR12=1,$BR$66<7),$BR$2/$BR$66,0) -> 0 | BT12: =FraDT!CR12 -> 0 | BU12: =IF(BT12=10,1,0) -> 0 | BV12: =IF(AND(BU12=1,$BU$66<7),$BU$2/$BU$66,0) -> 0 | BW12: =FraDT!CV12 -> 0 | BX12: =IF(BW12=10,1,0) -> 0 | BY12: =IF(AND(BX12=1,$BX$66<7),$BX$2/$BX$66,0) -> 0 | BZ12: =FraDT!CZ12 -> 0 | CA12: =IF(BZ12=10,1,0) -> 0 | CB12: =IF(AND(CA12=1,$CA$66<7),$CA$2/$CA$66,0) -> 0 | CC12: =FraDT!DD12 -> 10 | CD12: =IF(CC12=10,1,0) -> 1 | CE12: =IF(AND(CD12=1,$CD$66<7),$CD$2/$CD$66,0) -> 0 | CF12: =FraDT!DH12 -> 0 | CG12: =IF(CF12=10,1,0) -> 0 | CH12: =IF(AND(CG12=1,$CG$66<7),$CG$2/$CG$66,0) -> 0 | CI12: =FraDT!DL12 -> 0 | CJ12: =IF(CI12=10,1,0) -> 0 | CK12: =IF(AND(CJ12=1,$CJ$66<7),$CJ$2/$CJ$66,0) -> 0 | CL12: =FraDT!DP12 -> 0 | CM12: =IF(CL12=10,1,0) -> 0 | CN12: =IF(AND(CM12=1,$CM$66<7),$CM$2/$CM$66,0) -> 0 | CO12: =FraDT!DT12 -> 0 | CP12: =IF(CO12=10,1,0) -> 0 | CQ12: =IF(AND(CP12=1,$CP$66<7),$CP$2/$CP$66,0) -> 0 | CR12: =FraDT!DX12 -> 0 | CS12: =IF(CR12=10,1,0) -> 0 | CT12: =IF(AND(CS12=1,$CS$66<7),$CS$2/$CS$66,0) -> 0 | CU12: =FraDT!EB12 -> 0 | CV12: =IF(CU12=10,1,0) -> 0 | CW12: =IF(AND(CV12=1,$CV$66<7),$CV$2/$CV$66,0) -> 0 | CX12: =FraDT!EF12 -> 0 | CY12: =IF(CX12=10,1,0) -> 0 | CZ12: =IF(AND(CY12=1,$CY$66<7),$CY$2/$CY$66,0) -> 0 | DA12: =FraDT!EJ12 -> 0 | DB12: =IF(DA12=10,1,0) -> 0 | DC12: =IF(AND(DB12=1,$DB$66<7),$DB$2/$DB$66,0) -> 0 | DD12: =FraDT!EN12 -> 0 | DE12: =IF(DD12=10,1,0) -> 0 | DF12: =IF(AND(DE12=1,$DE$66<7),$DE$2/$DE$66,0) -> 0 | DG12: =FraDT!ER12 -> 0 | DH12: =IF(DG12=10,1,0) -> 0 | DI12: =IF(AND(DH12=1,$DH$66<7),$DH$2/$DH$66,0) -> 0 | DJ12: =FraDT!EV12 -> 0 | DK12: =IF(DJ12=10,1,0) -> 0 | DL12: =IF(AND(DK12=1,$DK$66<7),$DK$2/$DK$66,0) -> 0 | DM12: =FraDT!EZ12 -> 0 | DN12: =IF(DM12=10,1,0) -> 0 | DO12: =IF(AND(DN12=1,$DN$66<7),$DN$2/$DN$66,0) -> 0 | DP12: =FraDT!FD12 -> 0 | DQ12: =IF(DP12=10,1,0) -> 0 | DR12: =IF(AND(DQ12=1,$DQ$66<7),$DQ$2/$DQ$66,0) -> 0 | DS12: =FraDT!FH12 -> 0 | DT12: =IF(DS12=10,1,0) -> 0 | DU12: =IF(AND(DT12=1,$DT$66<7),$DT$2/$DT$66,0) -> 0 | DV12: =FraDT!FL12 -> 10 | DW12: =IF(DV12=10,1,0) -> 1 | DX12: =IF(AND(DW12=1,$DW$66<7),$DW$2/$DW$66,0) -> 15 | DY12: =FraDT!FP12 -> 0 | DZ12: =IF(DY12=10,1,0) -> 0 | EA12: =IF(AND(DZ12=1,$DZ$66<7),$DZ$2/$DZ$66,0) -> 0 | EB12: =FraDT!FT12 -> 0 | EC12: =IF(EB12=10,1,0) -> 0 | ED12: =IF(AND(EC12=1,$EC$66<7),$EC$2/$EC$66,0) -> 0 | EE12: =FraDT!FX12 -> 0 | EF12: =IF(EE12=10,1,0) -> 0 | EG12: =IF(AND(EF12=1,$EF$66<7),$EF$2/$EF$66,0) -> 0 | EH12: =FraDT!GB12 -> 0 | EI12: =IF(EH12=10,1,0) -> 0 | EJ12: =IF(AND(EI12=1,$EI$66<7),$EI$2/$EI$66,0) -> 0 | EK12: =FraDT!GF12 -> 0 | EL12: =IF(EK12=10,1,0) -> 0 | EM12: =IF(AND(EL12=1,$EL$66<7),$EL$2/$EL$66,0) -> 0 | EN12: =FraDT!GJ12 -> 0 | EO12: =IF(EN12=10,1,0) -> 0 | EP12: =IF(AND(EO12=1,$EO$66<7),$EO$2/$EO$66,0) -> 0 | EQ12: =FraDT!GN12 -> 0 | ER12: =IF(EQ12=10,1,0) -> 0 | ES12: =IF(AND(ER12=1,$ER$66<7),$ER$2/$ER$66,0) -> 0 | ET12: =FraDT!GR12 -> 0 | EU12: =IF(ET12=10,1,0) -> 0 | EV12: =IF(AND(EU12=1,$EU$66<7),$EU$2/$EU$66,0) -> 0 | EW12: =FraDT!GV12 -> 0 | EX12: =IF(EW12=10,1,0) -> 0 | EY12: =IF(AND(EX12=1,$EX$66<7),$EX$2/$EX$66,0) -> 0 | EZ12: =FraDT!GZ12 -> 0 | FA12: =IF(EZ12=10,1,0) -> 0 | FB12: =IF(AND(FA12=1,$FA$66<7),$FA$2/$FA$66,0) -> 0 | FC12: =FraDT!HD12 -> 0 | FD12: =IF(FC12=10,1,0) -> 0 | FE12: =IF(AND(FD12=1,$FD$66<7),$FD$2/$FD$66,0) -> 0
A13: Futte | B13: =DD15 -> 0 | C13: =FraDT!D13 -> 0 | D13: =IF(C13=10,1,0) -> 0 | E13: =IF(AND(D13=1,$D$66<7),$D$2/$D$66,0) -> 0 | F13: =FraDT!H13 -> 3 | G13: =IF(F13=10,1,0) -> 0 | H13: =IF(AND(G13=1,$G$66<7),$G$2/$G$66,0) -> 0 | I13: =FraDT!L13 -> 0 | J13: =IF(I13=10,1,0) -> 0 | K13: =IF(AND(J13=1,$J$66<7),$J$2/$J$66,0) -> 0 | L13: =FraDT!P13 -> 0 | M13: =IF(L13=10,1,0) -> 0 | N13: =IF(AND(M13=1,$M$66<7),$M$2/$M$66,0) -> 0 | O13: =FraDT!T13 -> 0 | P13: =IF(O13=10,1,0) -> 0 | Q13: =IF(AND(P13=1,$P$66<7),$P$2/$P$66,0) -> 0 | R13: =FraDT!X13 -> 0 | S13: =IF(R13=10,1,0) -> 0 | T13: =IF(AND(S13=1,$S$66<7),$S$2/$S$66,0) -> 0 | U13: =FraDT!AB13 -> 0 | V13: =IF(U13=10,1,0) -> 0 | W13: =IF(AND(V13=1,$V$66<7),$V$2/$V$66,0) -> 0 | X13: =FraDT!AF13 -> 0 | Y13: =IF(X13=10,1,0) -> 0 | Z13: =IF(AND(Y13=1,$Y$66<7),$Y$2/$Y$66,0) -> 0 | AA13: =FraDT!AJ13 -> 0 | AB13: =IF(AA13=10,1,0) -> 0 | AC13: =IF(AND(AB13=1,$AB$66<7),$AB$2/$AB$66,0) -> 0 | AD13: =FraDT!AN13 -> 0 | AE13: =IF(AD13=10,1,0) -> 0 | AF13: =IF(AND(AE13=1,$AE$66<7),$AE$2/$AE$66,0) -> 0 | AG13: =FraDT!AR13 -> 0 | AH13: =IF(AG13=10,1,0) -> 0 | AI13: =IF(AND(AH13=1,$AH$66<7),$AH$2/$AH$66,0) -> 0 | AJ13: =FraDT!AV13 -> 0 | AK13: =IF(AJ13=10,1,0) -> 0 | AL13: =IF(AND(AK13=1,$AK$66<7),$AK$2/$AK$66,0) -> 0 | AM13: =FraDT!AZ13 -> 0 | AN13: =IF(AM13=10,1,0) -> 0 | AO13: =IF(AND(AN13=1,$AN$66<7),$AN$2/$AN$66,0) -> 0 | AP13: =FraDT!BD13 -> 0 | AQ13: =IF(AP13=10,1,0) -> 0 | AR13: =IF(AND(AQ13=1,$AQ$66<7),$AQ$2/$AQ$66,0) -> 0 | AS13: =FraDT!BH13 -> 0 | AT13: =IF(AS13=10,1,0) -> 0 | AU13: =IF(AND(AT13=1,$AT$66<7),$AT$2/$AT$66,0) -> 0 | AV13: =FraDT!BL13 -> 0 | AW13: =IF(AV13=10,1,0) -> 0 | AX13: =IF(AND(AW13=1,$AW$66<7),$AW$2/$AW$66,0) -> 0 | AY13: =FraDT!BP13 -> 0 | AZ13: =IF(AY13=10,1,0) -> 0 | BA13: =IF(AND(AZ13=1,$AZ$66<7),$AZ$2/$AZ$66,0) -> 0 | BB13: =FraDT!BT13 -> 0 | BC13: =IF(BB13=10,1,0) -> 0 | BD13: =IF(AND(BC13=1,$BC$66<7),$BC$2/$BC$66,0) -> 0 | BE13: =FraDT!BX13 -> 0 | BF13: =IF(BE13=10,1,0) -> 0 | BG13: =IF(AND(BF13=1,$BF$66<7),$BF$2/$BF$66,0) -> 0 | BH13: =FraDT!CB13 -> 0 | BI13: =IF(BH13=10,1,0) -> 0 | BJ13: =IF(AND(BI13=1,$BI$66<7),$BI$2/$BI$66,0) -> 0 | BK13: =FraDT!CF13 -> 0 | BL13: =IF(BK13=10,1,0) -> 0 | BM13: =IF(AND(BL13=1,$BL$66<7),$BL$2/$BL$66,0) -> 0 | BN13: =FraDT!CJ13 -> 0 | BO13: =IF(BN13=10,1,0) -> 0 | BP13: =IF(AND(BO13=1,$BO$66<7),$BO$2/$BO$66,0) -> 0 | BQ13: =FraDT!CN13 -> 0 | BR13: =IF(BQ13=10,1,0) -> 0 | BS13: =IF(AND(BR13=1,$BR$66<7),$BR$2/$BR$66,0) -> 0 | BT13: =FraDT!CR13 -> 0 | BU13: =IF(BT13=10,1,0) -> 0 | BV13: =IF(AND(BU13=1,$BU$66<7),$BU$2/$BU$66,0) -> 0 | BW13: =FraDT!CV13 -> 0 | BX13: =IF(BW13=10,1,0) -> 0 | BY13: =IF(AND(BX13=1,$BX$66<7),$BX$2/$BX$66,0) -> 0 | BZ13: =FraDT!CZ13 -> 0 | CA13: =IF(BZ13=10,1,0) -> 0 | CB13: =IF(AND(CA13=1,$CA$66<7),$CA$2/$CA$66,0) -> 0 | CC13: =FraDT!DD13 -> 10 | CD13: =IF(CC13=10,1,0) -> 1 | CE13: =IF(AND(CD13=1,$CD$66<7),$CD$2/$CD$66,0) -> 0 | CF13: =FraDT!DH13 -> 0 | CG13: =IF(CF13=10,1,0) -> 0 | CH13: =IF(AND(CG13=1,$CG$66<7),$CG$2/$CG$66,0) -> 0 | CI13: =FraDT!DL13 -> 10 | CJ13: =IF(CI13=10,1,0) -> 1 | CK13: =IF(AND(CJ13=1,$CJ$66<7),$CJ$2/$CJ$66,0) -> 0 | CL13: =FraDT!DP13 -> 0 | CM13: =IF(CL13=10,1,0) -> 0 | CN13: =IF(AND(CM13=1,$CM$66<7),$CM$2/$CM$66,0) -> 0 | CO13: =FraDT!DT13 -> 0 | CP13: =IF(CO13=10,1,0) -> 0 | CQ13: =IF(AND(CP13=1,$CP$66<7),$CP$2/$CP$66,0) -> 0 | CR13: =FraDT!DX13 -> 0 | CS13: =IF(CR13=10,1,0) -> 0 | CT13: =IF(AND(CS13=1,$CS$66<7),$CS$2/$CS$66,0) -> 0 | CU13: =FraDT!EB13 -> 0 | CV13: =IF(CU13=10,1,0) -> 0 | CW13: =IF(AND(CV13=1,$CV$66<7),$CV$2/$CV$66,0) -> 0 | CX13: =FraDT!EF13 -> 0 | CY13: =IF(CX13=10,1,0) -> 0 | CZ13: =IF(AND(CY13=1,$CY$66<7),$CY$2/$CY$66,0) -> 0 | DA13: =FraDT!EJ13 -> 0 | DB13: =IF(DA13=10,1,0) -> 0 | DC13: =IF(AND(DB13=1,$DB$66<7),$DB$2/$DB$66,0) -> 0 | DD13: =FraDT!EN13 -> 0 | DE13: =IF(DD13=10,1,0) -> 0 | DF13: =IF(AND(DE13=1,$DE$66<7),$DE$2/$DE$66,0) -> 0 | DG13: =FraDT!ER13 -> 0 | DH13: =IF(DG13=10,1,0) -> 0 | DI13: =IF(AND(DH13=1,$DH$66<7),$DH$2/$DH$66,0) -> 0 | DJ13: =FraDT!EV13 -> 0 | DK13: =IF(DJ13=10,1,0) -> 0 | DL13: =IF(AND(DK13=1,$DK$66<7),$DK$2/$DK$66,0) -> 0 | DM13: =FraDT!EZ13 -> 0 | DN13: =IF(DM13=10,1,0) -> 0 | DO13: =IF(AND(DN13=1,$DN$66<7),$DN$2/$DN$66,0) -> 0 | DP13: =FraDT!FD13 -> 0 | DQ13: =IF(DP13=10,1,0) -> 0 | DR13: =IF(AND(DQ13=1,$DQ$66<7),$DQ$2/$DQ$66,0) -> 0 | DS13: =FraDT!FH13 -> 0 | DT13: =IF(DS13=10,1,0) -> 0 | DU13: =IF(AND(DT13=1,$DT$66<7),$DT$2/$DT$66,0) -> 0 | DV13: =FraDT!FL13 -> 0 | DW13: =IF(DV13=10,1,0) -> 0 | DX13: =IF(AND(DW13=1,$DW$66<7),$DW$2/$DW$66,0) -> 0 | DY13: =FraDT!FP13 -> 0 | DZ13: =IF(DY13=10,1,0) -> 0 | EA13: =IF(AND(DZ13=1,$DZ$66<7),$DZ$2/$DZ$66,0) -> 0 | EB13: =FraDT!FT13 -> 0 | EC13: =IF(EB13=10,1,0) -> 0 | ED13: =IF(AND(EC13=1,$EC$66<7),$EC$2/$EC$66,0) -> 0 | EE13: =FraDT!FX13 -> 0 | EF13: =IF(EE13=10,1,0) -> 0 | EG13: =IF(AND(EF13=1,$EF$66<7),$EF$2/$EF$66,0) -> 0 | EH13: =FraDT!GB13 -> 0 | EI13: =IF(EH13=10,1,0) -> 0 | EJ13: =IF(AND(EI13=1,$EI$66<7),$EI$2/$EI$66,0) -> 0 | EK13: =FraDT!GF13 -> 0 | EL13: =IF(EK13=10,1,0) -> 0 | EM13: =IF(AND(EL13=1,$EL$66<7),$EL$2/$EL$66,0) -> 0 | EN13: =FraDT!GJ13 -> 0 | EO13: =IF(EN13=10,1,0) -> 0 | EP13: =IF(AND(EO13=1,$EO$66<7),$EO$2/$EO$66,0) -> 0 | EQ13: =FraDT!GN13 -> 0 | ER13: =IF(EQ13=10,1,0) -> 0 | ES13: =IF(AND(ER13=1,$ER$66<7),$ER$2/$ER$66,0) -> 0 | ET13: =FraDT!GR13 -> 0 | EU13: =IF(ET13=10,1,0) -> 0 | EV13: =IF(AND(EU13=1,$EU$66<7),$EU$2/$EU$66,0) -> 0 | EW13: =FraDT!GV13 -> 0 | EX13: =IF(EW13=10,1,0) -> 0 | EY13: =IF(AND(EX13=1,$EX$66<7),$EX$2/$EX$66,0) -> 0 | EZ13: =FraDT!GZ13 -> 0 | FA13: =IF(EZ13=10,1,0) -> 0 | FB13: =IF(AND(FA13=1,$FA$66<7),$FA$2/$FA$66,0) -> 0 | FC13: =FraDT!HD13 -> 0 | FD13: =IF(FC13=10,1,0) -> 0 | FE13: =IF(AND(FD13=1,$FD$66<7),$FD$2/$FD$66,0) -> 0
A14: Himbo | B14: =DD16 -> 0 | C14: =FraDT!D14 -> 0 | D14: =IF(C14=10,1,0) -> 0 | E14: =IF(AND(D14=1,$D$66<7),$D$2/$D$66,0) -> 0 | F14: =FraDT!H14 -> 0 | G14: =IF(F14=10,1,0) -> 0 | H14: =IF(AND(G14=1,$G$66<7),$G$2/$G$66,0) -> 0 | I14: =FraDT!L14 -> 3 | J14: =IF(I14=10,1,0) -> 0 | K14: =IF(AND(J14=1,$J$66<7),$J$2/$J$66,0) -> 0 | L14: =FraDT!P14 -> 0 | M14: =IF(L14=10,1,0) -> 0 | N14: =IF(AND(M14=1,$M$66<7),$M$2/$M$66,0) -> 0 | O14: =FraDT!T14 -> 0 | P14: =IF(O14=10,1,0) -> 0 | Q14: =IF(AND(P14=1,$P$66<7),$P$2/$P$66,0) -> 0 | R14: =FraDT!X14 -> 0 | S14: =IF(R14=10,1,0) -> 0 | T14: =IF(AND(S14=1,$S$66<7),$S$2/$S$66,0) -> 0 | U14: =FraDT!AB14 -> 0 | V14: =IF(U14=10,1,0) -> 0 | W14: =IF(AND(V14=1,$V$66<7),$V$2/$V$66,0) -> 0 | X14: =FraDT!AF14 -> 0 | Y14: =IF(X14=10,1,0) -> 0 | Z14: =IF(AND(Y14=1,$Y$66<7),$Y$2/$Y$66,0) -> 0 | AA14: =FraDT!AJ14 -> 0 | AB14: =IF(AA14=10,1,0) -> 0 | AC14: =IF(AND(AB14=1,$AB$66<7),$AB$2/$AB$66,0) -> 0 | AD14: =FraDT!AN14 -> 0 | AE14: =IF(AD14=10,1,0) -> 0 | AF14: =IF(AND(AE14=1,$AE$66<7),$AE$2/$AE$66,0) -> 0 | AG14: =FraDT!AR14 -> 0 | AH14: =IF(AG14=10,1,0) -> 0 | AI14: =IF(AND(AH14=1,$AH$66<7),$AH$2/$AH$66,0) -> 0 | AJ14: =FraDT!AV14 -> 0 | AK14: =IF(AJ14=10,1,0) -> 0 | AL14: =IF(AND(AK14=1,$AK$66<7),$AK$2/$AK$66,0) -> 0 | AM14: =FraDT!AZ14 -> 0 | AN14: =IF(AM14=10,1,0) -> 0 | AO14: =IF(AND(AN14=1,$AN$66<7),$AN$2/$AN$66,0) -> 0 | AP14: =FraDT!BD14 -> 0 | AQ14: =IF(AP14=10,1,0) -> 0 | AR14: =IF(AND(AQ14=1,$AQ$66<7),$AQ$2/$AQ$66,0) -> 0 | AS14: =FraDT!BH14 -> 0 | AT14: =IF(AS14=10,1,0) -> 0 | AU14: =IF(AND(AT14=1,$AT$66<7),$AT$2/$AT$66,0) -> 0 | AV14: =FraDT!BL14 -> 0 | AW14: =IF(AV14=10,1,0) -> 0 | AX14: =IF(AND(AW14=1,$AW$66<7),$AW$2/$AW$66,0) -> 0 | AY14: =FraDT!BP14 -> 0 | AZ14: =IF(AY14=10,1,0) -> 0 | BA14: =IF(AND(AZ14=1,$AZ$66<7),$AZ$2/$AZ$66,0) -> 0 | BB14: =FraDT!BT14 -> 0 | BC14: =IF(BB14=10,1,0) -> 0 | BD14: =IF(AND(BC14=1,$BC$66<7),$BC$2/$BC$66,0) -> 0 | BE14: =FraDT!BX14 -> 0 | BF14: =IF(BE14=10,1,0) -> 0 | BG14: =IF(AND(BF14=1,$BF$66<7),$BF$2/$BF$66,0) -> 0 | BH14: =FraDT!CB14 -> 0 | BI14: =IF(BH14=10,1,0) -> 0 | BJ14: =IF(AND(BI14=1,$BI$66<7),$BI$2/$BI$66,0) -> 0 | BK14: =FraDT!CF14 -> 0 | BL14: =IF(BK14=10,1,0) -> 0 | BM14: =IF(AND(BL14=1,$BL$66<7),$BL$2/$BL$66,0) -> 0 | BN14: =FraDT!CJ14 -> 0 | BO14: =IF(BN14=10,1,0) -> 0 | BP14: =IF(AND(BO14=1,$BO$66<7),$BO$2/$BO$66,0) -> 0 | BQ14: =FraDT!CN14 -> 0 | BR14: =IF(BQ14=10,1,0) -> 0 | BS14: =IF(AND(BR14=1,$BR$66<7),$BR$2/$BR$66,0) -> 0 | BT14: =FraDT!CR14 -> 0 | BU14: =IF(BT14=10,1,0) -> 0 | BV14: =IF(AND(BU14=1,$BU$66<7),$BU$2/$BU$66,0) -> 0 | BW14: =FraDT!CV14 -> 0 | BX14: =IF(BW14=10,1,0) -> 0 | BY14: =IF(AND(BX14=1,$BX$66<7),$BX$2/$BX$66,0) -> 0 | BZ14: =FraDT!CZ14 -> 0 | CA14: =IF(BZ14=10,1,0) -> 0 | CB14: =IF(AND(CA14=1,$CA$66<7),$CA$2/$CA$66,0) -> 0 | CC14: =FraDT!DD14 -> 10 | CD14: =IF(CC14=10,1,0) -> 1 | CE14: =IF(AND(CD14=1,$CD$66<7),$CD$2/$CD$66,0) -> 0 | CF14: =FraDT!DH14 -> 0 | CG14: =IF(CF14=10,1,0) -> 0 | CH14: =IF(AND(CG14=1,$CG$66<7),$CG$2/$CG$66,0) -> 0 | CI14: =FraDT!DL14 -> 10 | CJ14: =IF(CI14=10,1,0) -> 1 | CK14: =IF(AND(CJ14=1,$CJ$66<7),$CJ$2/$CJ$66,0) -> 0 | CL14: =FraDT!DP14 -> 0 | CM14: =IF(CL14=10,1,0) -> 0 | CN14: =IF(AND(CM14=1,$CM$66<7),$CM$2/$CM$66,0) -> 0 | CO14: =FraDT!DT14 -> 0 | CP14: =IF(CO14=10,1,0) -> 0 | CQ14: =IF(AND(CP14=1,$CP$66<7),$CP$2/$CP$66,0) -> 0 | CR14: =FraDT!DX14 -> 0 | CS14: =IF(CR14=10,1,0) -> 0 | CT14: =IF(AND(CS14=1,$CS$66<7),$CS$2/$CS$66,0) -> 0 | CU14: =FraDT!EB14 -> 0 | CV14: =IF(CU14=10,1,0) -> 0 | CW14: =IF(AND(CV14=1,$CV$66<7),$CV$2/$CV$66,0) -> 0 | CX14: =FraDT!EF14 -> 0 | CY14: =IF(CX14=10,1,0) -> 0 | CZ14: =IF(AND(CY14=1,$CY$66<7),$CY$2/$CY$66,0) -> 0 | DA14: =FraDT!EJ14 -> 0 | DB14: =IF(DA14=10,1,0) -> 0 | DC14: =IF(AND(DB14=1,$DB$66<7),$DB$2/$DB$66,0) -> 0 | DD14: =FraDT!EN14 -> 0 | DE14: =IF(DD14=10,1,0) -> 0 | DF14: =IF(AND(DE14=1,$DE$66<7),$DE$2/$DE$66,0) -> 0 | DG14: =FraDT!ER14 -> 10 | DH14: =IF(DG14=10,1,0) -> 1 | DI14: =IF(AND(DH14=1,$DH$66<7),$DH$2/$DH$66,0) -> 0 | DJ14: =FraDT!EV14 -> 0 | DK14: =IF(DJ14=10,1,0) -> 0 | DL14: =IF(AND(DK14=1,$DK$66<7),$DK$2/$DK$66,0) -> 0 | DM14: =FraDT!EZ14 -> 0 | DN14: =IF(DM14=10,1,0) -> 0 | DO14: =IF(AND(DN14=1,$DN$66<7),$DN$2/$DN$66,0) -> 0 | DP14: =FraDT!FD14 -> 0 | DQ14: =IF(DP14=10,1,0) -> 0 | DR14: =IF(AND(DQ14=1,$DQ$66<7),$DQ$2/$DQ$66,0) -> 0 | DS14: =FraDT!FH14 -> 0 | DT14: =IF(DS14=10,1,0) -> 0 | DU14: =IF(AND(DT14=1,$DT$66<7),$DT$2/$DT$66,0) -> 0 | DV14: =FraDT!FL14 -> 0 | DW14: =IF(DV14=10,1,0) -> 0 | DX14: =IF(AND(DW14=1,$DW$66<7),$DW$2/$DW$66,0) -> 0 | DY14: =FraDT!FP14 -> 0 | DZ14: =IF(DY14=10,1,0) -> 0 | EA14: =IF(AND(DZ14=1,$DZ$66<7),$DZ$2/$DZ$66,0) -> 0 | EB14: =FraDT!FT14 -> 0 | EC14: =IF(EB14=10,1,0) -> 0 | ED14: =IF(AND(EC14=1,$EC$66<7),$EC$2/$EC$66,0) -> 0 | EE14: =FraDT!FX14 -> 0 | EF14: =IF(EE14=10,1,0) -> 0 | EG14: =IF(AND(EF14=1,$EF$66<7),$EF$2/$EF$66,0) -> 0 | EH14: =FraDT!GB14 -> 0 | EI14: =IF(EH14=10,1,0) -> 0 | EJ14: =IF(AND(EI14=1,$EI$66<7),$EI$2/$EI$66,0) -> 0 | EK14: =FraDT!GF14 -> 0 | EL14: =IF(EK14=10,1,0) -> 0 | EM14: =IF(AND(EL14=1,$EL$66<7),$EL$2/$EL$66,0) -> 0 | EN14: =FraDT!GJ14 -> 0 | EO14: =IF(EN14=10,1,0) -> 0 | EP14: =IF(AND(EO14=1,$EO$66<7),$EO$2/$EO$66,0) -> 0 | EQ14: =FraDT!GN14 -> 0 | ER14: =IF(EQ14=10,1,0) -> 0 | ES14: =IF(AND(ER14=1,$ER$66<7),$ER$2/$ER$66,0) -> 0 | ET14: =FraDT!GR14 -> 0 | EU14: =IF(ET14=10,1,0) -> 0 | EV14: =IF(AND(EU14=1,$EU$66<7),$EU$2/$EU$66,0) -> 0 | EW14: =FraDT!GV14 -> 0 | EX14: =IF(EW14=10,1,0) -> 0 | EY14: =IF(AND(EX14=1,$EX$66<7),$EX$2/$EX$66,0) -> 0 | EZ14: =FraDT!GZ14 -> 0 | FA14: =IF(EZ14=10,1,0) -> 0 | FB14: =IF(AND(FA14=1,$FA$66<7),$FA$2/$FA$66,0) -> 0 | FC14: =FraDT!HD14 -> 0 | FD14: =IF(FC14=10,1,0) -> 0 | FE14: =IF(AND(FD14=1,$FD$66<7),$FD$2/$FD$66,0) -> 0
A15: Idskov | B15: =DD17 -> 0 | C15: =FraDT!D15 -> 0 | D15: =IF(C15=10,1,0) -> 0 | E15: =IF(AND(D15=1,$D$66<7),$D$2/$D$66,0) -> 0 | F15: =FraDT!H15 -> 0 | G15: =IF(F15=10,1,0) -> 0 | H15: =IF(AND(G15=1,$G$66<7),$G$2/$G$66,0) -> 0 | I15: =FraDT!L15 -> 0 | J15: =IF(I15=10,1,0) -> 0 | K15: =IF(AND(J15=1,$J$66<7),$J$2/$J$66,0) -> 0 | L15: =FraDT!P15 -> 0 | M15: =IF(L15=10,1,0) -> 0 | N15: =IF(AND(M15=1,$M$66<7),$M$2/$M$66,0) -> 0 | O15: =FraDT!T15 -> 0 | P15: =IF(O15=10,1,0) -> 0 | Q15: =IF(AND(P15=1,$P$66<7),$P$2/$P$66,0) -> 0 | R15: =FraDT!X15 -> 0 | S15: =IF(R15=10,1,0) -> 0 | T15: =IF(AND(S15=1,$S$66<7),$S$2/$S$66,0) -> 0 | U15: =FraDT!AB15 -> 0 | V15: =IF(U15=10,1,0) -> 0 | W15: =IF(AND(V15=1,$V$66<7),$V$2/$V$66,0) -> 0 | X15: =FraDT!AF15 -> 0 | Y15: =IF(X15=10,1,0) -> 0 | Z15: =IF(AND(Y15=1,$Y$66<7),$Y$2/$Y$66,0) -> 0 | AA15: =FraDT!AJ15 -> 0 | AB15: =IF(AA15=10,1,0) -> 0 | AC15: =IF(AND(AB15=1,$AB$66<7),$AB$2/$AB$66,0) -> 0 | AD15: =FraDT!AN15 -> 0 | AE15: =IF(AD15=10,1,0) -> 0 | AF15: =IF(AND(AE15=1,$AE$66<7),$AE$2/$AE$66,0) -> 0 | AG15: =FraDT!AR15 -> 0 | AH15: =IF(AG15=10,1,0) -> 0 | AI15: =IF(AND(AH15=1,$AH$66<7),$AH$2/$AH$66,0) -> 0 | AJ15: =FraDT!AV15 -> 0 | AK15: =IF(AJ15=10,1,0) -> 0 | AL15: =IF(AND(AK15=1,$AK$66<7),$AK$2/$AK$66,0) -> 0 | AM15: =FraDT!AZ15 -> 0 | AN15: =IF(AM15=10,1,0) -> 0 | AO15: =IF(AND(AN15=1,$AN$66<7),$AN$2/$AN$66,0) -> 0 | AP15: =FraDT!BD15 -> 0 | AQ15: =IF(AP15=10,1,0) -> 0 | AR15: =IF(AND(AQ15=1,$AQ$66<7),$AQ$2/$AQ$66,0) -> 0 | AS15: =FraDT!BH15 -> 10 | AT15: =IF(AS15=10,1,0) -> 1 | AU15: =IF(AND(AT15=1,$AT$66<7),$AT$2/$AT$66,0) -> 30 | AV15: =FraDT!BL15 -> 0 | AW15: =IF(AV15=10,1,0) -> 0 | AX15: =IF(AND(AW15=1,$AW$66<7),$AW$2/$AW$66,0) -> 0 | AY15: =FraDT!BP15 -> 0 | AZ15: =IF(AY15=10,1,0) -> 0 | BA15: =IF(AND(AZ15=1,$AZ$66<7),$AZ$2/$AZ$66,0) -> 0 | BB15: =FraDT!BT15 -> 0 | BC15: =IF(BB15=10,1,0) -> 0 | BD15: =IF(AND(BC15=1,$BC$66<7),$BC$2/$BC$66,0) -> 0 | BE15: =FraDT!BX15 -> 0 | BF15: =IF(BE15=10,1,0) -> 0 | BG15: =IF(AND(BF15=1,$BF$66<7),$BF$2/$BF$66,0) -> 0 | BH15: =FraDT!CB15 -> 0 | BI15: =IF(BH15=10,1,0) -> 0 | BJ15: =IF(AND(BI15=1,$BI$66<7),$BI$2/$BI$66,0) -> 0 | BK15: =FraDT!CF15 -> 0 | BL15: =IF(BK15=10,1,0) -> 0 | BM15: =IF(AND(BL15=1,$BL$66<7),$BL$2/$BL$66,0) -> 0 | BN15: =FraDT!CJ15 -> 0 | BO15: =IF(BN15=10,1,0) -> 0 | BP15: =IF(AND(BO15=1,$BO$66<7),$BO$2/$BO$66,0) -> 0 | BQ15: =FraDT!CN15 -> 0 | BR15: =IF(BQ15=10,1,0) -> 0 | BS15: =IF(AND(BR15=1,$BR$66<7),$BR$2/$BR$66,0) -> 0 | BT15: =FraDT!CR15 -> 0 | BU15: =IF(BT15=10,1,0) -> 0 | BV15: =IF(AND(BU15=1,$BU$66<7),$BU$2/$BU$66,0) -> 0 | BW15: =FraDT!CV15 -> 0 | BX15: =IF(BW15=10,1,0) -> 0 | BY15: =IF(AND(BX15=1,$BX$66<7),$BX$2/$BX$66,0) -> 0 | BZ15: =FraDT!CZ15 -> 0 | CA15: =IF(BZ15=10,1,0) -> 0 | CB15: =IF(AND(CA15=1,$CA$66<7),$CA$2/$CA$66,0) -> 0 | CC15: =FraDT!DD15 -> 10 | CD15: =IF(CC15=10,1,0) -> 1 | CE15: =IF(AND(CD15=1,$CD$66<7),$CD$2/$CD$66,0) -> 0 | CF15: =FraDT!DH15 -> 0 | CG15: =IF(CF15=10,1,0) -> 0 | CH15: =IF(AND(CG15=1,$CG$66<7),$CG$2/$CG$66,0) -> 0 | CI15: =FraDT!DL15 -> 0 | CJ15: =IF(CI15=10,1,0) -> 0 | CK15: =IF(AND(CJ15=1,$CJ$66<7),$CJ$2/$CJ$66,0) -> 0 | CL15: =FraDT!DP15 -> 0 | CM15: =IF(CL15=10,1,0) -> 0 | CN15: =IF(AND(CM15=1,$CM$66<7),$CM$2/$CM$66,0) -> 0 | CO15: =FraDT!DT15 -> 0 | CP15: =IF(CO15=10,1,0) -> 0 | CQ15: =IF(AND(CP15=1,$CP$66<7),$CP$2/$CP$66,0) -> 0 | CR15: =FraDT!DX15 -> 0 | CS15: =IF(CR15=10,1,0) -> 0 | CT15: =IF(AND(CS15=1,$CS$66<7),$CS$2/$CS$66,0) -> 0 | CU15: =FraDT!EB15 -> 0 | CV15: =IF(CU15=10,1,0) -> 0 | CW15: =IF(AND(CV15=1,$CV$66<7),$CV$2/$CV$66,0) -> 0 | CX15: =FraDT!EF15 -> 0 | CY15: =IF(CX15=10,1,0) -> 0 | CZ15: =IF(AND(CY15=1,$CY$66<7),$CY$2/$CY$66,0) -> 0 | DA15: =FraDT!EJ15 -> 0 | DB15: =IF(DA15=10,1,0) -> 0 | DC15: =IF(AND(DB15=1,$DB$66<7),$DB$2/$DB$66,0) -> 0 | DD15: =FraDT!EN15 -> 0 | DE15: =IF(DD15=10,1,0) -> 0 | DF15: =IF(AND(DE15=1,$DE$66<7),$DE$2/$DE$66,0) -> 0 | DG15: =FraDT!ER15 -> 0 | DH15: =IF(DG15=10,1,0) -> 0 | DI15: =IF(AND(DH15=1,$DH$66<7),$DH$2/$DH$66,0) -> 0 | DJ15: =FraDT!EV15 -> 0 | DK15: =IF(DJ15=10,1,0) -> 0 | DL15: =IF(AND(DK15=1,$DK$66<7),$DK$2/$DK$66,0) -> 0 | DM15: =FraDT!EZ15 -> 0 | DN15: =IF(DM15=10,1,0) -> 0 | DO15: =IF(AND(DN15=1,$DN$66<7),$DN$2/$DN$66,0) -> 0 | DP15: =FraDT!FD15 -> 0 | DQ15: =IF(DP15=10,1,0) -> 0 | DR15: =IF(AND(DQ15=1,$DQ$66<7),$DQ$2/$DQ$66,0) -> 0 | DS15: =FraDT!FH15 -> 0 | DT15: =IF(DS15=10,1,0) -> 0 | DU15: =IF(AND(DT15=1,$DT$66<7),$DT$2/$DT$66,0) -> 0 | DV15: =FraDT!FL15 -> 0 | DW15: =IF(DV15=10,1,0) -> 0 | DX15: =IF(AND(DW15=1,$DW$66<7),$DW$2/$DW$66,0) -> 0 | DY15: =FraDT!FP15 -> 0 | DZ15: =IF(DY15=10,1,0) -> 0 | EA15: =IF(AND(DZ15=1,$DZ$66<7),$DZ$2/$DZ$66,0) -> 0 | EB15: =FraDT!FT15 -> 0 | EC15: =IF(EB15=10,1,0) -> 0 | ED15: =IF(AND(EC15=1,$EC$66<7),$EC$2/$EC$66,0) -> 0 | EE15: =FraDT!FX15 -> 0 | EF15: =IF(EE15=10,1,0) -> 0 | EG15: =IF(AND(EF15=1,$EF$66<7),$EF$2/$EF$66,0) -> 0 | EH15: =FraDT!GB15 -> 0 | EI15: =IF(EH15=10,1,0) -> 0 | EJ15: =IF(AND(EI15=1,$EI$66<7),$EI$2/$EI$66,0) -> 0 | EK15: =FraDT!GF15 -> 0 | EL15: =IF(EK15=10,1,0) -> 0 | EM15: =IF(AND(EL15=1,$EL$66<7),$EL$2/$EL$66,0) -> 0 | EN15: =FraDT!GJ15 -> 0 | EO15: =IF(EN15=10,1,0) -> 0 | EP15: =IF(AND(EO15=1,$EO$66<7),$EO$2/$EO$66,0) -> 0 | EQ15: =FraDT!GN15 -> 0 | ER15: =IF(EQ15=10,1,0) -> 0 | ES15: =IF(AND(ER15=1,$ER$66<7),$ER$2/$ER$66,0) -> 0 | ET15: =FraDT!GR15 -> 0 | EU15: =IF(ET15=10,1,0) -> 0 | EV15: =IF(AND(EU15=1,$EU$66<7),$EU$2/$EU$66,0) -> 0 | EW15: =FraDT!GV15 -> 0 | EX15: =IF(EW15=10,1,0) -> 0 | EY15: =IF(AND(EX15=1,$EX$66<7),$EX$2/$EX$66,0) -> 0 | EZ15: =FraDT!GZ15 -> 0 | FA15: =IF(EZ15=10,1,0) -> 0 | FB15: =IF(AND(FA15=1,$FA$66<7),$FA$2/$FA$66,0) -> 0 | FC15: =FraDT!HD15 -> 0 | FD15: =IF(FC15=10,1,0) -> 0 | FE15: =IF(AND(FD15=1,$FD$66<7),$FD$2/$FD$66,0) -> 0
... A23: Zico | B23: =DD25 -> 0 | C23: =FraDT!D23 -> 0 | D23: =IF(C23=10,1,0) -> 0 | E23: =IF(AND(D23=1,$D$66<7),$D$2/$D$66,0) -> 0 | F23: =FraDT!H23 -> 3 | G23: =IF(F23=10,1,0) -> 0 | H23: =IF(AND(G23=1,$G$66<7),$G$2/$G$66,0) -> 0 | I23: =FraDT!L23 -> 0 | J23: =IF(I23=10,1,0) -> 0 | K23: =IF(AND(J23=1,$J$66<7),$J$2/$J$66,0) -> 0 | L23: =FraDT!P23 -> 4 | M23: =IF(L23=10,1,0) -> 0 | N23: =IF(AND(M23=1,$M$66<7),$M$2/$M$66,0) -> 0 | O23: =FraDT!T23 -> 0 | P23: =IF(O23=10,1,0) -> 0 | Q23: =IF(AND(P23=1,$P$66<7),$P$2/$P$66,0) -> 0 | R23: =FraDT!X23 -> 0 | S23: =IF(R23=10,1,0) -> 0 | T23: =IF(AND(S23=1,$S$66<7),$S$2/$S$66,0) -> 0 | U23: =FraDT!AB23 -> 0 | V23: =IF(U23=10,1,0) -> 0 | W23: =IF(AND(V23=1,$V$66<7),$V$2/$V$66,0) -> 0 | X23: =FraDT!AF23 -> 0 | Y23: =IF(X23=10,1,0) -> 0 | Z23: =IF(AND(Y23=1,$Y$66<7),$Y$2/$Y$66,0) -> 0 | AA23: =FraDT!AJ23 -> 0 | AB23: =IF(AA23=10,1,0) -> 0 | AC23: =IF(AND(AB23=1,$AB$66<7),$AB$2/$AB$66,0) -> 0 | AD23: =FraDT!AN23 -> 0 | AE23: =IF(AD23=10,1,0) -> 0 | AF23: =IF(AND(AE23=1,$AE$66<7),$AE$2/$AE$66,0) -> 0 | AG23: =FraDT!AR23 -> 0 | AH23: =IF(AG23=10,1,0) -> 0 | AI23: =IF(AND(AH23=1,$AH$66<7),$AH$2/$AH$66,0) -> 0 | AJ23: =FraDT!AV23 -> 0 | AK23: =IF(AJ23=10,1,0) -> 0 | AL23: =IF(AND(AK23=1,$AK$66<7),$AK$2/$AK$66,0) -> 0 | AM23: =FraDT!AZ23 -> 0 | AN23: =IF(AM23=10,1,0) -> 0 | AO23: =IF(AND(AN23=1,$AN$66<7),$AN$2/$AN$66,0) -> 0 | AP23: =FraDT!BD23 -> 0 | AQ23: =IF(AP23=10,1,0) -> 0 | AR23: =IF(AND(AQ23=1,$AQ$66<7),$AQ$2/$AQ$66,0) -> 0 | AS23: =FraDT!BH23 -> 0 | AT23: =IF(AS23=10,1,0) -> 0 | AU23: =IF(AND(AT23=1,$AT$66<7),$AT$2/$AT$66,0) -> 0 | AV23: =FraDT!BL23 -> 0 | AW23: =IF(AV23=10,1,0) -> 0 | AX23: =IF(AND(AW23=1,$AW$66<7),$AW$2/$AW$66,0) -> 0 | AY23: =FraDT!BP23 -> 0 | AZ23: =IF(AY23=10,1,0) -> 0 | BA23: =IF(AND(AZ23=1,$AZ$66<7),$AZ$2/$AZ$66,0) -> 0 | BB23: =FraDT!BT23 -> 0 | BC23: =IF(BB23=10,1,0) -> 0 | BD23: =IF(AND(BC23=1,$BC$66<7),$BC$2/$BC$66,0) -> 0 | BE23: =FraDT!BX23 -> 0 | BF23: =IF(BE23=10,1,0) -> 0 | BG23: =IF(AND(BF23=1,$BF$66<7),$BF$2/$BF$66,0) -> 0 | BH23: =FraDT!CB23 -> 0 | BI23: =IF(BH23=10,1,0) -> 0 | BJ23: =IF(AND(BI23=1,$BI$66<7),$BI$2/$BI$66,0) -> 0 | BK23: =FraDT!CF23 -> 0 | BL23: =IF(BK23=10,1,0) -> 0 | BM23: =IF(AND(BL23=1,$BL$66<7),$BL$2/$BL$66,0) -> 0 | BN23: =FraDT!CJ23 -> 0 | BO23: =IF(BN23=10,1,0) -> 0 | BP23: =IF(AND(BO23=1,$BO$66<7),$BO$2/$BO$66,0) -> 0 | BQ23: =FraDT!CN23 -> 0 | BR23: =IF(BQ23=10,1,0) -> 0 | BS23: =IF(AND(BR23=1,$BR$66<7),$BR$2/$BR$66,0) -> 0 | BT23: =FraDT!CR23 -> 0 | BU23: =IF(BT23=10,1,0) -> 0 | BV23: =IF(AND(BU23=1,$BU$66<7),$BU$2/$BU$66,0) -> 0 | BW23: =FraDT!CV23 -> 0 | BX23: =IF(BW23=10,1,0) -> 0 | BY23: =IF(AND(BX23=1,$BX$66<7),$BX$2/$BX$66,0) -> 0 | BZ23: =FraDT!CZ23 -> 0 | CA23: =IF(BZ23=10,1,0) -> 0 | CB23: =IF(AND(CA23=1,$CA$66<7),$CA$2/$CA$66,0) -> 0 | CC23: =FraDT!DD23 -> 10 | CD23: =IF(CC23=10,1,0) -> 1 | CE23: =IF(AND(CD23=1,$CD$66<7),$CD$2/$CD$66,0) -> 0 | CF23: =FraDT!DH23 -> 0 | CG23: =IF(CF23=10,1,0) -> 0 | CH23: =IF(AND(CG23=1,$CG$66<7),$CG$2/$CG$66,0) -> 0 | CI23: =FraDT!DL23 -> 0 | CJ23: =IF(CI23=10,1,0) -> 0 | CK23: =IF(AND(CJ23=1,$CJ$66<7),$CJ$2/$CJ$66,0) -> 0 | CL23: =FraDT!DP23 -> 0 | CM23: =IF(CL23=10,1,0) -> 0 | CN23: =IF(AND(CM23=1,$CM$66<7),$CM$2/$CM$66,0) -> 0 | CO23: =FraDT!DT23 -> 0 | CP23: =IF(CO23=10,1,0) -> 0 | CQ23: =IF(AND(CP23=1,$CP$66<7),$CP$2/$CP$66,0) -> 0 | CR23: =FraDT!DX23 -> 0 | CS23: =IF(CR23=10,1,0) -> 0 | CT23: =IF(AND(CS23=1,$CS$66<7),$CS$2/$CS$66,0) -> 0 | CU23: =FraDT!EB23 -> 0 | CV23: =IF(CU23=10,1,0) -> 0 | CW23: =IF(AND(CV23=1,$CV$66<7),$CV$2/$CV$66,0) -> 0 | CX23: =FraDT!EF23 -> 0 | CY23: =IF(CX23=10,1,0) -> 0 | CZ23: =IF(AND(CY23=1,$CY$66<7),$CY$2/$CY$66,0) -> 0 | DA23: =FraDT!EJ23 -> 0 | DB23: =IF(DA23=10,1,0) -> 0 | DC23: =IF(AND(DB23=1,$DB$66<7),$DB$2/$DB$66,0) -> 0 | DD23: =FraDT!EN23 -> 0 | DE23: =IF(DD23=10,1,0) -> 0 | DF23: =IF(AND(DE23=1,$DE$66<7),$DE$2/$DE$66,0) -> 0 | DG23: =FraDT!ER23 -> 0 | DH23: =IF(DG23=10,1,0) -> 0 | DI23: =IF(AND(DH23=1,$DH$66<7),$DH$2/$DH$66,0) -> 0 | DJ23: =FraDT!EV23 -> 0 | DK23: =IF(DJ23=10,1,0) -> 0 | DL23: =IF(AND(DK23=1,$DK$66<7),$DK$2/$DK$66,0) -> 0 | DM23: =FraDT!EZ23 -> 0 | DN23: =IF(DM23=10,1,0) -> 0 | DO23: =IF(AND(DN23=1,$DN$66<7),$DN$2/$DN$66,0) -> 0 | DP23: =FraDT!FD23 -> 0 | DQ23: =IF(DP23=10,1,0) -> 0 | DR23: =IF(AND(DQ23=1,$DQ$66<7),$DQ$2/$DQ$66,0) -> 0 | DS23: =FraDT!FH23 -> 0 | DT23: =IF(DS23=10,1,0) -> 0 | DU23: =IF(AND(DT23=1,$DT$66<7),$DT$2/$DT$66,0) -> 0 | DV23: =FraDT!FL23 -> 0 | DW23: =IF(DV23=10,1,0) -> 0 | DX23: =IF(AND(DW23=1,$DW$66<7),$DW$2/$DW$66,0) -> 0 | DY23: =FraDT!FP23 -> 0 | DZ23: =IF(DY23=10,1,0) -> 0 | EA23: =IF(AND(DZ23=1,$DZ$66<7),$DZ$2/$DZ$66,0) -> 0 | EB23: =FraDT!FT23 -> 0 | EC23: =IF(EB23=10,1,0) -> 0 | ED23: =IF(AND(EC23=1,$EC$66<7),$EC$2/$EC$66,0) -> 0 | EE23: =FraDT!FX23 -> 0 | EF23: =IF(EE23=10,1,0) -> 0 | EG23: =IF(AND(EF23=1,$EF$66<7),$EF$2/$EF$66,0) -> 0 | EH23: =FraDT!GB23 -> 0 | EI23: =IF(EH23=10,1,0) -> 0 | EJ23: =IF(AND(EI23=1,$EI$66<7),$EI$2/$EI$66,0) -> 0 | EK23: =FraDT!GF23 -> 0 | EL23: =IF(EK23=10,1,0) -> 0 | EM23: =IF(AND(EL23=1,$EL$66<7),$EL$2/$EL$66,0) -> 0 | EN23: =FraDT!GJ23 -> 0 | EO23: =IF(EN23=10,1,0) -> 0 | EP23: =IF(AND(EO23=1,$EO$66<7),$EO$2/$EO$66,0) -> 0 | EQ23: =FraDT!GN23 -> 0 | ER23: =IF(EQ23=10,1,0) -> 0 | ES23: =IF(AND(ER23=1,$ER$66<7),$ER$2/$ER$66,0) -> 0 | ET23: =FraDT!GR23 -> 0 | EU23: =IF(ET23=10,1,0) -> 0 | EV23: =IF(AND(EU23=1,$EU$66<7),$EU$2/$EU$66,0) -> 0 | EW23: =FraDT!GV23 -> 0 | EX23: =IF(EW23=10,1,0) -> 0 | EY23: =IF(AND(EX23=1,$EX$66<7),$EX$2/$EX$66,0) -> 0 | EZ23: =FraDT!GZ23 -> 0 | FA23: =IF(EZ23=10,1,0) -> 0 | FB23: =IF(AND(FA23=1,$FA$66<7),$FA$2/$FA$66,0) -> 0 | FC23: =FraDT!HD23 -> 0 | FD23: =IF(FC23=10,1,0) -> 0 | FE23: =IF(AND(FD23=1,$FD$66<7),$FD$2/$FD$66,0) -> 0
C24: =FraDT!D24 -> 0 | F24: =FraDT!H24 -> 0 | I24: =FraDT!L24 -> 0 | L24: =FraDT!P24 -> 0 | O24: =FraDT!T24 -> 0 | R24: =FraDT!X24 -> 0 | U24: =FraDT!AB24 -> 0 | X24: =FraDT!AF24 -> 0 | AA24: =FraDT!AJ24 -> 0 | AD24: =FraDT!AN24 -> 0 | AG24: =FraDT!AR24 -> 0 | AJ24: =FraDT!AV24 -> 0 | AM24: =FraDT!AZ24 -> 0 | AP24: =FraDT!BD24 -> 0 | AS24: =FraDT!BH24 -> 0 | AV24: =FraDT!BL24 -> 0 | AY24: =FraDT!BP24 -> 0 | BB24: =FraDT!BT24 -> 0 | BE24: =FraDT!BX24 -> 0 | BH24: =FraDT!CB24 -> 0 | BK24: =FraDT!CF24 -> 0 | BN24: =FraDT!CJ24 -> 0 | BQ24: =FraDT!CN24 -> 0 | BW24: =FraDT!CV24 -> 0 | BZ24: =FraDT!CZ24 -> 0 | CC24: =FraDT!DD24 -> 0 | CF24: =FraDT!DH24 -> 0 | CI24: =FraDT!DL24 -> 0 | CL24: =FraDT!DP24 -> 0 | CO24: =FraDT!DT24 -> 0 | CR24: =FraDT!DX24 -> 0 | CU24: =FraDT!EB24 -> 0 | CX24: =FraDT!EF24 -> 0 | DA24: =FraDT!EJ24 -> 0 | DD24: =FraDT!EN24 -> 0 | DG24: =FraDT!ER24 -> 0 | DJ24: =FraDT!EV24 -> 0 | DM24: =FraDT!EZ24 -> 0 | DP24: =FraDT!FD24 -> 0 | DS24: =FraDT!FH24 -> 0 | DV24: =FraDT!FL24 -> 0 | DY24: =FraDT!FP24 -> 0 | EB24: =FraDT!FT24 -> 0 | EE24: =FraDT!FX24 -> 0 | EH24: =FraDT!GB24 -> 0 | EK24: =FraDT!GF24 -> 0 | EN24: =FraDT!GJ24 -> 0 | EQ24: =FraDT!GN24 -> 0 | ET24: =FraDT!GR24 -> 0 | EW24: =FraDT!GV24 -> 0 | EZ24: =FraDT!GZ24 -> 0 | FC24: =FraDT!HD24 -> 0
