Workbook

Sheet Kvartfinaler
A1: =CONCATENATE("Grand Prix ",DB!B1) -> Grand Prix 2026
A3: =DB!D3 -> Kvartfinaler
A5: 1. | B5: =DB!B22 -> Idskov (1) | C5: =IF(B5<>"","-","") -> - | D5: =DB!E22 -> Benbo (8)
A6: 2. | B6: =DB!B23 -> Frydkær (11) | C6: =IF(B6<>"","-","") -> - | D6: =DB!E23 -> Benbo (16)
A7: 3. | B7: =DB!B24 -> LPHJ (4) | C7: =IF(B7<>"","-","") -> - | D7: =DB!E24 -> LPHJ (6)
A8: 4. | B8: =DB!B25 -> LPHJ (10) | C8: =IF(B8<>"","-","") -> - | D8: =DB!E25 -> Robbo (2)
A9: =DB!H4 -> Tallet i parentes angiver puljen, signaturen er gået videre fra.

Sheet Kampe
A1: =CONCATENATE("Kampe - ",DB!D5) -> Kampe - Kvartfinaler, Kamp 1
B3: Hjemmehold | D3: Udehold
A5: 1. | B5: Manchester City | C5: - | D5: Ipswich
A6: 2. | B6: Brentford | C6: - | D6: Liverpool
A7: 3. | B7: Fulham | C7: - | D7: Hull
A8: 4. | B8: Birmingham | C8: - | D8: Queens Park R
A9: 5. | B9: Bristol C | C9: - | D9: Sheffield U
A10: 6. | B10: Derby | C10: - | D10: Stoke
A11: 7. | B11: Norwich | C11: - | D11: Portsmouth
A12: 8. | B12: Southampton | C12: - | D12: Bolton
A13: 9. | B13: Swansea | C13: - | D13: West Ham
A14: 10. | B14: West Bromwich | C14: - | D14: Blackburn
A15: 11. | B15: Wrexham | C15: - | D15: Preston
A16: 12. | B16: Plymouth | C16: - | D16: Huddersfield
A17: 13. | B17: Sheffield W | C17: - | D17: AFC Wimbledon
A19: N.B.: Holdnavne skal holdes inden for de grønne felter.

Sheet Rækker
B1: =DB!D6 -> 1/4-finaler - K1 | D1: =DB!D6 -> 1/4-finaler - K1 | F1: =DB!D6 -> 1/4-finaler - K1 | H1: =DB!D6 -> 1/4-finaler - K1 | J1: =DB!D6 -> 1/4-finaler - K1 | L1: =DB!D6 -> 1/4-finaler - K1 | N1: =DB!D6 -> 1/4-finaler - K1 | P1: =DB!D6 -> 1/4-finaler - K1
B3: =DGET(DB!A11:I19,"Signatur",DB!A27:A28) -> Benbo | D3: =DGET(DB!A11:I19,"Signatur",DB!B27:B28) -> Frydkær | F3: =DGET(DB!A11:I19,"Signatur",DB!C27:C28) -> Idskov | H3: =DGET(DB!A11:I19,"Signatur",DB!D27:D28) -> LPHJ | J3: =DGET(DB!A11:I19,"Signatur",DB!E27:E28) -> Robbo | L3: =DGET(DB!A11:I19,"Signatur",DB!F27:F28) | N3: =DGET(DB!A11:I19,"Signatur",DB!G27:G28) | P3: =DGET(DB!A11:I19,"Signatur",DB!H27:H28)
B4: =IF(DB!A12<>"",IF(DB!I12=1,"Disket",IF(DB!K12=1,"Udmeldt",IF(DB!Q12="Walkover","Walkover","Status"))),"") -> Status | D4: =IF(DB!A13<>"",IF(DB!I13=1,"Disket",IF(DB!K13=1,"Udmeldt",IF(DB!Q13="Walkover","Walkover","Status"))),"") -> Status | F4: =IF(DB!A14<>"",IF(DB!I14=1,"Disket",IF(DB!K14=1,"Udmeldt",IF(DB!Q14="Walkover","Walkover","Status"))),"") -> Status | H4: =IF(DB!A15<>"",IF(DB!I15=1,"Disket",IF(DB!K15=1,"Udmeldt",IF(DB!Q15="Walkover","Walkover","Status"))),"") -> Status | J4: =IF(DB!A16<>"",IF(DB!I16=1,"Disket",IF(DB!K16=1,"Udmeldt",IF(DB!Q16="Walkover","Walkover","Status"))),"") -> Status | L4: =IF(DB!A17<>"",IF(DB!I17=1,"Disket",IF(DB!K17=1,"Udmeldt",IF(DB!Q17="Walkover","Walkover","Status"))),"") | N4: =IF(DB!A18<>"",IF(DB!I18=1,"Disket",IF(DB!K18=1,"Udmeldt",IF(DB!Q18="Walkover","Walkover","Status"))),"") | P4: =IF(DB!A19<>"",IF(DB!I19=1,"Disket",IF(DB!K19=1,"Udmeldt",IF(DB!Q19="Walkover","Walkover","Status"))),"")
B6: =IF(B3<>"","Række","") -> Række | D6: =IF(D3<>"","Række","") -> Række | F6: =IF(F3<>"","Række","") -> Række | H6: =IF(H3<>"","Række","") -> Række | J6: =IF(J3<>"","Række","") -> Række | L6: =IF(L3<>"","Række","") | N6: =IF(N3<>"","Række","") | P6: =IF(P3<>"","Række","")
A7: 1. | B7: 1 | C7: 1. | D7: 1 | E7: 1. | F7: 1 | G7: 1. | H7: 1 | I7: 1. | J7: 1 | K7: 1. | M7: 1. | O7: 1.
A8: 2. | B8: 2 | C8: 2. | D8: 2 | E8: 2. | F8: 2 | G8: 2. | H8: x | I8: 2. | J8: x | K8: 2. | M8: 2. | O8: 2.
A9: 3. | B9: 1 | C9: 3. | D9: 1 | E9: 3. | F9: 1 | G9: 3. | H9: 1 | I9: 3. | J9: 1 | K9: 3. | M9: 3. | O9: 3.
A10: 4. | B10: 1 | C10: 4. | D10: 1 | E10: 4. | F10: 1 | G10: 4. | H10: 1 | I10: 4. | J10: 1 | K10: 4. | M10: 4. | O10: 4.
A11: 5. | B11: 1 | C11: 5. | D11: 1 | E11: 5. | F11: 1 | G11: 5. | H11: 1 | I11: 5. | J11: 1 | K11: 5. | M11: 5. | O11: 5.
A12: 6. | B12: 2 | C12: 6. | D12: 2 | E12: 6. | F12: 1 | G12: 6. | H12: 2 | I12: 6. | J12: 2 | K12: 6. | M12: 6. | O12: 6.
A13: 7. | B13: 1 | C13: 7. | D13: 1 | E13: 7. | F13: 1 | G13: 7. | H13: 1 | I13: 7. | J13: 1 | K13: 7. | M13: 7. | O13: 7.
A14: 8. | B14: 1 | C14: 8. | D14: 1 | E14: 8. | F14: 1 | G14: 8. | H14: 1 | I14: 8. | J14: 1 | K14: 8. | M14: 8. | O14: 8.
A15: 9. | B15: 2 | C15: 9. | D15: 2 | E15: 9. | F15: 2 | G15: 9. | H15: 2 | I15: 9. | J15: 2 | K15: 9. | M15: 9. | O15: 9.
A16: 10. | B16: 1 | C16: 10. | D16: 1 | E16: 10. | F16: 1 | G16: 10. | H16: 1 | I16: 10. | J16: 1 | K16: 10. | M16: 10. | O16: 10.
A17: 11. | B17: 1 | C17: 11. | D17: 1 | E17: 11. | F17: 1 | G17: 11. | H17: 1 | I17: 11. | J17: 1 | K17: 11. | M17: 11. | O17: 11.
A18: 12. | B18: x | C18: 12. | D18: x | E18: 12. | F18: x | G18: 12. | H18: 1 | I18: 12. | J18: 1 | K18: 12. | M18: 12. | O18: 12.
A19: 13. | B19: 1 | C19: 13. | D19: 1 | E19: 13. | F19: 1 | G19: 13. | H19: 1 | I19: 13. | J19: 1 | K19: 13. | M19: 13. | O19: 13.
B20: =DB!A8 -> OK | D20: =DB!B8 -> OK | F20: =DB!C8 -> OK | H20: =DB!D8 -> OK | J20: =DB!E8 -> OK | L20: =DB!F8 | N20: =DB!G8 | P20: =DB!H8

Sheet Rækker - Udskrift
A1: =CONCATENATE("Grand Prix ",DB!B1) -> Grand Prix 2026
A4: =IF(F4<>"",DB!D5,"") -> Kvartfinaler, Kamp 1 | E4: =IF(F4<>"","De 13 rigtige","") -> De 13 rigtige | F4: =Rækker!B3 -> Benbo | I4: =Rækker!D3 -> Frydkær | L4: =Rækker!F3 -> Idskov | O4: =Rækker!H3 -> LPHJ | R4: =Rækker!J3 -> Robbo | U4: =Rækker!L3 | X4: =Rækker!N3 | AA4: =Rækker!P3
F5: =DB!Q12 | I5: =DB!Q13 | L5: =DB!Q14 | O5: =DB!Q15 | R5: =DB!Q16 | U5: =DB!Q17 | X5: =DB!Q18 | AA5: =DB!Q19
E6: 1X2 | F6: 1 | G6: X | H6: 2 | I6: 1 | J6: X | K6: 2 | L6: 1 | M6: X | N6: 2 | O6: 1 | P6: X | Q6: 2 | R6: 1 | S6: X | T6: 2 | U6: 1 | V6: X | W6: 2 | X6: 1 | Y6: X | Z6: 2 | AA6: 1 | AB6: X | AC6: 2
B7: =IF(F4<>"","1.","") -> 1. | C7: =IF(F4<>"",CONCATENATE(Kampe!B5," - ",Kampe!D5,"........................................................................................................."),"") -> Manchester City - Ipswich......................................................................................................... | F7: =IF(Rækker!B7=1,1,"") -> 1 | G7: =IF(Rækker!B7="X","X","") | H7: =IF(Rækker!B7=2,2,"") | I7: =IF(Rækker!D7=1,1,"") -> 1 | J7: =IF(Rækker!D7="X","X","") | K7: =IF(Rækker!D7=2,2,"") | L7: =IF(Rækker!F7=1,1,"") -> 1 | M7: =IF(Rækker!F7="X","X","") | N7: =IF(Rækker!F7=2,2,"") | O7: =IF(Rækker!H7=1,1,"") -> 1 | P7: =IF(Rækker!H7="X","X","") | Q7: =IF(Rækker!H7=2,2,"") | R7: =IF(Rækker!J7=1,1,"") -> 1 | S7: =IF(Rækker!J7="X","X","") | T7: =IF(Rækker!J7=2,2,"") | U7: =IF(Rækker!L7=1,1,"") | V7: =IF(Rækker!L7="X","X","") | W7: =IF(Rækker!L7=2,2,"") | X7: =IF(Rækker!N7=1,1,"") | Y7: =IF(Rækker!N7="X","X","") | Z7: =IF(Rækker!N7=2,2,"") | AA7: =IF(Rækker!P7=1,1,"") | AB7: =IF(Rækker!P7="X","X","") | AC7: =IF(Rækker!P7=2,2,"")
B8: =IF(F4<>"","2.","") -> 2. | C8: =IF(F4<>"",CONCATENATE(Kampe!B6," - ",Kampe!D6,"........................................................................................................."),"") -> Brentford - Liverpool......................................................................................................... | F8: =IF(Rækker!B8=1,1,"") | G8: =IF(Rækker!B8="X","X","") | H8: =IF(Rækker!B8=2,2,"") -> 2 | I8: =IF(Rækker!D8=1,1,"") | J8: =IF(Rækker!D8="X","X","") | K8: =IF(Rækker!D8=2,2,"") -> 2 | L8: =IF(Rækker!F8=1,1,"") | M8: =IF(Rækker!F8="X","X","") | N8: =IF(Rækker!F8=2,2,"") -> 2 | O8: =IF(Rækker!H8=1,1,"") | P8: =IF(Rækker!H8="X","X","") -> X | Q8: =IF(Rækker!H8=2,2,"") | R8: =IF(Rækker!J8=1,1,"") | S8: =IF(Rækker!J8="X","X","") -> X | T8: =IF(Rækker!J8=2,2,"") | U8: =IF(Rækker!L8=1,1,"") | V8: =IF(Rækker!L8="X","X","") | W8: =IF(Rækker!L8=2,2,"") | X8: =IF(Rækker!N8=1,1,"") | Y8: =IF(Rækker!N8="X","X","") | Z8: =IF(Rækker!N8=2,2,"") | AA8: =IF(Rækker!P8=1,1,"") | AB8: =IF(Rækker!P8="X","X","") | AC8: =IF(Rækker!P8=2,2,"")
B9: =IF(F4<>"","3.","") -> 3. | C9: =IF(F4<>"",CONCATENATE(Kampe!B7," - ",Kampe!D7,"........................................................................................................."),"") -> Fulham - Hull......................................................................................................... | F9: =IF(Rækker!B9=1,1,"") -> 1 | G9: =IF(Rækker!B9="X","X","") | H9: =IF(Rækker!B9=2,2,"") | I9: =IF(Rækker!D9=1,1,"") -> 1 | J9: =IF(Rækker!D9="X","X","") | K9: =IF(Rækker!D9=2,2,"") | L9: =IF(Rækker!F9=1,1,"") -> 1 | M9: =IF(Rækker!F9="X","X","") | N9: =IF(Rækker!F9=2,2,"") | O9: =IF(Rækker!H9=1,1,"") -> 1 | P9: =IF(Rækker!H9="X","X","") | Q9: =IF(Rækker!H9=2,2,"") | R9: =IF(Rækker!J9=1,1,"") -> 1 | S9: =IF(Rækker!J9="X","X","") | T9: =IF(Rækker!J9=2,2,"") | U9: =IF(Rækker!L9=1,1,"") | V9: =IF(Rækker!L9="X","X","") | W9: =IF(Rækker!L9=2,2,"") | X9: =IF(Rækker!N9=1,1,"") | Y9: =IF(Rækker!N9="X","X","") | Z9: =IF(Rækker!N9=2,2,"") | AA9: =IF(Rækker!P9=1,1,"") | AB9: =IF(Rækker!P9="X","X","") | AC9: =IF(Rækker!P9=2,2,"")
B10: =IF(F4<>"","4.","") -> 4. | C10: =IF(F4<>"",CONCATENATE(Kampe!B8," - ",Kampe!D8,"........................................................................................................."),"") -> Birmingham - Queens Park R......................................................................................................... | F10: =IF(Rækker!B10=1,1,"") -> 1 | G10: =IF(Rækker!B10="X","X","") | H10: =IF(Rækker!B10=2,2,"") | I10: =IF(Rækker!D10=1,1,"") -> 1 | J10: =IF(Rækker!D10="X","X","") | K10: =IF(Rækker!D10=2,2,"") | L10: =IF(Rækker!F10=1,1,"") -> 1 | M10: =IF(Rækker!F10="X","X","") | N10: =IF(Rækker!F10=2,2,"") | O10: =IF(Rækker!H10=1,1,"") -> 1 | P10: =IF(Rækker!H10="X","X","") | Q10: =IF(Rækker!H10=2,2,"") | R10: =IF(Rækker!J10=1,1,"") -> 1 | S10: =IF(Rækker!J10="X","X","") | T10: =IF(Rækker!J10=2,2,"") | U10: =IF(Rækker!L10=1,1,"") | V10: =IF(Rækker!L10="X","X","") | W10: =IF(Rækker!L10=2,2,"") | X10: =IF(Rækker!N10=1,1,"") | Y10: =IF(Rækker!N10="X","X","") | Z10: =IF(Rækker!N10=2,2,"") | AA10: =IF(Rækker!P10=1,1,"") | AB10: =IF(Rækker!P10="X","X","") | AC10: =IF(Rækker!P10=2,2,"") | AD10: Klagefrister:
B11: =IF(F4<>"","5.","") -> 5. | C11: =IF(F4<>"",CONCATENATE(Kampe!B9," - ",Kampe!D9,"........................................................................................................."),"") -> Bristol C - Sheffield U......................................................................................................... | F11: =IF(Rækker!B11=1,1,"") -> 1 | G11: =IF(Rækker!B11="X","X","") | H11: =IF(Rækker!B11=2,2,"") | I11: =IF(Rækker!D11=1,1,"") -> 1 | J11: =IF(Rækker!D11="X","X","") | K11: =IF(Rækker!D11=2,2,"") | L11: =IF(Rækker!F11=1,1,"") -> 1 | M11: =IF(Rækker!F11="X","X","") | N11: =IF(Rækker!F11=2,2,"") | O11: =IF(Rækker!H11=1,1,"") -> 1 | P11: =IF(Rækker!H11="X","X","") | Q11: =IF(Rækker!H11=2,2,"") | R11: =IF(Rækker!J11=1,1,"") -> 1 | S11: =IF(Rækker!J11="X","X","") | T11: =IF(Rækker!J11=2,2,"") | U11: =IF(Rækker!L11=1,1,"") | V11: =IF(Rækker!L11="X","X","") | W11: =IF(Rækker!L11=2,2,"") | X11: =IF(Rækker!N11=1,1,"") | Y11: =IF(Rækker!N11="X","X","") | Z11: =IF(Rækker!N11=2,2,"") | AA11: =IF(Rækker!P11=1,1,"") | AB11: =IF(Rækker!P11="X","X","") | AC11: =IF(Rækker!P11=2,2,"") | AD11: Regnefejl - 3 uger
B12: =IF(F4<>"","6.","") -> 6. | C12: =IF(F4<>"",CONCATENATE(Kampe!B10," - ",Kampe!D10,"........................................................................................................."),"") -> Derby - Stoke......................................................................................................... | F12: =IF(Rækker!B12=1,1,"") | G12: =IF(Rækker!B12="X","X","") | H12: =IF(Rækker!B12=2,2,"") -> 2 | I12: =IF(Rækker!D12=1,1,"") | J12: =IF(Rækker!D12="X","X","") | K12: =IF(Rækker!D12=2,2,"") -> 2 | L12: =IF(Rækker!F12=1,1,"") -> 1 | M12: =IF(Rækker!F12="X","X","") | N12: =IF(Rækker!F12=2,2,"") | O12: =IF(Rækker!H12=1,1,"") | P12: =IF(Rækker!H12="X","X","") | Q12: =IF(Rækker!H12=2,2,"") -> 2 | R12: =IF(Rækker!J12=1,1,"") | S12: =IF(Rækker!J12="X","X","") | T12: =IF(Rækker!J12=2,2,"") -> 2 | U12: =IF(Rækker!L12=1,1,"") | V12: =IF(Rækker!L12="X","X","") | W12: =IF(Rækker!L12=2,2,"") | X12: =IF(Rækker!N12=1,1,"") | Y12: =IF(Rækker!N12="X","X","") | Z12: =IF(Rækker!N12=2,2,"") | AA12: =IF(Rækker!P12=1,1,"") | AB12: =IF(Rækker!P12="X","X","") | AC12: =IF(Rækker!P12=2,2,"") | AD12: Opstillingsfejl - lørdag kl. 14.00
B13: =IF(F4<>"","7.","") -> 7. | C13: =IF(F4<>"",CONCATENATE(Kampe!B11," - ",Kampe!D11,"........................................................................................................."),"") -> Norwich - Portsmouth......................................................................................................... | F13: =IF(Rækker!B13=1,1,"") -> 1 | G13: =IF(Rækker!B13="X","X","") | H13: =IF(Rækker!B13=2,2,"") | I13: =IF(Rækker!D13=1,1,"") -> 1 | J13: =IF(Rækker!D13="X","X","") | K13: =IF(Rækker!D13=2,2,"") | L13: =IF(Rækker!F13=1,1,"") -> 1 | M13: =IF(Rækker!F13="X","X","") | N13: =IF(Rækker!F13=2,2,"") | O13: =IF(Rækker!H13=1,1,"") -> 1 | P13: =IF(Rækker!H13="X","X","") | Q13: =IF(Rækker!H13=2,2,"") | R13: =IF(Rækker!J13=1,1,"") -> 1 | S13: =IF(Rækker!J13="X","X","") | T13: =IF(Rækker!J13=2,2,"") | U13: =IF(Rækker!L13=1,1,"") | V13: =IF(Rækker!L13="X","X","") | W13: =IF(Rækker!L13=2,2,"") | X13: =IF(Rækker!N13=1,1,"") | Y13: =IF(Rækker!N13="X","X","") | Z13: =IF(Rækker!N13=2,2,"") | AA13: =IF(Rækker!P13=1,1,"") | AB13: =IF(Rækker!P13="X","X","") | AC13: =IF(Rækker!P13=2,2,"")
B14: =IF(F4<>"","8.","") -> 8. | C14: =IF(F4<>"",CONCATENATE(Kampe!B12," - ",Kampe!D12,"........................................................................................................."),"") -> Southampton - Bolton......................................................................................................... | F14: =IF(Rækker!B14=1,1,"") -> 1 | G14: =IF(Rækker!B14="X","X","") | H14: =IF(Rækker!B14=2,2,"") | I14: =IF(Rækker!D14=1,1,"") -> 1 | J14: =IF(Rækker!D14="X","X","") | K14: =IF(Rækker!D14=2,2,"") | L14: =IF(Rækker!F14=1,1,"") -> 1 | M14: =IF(Rækker!F14="X","X","") | N14: =IF(Rækker!F14=2,2,"") | O14: =IF(Rækker!H14=1,1,"") -> 1 | P14: =IF(Rækker!H14="X","X","") | Q14: =IF(Rækker!H14=2,2,"") | R14: =IF(Rækker!J14=1,1,"") -> 1 | S14: =IF(Rækker!J14="X","X","") | T14: =IF(Rækker!J14=2,2,"") | U14: =IF(Rækker!L14=1,1,"") | V14: =IF(Rækker!L14="X","X","") | W14: =IF(Rækker!L14=2,2,"") | X14: =IF(Rækker!N14=1,1,"") | Y14: =IF(Rækker!N14="X","X","") | Z14: =IF(Rækker!N14=2,2,"") | AA14: =IF(Rækker!P14=1,1,"") | AB14: =IF(Rækker!P14="X","X","") | AC14: =IF(Rækker!P14=2,2,"") | AD14: =DB!H1 -> Grand Prix-række afgives til Bjarne Villadsen
B15: =IF(F4<>"","9.","") -> 9. | C15: =IF(F4<>"",CONCATENATE(Kampe!B13," - ",Kampe!D13,"........................................................................................................."),"") -> Swansea - West Ham......................................................................................................... | F15: =IF(Rækker!B15=1,1,"") | G15: =IF(Rækker!B15="X","X","") | H15: =IF(Rækker!B15=2,2,"") -> 2 | I15: =IF(Rækker!D15=1,1,"") | J15: =IF(Rækker!D15="X","X","") | K15: =IF(Rækker!D15=2,2,"") -> 2 | L15: =IF(Rækker!F15=1,1,"") | M15: =IF(Rækker!F15="X","X","") | N15: =IF(Rækker!F15=2,2,"") -> 2 | O15: =IF(Rækker!H15=1,1,"") | P15: =IF(Rækker!H15="X","X","") | Q15: =IF(Rækker!H15=2,2,"") -> 2 | R15: =IF(Rækker!J15=1,1,"") | S15: =IF(Rækker!J15="X","X","") | T15: =IF(Rækker!J15=2,2,"") -> 2 | U15: =IF(Rækker!L15=1,1,"") | V15: =IF(Rækker!L15="X","X","") | W15: =IF(Rækker!L15=2,2,"") | X15: =IF(Rækker!N15=1,1,"") | Y15: =IF(Rækker!N15="X","X","") | Z15: =IF(Rækker!N15=2,2,"") | AA15: =IF(Rækker!P15=1,1,"") | AB15: =IF(Rækker!P15="X","X","") | AC15: =IF(Rækker!P15=2,2,"") | AD15: =DB!H2 -> Senest Onsdag kl. 23.00 i næste kampuge
B16: =IF(F4<>"","10.","") -> 10. | C16: =IF(F4<>"",CONCATENATE(Kampe!B14," - ",Kampe!D14,"........................................................................................................."),"") -> West Bromwich - Blackburn......................................................................................................... | F16: =IF(Rækker!B16=1,1,"") -> 1 | G16: =IF(Rækker!B16="X","X","") | H16: =IF(Rækker!B16=2,2,"") | I16: =IF(Rækker!D16=1,1,"") -> 1 | J16: =IF(Rækker!D16="X","X","") | K16: =IF(Rækker!D16=2,2,"") | L16: =IF(Rækker!F16=1,1,"") -> 1 | M16: =IF(Rækker!F16="X","X","") | N16: =IF(Rækker!F16=2,2,"") | O16: =IF(Rækker!H16=1,1,"") -> 1 | P16: =IF(Rækker!H16="X","X","") | Q16: =IF(Rækker!H16=2,2,"") | R16: =IF(Rækker!J16=1,1,"") -> 1 | S16: =IF(Rækker!J16="X","X","") | T16: =IF(Rækker!J16=2,2,"") | U16: =IF(Rækker!L16=1,1,"") | V16: =IF(Rækker!L16="X","X","") | W16: =IF(Rækker!L16=2,2,"") | X16: =IF(Rækker!N16=1,1,"") | Y16: =IF(Rækker!N16="X","X","") | Z16: =IF(Rækker!N16=2,2,"") | AA16: =IF(Rækker!P16=1,1,"") | AB16: =IF(Rækker!P16="X","X","") | AC16: =IF(Rækker!P16=2,2,"") | AD16: =DB!H3 -> på tlf.: 20 46 98 75 eller på email: lundstipsforening@gmail
B17: =IF(F4<>"","11.","") -> 11. | C17: =IF(F4<>"",CONCATENATE(Kampe!B15," - ",Kampe!D15,"........................................................................................................."),"") -> Wrexham - Preston......................................................................................................... | F17: =IF(Rækker!B17=1,1,"") -> 1 | G17: =IF(Rækker!B17="X","X","") | H17: =IF(Rækker!B17=2,2,"") | I17: =IF(Rækker!D17=1,1,"") -> 1 | J17: =IF(Rækker!D17="X","X","") | K17: =IF(Rækker!D17=2,2,"") | L17: =IF(Rækker!F17=1,1,"") -> 1 | M17: =IF(Rækker!F17="X","X","") | N17: =IF(Rækker!F17=2,2,"") | O17: =IF(Rækker!H17=1,1,"") -> 1 | P17: =IF(Rækker!H17="X","X","") | Q17: =IF(Rækker!H17=2,2,"") | R17: =IF(Rækker!J17=1,1,"") -> 1 | S17: =IF(Rækker!J17="X","X","") | T17: =IF(Rækker!J17=2,2,"") | U17: =IF(Rækker!L17=1,1,"") | V17: =IF(Rækker!L17="X","X","") | W17: =IF(Rækker!L17=2,2,"") | X17: =IF(Rækker!N17=1,1,"") | Y17: =IF(Rækker!N17="X","X","") | Z17: =IF(Rækker!N17=2,2,"") | AA17: =IF(Rækker!P17=1,1,"") | AB17: =IF(Rækker!P17="X","X","") | AC17: =IF(Rækker!P17=2,2,"")
B18: =IF(F4<>"","12.","") -> 12. | C18: =IF(F4<>"",CONCATENATE(Kampe!B16," - ",Kampe!D16,"........................................................................................................."),"") -> Plymouth - Huddersfield......................................................................................................... | F18: =IF(Rækker!B18=1,1,"") | G18: =IF(Rækker!B18="X","X","") -> X | H18: =IF(Rækker!B18=2,2,"") | I18: =IF(Rækker!D18=1,1,"") | J18: =IF(Rækker!D18="X","X","") -> X | K18: =IF(Rækker!D18=2,2,"") | L18: =IF(Rækker!F18=1,1,"") | M18: =IF(Rækker!F18="X","X","") -> X | N18: =IF(Rækker!F18=2,2,"") | O18: =IF(Rækker!H18=1,1,"") -> 1 | P18: =IF(Rækker!H18="X","X","") | Q18: =IF(Rækker!H18=2,2,"") | R18: =IF(Rækker!J18=1,1,"") -> 1 | S18: =IF(Rækker!J18="X","X","") | T18: =IF(Rækker!J18=2,2,"") | U18: =IF(Rækker!L18=1,1,"") | V18: =IF(Rækker!L18="X","X","") | W18: =IF(Rækker!L18=2,2,"") | X18: =IF(Rækker!N18=1,1,"") | Y18: =IF(Rækker!N18="X","X","") | Z18: =IF(Rækker!N18=2,2,"") | AA18: =IF(Rækker!P18=1,1,"") | AB18: =IF(Rækker!P18="X","X","") | AC18: =IF(Rækker!P18=2,2,"")
B19: =IF(F4<>"","13.","") -> 13. | C19: =IF(F4<>"",CONCATENATE(Kampe!B17," - ",Kampe!D17,"........................................................................................................."),"") -> Sheffield W - AFC Wimbledon......................................................................................................... | F19: =IF(Rækker!B19=1,1,"") -> 1 | G19: =IF(Rækker!B19="X","X","") | H19: =IF(Rækker!B19=2,2,"") | I19: =IF(Rækker!D19=1,1,"") -> 1 | J19: =IF(Rækker!D19="X","X","") | K19: =IF(Rækker!D19=2,2,"") | L19: =IF(Rækker!F19=1,1,"") -> 1 | M19: =IF(Rækker!F19="X","X","") | N19: =IF(Rækker!F19=2,2,"") | O19: =IF(Rækker!H19=1,1,"") -> 1 | P19: =IF(Rækker!H19="X","X","") | Q19: =IF(Rækker!H19=2,2,"") | R19: =IF(Rækker!J19=1,1,"") -> 1 | S19: =IF(Rækker!J19="X","X","") | T19: =IF(Rækker!J19=2,2,"") | U19: =IF(Rækker!L19=1,1,"") | V19: =IF(Rækker!L19="X","X","") | W19: =IF(Rækker!L19=2,2,"") | X19: =IF(Rækker!N19=1,1,"") | Y19: =IF(Rækker!N19="X","X","") | Z19: =IF(Rækker!N19=2,2,"") | AA19: =IF(Rækker!P19=1,1,"") | AB19: =IF(Rækker!P19="X","X","") | AC19: =IF(Rækker!P19=2,2,"")
A20: =IF(F4<>"","Resultat: ","") -> Resultat: | F20: =IF(DB!B6=13,IF(F4<>"",IF(F5<>"",IF(OR(LEFT(F5,3)="Res",LEFT(F5,2)="MR"),DB!AE12,""),DB!AE12),""),"") | I20: =IF(DB!B6=13,IF(I4<>"",IF(I5<>"",IF(OR(LEFT(I5,3)="Res",LEFT(I5,2)="MR"),DB!AE13,""),DB!AE13),""),"") | L20: =IF(DB!B6=13,IF(L4<>"",IF(L5<>"",IF(OR(LEFT(L5,3)="Res",LEFT(L5,2)="MR"),DB!AE14,""),DB!AE14),""),"") | O20: =IF(DB!B6=13,IF(O4<>"",IF(O5<>"",IF(OR(LEFT(O5,3)="Res",LEFT(O5,2)="MR"),DB!AE15,""),DB!AE15),""),"") | R20: =IF(DB!B6=13,IF(R4<>"",IF(R5<>"",IF(OR(LEFT(R5,3)="Res",LEFT(R5,2)="MR"),DB!AE16,""),DB!AE16),""),"") | U20: =IF(DB!B6=13,IF(U4<>"",IF(U5<>"",IF(OR(LEFT(U5,3)="Res",LEFT(U5,2)="MR"),DB!AE17,""),DB!AE17),""),"") | X20: =IF(DB!B6=13,IF(X4<>"",IF(X5<>"",IF(OR(LEFT(X5,3)="Res",LEFT(X5,2)="MR"),DB!AE18,""),DB!AE18),""),"") | AA20: =IF(DB!B6=13,IF(AA4<>"",IF(AA5<>"",IF(OR(LEFT(AA5,3)="Res",LEFT(AA5,2)="MR"),DB!AE19,""),DB!AE19),""),"")

Sheet Resultater
A1: =CONCATENATE("Grand Prix ",DB!B1) -> Grand Prix 2026
A3: =CONCATENATE(DB!D3," - Resultater, Kamp ",DB!C5) -> Kvartfinaler - Resultater, Kamp 1 | H3: Vinder
A5: 1. | B5: =DB!B22 -> Idskov (1) | C5: =IF(B5<>"","-","") -> - | D5: =DB!E22 -> Benbo (8) | E5: =DB!L22 | F5: =IF(E5<>"","-","") | G5: =DB!S22 | H5: =DB!V22
A6: 2. | B6: =DB!B23 -> Frydkær (11) | C6: =IF(B6<>"","-","") -> - | D6: =DB!E23 -> Benbo (16) | E6: =DB!L23 | F6: =IF(E6<>"","-","") | G6: =DB!S23 | H6: =DB!V23
A7: 3. | B7: =DB!B24 -> LPHJ (4) | C7: =IF(B7<>"","-","") -> - | D7: =DB!E24 -> LPHJ (6) | E7: =DB!L24 | F7: =IF(E7<>"","-","") | G7: =DB!S24 | H7: =DB!V24
A8: 4. | B8: =DB!B25 -> LPHJ (10) | C8: =IF(B8<>"","-","") -> - | D8: =DB!E25 -> Robbo (2) | E8: =DB!L25 | F8: =IF(E8<>"","-","") | G8: =DB!S25 | H8: =DB!V25
A9: Rundens reservescore: | E9: =DB!F1
A10: =DB!H4 -> Tallet i parentes angiver puljen, signaturen er gået videre fra.

Sheet DB
A1: År: | B1: =[1]DB!B1 -> 2026 | E1: Res N: | F1: =IF(B6=13,IF(B4=B2,IF(SUM(H12:H19)=8,"",IF(SUM(AM12:AM19)=0,0,ROUND(SUM(AL12:AL19)/SUM(AM12:AM19),0))),""),"") | H1: =[2]DB!H1 -> Grand Prix-række afgives til Bjarne Villadsen
A2: Runde F: | B2: =[1]DB!B3 -> 23 | C2: Runde F: | D2: =[1]DB!D3 -> 4. runde | H2: =[2]DB!H2 -> Senest Onsdag kl. 23.00 i næste kampuge
A3: Runde N: | B3: =B2+1 -> 24 | C3: Runde N: | D3: =[1]DB!D4 -> Kvartfinaler | H3: =[2]DB!H3 -> på tlf.: 20 46 98 75 eller på email: lundstipsforening@gmail
A4: Tal F: | B4: =[1]DB!B5 -> 23 | C4: Runde E: | D4: =D3 -> Kvartfinaler | H4: =IF(DB!B2<>B4,CONCATENATE("Ingen kampresultater: ",D2," ikke færdigspillet."),"Tallet i parentes angiver puljen, signaturen er gået videre fra.") -> Tallet i parentes angiver puljen, signaturen er gået videre fra.
A5: Tal N: | B5: =IF(B2=B4,IF(B6=13,B4+1,B4),B4) -> 23 | C5: 1 | D5: =CONCATENATE(D3,", Kamp ",C5) -> Kvartfinaler, Kamp 1
A6: Opd.? | B6: =COUNTIF(R10:AD10,1)+COUNTIF(R10:AD10,"X")+COUNTIF(R10:AD10,2) -> 0 | D6: =CONCATENATE("1/4-finaler - K",C5) -> 1/4-finaler - K1
A8: =IF(Rækker!B3="",IF(COUNTIF(Rækker!B5:B19,"")<14,"FEJL",""),IF(IF(OR(Rækker!B4="Disket",Rækker!B4="Udmeldt",Rækker!B4="Walkover"),1,0)=0,IF(IF(Rækker!B5<>"",IF(OR(Rækker!B5="Disket",Rækker!B5="Udmeldt",Rækker!B5="MR",Rækker!B5="Res"),1,2),0)=0,IF(COUNTIF(Rækker!B7:B19,"<>")<13,"",IF(COUNTIF(Rækker!B7:B19,1)+COUNTIF(Rækker!B7:B19,"X")+COUNTIF(Rækker!B7:B19,2)=13,"OK","FEJL")),IF(IF(Rækker!B5<>"",IF(OR(Rækker!B5="Disket",Rækker!B5="Udmeldt",Rækker!B5="MR",Rækker!B5="Res"),1,2),0)=1,IF(COUNTIF(Rækker!B7:B19,"<>")=0,"OK","FEJL"),"FEJL")),IF(AND(IF(Rækker!B5<>"",IF(OR(Rækker!B5="Disket",Rækker!B5="Udmeldt",Rækker!B5="MR",Rækker!B5="Res"),1,2),0)=0,COUNTIF(Rækker!B7:B19,"<>")=0),"OK","FEJL"))) -> OK | B8: =IF(Rækker!D3="",IF(COUNTIF(Rækker!D5:D19,"")<14,"FEJL",""),IF(IF(OR(Rækker!D4="Disket",Rækker!D4="Udmeldt",Rækker!D4="Walkover"),1,0)=0,IF(IF(Rækker!D5<>"",IF(OR(Rækker!D5="Disket",Rækker!D5="Udmeldt",Rækker!D5="MR",Rækker!D5="Res"),1,2),0)=0,IF(COUNTIF(Rækker!D7:D19,"<>")<13,"",IF(COUNTIF(Rækker!D7:D19,1)+COUNTIF(Rækker!D7:D19,"X")+COUNTIF(Rækker!D7:D19,2)=13,"OK","FEJL")),IF(IF(Rækker!D5<>"",IF(OR(Rækker!D5="Disket",Rækker!D5="Udmeldt",Rækker!D5="MR",Rækker!D5="Res"),1,2),0)=1,IF(COUNTIF(Rækker!D7:D19,"<>")=0,"OK","FEJL"),"FEJL")),IF(AND(IF(Rækker!D5<>"",IF(OR(Rækker!D5="Disket",Rækker!D5="Udmeldt",Rækker!D5="MR",Rækker!D5="Res"),1,2),0)=0,COUNTIF(Rækker!D7:D19,"<>")=0),"OK","FEJL"))) -> OK | C8: =IF(Rækker!F3="",IF(COUNTIF(Rækker!F5:F19,"")<14,"FEJL",""),IF(IF(OR(Rækker!F4="Disket",Rækker!F4="Udmeldt",Rækker!F4="Walkover"),1,0)=0,IF(IF(Rækker!F5<>"",IF(OR(Rækker!F5="Disket",Rækker!F5="Udmeldt",Rækker!F5="MR",Rækker!F5="Res"),1,2),0)=0,IF(COUNTIF(Rækker!F7:F19,"<>")<13,"",IF(COUNTIF(Rækker!F7:F19,1)+COUNTIF(Rækker!F7:F19,"X")+COUNTIF(Rækker!F7:F19,2)=13,"OK","FEJL")),IF(IF(Rækker!F5<>"",IF(OR(Rækker!F5="Disket",Rækker!F5="Udmeldt",Rækker!F5="MR",Rækker!F5="Res"),1,2),0)=1,IF(COUNTIF(Rækker!F7:F19,"<>")=0,"OK","FEJL"),"FEJL")),IF(AND(IF(Rækker!F5<>"",IF(OR(Rækker!F5="Disket",Rækker!F5="Udmeldt",Rækker!F5="MR",Rækker!F5="Res"),1,2),0)=0,COUNTIF(Rækker!F7:F19,"<>")=0),"OK","FEJL"))) -> OK | D8: =IF(Rækker!H3="",IF(COUNTIF(Rækker!H5:H19,"")<14,"FEJL",""),IF(IF(OR(Rækker!H4="Disket",Rækker!H4="Udmeldt",Rækker!H4="Walkover"),1,0)=0,IF(IF(Rækker!H5<>"",IF(OR(Rækker!H5="Disket",Rækker!H5="Udmeldt",Rækker!H5="MR",Rækker!H5="Res"),1,2),0)=0,IF(COUNTIF(Rækker!H7:H19,"<>")<13,"",IF(COUNTIF(Rækker!H7:H19,1)+COUNTIF(Rækker!H7:H19,"X")+COUNTIF(Rækker!H7:H19,2)=13,"OK","FEJL")),IF(IF(Rækker!H5<>"",IF(OR(Rækker!H5="Disket",Rækker!H5="Udmeldt",Rækker!H5="MR",Rækker!H5="Res"),1,2),0)=1,IF(COUNTIF(Rækker!H7:H19,"<>")=0,"OK","FEJL"),"FEJL")),IF(AND(IF(Rækker!H5<>"",IF(OR(Rækker!H5="Disket",Rækker!H5="Udmeldt",Rækker!H5="MR",Rækker!H5="Res"),1,2),0)=0,COUNTIF(Rækker!H7:H19,"<>")=0),"OK","FEJL"))) -> OK | E8: =IF(Rækker!J3="",IF(COUNTIF(Rækker!J5:J19,"")<14,"FEJL",""),IF(IF(OR(Rækker!J4="Disket",Rækker!J4="Udmeldt",Rækker!J4="Walkover"),1,0)=0,IF(IF(Rækker!J5<>"",IF(OR(Rækker!J5="Disket",Rækker!J5="Udmeldt",Rækker!J5="MR",Rækker!J5="Res"),1,2),0)=0,IF(COUNTIF(Rækker!J7:J19,"<>")<13,"",IF(COUNTIF(Rækker!J7:J19,1)+COUNTIF(Rækker!J7:J19,"X")+COUNTIF(Rækker!J7:J19,2)=13,"OK","FEJL")),IF(IF(Rækker!J5<>"",IF(OR(Rækker!J5="Disket",Rækker!J5="Udmeldt",Rækker!J5="MR",Rækker!J5="Res"),1,2),0)=1,IF(COUNTIF(Rækker!J7:J19,"<>")=0,"OK","FEJL"),"FEJL")),IF(AND(IF(Rækker!J5<>"",IF(OR(Rækker!J5="Disket",Rækker!J5="Udmeldt",Rækker!J5="MR",Rækker!J5="Res"),1,2),0)=0,COUNTIF(Rækker!J7:J19,"<>")=0),"OK","FEJL"))) -> OK | F8: =IF(Rækker!L3="",IF(COUNTIF(Rækker!L5:L19,"")<14,"FEJL",""),IF(IF(OR(Rækker!L4="Disket",Rækker!L4="Udmeldt",Rækker!L4="Walkover"),1,0)=0,IF(IF(Rækker!L5<>"",IF(OR(Rækker!L5="Disket",Rækker!L5="Udmeldt",Rækker!L5="MR",Rækker!L5="Res"),1,2),0)=0,IF(COUNTIF(Rækker!L7:L19,"<>")<13,"",IF(COUNTIF(Rækker!L7:L19,1)+COUNTIF(Rækker!L7:L19,"X")+COUNTIF(Rækker!L7:L19,2)=13,"OK","FEJL")),IF(IF(Rækker!L5<>"",IF(OR(Rækker!L5="Disket",Rækker!L5="Udmeldt",Rækker!L5="MR",Rækker!L5="Res"),1,2),0)=1,IF(COUNTIF(Rækker!L7:L19,"<>")=0,"OK","FEJL"),"FEJL")),IF(AND(IF(Rækker!L5<>"",IF(OR(Rækker!L5="Disket",Rækker!L5="Udmeldt",Rækker!L5="MR",Rækker!L5="Res"),1,2),0)=0,COUNTIF(Rækker!L7:L19,"<>")=0),"OK","FEJL"))) | G8: =IF(Rækker!N3="",IF(COUNTIF(Rækker!N5:N19,"")<14,"FEJL",""),IF(IF(OR(Rækker!N4="Disket",Rækker!N4="Udmeldt",Rækker!N4="Walkover"),1,0)=0,IF(IF(Rækker!N5<>"",IF(OR(Rækker!N5="Disket",Rækker!N5="Udmeldt",Rækker!N5="MR",Rækker!N5="Res"),1,2),0)=0,IF(COUNTIF(Rækker!N7:N19,"<>")<13,"",IF(COUNTIF(Rækker!N7:N19,1)+COUNTIF(Rækker!N7:N19,"X")+COUNTIF(Rækker!N7:N19,2)=13,"OK","FEJL")),IF(IF(Rækker!N5<>"",IF(OR(Rækker!N5="Disket",Rækker!N5="Udmeldt",Rækker!N5="MR",Rækker!N5="Res"),1,2),0)=1,IF(COUNTIF(Rækker!N7:N19,"<>")=0,"OK","FEJL"),"FEJL")),IF(AND(IF(Rækker!N5<>"",IF(OR(Rækker!N5="Disket",Rækker!N5="Udmeldt",Rækker!N5="MR",Rækker!N5="Res"),1,2),0)=0,COUNTIF(Rækker!N7:N19,"<>")=0),"OK","FEJL"))) | H8: =IF(Rækker!P3="",IF(COUNTIF(Rækker!P5:P19,"")<14,"FEJL",""),IF(IF(OR(Rækker!P4="Disket",Rækker!P4="Udmeldt",Rækker!P4="Walkover"),1,0)=0,IF(IF(Rækker!P5<>"",IF(OR(Rækker!P5="Disket",Rækker!P5="Udmeldt",Rækker!P5="MR",Rækker!P5="Res"),1,2),0)=0,IF(COUNTIF(Rækker!P7:P19,"<>")<13,"",IF(COUNTIF(Rækker!P7:P19,1)+COUNTIF(Rækker!P7:P19,"X")+COUNTIF(Rækker!P7:P19,2)=13,"OK","FEJL")),IF(IF(Rækker!P5<>"",IF(OR(Rækker!P5="Disket",Rækker!P5="Udmeldt",Rækker!P5="MR",Rækker!P5="Res"),1,2),0)=1,IF(COUNTIF(Rækker!P7:P19,"<>")=0,"OK","FEJL"),"FEJL")),IF(AND(IF(Rækker!P5<>"",IF(OR(Rækker!P5="Disket",Rækker!P5="Udmeldt",Rækker!P5="MR",Rækker!P5="Res"),1,2),0)=0,COUNTIF(Rækker!P7:P19,"<>")=0),"OK","FEJL")))
R10: ='Rækker - Udskrift'!E7 -> 0 | S10: ='Rækker - Udskrift'!E8 -> 0 | T10: ='Rækker - Udskrift'!E9 -> 0 | U10: ='Rækker - Udskrift'!E10 -> 0 | V10: ='Rækker - Udskrift'!E11 -> 0 | W10: ='Rækker - Udskrift'!E12 -> 0 | X10: ='Rækker - Udskrift'!E13 -> 0 | Y10: ='Rækker - Udskrift'!E14 -> 0 | Z10: ='Rækker - Udskrift'!E15 -> 0 | AA10: ='Rækker - Udskrift'!E16 -> 0 | AB10: ='Rækker - Udskrift'!E17 -> 0 | AC10: ='Rækker - Udskrift'!E18 -> 0 | AD10: ='Rækker - Udskrift'!E19 -> 0
A11: Signatur | B11: ID | C11: Deltager | D11: 2. runde F | E11: 2. runde E | F11: Kval F | G11: Kval E | H11: Ego | I11: Dis F | J11: Dis E | K11: Udm F | L11: Udm E | M11: MR F | N11: MR E | O11: Res F | P11: Res E | Q11: Kamp 0 | R11: Kamp 1 | S11: Kamp 2 | T11: Kamp 3 | U11: Kamp 4 | V11: Kamp 5 | W11: Kamp 6 | X11: Kamp 7 | Y11: Kamp 8 | Z11: Kamp 9 | AA11: Kamp 10 | AB11: Kamp 11 | AC11: Kamp 12 | AD11: Kamp 13 | AE11: Total | AF11: T Pl. | AG11: ES N | AH11: Point | AI11: P Pl. | AJ11: BU | AK11: BU Pl. | AL11: Res | AN11: Deltager E | AO11: 2. runde | AP11: Kval | AR11: ID E | AS11: Signatur | AT11: Deltager | AU11: 2. runde | AV11: Kval | AW11: Dis | AX11: Udm | AY11: MR | AZ11: Res
A12: =[1]DB!AS12 -> Benbo | B12: 1 | C12: =[1]DB!AT12 -> 2 | D12: 0 | E12: =IF(B6=13,IF(A12<>"",COUNTIF(U22:U25,A12)+D12,0),D12) -> 0 | F12: =[1]DB!AT12 -> 2 | G12: =IF(B6=13,IF(A12<>"",F12-COUNTIF(U22:U25,A12)-COUNTIF(Y22:Y25,A12),0),F12) -> 2 | H12: =[1]DB!BA12 -> 0 | I12: =[1]DB!AW12 -> 0 | J12: =IF(Rækker!B5="Disket",1,IF(N12>5,1,IF(I12=1,1,0))) -> 0 | K12: =[1]DB!AX12 -> 0 | L12: =IF(Rækker!B5="Udmeldt",1,IF(K12=1,1,0)) -> 0 | M12: =[1]DB!AY12 -> 0 | N12: =IF(Rækker!B5="MR",M12+1,M12) -> 0 | O12: =[1]DB!AZ12 -> 1 | P12: =IF(Rækker!B5="Res",O12+1,O12) -> 1 | Q12: =IF(J12=1,"Disket",IF(L12=1,"Udmeldt",IF(AND(C12>0,F12=H12),"Walkover",IF(AND(C12>0,D12>0,F12=0),"Walkover",IF(M12<>N12,CONCATENATE("MR ",N12),IF(O12<>P12,IF(P12>10,"Res 10+",CONCATENATE("Res ",P12)),"")))))) | R12: =IF('Rækker - Udskrift'!F7=1,1,IF('Rækker - Udskrift'!G7="X","X",IF('Rækker - Udskrift'!H7=2,2,""))) -> 1 | S12: =IF('Rækker - Udskrift'!F8=1,1,IF('Rækker - Udskrift'!G8="X","X",IF('Rækker - Udskrift'!H8=2,2,""))) -> 2 | T12: =IF('Rækker - Udskrift'!F9=1,1,IF('Rækker - Udskrift'!G9="X","X",IF('Rækker - Udskrift'!H9=2,2,""))) -> 1 | U12: =IF('Rækker - Udskrift'!F10=1,1,IF('Rækker - Udskrift'!G10="X","X",IF('Rækker - Udskrift'!H10=2,2,""))) -> 1 | V12: =IF('Rækker - Udskrift'!F11=1,1,IF('Rækker - Udskrift'!G11="X","X",IF('Rækker - Udskrift'!H11=2,2,""))) -> 1 | W12: =IF('Rækker - Udskrift'!F12=1,1,IF('Rækker - Udskrift'!G12="X","X",IF('Rækker - Udskrift'!H12=2,2,""))) -> 2 | X12: =IF('Rækker - Udskrift'!F13=1,1,IF('Rækker - Udskrift'!G13="X","X",IF('Rækker - Udskrift'!H13=2,2,""))) -> 1 | Y12: =IF('Rækker - Udskrift'!F14=1,1,IF('Rækker - Udskrift'!G14="X","X",IF('Rækker - Udskrift'!H14=2,2,""))) -> 1 | Z12: =IF('Rækker - Udskrift'!F15=1,1,IF('Rækker - Udskrift'!G15="X","X",IF('Rækker - Udskrift'!H15=2,2,""))) -> 2 | AA12: =IF('Rækker - Udskrift'!F16=1,1,IF('Rækker - Udskrift'!G16="X","X",IF('Rækker - Udskrift'!H16=2,2,""))) -> 1 | AB12: =IF('Rækker - Udskrift'!F17=1,1,IF('Rækker - Udskrift'!G17="X","X",IF('Rækker - Udskrift'!H17=2,2,""))) -> 1 | AC12: =IF('Rækker - Udskrift'!F18=1,1,IF('Rækker - Udskrift'!G18="X","X",IF('Rækker - Udskrift'!H18=2,2,""))) -> X | AD12: =IF('Rækker - Udskrift'!F19=1,1,IF('Rækker - Udskrift'!G19="X","X",IF('Rækker - Udskrift'!H19=2,2,""))) -> 1 | AE12: =IF(Q12<>"",IF(LEFT(Q12,3)="Res",F1,0),IF(R12=R10,1,0)+IF(S12=S10,1,0)+IF(T12=T10,1,0)+IF(U12=U10,1,0)+IF(V12=V10,1,0)+IF(W12=W10,1,0)+IF(X12=X10,1,0)+IF(Y12=Y10,1,0)+IF(Z12=Z10,1,0)+IF(AA12=AA10,1,0)+IF(AB12=AB10,1,0)+IF(AC12=AC10,1,0)+IF(AD12=AD10,1,0)) -> 0 | AF12: =RANK(AE12,AE12:AE19,1) -> 1 | AG12: =IF(Q12<>"",IF(LEFT(Q12,3)="Res",AE12,0),AE12) -> 0 | AH12: =IF(R12=R10,4096,0)+IF(S12=S10,2048,0)+IF(T12=T10,1024,0)+IF(U12=U10,512,0)+IF(V12=V10,256,0)+IF(W12=W10,128,0)+IF(X12=X10,64,0)+IF(Y12=Y10,32,0)+IF(Z12=Z10,16,0)+IF(AA12=AA10,8,0)+IF(AB12=AB10,4,0)+IF(AC12=AC10,2,0)+IF(AD12=AD10,1,0) -> 0 | AI12: =RANK(AH12,AH12:AH19,1) -> 1 | AJ12: =(AF12*65)+AI12 -> 66 | AK12: =RANK(AJ12,AJ12:AJ19,1) -> 1 | AL12: =IF(AND(A12<>"",Q12=""),AE12,0) -> 0 | AM12: =IF(AND(A12<>"",Q12=""),1,0) -> 1 | AN12: =E12+G12 -> 2 | AO12: =AN12-AP12 -> 0 | AP12: =G12 -> 2 | AQ12: =IF(C12>0,IF(AN12>0,COUNTIF(AN12,">0"),0),0) -> 1 | AR12: =IF(AQ12>0,AQ12,MAX(AQ12:AQ19)+COUNTIF(AQ12,"=0")) -> 1 | AS12: =IF(A30>MAX(AQ12:AQ19),"",DGET(A11:AR19,"Signatur",A29:A30)) -> Benbo | AT12: =IF(A30>MAX(AQ12:AQ19),0,DGET(A11:AR19,"Deltager E",A29:A30)) -> 2 | AU12: =IF(A30>MAX(AQ12:AQ19),0,DGET(A11:AR19,"2. runde E",A29:A30)) -> 0 | AV12: =IF(A30>MAX(AQ12:AQ19),0,DGET(A11:AR19,"Kval E",A29:A30)) -> 2 | AW12: =IF(A30>MAX(AQ12:AQ19),0,DGET(A11:AR19,"Dis E",A29:A30)) -> 0 | AX12: =IF(A30>MAX(AQ12:AQ19),0,DGET(A11:AR19,"Udm E",A29:A30)) -> 0 | AY12: =IF(A30>MAX(AQ12:AQ19),0,DGET(A11:AR19,"MR E",A29:A30)) -> 0 | AZ12: =IF(A30>MAX(AQ12:AQ19),0,DGET(A11:AR19,"Res E",A29:A30)) -> 1
A13: =[1]DB!AS13 -> Frydkær | B13: 2 | C13: =[1]DB!AT13 -> 1 | D13: 0 | E13: =IF(B6=13,IF(A13<>"",COUNTIF(U22:U25,A13)+D13,0),D13) -> 0 | F13: =[1]DB!AT13 -> 1 | G13: =IF(B6=13,IF(A13<>"",F13-COUNTIF(U22:U25,A13)-COUNTIF(Y22:Y25,A13),0),F13) -> 1 | H13: =[1]DB!BA13 -> 0 | I13: =[1]DB!AW13 -> 0 | J13: =IF(Rækker!D5="Disket",1,IF(N13>5,1,IF(I13=1,1,0))) -> 0 | K13: =[1]DB!AX13 -> 0 | L13: =IF(Rækker!D5="Udmeldt",1,IF(K13=1,1,0)) -> 0 | M13: =[1]DB!AY13 -> 0 | N13: =IF(Rækker!D5="MR",M13+1,M13) -> 0 | O13: =[1]DB!AZ13 -> 1 | P13: =IF(Rækker!D5="Res",O13+1,O13) -> 1 | Q13: =IF(J13=1,"Disket",IF(L13=1,"Udmeldt",IF(AND(C13>0,F13=H13),"Walkover",IF(AND(C13>0,D13>0,F13=0),"Walkover",IF(M13<>N13,CONCATENATE("MR ",N13),IF(O13<>P13,IF(P13>10,"Res 10+",CONCATENATE("Res ",P13)),"")))))) | R13: =IF('Rækker - Udskrift'!I7=1,1,IF('Rækker - Udskrift'!J7="X","X",IF('Rækker - Udskrift'!K7=2,2,""))) -> 1 | S13: =IF('Rækker - Udskrift'!I8=1,1,IF('Rækker - Udskrift'!J8="X","X",IF('Rækker - Udskrift'!K8=2,2,""))) -> 2 | T13: =IF('Rækker - Udskrift'!I9=1,1,IF('Rækker - Udskrift'!J9="X","X",IF('Rækker - Udskrift'!K9=2,2,""))) -> 1 | U13: =IF('Rækker - Udskrift'!I10=1,1,IF('Rækker - Udskrift'!J10="X","X",IF('Rækker - Udskrift'!K10=2,2,""))) -> 1 | V13: =IF('Rækker - Udskrift'!I11=1,1,IF('Rækker - Udskrift'!J11="X","X",IF('Rækker - Udskrift'!K11=2,2,""))) -> 1 | W13: =IF('Rækker - Udskrift'!I12=1,1,IF('Rækker - Udskrift'!J12="X","X",IF('Rækker - Udskrift'!K12=2,2,""))) -> 2 | X13: =IF('Rækker - Udskrift'!I13=1,1,IF('Rækker - Udskrift'!J13="X","X",IF('Rækker - Udskrift'!K13=2,2,""))) -> 1 | Y13: =IF('Rækker - Udskrift'!I14=1,1,IF('Rækker - Udskrift'!J14="X","X",IF('Rækker - Udskrift'!K14=2,2,""))) -> 1 | Z13: =IF('Rækker - Udskrift'!I15=1,1,IF('Rækker - Udskrift'!J15="X","X",IF('Rækker - Udskrift'!K15=2,2,""))) -> 2 | AA13: =IF('Rækker - Udskrift'!I16=1,1,IF('Rækker - Udskrift'!J16="X","X",IF('Rækker - Udskrift'!K16=2,2,""))) -> 1 | AB13: =IF('Rækker - Udskrift'!I17=1,1,IF('Rækker - Udskrift'!J17="X","X",IF('Rækker - Udskrift'!K17=2,2,""))) -> 1 | AC13: =IF('Rækker - Udskrift'!I18=1,1,IF('Rækker - Udskrift'!J18="X","X",IF('Rækker - Udskrift'!K18=2,2,""))) -> X | AD13: =IF('Rækker - Udskrift'!I19=1,1,IF('Rækker - Udskrift'!J19="X","X",IF('Rækker - Udskrift'!K19=2,2,""))) -> 1 | AE13: =IF(Q13<>"",IF(LEFT(Q13,3)="Res",F1,0),IF(R13=R10,1,0)+IF(S13=S10,1,0)+IF(T13=T10,1,0)+IF(U13=U10,1,0)+IF(V13=V10,1,0)+IF(W13=W10,1,0)+IF(X13=X10,1,0)+IF(Y13=Y10,1,0)+IF(Z13=Z10,1,0)+IF(AA13=AA10,1,0)+IF(AB13=AB10,1,0)+IF(AC13=AC10,1,0)+IF(AD13=AD10,1,0)) -> 0 | AF13: =RANK(AE13,AE12:AE19,1) -> 1 | AG13: =IF(Q13<>"",IF(LEFT(Q13,3)="Res",AE13,0),AE13) -> 0 | AH13: =IF(R13=R10,4096,0)+IF(S13=S10,2048,0)+IF(T13=T10,1024,0)+IF(U13=U10,512,0)+IF(V13=V10,256,0)+IF(W13=W10,128,0)+IF(X13=X10,64,0)+IF(Y13=Y10,32,0)+IF(Z13=Z10,16,0)+IF(AA13=AA10,8,0)+IF(AB13=AB10,4,0)+IF(AC13=AC10,2,0)+IF(AD13=AD10,1,0) -> 0 | AI13: =RANK(AH13,AH12:AH19,1) -> 1 | AJ13: =(AF13*65)+AI13 -> 66 | AK13: =RANK(AJ13,AJ12:AJ19,1) -> 1 | AL13: =IF(AND(A13<>"",Q13=""),AE13,0) -> 0 | AM13: =IF(AND(A13<>"",Q13=""),1,0) -> 1 | AN13: =E13+G13 -> 1 | AO13: =AN13-AP13 -> 0 | AP13: =G13 -> 1 | AQ13: =IF(C13>0,IF(AN13>0,COUNTIF(AN12:AN13,">0"),0),0) -> 2 | AR13: =IF(AQ13>0,AQ13,MAX(AQ12:AQ19)+COUNTIF(AQ12:AQ13,"=0")) -> 2 | AS13: =IF(B30>MAX(AQ12:AQ19),"",DGET(A11:AR19,"Signatur",B29:B30)) -> Frydkær | AT13: =IF(B30>MAX(AQ12:AQ19),0,DGET(A11:AR19,"Deltager E",B29:B30)) -> 1 | AU13: =IF(B30>MAX(AQ12:AQ19),0,DGET(A11:AR19,"2. runde E",B29:B30)) -> 0 | AV13: =IF(B30>MAX(AQ12:AQ19),0,DGET(A11:AR19,"Kval E",B29:B30)) -> 1 | AW13: =IF(B30>MAX(AQ12:AQ19),0,DGET(A11:AR19,"Dis E",B29:B30)) -> 0 | AX13: =IF(B30>MAX(AQ12:AQ19),0,DGET(A11:AR19,"Udm E",B29:B30)) -> 0 | AY13: =IF(B30>MAX(AQ12:AQ19),0,DGET(A11:AR19,"MR E",B29:B30)) -> 0 | AZ13: =IF(B30>MAX(AQ12:AQ19),0,DGET(A11:AR19,"Res E",B29:B30)) -> 1
A14: =[1]DB!AS14 -> Idskov | B14: 3 | C14: =[1]DB!AT14 -> 1 | D14: 0 | E14: =IF(B6=13,IF(A14<>"",COUNTIF(U22:U25,A14)+D14,0),D14) -> 0 | F14: =[1]DB!AT14 -> 1 | G14: =IF(B6=13,IF(A14<>"",F14-COUNTIF(U22:U25,A14)-COUNTIF(Y22:Y25,A14),0),F14) -> 1 | H14: =[1]DB!BA14 -> 0 | I14: =[1]DB!AW14 -> 0 | J14: =IF(Rækker!F5="Disket",1,IF(N14>5,1,IF(I14=1,1,0))) -> 0 | K14: =[1]DB!AX14 -> 0 | L14: =IF(Rækker!F5="Udmeldt",1,IF(K14=1,1,0)) -> 0 | M14: =[1]DB!AY14 -> 0 | N14: =IF(Rækker!F5="MR",M14+1,M14) -> 0 | O14: =[1]DB!AZ14 -> 0 | P14: =IF(Rækker!F5="Res",O14+1,O14) -> 0 | Q14: =IF(J14=1,"Disket",IF(L14=1,"Udmeldt",IF(AND(C14>0,F14=H14),"Walkover",IF(AND(C14>0,D14>0,F14=0),"Walkover",IF(M14<>N14,CONCATENATE("MR ",N14),IF(O14<>P14,IF(P14>10,"Res 10+",CONCATENATE("Res ",P14)),"")))))) | R14: =IF('Rækker - Udskrift'!L7=1,1,IF('Rækker - Udskrift'!M7="X","X",IF('Rækker - Udskrift'!N7=2,2,""))) -> 1 | S14: =IF('Rækker - Udskrift'!L8=1,1,IF('Rækker - Udskrift'!M8="X","X",IF('Rækker - Udskrift'!N8=2,2,""))) -> 2 | T14: =IF('Rækker - Udskrift'!L9=1,1,IF('Rækker - Udskrift'!M9="X","X",IF('Rækker - Udskrift'!N9=2,2,""))) -> 1 | U14: =IF('Rækker - Udskrift'!L10=1,1,IF('Rækker - Udskrift'!M10="X","X",IF('Rækker - Udskrift'!N10=2,2,""))) -> 1 | V14: =IF('Rækker - Udskrift'!L11=1,1,IF('Rækker - Udskrift'!M11="X","X",IF('Rækker - Udskrift'!N11=2,2,""))) -> 1 | W14: =IF('Rækker - Udskrift'!L12=1,1,IF('Rækker - Udskrift'!M12="X","X",IF('Rækker - Udskrift'!N12=2,2,""))) -> 1 | X14: =IF('Rækker - Udskrift'!L13=1,1,IF('Rækker - Udskrift'!M13="X","X",IF('Rækker - Udskrift'!N13=2,2,""))) -> 1 | Y14: =IF('Rækker - Udskrift'!L14=1,1,IF('Rækker - Udskrift'!M14="X","X",IF('Rækker - Udskrift'!N14=2,2,""))) -> 1 | Z14: =IF('Rækker - Udskrift'!L15=1,1,IF('Rækker - Udskrift'!M15="X","X",IF('Rækker - Udskrift'!N15=2,2,""))) -> 2 | AA14: =IF('Rækker - Udskrift'!L16=1,1,IF('Rækker - Udskrift'!M16="X","X",IF('Rækker - Udskrift'!N16=2,2,""))) -> 1 | AB14: =IF('Rækker - Udskrift'!L17=1,1,IF('Rækker - Udskrift'!M17="X","X",IF('Rækker - Udskrift'!N17=2,2,""))) -> 1 | AC14: =IF('Rækker - Udskrift'!L18=1,1,IF('Rækker - Udskrift'!M18="X","X",IF('Rækker - Udskrift'!N18=2,2,""))) -> X | AD14: =IF('Rækker - Udskrift'!L19=1,1,IF('Rækker - Udskrift'!M19="X","X",IF('Rækker - Udskrift'!N19=2,2,""))) -> 1 | AE14: =IF(Q14<>"",IF(LEFT(Q14,3)="Res",F1,0),IF(R14=R10,1,0)+IF(S14=S10,1,0)+IF(T14=T10,1,0)+IF(U14=U10,1,0)+IF(V14=V10,1,0)+IF(W14=W10,1,0)+IF(X14=X10,1,0)+IF(Y14=Y10,1,0)+IF(Z14=Z10,1,0)+IF(AA14=AA10,1,0)+IF(AB14=AB10,1,0)+IF(AC14=AC10,1,0)+IF(AD14=AD10,1,0)) -> 0 | AF14: =RANK(AE14,AE12:AE19,1) -> 1 | AG14: =IF(Q14<>"",IF(LEFT(Q14,3)="Res",AE14,0),AE14) -> 0 | AH14: =IF(R14=R10,4096,0)+IF(S14=S10,2048,0)+IF(T14=T10,1024,0)+IF(U14=U10,512,0)+IF(V14=V10,256,0)+IF(W14=W10,128,0)+IF(X14=X10,64,0)+IF(Y14=Y10,32,0)+IF(Z14=Z10,16,0)+IF(AA14=AA10,8,0)+IF(AB14=AB10,4,0)+IF(AC14=AC10,2,0)+IF(AD14=AD10,1,0) -> 0 | AI14: =RANK(AH14,AH12:AH19,1) -> 1 | AJ14: =(AF14*65)+AI14 -> 66 | AK14: =RANK(AJ14,AJ12:AJ19,1) -> 1 | AL14: =IF(AND(A14<>"",Q14=""),AE14,0) -> 0 | AM14: =IF(AND(A14<>"",Q14=""),1,0) -> 1 | AN14: =E14+G14 -> 1 | AO14: =AN14-AP14 -> 0 | AP14: =G14 -> 1 | AQ14: =IF(C14>0,IF(AN14>0,COUNTIF(AN12:AN14,">0"),0),0) -> 3 | AR14: =IF(AQ14>0,AQ14,MAX(AQ12:AQ19)+COUNTIF(AQ12:AQ14,"=0")) -> 3 | AS14: =IF(C30>MAX(AQ12:AQ19),"",DGET(A11:AR19,"Signatur",C29:C30)) -> Idskov | AT14: =IF(C30>MAX(AQ12:AQ19),0,DGET(A11:AR19,"Deltager E",C29:C30)) -> 1 | AU14: =IF(C30>MAX(AQ12:AQ19),0,DGET(A11:AR19,"2. runde E",C29:C30)) -> 0 | AV14: =IF(C30>MAX(AQ12:AQ19),0,DGET(A11:AR19,"Kval E",C29:C30)) -> 1 | AW14: =IF(C30>MAX(AQ12:AQ19),0,DGET(A11:AR19,"Dis E",C29:C30)) -> 0 | AX14: =IF(C30>MAX(AQ12:AQ19),0,DGET(A11:AR19,"Udm E",C29:C30)) -> 0 | AY14: =IF(C30>MAX(AQ12:AQ19),0,DGET(A11:AR19,"MR E",C29:C30)) -> 0 | AZ14: =IF(C30>MAX(AQ12:AQ19),0,DGET(A11:AR19,"Res E",C29:C30)) -> 0
A15: =[1]DB!AS15 -> LPHJ | B15: 4 | C15: =[1]DB!AT15 -> 3 | D15: 0 | E15: =IF(B6=13,IF(A15<>"",COUNTIF(U22:U25,A15)+D15,0),D15) -> 0 | F15: =[1]DB!AT15 -> 3 | G15: =IF(B6=13,IF(A15<>"",F15-COUNTIF(U22:U25,A15)-COUNTIF(Y22:Y25,A15),0),F15) -> 3 | H15: =[1]DB!BA15 -> 2 | I15: =[1]DB!AW15 -> 0 | J15: =IF(Rækker!H5="Disket",1,IF(N15>5,1,IF(I15=1,1,0))) -> 0 | K15: =[1]DB!AX15 -> 0 | L15: =IF(Rækker!H5="Udmeldt",1,IF(K15=1,1,0)) -> 0 | M15: =[1]DB!AY15 -> 0 | N15: =IF(Rækker!H5="MR",M15+1,M15) -> 0 | O15: =[1]DB!AZ15 -> 0 | P15: =IF(Rækker!H5="Res",O15+1,O15) -> 0 | Q15: =IF(J15=1,"Disket",IF(L15=1,"Udmeldt",IF(AND(C15>0,F15=H15),"Walkover",IF(AND(C15>0,D15>0,F15=0),"Walkover",IF(M15<>N15,CONCATENATE("MR ",N15),IF(O15<>P15,IF(P15>10,"Res 10+",CONCATENATE("Res ",P15)),"")))))) | R15: =IF('Rækker - Udskrift'!O7=1,1,IF('Rækker - Udskrift'!P7="X","X",IF('Rækker - Udskrift'!Q7=2,2,""))) -> 1 | S15: =IF('Rækker - Udskrift'!O8=1,1,IF('Rækker - Udskrift'!P8="X","X",IF('Rækker - Udskrift'!Q8=2,2,""))) -> X | T15: =IF('Rækker - Udskrift'!O9=1,1,IF('Rækker - Udskrift'!P9="X","X",IF('Rækker - Udskrift'!Q9=2,2,""))) -> 1 | U15: =IF('Rækker - Udskrift'!O10=1,1,IF('Rækker - Udskrift'!P10="X","X",IF('Rækker - Udskrift'!Q10=2,2,""))) -> 1 | V15: =IF('Rækker - Udskrift'!O11=1,1,IF('Rækker - Udskrift'!P11="X","X",IF('Rækker - Udskrift'!Q11=2,2,""))) -> 1 | W15: =IF('Rækker - Udskrift'!O12=1,1,IF('Rækker - Udskrift'!P12="X","X",IF('Rækker - Udskrift'!Q12=2,2,""))) -> 2 | X15: =IF('Rækker - Udskrift'!O13=1,1,IF('Rækker - Udskrift'!P13="X","X",IF('Rækker - Udskrift'!Q13=2,2,""))) -> 1 | Y15: =IF('Rækker - Udskrift'!O14=1,1,IF('Rækker - Udskrift'!P14="X","X",IF('Rækker - Udskrift'!Q14=2,2,""))) -> 1 | Z15: =IF('Rækker - Udskrift'!O15=1,1,IF('Rækker - Udskrift'!P15="X","X",IF('Rækker - Udskrift'!Q15=2,2,""))) -> 2 | AA15: =IF('Rækker - Udskrift'!O16=1,1,IF('Rækker - Udskrift'!P16="X","X",IF('Rækker - Udskrift'!Q16=2,2,""))) -> 1 | AB15: =IF('Rækker - Udskrift'!O17=1,1,IF('Rækker - Udskrift'!P17="X","X",IF('Rækker - Udskrift'!Q17=2,2,""))) -> 1 | AC15: =IF('Rækker - Udskrift'!O18=1,1,IF('Rækker - Udskrift'!P18="X","X",IF('Rækker - Udskrift'!Q18=2,2,""))) -> 1 | AD15: =IF('Rækker - Udskrift'!O19=1,1,IF('Rækker - Udskrift'!P19="X","X",IF('Rækker - Udskrift'!Q19=2,2,""))) -> 1 | AE15: =IF(Q15<>"",IF(LEFT(Q15,3)="Res",F1,0),IF(R15=R10,1,0)+IF(S15=S10,1,0)+IF(T15=T10,1,0)+IF(U15=U10,1,0)+IF(V15=V10,1,0)+IF(W15=W10,1,0)+IF(X15=X10,1,0)+IF(Y15=Y10,1,0)+IF(Z15=Z10,1,0)+IF(AA15=AA10,1,0)+IF(AB15=AB10,1,0)+IF(AC15=AC10,1,0)+IF(AD15=AD10,1,0)) -> 0 | AF15: =RANK(AE15,AE12:AE19,1) -> 1 | AG15: =IF(Q15<>"",IF(LEFT(Q15,3)="Res",AE15,0),AE15) -> 0 | AH15: =IF(R15=R10,4096,0)+IF(S15=S10,2048,0)+IF(T15=T10,1024,0)+IF(U15=U10,512,0)+IF(V15=V10,256,0)+IF(W15=W10,128,0)+IF(X15=X10,64,0)+IF(Y15=Y10,32,0)+IF(Z15=Z10,16,0)+IF(AA15=AA10,8,0)+IF(AB15=AB10,4,0)+IF(AC15=AC10,2,0)+IF(AD15=AD10,1,0) -> 0 | AI15: =RANK(AH15,AH12:AH19,1) -> 1 | AJ15: =(AF15*65)+AI15 -> 66 | AK15: =RANK(AJ15,AJ12:AJ19,1) -> 1 | AL15: =IF(AND(A15<>"",Q15=""),AE15,0) -> 0 | AM15: =IF(AND(A15<>"",Q15=""),1,0) -> 1 | AN15: =E15+G15 -> 3 | AO15: =AN15-AP15 -> 0 | AP15: =G15 -> 3 | AQ15: =IF(C15>0,IF(AN15>0,COUNTIF(AN12:AN15,">0"),0),0) -> 4 | AR15: =IF(AQ15>0,AQ15,MAX(AQ12:AQ19)+COUNTIF(AQ12:AQ15,"=0")) -> 4 | AS15: =IF(D30>MAX(AQ12:AQ19),"",DGET(A11:AR19,"Signatur",D29:D30)) -> LPHJ | AT15: =IF(D30>MAX(AQ12:AQ19),0,DGET(A11:AR19,"Deltager E",D29:D30)) -> 3 | AU15: =IF(D30>MAX(AQ12:AQ19),0,DGET(A11:AR19,"2. runde E",D29:D30)) -> 0 | AV15: =IF(D30>MAX(AQ12:AQ19),0,DGET(A11:AR19,"Kval E",D29:D30)) -> 3 | AW15: =IF(D30>MAX(AQ12:AQ19),0,DGET(A11:AR19,"Dis E",D29:D30)) -> 0 | AX15: =IF(D30>MAX(AQ12:AQ19),0,DGET(A11:AR19,"Udm E",D29:D30)) -> 0 | AY15: =IF(D30>MAX(AQ12:AQ19),0,DGET(A11:AR19,"MR E",D29:D30)) -> 0 | AZ15: =IF(D30>MAX(AQ12:AQ19),0,DGET(A11:AR19,"Res E",D29:D30)) -> 0
A16: =[1]DB!AS16 -> Robbo | B16: 5 | C16: =[1]DB!AT16 -> 1 | D16: 0 | E16: =IF(B6=13,IF(A16<>"",COUNTIF(U22:U25,A16)+D16,0),D16) -> 0 | F16: =[1]DB!AT16 -> 1 | G16: =IF(B6=13,IF(A16<>"",F16-COUNTIF(U22:U25,A16)-COUNTIF(Y22:Y25,A16),0),F16) -> 1 | H16: =[1]DB!BA16 -> 0 | I16: =[1]DB!AW16 -> 0 | J16: =IF(Rækker!J5="Disket",1,IF(N16>5,1,IF(I16=1,1,0))) -> 0 | K16: =[1]DB!AX16 -> 0 | L16: =IF(Rækker!J5="Udmeldt",1,IF(K16=1,1,0)) -> 0 | M16: =[1]DB!AY16 -> 0 | N16: =IF(Rækker!J5="MR",M16+1,M16) -> 0 | O16: =[1]DB!AZ16 -> 0 | P16: =IF(Rækker!J5="Res",O16+1,O16) -> 0 | Q16: =IF(J16=1,"Disket",IF(L16=1,"Udmeldt",IF(AND(C16>0,F16=H16),"Walkover",IF(AND(C16>0,D16>0,F16=0),"Walkover",IF(M16<>N16,CONCATENATE("MR ",N16),IF(O16<>P16,IF(P16>10,"Res 10+",CONCATENATE("Res ",P16)),"")))))) | R16: =IF('Rækker - Udskrift'!R7=1,1,IF('Rækker - Udskrift'!S7="X","X",IF('Rækker - Udskrift'!T7=2,2,""))) -> 1 | S16: =IF('Rækker - Udskrift'!R8=1,1,IF('Rækker - Udskrift'!S8="X","X",IF('Rækker - Udskrift'!T8=2,2,""))) -> X | T16: =IF('Rækker - Udskrift'!R9=1,1,IF('Rækker - Udskrift'!S9="X","X",IF('Rækker - Udskrift'!T9=2,2,""))) -> 1 | U16: =IF('Rækker - Udskrift'!R10=1,1,IF('Rækker - Udskrift'!S10="X","X",IF('Rækker - Udskrift'!T10=2,2,""))) -> 1 | V16: =IF('Rækker - Udskrift'!R11=1,1,IF('Rækker - Udskrift'!S11="X","X",IF('Rækker - Udskrift'!T11=2,2,""))) -> 1 | W16: =IF('Rækker - Udskrift'!R12=1,1,IF('Rækker - Udskrift'!S12="X","X",IF('Rækker - Udskrift'!T12=2,2,""))) -> 2 | X16: =IF('Rækker - Udskrift'!R13=1,1,IF('Rækker - Udskrift'!S13="X","X",IF('Rækker - Udskrift'!T13=2,2,""))) -> 1 | Y16: =IF('Rækker - Udskrift'!R14=1,1,IF('Rækker - Udskrift'!S14="X","X",IF('Rækker - Udskrift'!T14=2,2,""))) -> 1 | Z16: =IF('Rækker - Udskrift'!R15=1,1,IF('Rækker - Udskrift'!S15="X","X",IF('Rækker - Udskrift'!T15=2,2,""))) -> 2 | AA16: =IF('Rækker - Udskrift'!R16=1,1,IF('Rækker - Udskrift'!S16="X","X",IF('Rækker - Udskrift'!T16=2,2,""))) -> 1 | AB16: =IF('Rækker - Udskrift'!R17=1,1,IF('Rækker - Udskrift'!S17="X","X",IF('Rækker - Udskrift'!T17=2,2,""))) -> 1 | AC16: =IF('Rækker - Udskrift'!R18=1,1,IF('Rækker - Udskrift'!S18="X","X",IF('Rækker - Udskrift'!T18=2,2,""))) -> 1 | AD16: =IF('Rækker - Udskrift'!R19=1,1,IF('Rækker - Udskrift'!S19="X","X",IF('Rækker - Udskrift'!T19=2,2,""))) -> 1 | AE16: =IF(Q16<>"",IF(LEFT(Q16,3)="Res",F1,0),IF(R16=R10,1,0)+IF(S16=S10,1,0)+IF(T16=T10,1,0)+IF(U16=U10,1,0)+IF(V16=V10,1,0)+IF(W16=W10,1,0)+IF(X16=X10,1,0)+IF(Y16=Y10,1,0)+IF(Z16=Z10,1,0)+IF(AA16=AA10,1,0)+IF(AB16=AB10,1,0)+IF(AC16=AC10,1,0)+IF(AD16=AD10,1,0)) -> 0 | AF16: =RANK(AE16,AE12:AE19,1) -> 1 | AG16: =IF(Q16<>"",IF(LEFT(Q16,3)="Res",AE16,0),AE16) -> 0 | AH16: =IF(R16=R10,4096,0)+IF(S16=S10,2048,0)+IF(T16=T10,1024,0)+IF(U16=U10,512,0)+IF(V16=V10,256,0)+IF(W16=W10,128,0)+IF(X16=X10,64,0)+IF(Y16=Y10,32,0)+IF(Z16=Z10,16,0)+IF(AA16=AA10,8,0)+IF(AB16=AB10,4,0)+IF(AC16=AC10,2,0)+IF(AD16=AD10,1,0) -> 0 | AI16: =RANK(AH16,AH12:AH19,1) -> 1 | AJ16: =(AF16*65)+AI16 -> 66 | AK16: =RANK(AJ16,AJ12:AJ19,1) -> 1 | AL16: =IF(AND(A16<>"",Q16=""),AE16,0) -> 0 | AM16: =IF(AND(A16<>"",Q16=""),1,0) -> 1 | AN16: =E16+G16 -> 1 | AO16: =AN16-AP16 -> 0 | AP16: =G16 -> 1 | AQ16: =IF(C16>0,IF(AN16>0,COUNTIF(AN12:AN16,">0"),0),0) -> 5 | AR16: =IF(AQ16>0,AQ16,MAX(AQ12:AQ19)+COUNTIF(AQ12:AQ16,"=0")) -> 5 | AS16: =IF(E30>MAX(AQ12:AQ19),"",DGET(A11:AR19,"Signatur",E29:E30)) -> Robbo | AT16: =IF(E30>MAX(AQ12:AQ19),0,DGET(A11:AR19,"Deltager E",E29:E30)) -> 1 | AU16: =IF(E30>MAX(AQ12:AQ19),0,DGET(A11:AR19,"2. runde E",E29:E30)) -> 0 | AV16: =IF(E30>MAX(AQ12:AQ19),0,DGET(A11:AR19,"Kval E",E29:E30)) -> 1 | AW16: =IF(E30>MAX(AQ12:AQ19),0,DGET(A11:AR19,"Dis E",E29:E30)) -> 0 | AX16: =IF(E30>MAX(AQ12:AQ19),0,DGET(A11:AR19,"Udm E",E29:E30)) -> 0 | AY16: =IF(E30>MAX(AQ12:AQ19),0,DGET(A11:AR19,"MR E",E29:E30)) -> 0 | AZ16: =IF(E30>MAX(AQ12:AQ19),0,DGET(A11:AR19,"Res E",E29:E30)) -> 0
A17: =[1]DB!AS17 | B17: 6 | C17: =[1]DB!AT17 -> 0 | D17: 0 | E17: =IF(B6=13,IF(A17<>"",COUNTIF(U22:U25,A17)+D17,0),D17) -> 0 | F17: =[1]DB!AT17 -> 0 | G17: =IF(B6=13,IF(A17<>"",F17-COUNTIF(U22:U25,A17)-COUNTIF(Y22:Y25,A17),0),F17) -> 0 | H17: =[1]DB!BA17 -> 0 | I17: =[1]DB!AW17 -> 0 | J17: =IF(Rækker!L5="Disket",1,IF(N17>5,1,IF(I17=1,1,0))) -> 0 | K17: =[1]DB!AX17 -> 0 | L17: =IF(Rækker!L5="Udmeldt",1,IF(K17=1,1,0)) -> 0 | M17: =[1]DB!AY17 -> 0 | N17: =IF(Rækker!L5="MR",M17+1,M17) -> 0 | O17: =[1]DB!AZ17 -> 0 | P17: =IF(Rækker!L5="Res",O17+1,O17) -> 0 | Q17: =IF(J17=1,"Disket",IF(L17=1,"Udmeldt",IF(AND(C17>0,F17=H17),"Walkover",IF(AND(C17>0,D17>0,F17=0),"Walkover",IF(M17<>N17,CONCATENATE("MR ",N17),IF(O17<>P17,IF(P17>10,"Res 10+",CONCATENATE("Res ",P17)),"")))))) | R17: =IF('Rækker - Udskrift'!U7=1,1,IF('Rækker - Udskrift'!V7="X","X",IF('Rækker - Udskrift'!W7=2,2,""))) | S17: =IF('Rækker - Udskrift'!U8=1,1,IF('Rækker - Udskrift'!V8="X","X",IF('Rækker - Udskrift'!W8=2,2,""))) | T17: =IF('Rækker - Udskrift'!U9=1,1,IF('Rækker - Udskrift'!V9="X","X",IF('Rækker - Udskrift'!W9=2,2,""))) | U17: =IF('Rækker - Udskrift'!U10=1,1,IF('Rækker - Udskrift'!V10="X","X",IF('Rækker - Udskrift'!W10=2,2,""))) | V17: =IF('Rækker - Udskrift'!U11=1,1,IF('Rækker - Udskrift'!V11="X","X",IF('Rækker - Udskrift'!W11=2,2,""))) | W17: =IF('Rækker - Udskrift'!U12=1,1,IF('Rækker - Udskrift'!V12="X","X",IF('Rækker - Udskrift'!W12=2,2,""))) | X17: =IF('Rækker - Udskrift'!U13=1,1,IF('Rækker - Udskrift'!V13="X","X",IF('Rækker - Udskrift'!W13=2,2,""))) | Y17: =IF('Rækker - Udskrift'!U14=1,1,IF('Rækker - Udskrift'!V14="X","X",IF('Rækker - Udskrift'!W14=2,2,""))) | Z17: =IF('Rækker - Udskrift'!U15=1,1,IF('Rækker - Udskrift'!V15="X","X",IF('Rækker - Udskrift'!W15=2,2,""))) | AA17: =IF('Rækker - Udskrift'!U16=1,1,IF('Rækker - Udskrift'!V16="X","X",IF('Rækker - Udskrift'!W16=2,2,""))) | AB17: =IF('Rækker - Udskrift'!U17=1,1,IF('Rækker - Udskrift'!V17="X","X",IF('Rækker - Udskrift'!W17=2,2,""))) | AC17: =IF('Rækker - Udskrift'!U18=1,1,IF('Rækker - Udskrift'!V18="X","X",IF('Rækker - Udskrift'!W18=2,2,""))) | AD17: =IF('Rækker - Udskrift'!U19=1,1,IF('Rækker - Udskrift'!V19="X","X",IF('Rækker - Udskrift'!W19=2,2,""))) | AE17: =IF(Q17<>"",IF(LEFT(Q17,3)="Res",F1,0),IF(R17=R10,1,0)+IF(S17=S10,1,0)+IF(T17=T10,1,0)+IF(U17=U10,1,0)+IF(V17=V10,1,0)+IF(W17=W10,1,0)+IF(X17=X10,1,0)+IF(Y17=Y10,1,0)+IF(Z17=Z10,1,0)+IF(AA17=AA10,1,0)+IF(AB17=AB10,1,0)+IF(AC17=AC10,1,0)+IF(AD17=AD10,1,0)) -> 0 | AF17: =RANK(AE17,AE12:AE19,1) -> 1 | AG17: =IF(Q17<>"",IF(LEFT(Q17,3)="Res",AE17,0),AE17) -> 0 | AH17: =IF(R17=R10,4096,0)+IF(S17=S10,2048,0)+IF(T17=T10,1024,0)+IF(U17=U10,512,0)+IF(V17=V10,256,0)+IF(W17=W10,128,0)+IF(X17=X10,64,0)+IF(Y17=Y10,32,0)+IF(Z17=Z10,16,0)+IF(AA17=AA10,8,0)+IF(AB17=AB10,4,0)+IF(AC17=AC10,2,0)+IF(AD17=AD10,1,0) -> 0 | AI17: =RANK(AH17,AH12:AH19,1) -> 1 | AJ17: =(AF17*65)+AI17 -> 66 | AK17: =RANK(AJ17,AJ12:AJ19,1) -> 1 | AL17: =IF(AND(A17<>"",Q17=""),AE17,0) -> 0 | AM17: =IF(AND(A17<>"",Q17=""),1,0) -> 0 | AN17: =E17+G17 -> 0 | AO17: =AN17-AP17 -> 0 | AP17: =G17 -> 0 | AQ17: =IF(C17>0,IF(AN17>0,COUNTIF(AN12:AN17,">0"),0),0) -> 0 | AR17: =IF(AQ17>0,AQ17,MAX(AQ12:AQ19)+COUNTIF(AQ12:AQ17,"=0")) -> 6 | AS17: =IF(F30>MAX(AQ12:AQ19),"",DGET(A11:AR19,"Signatur",F29:F30)) | AT17: =IF(F30>MAX(AQ12:AQ19),0,DGET(A11:AR19,"Deltager E",F29:F30)) -> 0 | AU17: =IF(F30>MAX(AQ12:AQ19),0,DGET(A11:AR19,"2. runde E",F29:F30)) -> 0 | AV17: =IF(F30>MAX(AQ12:AQ19),0,DGET(A11:AR19,"Kval E",F29:F30)) -> 0 | AW17: =IF(F30>MAX(AQ12:AQ19),0,DGET(A11:AR19,"Dis E",F29:F30)) -> 0 | AX17: =IF(F30>MAX(AQ12:AQ19),0,DGET(A11:AR19,"Udm E",F29:F30)) -> 0 | AY17: =IF(F30>MAX(AQ12:AQ19),0,DGET(A11:AR19,"MR E",F29:F30)) -> 0 | AZ17: =IF(F30>MAX(AQ12:AQ19),0,DGET(A11:AR19,"Res E",F29:F30)) -> 0
A18: =[1]DB!AS18 | B18: 7 | C18: =[1]DB!AT18 -> 0 | D18: 0 | E18: =IF(B6=13,IF(A18<>"",COUNTIF(U22:U25,A18)+D18,0),D18) -> 0 | F18: =[1]DB!AT18 -> 0 | G18: =IF(B6=13,IF(A18<>"",F18-COUNTIF(U22:U25,A18)-COUNTIF(Y22:Y25,A18),0),F18) -> 0 | H18: =[1]DB!BA18 -> 0 | I18: =[1]DB!AW18 -> 0 | J18: =IF(Rækker!N5="Disket",1,IF(N18>5,1,IF(I18=1,1,0))) -> 0 | K18: =[1]DB!AX18 -> 0 | L18: =IF(Rækker!N5="Udmeldt",1,IF(K18=1,1,0)) -> 0 | M18: =[1]DB!AY18 -> 0 | N18: =IF(Rækker!N5="MR",M18+1,M18) -> 0 | O18: =[1]DB!AZ18 -> 0 | P18: =IF(Rækker!N5="Res",O18+1,O18) -> 0 | Q18: =IF(J18=1,"Disket",IF(L18=1,"Udmeldt",IF(AND(C18>0,F18=H18),"Walkover",IF(AND(C18>0,D18>0,F18=0),"Walkover",IF(M18<>N18,CONCATENATE("MR ",N18),IF(O18<>P18,IF(P18>10,"Res 10+",CONCATENATE("Res ",P18)),"")))))) | R18: =IF('Rækker - Udskrift'!X7=1,1,IF('Rækker - Udskrift'!Y7="X","X",IF('Rækker - Udskrift'!Z7=2,2,""))) | S18: =IF('Rækker - Udskrift'!X8=1,1,IF('Rækker - Udskrift'!Y8="X","X",IF('Rækker - Udskrift'!Z8=2,2,""))) | T18: =IF('Rækker - Udskrift'!X9=1,1,IF('Rækker - Udskrift'!Y9="X","X",IF('Rækker - Udskrift'!Z9=2,2,""))) | U18: =IF('Rækker - Udskrift'!X10=1,1,IF('Rækker - Udskrift'!Y10="X","X",IF('Rækker - Udskrift'!Z10=2,2,""))) | V18: =IF('Rækker - Udskrift'!X11=1,1,IF('Rækker - Udskrift'!Y11="X","X",IF('Rækker - Udskrift'!Z11=2,2,""))) | W18: =IF('Rækker - Udskrift'!X12=1,1,IF('Rækker - Udskrift'!Y12="X","X",IF('Rækker - Udskrift'!Z12=2,2,""))) | X18: =IF('Rækker - Udskrift'!X13=1,1,IF('Rækker - Udskrift'!Y13="X","X",IF('Rækker - Udskrift'!Z13=2,2,""))) | Y18: =IF('Rækker - Udskrift'!X14=1,1,IF('Rækker - Udskrift'!Y14="X","X",IF('Rækker - Udskrift'!Z14=2,2,""))) | Z18: =IF('Rækker - Udskrift'!X15=1,1,IF('Rækker - Udskrift'!Y15="X","X",IF('Rækker - Udskrift'!Z15=2,2,""))) | AA18: =IF('Rækker - Udskrift'!X16=1,1,IF('Rækker - Udskrift'!Y16="X","X",IF('Rækker - Udskrift'!Z16=2,2,""))) | AB18: =IF('Rækker - Udskrift'!X17=1,1,IF('Rækker - Udskrift'!Y17="X","X",IF('Rækker - Udskrift'!Z17=2,2,""))) | AC18: =IF('Rækker - Udskrift'!X18=1,1,IF('Rækker - Udskrift'!Y18="X","X",IF('Rækker - Udskrift'!Z18=2,2,""))) | AD18: =IF('Rækker - Udskrift'!X19=1,1,IF('Rækker - Udskrift'!Y19="X","X",IF('Rækker - Udskrift'!Z19=2,2,""))) | AE18: =IF(Q18<>"",IF(LEFT(Q18,3)="Res",F1,0),IF(R18=R10,1,0)+IF(S18=S10,1,0)+IF(T18=T10,1,0)+IF(U18=U10,1,0)+IF(V18=V10,1,0)+IF(W18=W10,1,0)+IF(X18=X10,1,0)+IF(Y18=Y10,1,0)+IF(Z18=Z10,1,0)+IF(AA18=AA10,1,0)+IF(AB18=AB10,1,0)+IF(AC18=AC10,1,0)+IF(AD18=AD10,1,0)) -> 0 | AF18: =RANK(AE18,AE12:AE19,1) -> 1 | AG18: =IF(Q18<>"",IF(LEFT(Q18,3)="Res",AE18,0),AE18) -> 0 | AH18: =IF(R18=R10,4096,0)+IF(S18=S10,2048,0)+IF(T18=T10,1024,0)+IF(U18=U10,512,0)+IF(V18=V10,256,0)+IF(W18=W10,128,0)+IF(X18=X10,64,0)+IF(Y18=Y10,32,0)+IF(Z18=Z10,16,0)+IF(AA18=AA10,8,0)+IF(AB18=AB10,4,0)+IF(AC18=AC10,2,0)+IF(AD18=AD10,1,0) -> 0 | AI18: =RANK(AH18,AH12:AH19,1) -> 1 | AJ18: =(AF18*65)+AI18 -> 66 | AK18: =RANK(AJ18,AJ12:AJ19,1) -> 1 | AL18: =IF(AND(A18<>"",Q18=""),AE18,0) -> 0 | AM18: =IF(AND(A18<>"",Q18=""),1,0) -> 0 | AN18: =E18+G18 -> 0 | AO18: =AN18-AP18 -> 0 | AP18: =G18 -> 0 | AQ18: =IF(C18>0,IF(AN18>0,COUNTIF(AN12:AN18,">0"),0),0) -> 0 | AR18: =IF(AQ18>0,AQ18,MAX(AQ12:AQ19)+COUNTIF(AQ12:AQ18,"=0")) -> 7 | AS18: =IF(G30>MAX(AQ12:AQ19),"",DGET(A11:AR19,"Signatur",G29:G30)) | AT18: =IF(G30>MAX(AQ12:AQ19),0,DGET(A11:AR19,"Deltager E",G29:G30)) -> 0 | AU18: =IF(G30>MAX(AQ12:AQ19),0,DGET(A11:AR19,"2. runde E",G29:G30)) -> 0 | AV18: =IF(G30>MAX(AQ12:AQ19),0,DGET(A11:AR19,"Kval E",G29:G30)) -> 0 | AW18: =IF(G30>MAX(AQ12:AQ19),0,DGET(A11:AR19,"Dis E",G29:G30)) -> 0 | AX18: =IF(G30>MAX(AQ12:AQ19),0,DGET(A11:AR19,"Udm E",G29:G30)) -> 0 | AY18: =IF(G30>MAX(AQ12:AQ19),0,DGET(A11:AR19,"MR E",G29:G30)) -> 0 | AZ18: =IF(G30>MAX(AQ12:AQ19),0,DGET(A11:AR19,"Res E",G29:G30)) -> 0
A19: =[1]DB!AS19 | B19: 8 | C19: =[1]DB!AT19 -> 0 | D19: 0 | E19: =IF(B6=13,IF(A19<>"",COUNTIF(U22:U25,A19)+D19,0),D19) -> 0 | F19: =[1]DB!AT19 -> 0 | G19: =IF(B6=13,IF(A19<>"",F19-COUNTIF(U22:U25,A19)-COUNTIF(Y22:Y25,A19),0),F19) -> 0 | H19: =[1]DB!BA19 -> 0 | I19: =[1]DB!AW19 -> 0 | J19: =IF(Rækker!P5="Disket",1,IF(N19>5,1,IF(I19=1,1,0))) -> 0 | K19: =[1]DB!AX19 -> 0 | L19: =IF(Rækker!P5="Udmeldt",1,IF(K19=1,1,0)) -> 0 | M19: =[1]DB!AY19 -> 0 | N19: =IF(Rækker!P5="MR",M19+1,M19) -> 0 | O19: =[1]DB!AZ19 -> 0 | P19: =IF(Rækker!P5="Res",O19+1,O19) -> 0 | Q19: =IF(J19=1,"Disket",IF(L19=1,"Udmeldt",IF(AND(C19>0,F19=H19),"Walkover",IF(AND(C19>0,D19>0,F19=0),"Walkover",IF(M19<>N19,CONCATENATE("MR ",N19),IF(O19<>P19,IF(P19>10,"Res 10+",CONCATENATE("Res ",P19)),"")))))) | R19: =IF('Rækker - Udskrift'!AA7=1,1,IF('Rækker - Udskrift'!AB7="X","X",IF('Rækker - Udskrift'!AC7=2,2,""))) | S19: =IF('Rækker - Udskrift'!AA8=1,1,IF('Rækker - Udskrift'!AB8="X","X",IF('Rækker - Udskrift'!AC8=2,2,""))) | T19: =IF('Rækker - Udskrift'!AA9=1,1,IF('Rækker - Udskrift'!AB9="X","X",IF('Rækker - Udskrift'!AC9=2,2,""))) | U19: =IF('Rækker - Udskrift'!AA10=1,1,IF('Rækker - Udskrift'!AB10="X","X",IF('Rækker - Udskrift'!AC10=2,2,""))) | V19: =IF('Rækker - Udskrift'!AA11=1,1,IF('Rækker - Udskrift'!AB11="X","X",IF('Rækker - Udskrift'!AC11=2,2,""))) | W19: =IF('Rækker - Udskrift'!AA12=1,1,IF('Rækker - Udskrift'!AB12="X","X",IF('Rækker - Udskrift'!AC12=2,2,""))) | X19: =IF('Rækker - Udskrift'!AA13=1,1,IF('Rækker - Udskrift'!AB13="X","X",IF('Rækker - Udskrift'!AC13=2,2,""))) | Y19: =IF('Rækker - Udskrift'!AA14=1,1,IF('Rækker - Udskrift'!AB14="X","X",IF('Rækker - Udskrift'!AC14=2,2,""))) | Z19: =IF('Rækker - Udskrift'!AA15=1,1,IF('Rækker - Udskrift'!AB15="X","X",IF('Rækker - Udskrift'!AC15=2,2,""))) | AA19: =IF('Rækker - Udskrift'!AA16=1,1,IF('Rækker - Udskrift'!AB16="X","X",IF('Rækker - Udskrift'!AC16=2,2,""))) | AB19: =IF('Rækker - Udskrift'!AA17=1,1,IF('Rækker - Udskrift'!AB17="X","X",IF('Rækker - Udskrift'!AC17=2,2,""))) | AC19: =IF('Rækker - Udskrift'!AA18=1,1,IF('Rækker - Udskrift'!AB18="X","X",IF('Rækker - Udskrift'!AC18=2,2,""))) | AD19: =IF('Rækker - Udskrift'!AA19=1,1,IF('Rækker - Udskrift'!AB19="X","X",IF('Rækker - Udskrift'!AC19=2,2,""))) | AE19: =IF(Q19<>"",IF(LEFT(Q19,3)="Res",F1,0),IF(R19=R10,1,0)+IF(S19=S10,1,0)+IF(T19=T10,1,0)+IF(U19=U10,1,0)+IF(V19=V10,1,0)+IF(W19=W10,1,0)+IF(X19=X10,1,0)+IF(Y19=Y10,1,0)+IF(Z19=Z10,1,0)+IF(AA19=AA10,1,0)+IF(AB19=AB10,1,0)+IF(AC19=AC10,1,0)+IF(AD19=AD10,1,0)) -> 0 | AF19: =RANK(AE19,AE12:AE19,1) -> 1 | AG19: =IF(Q19<>"",IF(LEFT(Q19,3)="Res",AE19,0),AE19) -> 0 | AH19: =IF(R19=R10,4096,0)+IF(S19=S10,2048,0)+IF(T19=T10,1024,0)+IF(U19=U10,512,0)+IF(V19=V10,256,0)+IF(W19=W10,128,0)+IF(X19=X10,64,0)+IF(Y19=Y10,32,0)+IF(Z19=Z10,16,0)+IF(AA19=AA10,8,0)+IF(AB19=AB10,4,0)+IF(AC19=AC10,2,0)+IF(AD19=AD10,1,0) -> 0 | AI19: =RANK(AH19,AH12:AH19,1) -> 1 | AJ19: =(AF19*65)+AI19 -> 66 | AK19: =RANK(AJ19,AJ12:AJ19,1) -> 1 | AL19: =IF(AND(A19<>"",Q19=""),AE19,0) -> 0 | AM19: =IF(AND(A19<>"",Q19=""),1,0) -> 0 | AN19: =E19+G19 -> 0 | AO19: =AN19-AP19 -> 0 | AP19: =G19 -> 0 | AQ19: =IF(C19>0,IF(AN19>0,COUNTIF(AN12:AN19,">0"),0),0) -> 0 | AR19: =IF(AQ19>0,AQ19,MAX(AQ12:AQ19)+COUNTIF(AQ12:AQ19,"=0")) -> 8 | AS19: =IF(H30>MAX(AQ12:AQ19),"",DGET(A11:AR19,"Signatur",H29:H30)) | AT19: =IF(H30>MAX(AQ12:AQ19),0,DGET(A11:AR19,"Deltager E",H29:H30)) -> 0 | AU19: =IF(H30>MAX(AQ12:AQ19),0,DGET(A11:AR19,"2. runde E",H29:H30)) -> 0 | AV19: =IF(H30>MAX(AQ12:AQ19),0,DGET(A11:AR19,"Kval E",H29:H30)) -> 0 | AW19: =IF(H30>MAX(AQ12:AQ19),0,DGET(A11:AR19,"Dis E",H29:H30)) -> 0 | AX19: =IF(H30>MAX(AQ12:AQ19),0,DGET(A11:AR19,"Udm E",H29:H30)) -> 0 | AY19: =IF(H30>MAX(AQ12:AQ19),0,DGET(A11:AR19,"MR E",H29:H30)) -> 0 | AZ19: =IF(H30>MAX(AQ12:AQ19),0,DGET(A11:AR19,"Res E",H29:H30)) -> 0
A21: H S | B21: H G | C21: H ID | D21: U S | E21: U G | F21: U ID | G21: Dis H | H21: Udm H | I21: MR H | J21: Res H | K21: ES H | L21: ES HR | M21: BU H | N21: Dis U | O21: Udm U | P21: MR U | Q21: Res U | R21: ES U | S21: ES UR | T21: BU U | U21: V S | V21: V G | W21: V ID | Y21: Ude
A22: =IF(B2=B4,[1]DB!A40,"") -> Idskov | B22: =IF(B2=B4,[1]DB!B40,"") -> Idskov (1) | C22: =IF(B2=B4,[1]DB!C40,"") -> 85 | D22: =IF(B2=B4,[1]DB!D40,"") -> Benbo | E22: =IF(B2=B4,[1]DB!E40,"") -> Benbo (8) | F22: =IF(B2=B4,[1]DB!F40,"") -> 96 | G22: =IF(A22<>"",DGET(A11:AK19,"Dis E",A31:A32),0) -> 0 | H22: =IF(A22<>"",DGET(A11:AK19,"Udm E",A31:A32),0) -> 0 | I22: =IF(A22<>"",DGET(A11:AK19,"MR E",A31:A32),0) -> 0 | J22: =IF(A22<>"",DGET(A11:AK19,"Res E",A31:A32),0) -> 0 | K22: =IF(A22<>"",DGET(A11:AK19,"ES N",A31:A32),0) -> 0 | L22: =IF(B6=13,IF(B4=B2,IF(A22=D22,"",IF(AND(G22=0,H22=0,N22=0,O22=0),K22,"")),""),"") | M22: =IF(A22<>"",DGET(A11:AK19,"BU Pl.",A31:A32),0) -> 1 | N22: =IF(A22<>"",DGET(A11:AK19,"Dis E",E31:E32),0) -> 0 | O22: =IF(A22<>"",DGET(A11:AK19,"Udm E",E31:E32),0) -> 0 | P22: =IF(A22<>"",DGET(A11:AK19,"MR E",E31:E32),0) -> 0 | Q22: =IF(A22<>"",DGET(A11:AK19,"Res E",E31:E32),0) -> 1 | R22: =IF(A22<>"",DGET(A11:AK19,"ES N",E31:E32),0) -> 0 | S22: =IF(B6=13,IF(B4=B2,IF(A22=D22,"",IF(AND(G22=0,H22=0,N22=0,O22=0),R22,"")),""),"") | T22: =IF(A22<>"",DGET(A11:AK19,"BU Pl.",E31:E32),0) -> 1 | U22: =IF(B6=13,IF(B4=B2,IF(OR(N22=1,O22=1),A22,IF(AND(OR(G22=1,H22=1),AND(N22=0,O22=0)),D22,IF(A22=D22,IF(F22>C22,D22,A22),""))),""),"") | V22: =IF(B6=13,IF(B4=B2,IF(OR(N22=1,O22=1),B22,IF(AND(OR(G22=1,H22=1),AND(N22=0,O22=0)),E22,IF(A22=D22,IF(F22>C22,E22,B22),""))),""),"") | W22: =IF(B6=13,IF(B4=B2,IF(OR(N22=1,O22=1),C22,IF(AND(OR(G22=1,H22=1),AND(N22=0,O22=0)),F22,IF(A22=D22,IF(F22>C22,F22,C22),""))),""),"") | Y22: =IF(U22=A22,D22,IF(U22=D22,A22,""))
A23: =IF(B2=B4,[1]DB!A41,"") -> Frydkær | B23: =IF(B2=B4,[1]DB!B41,"") -> Frydkær (11) | C23: =IF(B2=B4,[1]DB!C41,"") -> 91 | D23: =IF(B2=B4,[1]DB!D41,"") -> Benbo | E23: =IF(B2=B4,[1]DB!E41,"") -> Benbo (16) | F23: =IF(B2=B4,[1]DB!F41,"") -> 95 | G23: =IF(A23<>"",DGET(A11:AK19,"Dis E",B31:B32),0) -> 0 | H23: =IF(A23<>"",DGET(A11:AK19,"Udm E",B31:B32),0) -> 0 | I23: =IF(A23<>"",DGET(A11:AK19,"MR E",B31:B32),0) -> 0 | J23: =IF(A23<>"",DGET(A11:AK19,"Res E",B31:B32),0) -> 1 | K23: =IF(A23<>"",DGET(A11:AK19,"ES N",B31:B32),0) -> 0 | L23: =IF(B6=13,IF(B4=B2,IF(A23=D23,"",IF(AND(G23=0,H23=0,N23=0,O23=0),K23,"")),""),"") | M23: =IF(A23<>"",DGET(A11:AK19,"BU Pl.",B31:B32),0) -> 1 | N23: =IF(A23<>"",DGET(A11:AK19,"Dis E",F31:F32),0) -> 0 | O23: =IF(A23<>"",DGET(A11:AK19,"Udm E",F31:F32),0) -> 0 | P23: =IF(A23<>"",DGET(A11:AK19,"MR E",F31:F32),0) -> 0 | Q23: =IF(A23<>"",DGET(A11:AK19,"Res E",F31:F32),0) -> 1 | R23: =IF(A23<>"",DGET(A11:AK19,"ES N",F31:F32),0) -> 0 | S23: =IF(B6=13,IF(B4=B2,IF(A23=D23,"",IF(AND(G23=0,H23=0,N23=0,O23=0),R23,"")),""),"") | T23: =IF(A23<>"",DGET(A11:AK19,"BU Pl.",F31:F32),0) -> 1 | U23: =IF(B6=13,IF(B4=B2,IF(OR(N23=1,O23=1),A23,IF(AND(OR(G23=1,H23=1),AND(N23=0,O23=0)),D23,IF(A23=D23,IF(F23>C23,D23,A23),""))),""),"") | V23: =IF(B6=13,IF(B4=B2,IF(OR(N23=1,O23=1),B23,IF(AND(OR(G23=1,H23=1),AND(N23=0,O23=0)),E23,IF(A23=D23,IF(F23>C23,E23,B23),""))),""),"") | W23: =IF(B6=13,IF(B4=B2,IF(OR(N23=1,O23=1),C23,IF(AND(OR(G23=1,H23=1),AND(N23=0,O23=0)),F23,IF(A23=D23,IF(F23>C23,F23,C23),""))),""),"") | Y23: =IF(U23=A23,D23,IF(U23=D23,A23,""))
A24: =IF(B2=B4,[1]DB!A42,"") -> LPHJ | B24: =IF(B2=B4,[1]DB!B42,"") -> LPHJ (4) | C24: =IF(B2=B4,[1]DB!C42,"") -> 56 | D24: =IF(B2=B4,[1]DB!D42,"") -> LPHJ | E24: =IF(B2=B4,[1]DB!E42,"") -> LPHJ (6) | F24: =IF(B2=B4,[1]DB!F42,"") -> 50 | G24: =IF(A24<>"",DGET(A11:AK19,"Dis E",C31:C32),0) -> 0 | H24: =IF(A24<>"",DGET(A11:AK19,"Udm E",C31:C32),0) -> 0 | I24: =IF(A24<>"",DGET(A11:AK19,"MR E",C31:C32),0) -> 0 | J24: =IF(A24<>"",DGET(A11:AK19,"Res E",C31:C32),0) -> 0 | K24: =IF(A24<>"",DGET(A11:AK19,"ES N",C31:C32),0) -> 0 | L24: =IF(B6=13,IF(B4=B2,IF(A24=D24,"",IF(AND(G24=0,H24=0,N24=0,O24=0),K24,"")),""),"") | M24: =IF(A24<>"",DGET(A11:AK19,"BU Pl.",C31:C32),0) -> 1 | N24: =IF(A24<>"",DGET(A11:AK19,"Dis E",G31:G32),0) -> 0 | O24: =IF(A24<>"",DGET(A11:AK19,"Udm E",G31:G32),0) -> 0 | P24: =IF(A24<>"",DGET(A11:AK19,"MR E",G31:G32),0) -> 0 | Q24: =IF(A24<>"",DGET(A11:AK19,"Res E",G31:G32),0) -> 0 | R24: =IF(A24<>"",DGET(A11:AK19,"ES N",G31:G32),0) -> 0 | S24: =IF(B6=13,IF(B4=B2,IF(A24=D24,"",IF(AND(G24=0,H24=0,N24=0,O24=0),R24,"")),""),"") | T24: =IF(A24<>"",DGET(A11:AK19,"BU Pl.",G31:G32),0) -> 1 | U24: =IF(B6=13,IF(B4=B2,IF(OR(N24=1,O24=1),A24,IF(AND(OR(G24=1,H24=1),AND(N24=0,O24=0)),D24,IF(A24=D24,IF(F24>C24,D24,A24),""))),""),"") | V24: =IF(B6=13,IF(B4=B2,IF(OR(N24=1,O24=1),B24,IF(AND(OR(G24=1,H24=1),AND(N24=0,O24=0)),E24,IF(A24=D24,IF(F24>C24,E24,B24),""))),""),"") | W24: =IF(B6=13,IF(B4=B2,IF(OR(N24=1,O24=1),C24,IF(AND(OR(G24=1,H24=1),AND(N24=0,O24=0)),F24,IF(A24=D24,IF(F24>C24,F24,C24),""))),""),"") | Y24: =IF(U24=A24,D24,IF(U24=D24,A24,""))
A25: =IF(B2=B4,[1]DB!A43,"") -> LPHJ | B25: =IF(B2=B4,[1]DB!B43,"") -> LPHJ (10) | C25: =IF(B2=B4,[1]DB!C43,"") -> 56 | D25: =IF(B2=B4,[1]DB!D43,"") -> Robbo | E25: =IF(B2=B4,[1]DB!E43,"") -> Robbo (2) | F25: =IF(B2=B4,[1]DB!F43,"") -> 51 | G25: =IF(A25<>"",DGET(A11:AK19,"Dis E",D31:D32),0) -> 0 | H25: =IF(A25<>"",DGET(A11:AK19,"Udm E",D31:D32),0) -> 0 | I25: =IF(A25<>"",DGET(A11:AK19,"MR E",D31:D32),0) -> 0 | J25: =IF(A25<>"",DGET(A11:AK19,"Res E",D31:D32),0) -> 0 | K25: =IF(A25<>"",DGET(A11:AK19,"ES N",D31:D32),0) -> 0 | L25: =IF(B6=13,IF(B4=B2,IF(A25=D25,"",IF(AND(G25=0,H25=0,N25=0,O25=0),K25,"")),""),"") | M25: =IF(A25<>"",DGET(A11:AK19,"BU Pl.",D31:D32),0) -> 1 | N25: =IF(A25<>"",DGET(A11:AK19,"Dis E",H31:H32),0) -> 0 | O25: =IF(A25<>"",DGET(A11:AK19,"Udm E",H31:H32),0) -> 0 | P25: =IF(A25<>"",DGET(A11:AK19,"MR E",H31:H32),0) -> 0 | Q25: =IF(A25<>"",DGET(A11:AK19,"Res E",H31:H32),0) -> 0 | R25: =IF(A25<>"",DGET(A11:AK19,"ES N",H31:H32),0) -> 0 | S25: =IF(B6=13,IF(B4=B2,IF(A25=D25,"",IF(AND(G25=0,H25=0,N25=0,O25=0),R25,"")),""),"") | T25: =IF(A25<>"",DGET(A11:AK19,"BU Pl.",H31:H32),0) -> 1 | U25: =IF(B6=13,IF(B4=B2,IF(OR(N25=1,O25=1),A25,IF(AND(OR(G25=1,H25=1),AND(N25=0,O25=0)),D25,IF(A25=D25,IF(F25>C25,D25,A25),""))),""),"") | V25: =IF(B6=13,IF(B4=B2,IF(OR(N25=1,O25=1),B25,IF(AND(OR(G25=1,H25=1),AND(N25=0,O25=0)),E25,IF(A25=D25,IF(F25>C25,E25,B25),""))),""),"") | W25: =IF(B6=13,IF(B4=B2,IF(OR(N25=1,O25=1),C25,IF(AND(OR(G25=1,H25=1),AND(N25=0,O25=0)),F25,IF(A25=D25,IF(F25>C25,F25,C25),""))),""),"") | Y25: =IF(U25=A25,D25,IF(U25=D25,A25,""))
A27: ID | B27: ID | C27: ID | D27: ID | E27: ID | F27: ID | G27: ID | H27: ID
A28: 1 | B28: 2 | C28: 3 | D28: 4 | E28: 5 | F28: 6 | G28: 7 | H28: 8
A29: ID E | B29: ID E | C29: ID E | D29: ID E | E29: ID E | F29: ID E | G29: ID E | H29: ID E
A30: 1 | B30: 2 | C30: 3 | D30: 4 | E30: 5 | F30: 6 | G30: 7 | H30: 8
A31: Signatur | B31: Signatur | C31: Signatur | D31: Signatur | E31: Signatur | F31: Signatur | G31: Signatur | H31: Signatur
A32: =A22 -> Idskov | B32: =A23 -> Frydkær | C32: =A24 -> LPHJ | D32: =A25 -> LPHJ | E32: =D22 -> Benbo | F32: =D23 -> Benbo | G32: =D24 -> LPHJ | H32: =D25 -> Robbo
