Workbook

Sheet Kampe
A1: =CONCATENATE("Kampe - ",Rækker!B1) -> Kampe - Uge 43
B3: Hjemmehold | D3: Udehold
A5: 1. | B5: Arsenal | C5: - | D5: Everton
A6: 2. | B6: Coventry | C6: - | D6: Fulham
A7: 3. | B7: Blackburn | C7: - | D7: Wrexham
A8: 4. | B8: Cardiff | C8: - | D8: Birmingham
A9: 5. | B9: Lincoln | C9: - | D9: Burnley
A10: 6. | B10: Preston | C10: - | D10: West Bromwich
A11: 7. | B11: West Ham | C11: - | D11: Southampton
A12: 8. | B12: Stoke | C12: - | D12: Bristol C
A13: 9. | B13: Queens Park R | C13: - | D13: Swansea
A14: 10. | B14: Wolverhampton | C14: - | D14: Watford
A15: 11. | B15: Blackpool | C15: - | D15: Mansfield
A16: 12. | B16: Stevenage | C16: - | D16: Milton Keynes Dons
A17: 13. | B17: AFC Wimbledon | C17: - | D17: Wycombe
A19: N.B.: Holdnavne skal holdes inden for de grønne felter.

Sheet Rækker
B1: =CONCATENATE("Uge ",DB!B2) -> Uge 43
B3: 1. Division | D3: 1. Division | F3: 1. Division | H3: 1. Division | J3: 1. Division | L3: 1. Division | N3: 1. Division | P3: 1. Division | R3: 1. Division | T3: 1. Division | V3: 1. Division | X3: 1. Division | Z3: 1. Division | AB3: 1. Division | AD3: 1. Division | AF3: 1. Division | AH3: 1. Division | AJ3: 1. Division | AL3: 1. Division | AN3: 1. Division
B5: =DB!K6 -> Arsenal | D5: =DB!K7 -> Benbo | F5: =DB!K8 -> Canary | H5: =DB!K9 -> Chelsea | J5: =DB!K10 -> Cork | L5: =DB!K11 -> Flinca | N5: =DB!K12 -> Forest | P5: =DB!K13 -> Frydkær | R5: =DB!K14 -> Futte | T5: =DB!K15 -> Harry | V5: =DB!K17 -> Idskov | X5: =DB!K18 -> Murer | Z5: =DB!K19 -> Nuser | AB5: =DB!K20 -> Piquet | AD5: =DB!K21 -> Select | AF5: =DB!K22 -> SPVK | AH5: =DB!K23 -> Steam | AJ5: =DB!K24 -> Stoke | AL5: =DB!K25 -> Tynde | AN5: =DB!K26 -> United
B6: =IF(DB!M6=1,"Disket",IF(DB!O6=1,"Udmeldt","Status")) -> Status | D6: =IF(DB!M7=1,"Disket",IF(DB!O7=1,"Udmeldt","Status")) -> Status | F6: =IF(DB!M8=1,"Disket",IF(DB!O8=1,"Udmeldt","Status")) -> Status | H6: =IF(DB!M9=1,"Disket",IF(DB!O9=1,"Udmeldt","Status")) -> Status | J6: =IF(DB!M10=1,"Disket",IF(DB!O10=1,"Udmeldt","Status")) -> Status | L6: =IF(DB!M11=1,"Disket",IF(DB!O11=1,"Udmeldt","Status")) -> Status | N6: =IF(DB!M12=1,"Disket",IF(DB!O12=1,"Udmeldt","Status")) -> Status | P6: =IF(DB!M13=1,"Disket",IF(DB!O13=1,"Udmeldt","Status")) -> Status | R6: =IF(DB!M14=1,"Disket",IF(DB!O14=1,"Udmeldt","Status")) -> Status | T6: =IF(DB!M15=1,"Disket",IF(DB!O15=1,"Udmeldt","Status")) -> Status | V6: =IF(DB!M17=1,"Disket",IF(DB!O17=1,"Udmeldt","Status")) -> Status | X6: =IF(DB!M18=1,"Disket",IF(DB!O18=1,"Udmeldt","Status")) -> Status | Z6: =IF(DB!M19=1,"Disket",IF(DB!O19=1,"Udmeldt","Status")) -> Status | AB6: =IF(DB!M20=1,"Disket",IF(DB!O20=1,"Udmeldt","Status")) -> Status | AD6: =IF(DB!M21=1,"Disket",IF(DB!O21=1,"Udmeldt","Status")) -> Status | AF6: =IF(DB!M22=1,"Disket",IF(DB!O22=1,"Udmeldt","Status")) -> Status | AH6: =IF(DB!M23=1,"Disket",IF(DB!O23=1,"Udmeldt","Status")) -> Status | AJ6: =IF(DB!M24=1,"Disket",IF(DB!O24=1,"Udmeldt","Status")) -> Status | AL6: =IF(DB!M25=1,"Disket",IF(DB!O25=1,"Udmeldt","Status")) -> Status | AN6: =IF(DB!M26=1,"Disket",IF(DB!O26=1,"Udmeldt","Status")) -> Status
V7: Res
B8: Enkeltrække | D8: Enkeltrække | F8: Enkeltrække | H8: Enkeltrække | J8: Enkeltrække | L8: Enkeltrække | N8: Enkeltrække | P8: Enkeltrække | R8: Enkeltrække | T8: Enkeltrække | V8: Enkeltrække | X8: Enkeltrække | Z8: Enkeltrække | AB8: Enkeltrække | AD8: Enkeltrække | AF8: Enkeltrække | AH8: Enkeltrække | AJ8: Enkeltrække | AL8: Enkeltrække | AN8: Enkeltrække
A9: 1. | B9: 1 | C9: 1. | D9: 1 | E9: 1. | F9: 1 | G9: 1. | H9: 1 | I9: 1. | J9: 1 | K9: 1. | L9: 1 | M9: 1. | N9: 1 | O9: 1. | P9: 1 | Q9: 1. | R9: 1 | S9: 1. | T9: 1 | U9: 1. | W9: 1. | X9: 1 | Y9: 1. | Z9: 1 | AA9: 1. | AB9: 1 | AC9: 1. | AD9: 1 | AE9: 1. | AF9: 1 | AG9: 1. | AH9: 1 | AI9: 1. | AJ9: 1 | AK9: 1. | AL9: 1 | AM9: 1. | AN9: 1
A10: 2. | B10: 2 | C10: 2. | D10: 2 | E10: 2. | F10: 2 | G10: 2. | H10: 1 | I10: 2. | J10: 2 | K10: 2. | L10: 2 | M10: 2. | N10: x | O10: 2. | P10: 2 | Q10: 2. | R10: 1 | S10: 2. | T10: 2 | U10: 2. | W10: 2. | X10: 1 | Y10: 2. | Z10: 2 | AA10: 2. | AB10: x | AC10: 2. | AD10: 2 | AE10: 2. | AF10: x | AG10: 2. | AH10: 1 | AI10: 2. | AJ10: 2 | AK10: 2. | AL10: x | AM10: 2. | AN10: 2
A11: 3. | B11: 1 | C11: 3. | D11: x | E11: 3. | F11: x | G11: 3. | H11: 1 | I11: 3. | J11: x | K11: 3. | L11: x | M11: 3. | N11: 1 | O11: 3. | P11: 2 | Q11: 3. | R11: 2 | S11: 3. | T11: 1 | U11: 3. | W11: 3. | X11: 1 | Y11: 3. | Z11: 1 | AA11: 3. | AB11: 1 | AC11: 3. | AD11: x | AE11: 3. | AF11: 2 | AG11: 3. | AH11: 1 | AI11: 3. | AJ11: 2 | AK11: 3. | AL11: 1 | AM11: 3. | AN11: 2
A12: 4. | B12: 2 | C12: 4. | D12: 2 | E12: 4. | F12: 1 | G12: 4. | H12: 2 | I12: 4. | J12: 2 | K12: 4. | L12: 2 | M12: 4. | N12: 2 | O12: 4. | P12: 2 | Q12: 4. | R12: X | S12: 4. | T12: 1 | U12: 4. | W12: 4. | X12: 2 | Y12: 4. | Z12: 1 | AA12: 4. | AB12: 2 | AC12: 4. | AD12: 1 | AE12: 4. | AF12: 2 | AG12: 4. | AH12: x | AI12: 4. | AJ12: 2 | AK12: 4. | AL12: 2 | AM12: 4. | AN12: x
A13: 5. | B13: 2 | C13: 5. | D13: 2 | E13: 5. | F13: 2 | G13: 5. | H13: 2 | I13: 5. | J13: 2 | K13: 5. | L13: 2 | M13: 5. | N13: 2 | O13: 5. | P13: 2 | Q13: 5. | R13: 1 | S13: 5. | T13: 2 | U13: 5. | W13: 5. | X13: x | Y13: 5. | Z13: 2 | AA13: 5. | AB13: 1 | AC13: 5. | AD13: 2 | AE13: 5. | AF13: 2 | AG13: 5. | AH13: 2 | AI13: 5. | AJ13: x | AK13: 5. | AL13: 1 | AM13: 5. | AN13: 2
A14: 6. | B14: 2 | C14: 6. | D14: 2 | E14: 6. | F14: 2 | G14: 6. | H14: 2 | I14: 6. | J14: 2 | K14: 6. | L14: 2 | M14: 6. | N14: 2 | O14: 6. | P14: 2 | Q14: 6. | R14: 2 | S14: 6. | T14: 2 | U14: 6. | W14: 6. | X14: 2 | Y14: 6. | Z14: 2 | AA14: 6. | AB14: 2 | AC14: 6. | AD14: 2 | AE14: 6. | AF14: 2 | AG14: 6. | AH14: 2 | AI14: 6. | AJ14: 2 | AK14: 6. | AL14: 1 | AM14: 6. | AN14: 2
A15: 7. | B15: 1 | C15: 7. | D15: 1 | E15: 7. | F15: 1 | G15: 7. | H15: 1 | I15: 7. | J15: 1 | K15: 7. | L15: 1 | M15: 7. | N15: 1 | O15: 7. | P15: 1 | Q15: 7. | R15: 1 | S15: 7. | T15: 1 | U15: 7. | W15: 7. | X15: 1 | Y15: 7. | Z15: 1 | AA15: 7. | AB15: 1 | AC15: 7. | AD15: 1 | AE15: 7. | AF15: 1 | AG15: 7. | AH15: 1 | AI15: 7. | AJ15: 1 | AK15: 7. | AL15: 1 | AM15: 7. | AN15: 1
A16: 8. | B16: 1 | C16: 8. | D16: 1 | E16: 8. | F16: 1 | G16: 8. | H16: 1 | I16: 8. | J16: 1 | K16: 8. | L16: 1 | M16: 8. | N16: 1 | O16: 8. | P16: 1 | Q16: 8. | R16: 1 | S16: 8. | T16: 1 | U16: 8. | W16: 8. | X16: 1 | Y16: 8. | Z16: 1 | AA16: 8. | AB16: 1 | AC16: 8. | AD16: 1 | AE16: 8. | AF16: 1 | AG16: 8. | AH16: 1 | AI16: 8. | AJ16: 1 | AK16: 8. | AL16: 2 | AM16: 8. | AN16: 1
A17: 9. | B17: x | C17: 9. | D17: 2 | E17: 9. | F17: 1 | G17: 9. | H17: 2 | I17: 9. | J17: 1 | K17: 9. | L17: 1 | M17: 9. | N17: 1 | O17: 9. | P17: 2 | Q17: 9. | R17: 1 | S17: 9. | T17: x | U17: 9. | W17: 9. | X17: 2 | Y17: 9. | Z17: x | AA17: 9. | AB17: 1 | AC17: 9. | AD17: 1 | AE17: 9. | AF17: 1 | AG17: 9. | AH17: 2 | AI17: 9. | AJ17: 2 | AK17: 9. | AL17: 2 | AM17: 9. | AN17: 1
A18: 10. | B18: 1 | C18: 10. | D18: 1 | E18: 10. | F18: 1 | G18: 10. | H18: 1 | I18: 10. | J18: 1 | K18: 10. | L18: 1 | M18: 10. | N18: 1 | O18: 10. | P18: 1 | Q18: 10. | R18: 1 | S18: 10. | T18: 1 | U18: 10. | W18: 10. | X18: 1 | Y18: 10. | Z18: 1 | AA18: 10. | AB18: 1 | AC18: 10. | AD18: 1 | AE18: 10. | AF18: 1 | AG18: 10. | AH18: 1 | AI18: 10. | AJ18: 1 | AK18: 10. | AL18: 1 | AM18: 10. | AN18: 1
A19: 11. | B19: 2 | C19: 11. | D19: 2 | E19: 11. | F19: 2 | G19: 11. | H19: x | I19: 11. | J19: 2 | K19: 11. | L19: 2 | M19: 11. | N19: 2 | O19: 11. | P19: x | Q19: 11. | R19: 1 | S19: 11. | T19: 1 | U19: 11. | W19: 11. | X19: 1 | Y19: 11. | Z19: 1 | AA19: 11. | AB19: 1 | AC19: 11. | AD19: 2 | AE19: 11. | AF19: 2 | AG19: 11. | AH19: 1 | AI19: 11. | AJ19: 2 | AK19: 11. | AL19: 2 | AM19: 11. | AN19: 2
A20: 12. | B20: 1 | C20: 12. | D20: 1 | E20: 12. | F20: 1 | G20: 12. | H20: x | I20: 12. | J20: 1 | K20: 12. | L20: 1 | M20: 12. | N20: 1 | O20: 12. | P20: 1 | Q20: 12. | R20: 1 | S20: 12. | T20: 1 | U20: 12. | W20: 12. | X20: 1 | Y20: 12. | Z20: 1 | AA20: 12. | AB20: 1 | AC20: 12. | AD20: 1 | AE20: 12. | AF20: 1 | AG20: 12. | AH20: 1 | AI20: 12. | AJ20: 1 | AK20: 12. | AL20: 1 | AM20: 12. | AN20: 1
A21: 13. | B21: 2 | C21: 13. | D21: 2 | E21: 13. | F21: 2 | G21: 13. | H21: 2 | I21: 13. | J21: 2 | K21: 13. | L21: 2 | M21: 13. | N21: 2 | O21: 13. | P21: 2 | Q21: 13. | R21: 2 | S21: 13. | T21: 2 | U21: 13. | W21: 13. | X21: 2 | Y21: 13. | Z21: 2 | AA21: 13. | AB21: 1 | AC21: 13. | AD21: 2 | AE21: 13. | AF21: 2 | AG21: 13. | AH21: 1 | AI21: 13. | AJ21: 2 | AK21: 13. | AL21: 2 | AM21: 13. | AN21: 2
B22: =A78 -> OK | D22: =B78 -> OK | F22: =C78 -> OK | H22: =D78 -> OK | J22: =E78 -> OK | L22: =F78 -> OK | N22: =G78 -> OK | P22: =H78 -> OK | R22: =I78 -> OK | T22: =J78 -> OK | V22: =K78 -> OK | X22: =L78 -> OK | Z22: =M78 -> OK | AB22: =N78 -> OK | AD22: =O78 -> OK | AF22: =P78 -> OK | AH22: =Q78 -> OK | AJ22: =R78 -> OK | AL22: =S78 -> OK | AN22: =T78 -> OK
B24: 2. Division | D24: 2. Division | F24: 2. Division | H24: 2. Division | J24: 2. Division | L24: 2. Division | N24: 2. Division | P24: 2. Division | R24: 2. Division | T24: 2. Division | V24: 2. Division | X24: 2. Division | Z24: 2. Division | AB24: 2. Division | AD24: 2. Division | AF24: 2. Division | AH24: 2. Division | AJ24: 2. Division | AL24: 2. Division | AN24: 2. Division
B26: =DB!K28 -> Agger | D26: =DB!K29 -> Anderup | F26: =DB!K30 -> Cottee | H26: =DB!K31 -> Culopip | J26: =DB!K32 -> Degnen | L26: =DB!K33 -> Far | N26: =DB!K34 -> Fox | P26: =DB!K35 -> Halvor | R26: =DB!K36 -> Himbo | T26: =DB!K37 -> IANRUSH | V26: =DB!K39 -> Kailua | X26: =DB!K40 -> Kinks | Z26: =DB!K41 -> Laplace | AB26: =DB!K42 -> Lions | AD26: =DB!K43 -> Livpool | AF26: =DB!K44 -> MFP | AH26: =DB!K45 -> Nemelig | AJ26: =DB!K46 -> Percy | AL26: =DB!K47 -> Tøfting | AN26: =DB!K48 -> Zico
B27: =IF(DB!M28=1,"Disket",IF(DB!O28=1,"Udmeldt","Status")) -> Status | D27: =IF(DB!M29=1,"Disket",IF(DB!O29=1,"Udmeldt","Status")) -> Status | F27: =IF(DB!M30=1,"Disket",IF(DB!O30=1,"Udmeldt","Status")) -> Status | H27: =IF(DB!M31=1,"Disket",IF(DB!O31=1,"Udmeldt","Status")) -> Status | J27: =IF(DB!M32=1,"Disket",IF(DB!O32=1,"Udmeldt","Status")) -> Status | L27: =IF(DB!M33=1,"Disket",IF(DB!O33=1,"Udmeldt","Status")) -> Status | N27: =IF(DB!M34=1,"Disket",IF(DB!O34=1,"Udmeldt","Status")) -> Status | P27: =IF(DB!M35=1,"Disket",IF(DB!O35=1,"Udmeldt","Status")) -> Status | R27: =IF(DB!M36=1,"Disket",IF(DB!O36=1,"Udmeldt","Status")) -> Status | T27: =IF(DB!M37=1,"Disket",IF(DB!O37=1,"Udmeldt","Status")) -> Disket | V27: =IF(DB!M39=1,"Disket",IF(DB!O39=1,"Udmeldt","Status")) -> Status | X27: =IF(DB!M40=1,"Disket",IF(DB!O40=1,"Udmeldt","Status")) -> Status | Z27: =IF(DB!M41=1,"Disket",IF(DB!O41=1,"Udmeldt","Status")) -> Status | AB27: =IF(DB!M42=1,"Disket",IF(DB!O42=1,"Udmeldt","Status")) -> Status | AD27: =IF(DB!M43=1,"Disket",IF(DB!O43=1,"Udmeldt","Status")) -> Status | AF27: =IF(DB!M44=1,"Disket",IF(DB!O44=1,"Udmeldt","Status")) -> Status | AH27: =IF(DB!M45=1,"Disket",IF(DB!O45=1,"Udmeldt","Status")) -> Status | AJ27: =IF(DB!M46=1,"Disket",IF(DB!O46=1,"Udmeldt","Status")) -> Status | AL27: =IF(DB!M47=1,"Disket",IF(DB!O47=1,"Udmeldt","Status")) -> Status | AN27: =IF(DB!M48=1,"Disket",IF(DB!O48=1,"Udmeldt","Status")) -> Status
B29: Enkeltrække | D29: Enkeltrække | F29: Enkeltrække | H29: Enkeltrække | J29: Enkeltrække | L29: Enkeltrække | N29: Enkeltrække | P29: Enkeltrække | R29: Enkeltrække | T29: Enkeltrække | V29: Enkeltrække | X29: Enkeltrække | Z29: Enkeltrække | AB29: Enkeltrække | AD29: Enkeltrække | AF29: Enkeltrække | AH29: Enkeltrække | AJ29: Enkeltrække | AL29: Enkeltrække | AN29: Enkeltrække
A30: 1. | B30: 1 | C30: 1. | D30: 1 | E30: 1. | F30: 1 | G30: 1. | H30: 1 | I30: 1. | J30: 1 | K30: 1. | L30: 1 | M30: 1. | N30: 1 | O30: 1. | P30: 1 | Q30: 1. | R30: 1 | S30: 1. | U30: 1. | V30: 1 | W30: 1. | X30: 1 | Y30: 1. | Z30: 1 | AA30: 1. | AB30: 1 | AC30: 1. | AD30: 1 | AE30: 1. | AF30: 1 | AG30: 1. | AH30: 1 | AI30: 1. | AJ30: 1 | AK30: 1. | AL30: 1 | AM30: 1. | AN30: 1
A31: 2. | B31: x | C31: 2. | D31: 1 | E31: 2. | F31: x | G31: 2. | H31: 2 | I31: 2. | J31: 2 | K31: 2. | L31: 2 | M31: 2. | N31: x | O31: 2. | P31: 1 | Q31: 2. | R31: x | S31: 2. | U31: 2. | V31: 1 | W31: 2. | X31: 2 | Y31: 2. | Z31: 1 | AA31: 2. | AB31: 1 | AC31: 2. | AD31: x | AE31: 2. | AF31: x | AG31: 2. | AH31: x | AI31: 2. | AJ31: 2 | AK31: 2. | AL31: 1 | AM31: 2. | AN31: 2
A32: 3. | B32: 1 | C32: 3. | D32: 1 | E32: 3. | F32: 1 | G32: 3. | H32: x | I32: 3. | J32: x | K32: 3. | L32: 1 | M32: 3. | N32: 1 | O32: 3. | P32: 1 | Q32: 3. | R32: 1 | S32: 3. | U32: 3. | V32: x | W32: 3. | X32: x | Y32: 3. | Z32: 2 | AA32: 3. | AB32: 2 | AC32: 3. | AD32: x | AE32: 3. | AF32: 2 | AG32: 3. | AH32: 1 | AI32: 3. | AJ32: 2 | AK32: 3. | AL32: 1 | AM32: 3. | AN32: 1
A33: 4. | B33: 2 | C33: 4. | D33: x | E33: 4. | F33: 2 | G33: 4. | H33: 2 | I33: 4. | J33: 2 | K33: 4. | L33: 2 | M33: 4. | N33: 2 | O33: 4. | P33: 2 | Q33: 4. | R33: 1 | S33: 4. | U33: 4. | V33: 2 | W33: 4. | X33: 2 | Y33: 4. | Z33: x | AA33: 4. | AB33: X | AC33: 4. | AD33: 2 | AE33: 4. | AF33: 1 | AG33: 4. | AH33: 2 | AI33: 4. | AJ33: 1 | AK33: 4. | AL33: 2 | AM33: 4. | AN33: 2
A34: 5. | B34: 2 | C34: 5. | D34: 2 | E34: 5. | F34: 2 | G34: 5. | H34: 2 | I34: 5. | J34: 2 | K34: 5. | L34: 2 | M34: 5. | N34: 1 | O34: 5. | P34: 2 | Q34: 5. | R34: 2 | S34: 5. | U34: 5. | V34: 2 | W34: 5. | X34: 2 | Y34: 5. | Z34: 2 | AA34: 5. | AB34: 1 | AC34: 5. | AD34: 2 | AE34: 5. | AF34: 2 | AG34: 5. | AH34: 2 | AI34: 5. | AJ34: 2 | AK34: 5. | AL34: 2 | AM34: 5. | AN34: 2
A35: 6. | B35: 2 | C35: 6. | D35: 2 | E35: 6. | F35: 2 | G35: 6. | H35: 2 | I35: 6. | J35: 2 | K35: 6. | L35: 2 | M35: 6. | N35: 2 | O35: 6. | P35: 2 | Q35: 6. | R35: 2 | S35: 6. | U35: 6. | V35: 2 | W35: 6. | X35: 2 | Y35: 6. | Z35: 2 | AA35: 6. | AB35: 2 | AC35: 6. | AD35: 2 | AE35: 6. | AF35: 2 | AG35: 6. | AH35: 2 | AI35: 6. | AJ35: 2 | AK35: 6. | AL35: 2 | AM35: 6. | AN35: 2
A36: 7. | B36: 1 | C36: 7. | D36: 1 | E36: 7. | F36: 1 | G36: 7. | H36: 1 | I36: 7. | J36: 1 | K36: 7. | L36: 1 | M36: 7. | N36: 1 | O36: 7. | P36: 1 | Q36: 7. | R36: 1 | S36: 7. | U36: 7. | V36: 1 | W36: 7. | X36: 1 | Y36: 7. | Z36: 1 | AA36: 7. | AB36: 1 | AC36: 7. | AD36: 1 | AE36: 7. | AF36: 1 | AG36: 7. | AH36: 1 | AI36: 7. | AJ36: 1 | AK36: 7. | AL36: 1 | AM36: 7. | AN36: 1
A37: 8. | B37: 1 | C37: 8. | D37: 1 | E37: 8. | F37: 1 | G37: 8. | H37: 1 | I37: 8. | J37: 1 | K37: 8. | L37: 1 | M37: 8. | N37: 1 | O37: 8. | P37: 1 | Q37: 8. | R37: 1 | S37: 8. | U37: 8. | V37: 1 | W37: 8. | X37: 1 | Y37: 8. | Z37: 1 | AA37: 8. | AB37: 1 | AC37: 8. | AD37: 1 | AE37: 8. | AF37: 1 | AG37: 8. | AH37: 1 | AI37: 8. | AJ37: 1 | AK37: 8. | AL37: 1 | AM37: 8. | AN37: 1
A38: 9. | B38: 2 | C38: 9. | D38: 2 | E38: 9. | F38: 2 | G38: 9. | H38: 1 | I38: 9. | J38: 1 | K38: 9. | L38: x | M38: 9. | N38: 1 | O38: 9. | P38: 2 | Q38: 9. | R38: 2 | S38: 9. | U38: 9. | V38: 2 | W38: 9. | X38: 1 | Y38: 9. | Z38: 1 | AA38: 9. | AB38: 1 | AC38: 9. | AD38: x | AE38: 9. | AF38: 1 | AG38: 9. | AH38: 2 | AI38: 9. | AJ38: x | AK38: 9. | AL38: 2 | AM38: 9. | AN38: x
A39: 10. | B39: 1 | C39: 10. | D39: 1 | E39: 10. | F39: 1 | G39: 10. | H39: 1 | I39: 10. | J39: 1 | K39: 10. | L39: 1 | M39: 10. | N39: 1 | O39: 10. | P39: 1 | Q39: 10. | R39: 1 | S39: 10. | U39: 10. | V39: 1 | W39: 10. | X39: 1 | Y39: 10. | Z39: 1 | AA39: 10. | AB39: 1 | AC39: 10. | AD39: 1 | AE39: 10. | AF39: 1 | AG39: 10. | AH39: 1 | AI39: 10. | AJ39: 1 | AK39: 10. | AL39: 1 | AM39: 10. | AN39: 1
A40: 11. | B40: 1 | C40: 11. | D40: 1 | E40: 11. | F40: 2 | G40: 11. | H40: x | I40: 11. | J40: 1 | K40: 11. | L40: 1 | M40: 11. | N40: 1 | O40: 11. | P40: 1 | Q40: 11. | R40: 1 | S40: 11. | U40: 11. | V40: 1 | W40: 11. | X40: 1 | Y40: 11. | Z40: 1 | AA40: 11. | AB40: 1 | AC40: 11. | AD40: 1 | AE40: 11. | AF40: 1 | AG40: 11. | AH40: 2 | AI40: 11. | AJ40: 1 | AK40: 11. | AL40: 1 | AM40: 11. | AN40: x
A41: 12. | B41: 1 | C41: 12. | D41: 1 | E41: 12. | F41: 1 | G41: 12. | H41: 1 | I41: 12. | J41: 1 | K41: 12. | L41: 1 | M41: 12. | N41: 1 | O41: 12. | P41: x | Q41: 12. | R41: 1 | S41: 12. | U41: 12. | V41: 1 | W41: 12. | X41: 1 | Y41: 12. | Z41: 1 | AA41: 12. | AB41: 1 | AC41: 12. | AD41: 1 | AE41: 12. | AF41: 1 | AG41: 12. | AH41: 1 | AI41: 12. | AJ41: 1 | AK41: 12. | AL41: x | AM41: 12. | AN41: 1
A42: 13. | B42: 2 | C42: 13. | D42: 2 | E42: 13. | F42: 2 | G42: 13. | H42: 2 | I42: 13. | J42: 2 | K42: 13. | L42: 2 | M42: 13. | N42: 1 | O42: 13. | P42: 2 | Q42: 13. | R42: x | S42: 13. | U42: 13. | V42: 2 | W42: 13. | X42: 2 | Y42: 13. | Z42: 2 | AA42: 13. | AB42: 2 | AC42: 13. | AD42: 2 | AE42: 13. | AF42: 2 | AG42: 13. | AH42: 2 | AI42: 13. | AJ42: 2 | AK42: 13. | AL42: 2 | AM42: 13. | AN42: 2
B43: =A92 -> OK | D43: =B92 -> OK | F43: =C92 -> OK | H43: =D92 -> OK | J43: =E92 -> OK | L43: =F92 -> OK | N43: =G92 -> OK | P43: =H92 -> OK | R43: =I92 -> OK | T43: =J92 -> OK | V43: =K92 -> OK | X43: =L92 -> OK | Z43: =M92 -> OK | AB43: =N92 -> OK | AD43: =O92 -> OK | AF43: =P92 -> OK | AH43: =Q92 -> OK | AJ43: =R92 -> OK | AL43: =S92 -> OK | AN43: =T92 -> OK
B45: 3. Division | D45: 3. Division | F45: 3. Division | H45: 3. Division | J45: 3. Division | L45: 3. Division | N45: 3. Division | P45: 3. Division | R45: 3. Division | T45: 3. Division | V45: 3. Division | X45: 3. Division | Z45: 3. Division | AB45: 3. Division | AD45: 3. Division | AF45: 3. Division | AH45: 3. Division | AJ45: 3. Division | AL45: 3. Division | AN45: 3. Division
B47: =DB!K50 -> Anfield | D47: =DB!K51 -> brula | F47: =DB!K52 -> Gunners | H47: =DB!K53 -> Hede | J47: =DB!K54 -> Højgård | L47: =DB!K55 -> Håvard | N47: =DB!K56 -> Kudsken | P47: =DB!K57 -> LPHJ | R47: =DB!K58 -> Lucky | T47: =DB!K59 -> LUFCMOT | V47: =DB!K61 -> Magpies | X47: =DB!K62 -> Mauer | Z47: =DB!K63 -> McCoist | AB47: =DB!K64 -> Nielsen | AD47: =DB!K65 -> Randers | AF47: =DB!K66 -> Schøn | AH47: =DB!K67 -> Sebjoh | AJ47: =DB!K68 -> Sergio | AL47: =DB!K69 -> Søknud | AN47: =DB!K70 -> ÅZÆTZØW
B48: =IF(DB!M50=1,"Disket",IF(DB!O50=1,"Udmeldt",IF(LEFT(B47,8)="Reserve ","Res","Status"))) -> Status | D48: =IF(DB!M51=1,"Disket",IF(DB!O51=1,"Udmeldt",IF(LEFT(D47,8)="Reserve ","Res","Status"))) -> Status | F48: =IF(DB!M52=1,"Disket",IF(DB!O52=1,"Udmeldt",IF(LEFT(F47,8)="Reserve ","Res","Status"))) -> Status | H48: =IF(DB!M53=1,"Disket",IF(DB!O53=1,"Udmeldt",IF(LEFT(H47,8)="Reserve ","Res","Status"))) -> Status | J48: =IF(DB!M54=1,"Disket",IF(DB!O54=1,"Udmeldt",IF(LEFT(J47,8)="Reserve ","Res","Status"))) -> Status | L48: =IF(DB!M55=1,"Disket",IF(DB!O55=1,"Udmeldt",IF(LEFT(L47,8)="Reserve ","Res","Status"))) -> Status | N48: =IF(DB!M56=1,"Disket",IF(DB!O56=1,"Udmeldt",IF(LEFT(N47,8)="Reserve ","Res","Status"))) -> Status | P48: =IF(DB!M57=1,"Disket",IF(DB!O57=1,"Udmeldt",IF(LEFT(P47,8)="Reserve ","Res","Status"))) -> Status | R48: =IF(DB!M58=1,"Disket",IF(DB!O58=1,"Udmeldt",IF(LEFT(R47,8)="Reserve ","Res","Status"))) -> Status | T48: =IF(DB!M59=1,"Disket",IF(DB!O59=1,"Udmeldt",IF(LEFT(T47,8)="Reserve ","Res","Status"))) -> Status | V48: =IF(DB!M61=1,"Disket",IF(DB!O61=1,"Udmeldt",IF(LEFT(V47,8)="Reserve ","Res","Status"))) -> Status | X48: =IF(DB!M62=1,"Disket",IF(DB!O62=1,"Udmeldt",IF(LEFT(X47,8)="Reserve ","Res","Status"))) -> Status | Z48: =IF(DB!M63=1,"Disket",IF(DB!O63=1,"Udmeldt",IF(LEFT(Z47,8)="Reserve ","Res","Status"))) -> Status | AB48: =IF(DB!M64=1,"Disket",IF(DB!O64=1,"Udmeldt",IF(LEFT(AB47,8)="Reserve ","Res","Status"))) -> Status | AD48: =IF(DB!M65=1,"Disket",IF(DB!O65=1,"Udmeldt",IF(LEFT(AD47,8)="Reserve ","Res","Status"))) -> Status | AF48: =IF(DB!M66=1,"Disket",IF(DB!O66=1,"Udmeldt",IF(LEFT(AF47,8)="Reserve ","Res","Status"))) -> Status | AH48: =IF(DB!M67=1,"Disket",IF(DB!O67=1,"Udmeldt",IF(LEFT(AH47,8)="Reserve ","Res","Status"))) -> Status | AJ48: =IF(DB!M68=1,"Disket",IF(DB!O68=1,"Udmeldt",IF(LEFT(AJ47,8)="Reserve ","Res","Status"))) -> Status | AL48: =IF(DB!M69=1,"Disket",IF(DB!O69=1,"Udmeldt",IF(LEFT(AL47,8)="Reserve ","Res","Status"))) -> Status | AN48: =IF(DB!M70=1,"Disket",IF(DB!O70=1,"Udmeldt",IF(LEFT(AN47,8)="Reserve ","Res","Status"))) -> Status
N49: Res
B50: Enkeltrække | D50: Enkeltrække | F50: Enkeltrække | H50: Enkeltrække | J50: Enkeltrække | L50: Enkeltrække | N50: Enkeltrække | P50: Enkeltrække | R50: Enkeltrække | T50: Enkeltrække | V50: Enkeltrække | X50: Enkeltrække | Z50: Enkeltrække | AB50: Enkeltrække | AD50: Enkeltrække | AF50: Enkeltrække | AH50: Enkeltrække | AJ50: Enkeltrække | AL50: Enkeltrække | AN50: Enkeltrække
A51: 1. | B51: 1 | C51: 1. | D51: 1 | E51: 1. | F51: 1 | G51: 1. | H51: 1 | I51: 1. | J51: 1 | K51: 1. | L51: 1 | M51: 1. | O51: 1. | P51: 1 | Q51: 1. | R51: 1 | S51: 1. | T51: 1 | U51: 1. | V51: 1 | W51: 1. | X51: 1 | Y51: 1. | Z51: 1 | AA51: 1. | AB51: 1 | AC51: 1. | AD51: 1 | AE51: 1. | AF51: 1 | AG51: 1. | AH51: 1 | AI51: 1. | AJ51: 1 | AK51: 1. | AL51: 1 | AM51: 1. | AN51: 1
A52: 2. | B52: x | C52: 2. | D52: x | E52: 2. | F52: 2 | G52: 2. | H52: x | I52: 2. | J52: 1 | K52: 2. | L52: 1 | M52: 2. | O52: 2. | P52: x | Q52: 2. | R52: 1 | S52: 2. | T52: 1 | U52: 2. | V52: 1 | W52: 2. | X52: 2 | Y52: 2. | Z52: 2 | AA52: 2. | AB52: 1 | AC52: 2. | AD52: 2 | AE52: 2. | AF52: 1 | AG52: 2. | AH52: x | AI52: 2. | AJ52: 2 | AK52: 2. | AL52: x | AM52: 2. | AN52: x
A53: 3. | B53: x | C53: 3. | D53: 1 | E53: 3. | F53: 1 | G53: 3. | H53: x | I53: 3. | J53: 1 | K53: 3. | L53: 1 | M53: 3. | O53: 3. | P53: 1 | Q53: 3. | R53: x | S53: 3. | T53: 1 | U53: 3. | V53: 1 | W53: 3. | X53: x | Y53: 3. | Z53: x | AA53: 3. | AB53: 1 | AC53: 3. | AD53: x | AE53: 3. | AF53: 2 | AG53: 3. | AH53: 1 | AI53: 3. | AJ53: 1 | AK53: 3. | AL53: 2 | AM53: 3. | AN53: 1
A54: 4. | B54: 2 | C54: 4. | D54: 2 | E54: 4. | F54: 2 | G54: 4. | H54: 2 | I54: 4. | J54: 2 | K54: 4. | L54: 2 | M54: 4. | O54: 4. | P54: 2 | Q54: 4. | R54: x | S54: 4. | T54: x | U54: 4. | V54: 2 | W54: 4. | X54: x | Y54: 4. | Z54: 2 | AA54: 4. | AB54: 2 | AC54: 4. | AD54: x | AE54: 4. | AF54: 2 | AG54: 4. | AH54: 1 | AI54: 4. | AJ54: 2 | AK54: 4. | AL54: x | AM54: 4. | AN54: 2
A55: 5. | B55: 2 | C55: 5. | D55: x | E55: 5. | F55: 1 | G55: 5. | H55: 2 | I55: 5. | J55: x | K55: 5. | L55: 2 | M55: 5. | O55: 5. | P55: 2 | Q55: 5. | R55: x | S55: 5. | T55: 2 | U55: 5. | V55: 2 | W55: 5. | X55: 2 | Y55: 5. | Z55: 2 | AA55: 5. | AB55: 2 | AC55: 5. | AD55: 2 | AE55: 5. | AF55: x | AG55: 5. | AH55: 2 | AI55: 5. | AJ55: 2 | AK55: 5. | AL55: 2 | AM55: 5. | AN55: 2
A56: 6. | B56: 2 | C56: 6. | D56: 2 | E56: 6. | F56: 2 | G56: 6. | H56: 2 | I56: 6. | J56: 2 | K56: 6. | L56: 2 | M56: 6. | O56: 6. | P56: 2 | Q56: 6. | R56: 2 | S56: 6. | T56: 2 | U56: 6. | V56: 2 | W56: 6. | X56: 2 | Y56: 6. | Z56: 2 | AA56: 6. | AB56: 2 | AC56: 6. | AD56: 2 | AE56: 6. | AF56: 2 | AG56: 6. | AH56: 2 | AI56: 6. | AJ56: 2 | AK56: 6. | AL56: 2 | AM56: 6. | AN56: 2
A57: 7. | B57: 1 | C57: 7. | D57: 1 | E57: 7. | F57: 1 | G57: 7. | H57: 1 | I57: 7. | J57: 1 | K57: 7. | L57: 1 | M57: 7. | O57: 7. | P57: 1 | Q57: 7. | R57: 1 | S57: 7. | T57: 1 | U57: 7. | V57: 1 | W57: 7. | X57: 1 | Y57: 7. | Z57: 1 | AA57: 7. | AB57: 1 | AC57: 7. | AD57: 1 | AE57: 7. | AF57: 1 | AG57: 7. | AH57: 1 | AI57: 7. | AJ57: 1 | AK57: 7. | AL57: 1 | AM57: 7. | AN57: 1
A58: 8. | B58: 1 | C58: 8. | D58: 1 | E58: 8. | F58: 1 | G58: 8. | H58: 1 | I58: 8. | J58: 1 | K58: 8. | L58: 1 | M58: 8. | O58: 8. | P58: 1 | Q58: 8. | R58: 1 | S58: 8. | T58: 1 | U58: 8. | V58: 1 | W58: 8. | X58: 1 | Y58: 8. | Z58: 1 | AA58: 8. | AB58: 1 | AC58: 8. | AD58: 1 | AE58: 8. | AF58: 1 | AG58: 8. | AH58: 1 | AI58: 8. | AJ58: 1 | AK58: 8. | AL58: 1 | AM58: 8. | AN58: 1
A59: 9. | B59: x | C59: 9. | D59: x | E59: 9. | F59: x | G59: 9. | H59: 1 | I59: 9. | J59: 1 | K59: 9. | L59: 2 | M59: 9. | O59: 9. | P59: 1 | Q59: 9. | R59: 2 | S59: 9. | T59: x | U59: 9. | V59: x | W59: 9. | X59: 1 | Y59: 9. | Z59: 1 | AA59: 9. | AB59: x | AC59: 9. | AD59: 1 | AE59: 9. | AF59: 2 | AG59: 9. | AH59: 1 | AI59: 9. | AJ59: x | AK59: 9. | AL59: 2 | AM59: 9. | AN59: 1
A60: 10. | B60: 1 | C60: 10. | D60: 1 | E60: 10. | F60: 1 | G60: 10. | H60: 1 | I60: 10. | J60: 1 | K60: 10. | L60: 1 | M60: 10. | O60: 10. | P60: 1 | Q60: 10. | R60: 1 | S60: 10. | T60: 1 | U60: 10. | V60: 1 | W60: 10. | X60: 1 | Y60: 10. | Z60: 1 | AA60: 10. | AB60: 1 | AC60: 10. | AD60: 1 | AE60: 10. | AF60: 1 | AG60: 10. | AH60: 1 | AI60: 10. | AJ60: 1 | AK60: 10. | AL60: 1 | AM60: 10. | AN60: 1
A61: 11. | B61: 1 | C61: 11. | D61: 1 | E61: 11. | F61: 1 | G61: 11. | H61: 2 | I61: 11. | J61: 2 | K61: 11. | L61: 1 | M61: 11. | O61: 11. | P61: 2 | Q61: 11. | R61: x | S61: 11. | T61: 2 | U61: 11. | V61: 1 | W61: 11. | X61: 1 | Y61: 11. | Z61: 2 | AA61: 11. | AB61: x | AC61: 11. | AD61: x | AE61: 11. | AF61: 2 | AG61: 11. | AH61: 2 | AI61: 11. | AJ61: x | AK61: 11. | AL61: 2 | AM61: 11. | AN61: x
A62: 12. | B62: 1 | C62: 12. | D62: 1 | E62: 12. | F62: 1 | G62: 12. | H62: 1 | I62: 12. | J62: 1 | K62: 12. | L62: x | M62: 12. | O62: 12. | P62: 1 | Q62: 12. | R62: 1 | S62: 12. | T62: 1 | U62: 12. | V62: 1 | W62: 12. | X62: 1 | Y62: 12. | Z62: 1 | AA62: 12. | AB62: 1 | AC62: 12. | AD62: 2 | AE62: 12. | AF62: 1 | AG62: 12. | AH62: 1 | AI62: 12. | AJ62: 1 | AK62: 12. | AL62: 1 | AM62: 12. | AN62: 1
A63: 13. | B63: 2 | C63: 13. | D63: 2 | E63: 13. | F63: x | G63: 13. | H63: x | I63: 13. | J63: x | K63: 13. | L63: 2 | M63: 13. | O63: 13. | P63: 2 | Q63: 13. | R63: 2 | S63: 13. | T63: 2 | U63: 13. | V63: 2 | W63: 13. | X63: 2 | Y63: 13. | Z63: 2 | AA63: 13. | AB63: 1 | AC63: 13. | AD63: 1 | AE63: 13. | AF63: 2 | AG63: 13. | AH63: 2 | AI63: 13. | AJ63: 2 | AK63: 13. | AL63: 2 | AM63: 13. | AN63: 2
B64: =A106 -> OK | D64: =B106 -> OK | F64: =C106 -> OK | H64: =D106 -> OK | J64: =E106 -> OK | L64: =F106 -> OK | N64: =G106 -> OK | P64: =H106 -> OK | R64: =I106 -> OK | T64: =J106 -> OK | V64: =K106 -> OK | X64: =L106 -> OK | Z64: =M106 -> OK | AB64: =N106 -> OK | AD64: =O106 -> OK | AF64: =P106 -> OK | AH64: =Q106 -> OK | AJ64: =R106 -> OK | AL64: =S106 -> OK | AN64: =T106 -> OK
A65: =IF(AND(B6="Status",OR(B7="Res",B7="MR",B7="Disket",B7="Udmeldt"),B9=""),1,IF(AND(B6="Status",B7="",OR(B9=1,B9="x",B9=2)),1,IF(AND(B6="Status",B7="",B9=""),2,IF(AND(B6<>"Status",B7="",B9=""),1,0)))) -> 1 | B65: =IF(AND(D6="Status",OR(D7="Res",D7="MR",D7="Disket",D7="Udmeldt"),D9=""),1,IF(AND(D6="Status",D7="",OR(D9=1,D9="x",D9=2)),1,IF(AND(D6="Status",D7="",D9=""),2,IF(AND(D6<>"Status",D7="",D9=""),1,0)))) -> 1 | C65: =IF(AND(F6="Status",OR(F7="Res",F7="MR",F7="Disket",F7="Udmeldt"),F9=""),1,IF(AND(F6="Status",F7="",OR(F9=1,F9="x",F9=2)),1,IF(AND(F6="Status",F7="",F9=""),2,IF(AND(F6<>"Status",F7="",F9=""),1,0)))) -> 1 | D65: =IF(AND(H6="Status",OR(H7="Res",H7="MR",H7="Disket",H7="Udmeldt"),H9=""),1,IF(AND(H6="Status",H7="",OR(H9=1,H9="x",H9=2)),1,IF(AND(H6="Status",H7="",H9=""),2,IF(AND(H6<>"Status",H7="",H9=""),1,0)))) -> 1 | E65: =IF(AND(J6="Status",OR(J7="Res",J7="MR",J7="Disket",J7="Udmeldt"),J9=""),1,IF(AND(J6="Status",J7="",OR(J9=1,J9="x",J9=2)),1,IF(AND(J6="Status",J7="",J9=""),2,IF(AND(J6<>"Status",J7="",J9=""),1,0)))) -> 1 | F65: =IF(AND(L6="Status",OR(L7="Res",L7="MR",L7="Disket",L7="Udmeldt"),L9=""),1,IF(AND(L6="Status",L7="",OR(L9=1,L9="x",L9=2)),1,IF(AND(L6="Status",L7="",L9=""),2,IF(AND(L6<>"Status",L7="",L9=""),1,0)))) -> 1 | G65: =IF(AND(N6="Status",OR(N7="Res",N7="MR",N7="Disket",N7="Udmeldt"),N9=""),1,IF(AND(N6="Status",N7="",OR(N9=1,N9="x",N9=2)),1,IF(AND(N6="Status",N7="",N9=""),2,IF(AND(N6<>"Status",N7="",N9=""),1,0)))) -> 1 | H65: =IF(AND(P6="Status",OR(P7="Res",P7="MR",P7="Disket",P7="Udmeldt"),P9=""),1,IF(AND(P6="Status",P7="",OR(P9=1,P9="x",P9=2)),1,IF(AND(P6="Status",P7="",P9=""),2,IF(AND(P6<>"Status",P7="",P9=""),1,0)))) -> 1 | I65: =IF(AND(R6="Status",OR(R7="Res",R7="MR",R7="Disket",R7="Udmeldt"),R9=""),1,IF(AND(R6="Status",R7="",OR(R9=1,R9="x",R9=2)),1,IF(AND(R6="Status",R7="",R9=""),2,IF(AND(R6<>"Status",R7="",R9=""),1,0)))) -> 1 | J65: =IF(AND(T6="Status",OR(T7="Res",T7="MR",T7="Disket",T7="Udmeldt"),T9=""),1,IF(AND(T6="Status",T7="",OR(T9=1,T9="x",T9=2)),1,IF(AND(T6="Status",T7="",T9=""),2,IF(AND(T6<>"Status",T7="",T9=""),1,0)))) -> 1 | K65: =IF(AND(V6="Status",OR(V7="Res",V7="MR",V7="Disket",V7="Udmeldt"),V9=""),1,IF(AND(V6="Status",V7="",OR(V9=1,V9="x",V9=2)),1,IF(AND(V6="Status",V7="",V9=""),2,IF(AND(V6<>"Status",V7="",V9=""),1,0)))) -> 1 | L65: =IF(AND(X6="Status",OR(X7="Res",X7="MR",X7="Disket",X7="Udmeldt"),X9=""),1,IF(AND(X6="Status",X7="",OR(X9=1,X9="x",X9=2)),1,IF(AND(X6="Status",X7="",X9=""),2,IF(AND(X6<>"Status",X7="",X9=""),1,0)))) -> 1 | M65: =IF(AND(Z6="Status",OR(Z7="Res",Z7="MR",Z7="Disket",Z7="Udmeldt"),Z9=""),1,IF(AND(Z6="Status",Z7="",OR(Z9=1,Z9="x",Z9=2)),1,IF(AND(Z6="Status",Z7="",Z9=""),2,IF(AND(Z6<>"Status",Z7="",Z9=""),1,0)))) -> 1 | N65: =IF(AND(AB6="Status",OR(AB7="Res",AB7="MR",AB7="Disket",AB7="Udmeldt"),AB9=""),1,IF(AND(AB6="Status",AB7="",OR(AB9=1,AB9="x",AB9=2)),1,IF(AND(AB6="Status",AB7="",AB9=""),2,IF(AND(AB6<>"Status",AB7="",AB9=""),1,0)))) -> 1 | O65: =IF(AND(AD6="Status",OR(AD7="Res",AD7="MR",AD7="Disket",AD7="Udmeldt"),AD9=""),1,IF(AND(AD6="Status",AD7="",OR(AD9=1,AD9="x",AD9=2)),1,IF(AND(AD6="Status",AD7="",AD9=""),2,IF(AND(AD6<>"Status",AD7="",AD9=""),1,0)))) -> 1 | P65: =IF(AND(AF6="Status",OR(AF7="Res",AF7="MR",AF7="Disket",AF7="Udmeldt"),AF9=""),1,IF(AND(AF6="Status",AF7="",OR(AF9=1,AF9="x",AF9=2)),1,IF(AND(AF6="Status",AF7="",AF9=""),2,IF(AND(AF6<>"Status",AF7="",AF9=""),1,0)))) -> 1 | Q65: =IF(AND(AH6="Status",OR(AH7="Res",AH7="MR",AH7="Disket",AH7="Udmeldt"),AH9=""),1,IF(AND(AH6="Status",AH7="",OR(AH9=1,AH9="x",AH9=2)),1,IF(AND(AH6="Status",AH7="",AH9=""),2,IF(AND(AH6<>"Status",AH7="",AH9=""),1,0)))) -> 1 | R65: =IF(AND(AJ6="Status",OR(AJ7="Res",AJ7="MR",AJ7="Disket",AJ7="Udmeldt"),AJ9=""),1,IF(AND(AJ6="Status",AJ7="",OR(AJ9=1,AJ9="x",AJ9=2)),1,IF(AND(AJ6="Status",AJ7="",AJ9=""),2,IF(AND(AJ6<>"Status",AJ7="",AJ9=""),1,0)))) -> 1 | S65: =IF(AND(AL6="Status",OR(AL7="Res",AL7="MR",AL7="Disket",AL7="Udmeldt"),AL9=""),1,IF(AND(AL6="Status",AL7="",OR(AL9=1,AL9="x",AL9=2)),1,IF(AND(AL6="Status",AL7="",AL9=""),2,IF(AND(AL6<>"Status",AL7="",AL9=""),1,0)))) -> 1 | T65: =IF(AND(AN6="Status",OR(AN7="Res",AN7="MR",AN7="Disket",AN7="Udmeldt"),AN9=""),1,IF(AND(AN6="Status",AN7="",OR(AN9=1,AN9="x",AN9=2)),1,IF(AND(AN6="Status",AN7="",AN9=""),2,IF(AND(AN6<>"Status",AN7="",AN9=""),1,0)))) -> 1
A66: =IF(AND(B6="Status",OR(B7="Res",B7="MR",B7="Disket",B7="Udmeldt"),B10=""),1,IF(AND(B6="Status",B7="",OR(B10=1,B10="x",B10=2)),1,IF(AND(B6="Status",B7="",B10=""),2,IF(AND(B6<>"Status",B7="",B10=""),1,0)))) -> 1 | B66: =IF(AND(D6="Status",OR(D7="Res",D7="MR",D7="Disket",D7="Udmeldt"),D10=""),1,IF(AND(D6="Status",D7="",OR(D10=1,D10="x",D10=2)),1,IF(AND(D6="Status",D7="",D10=""),2,IF(AND(D6<>"Status",D7="",D10=""),1,0)))) -> 1 | C66: =IF(AND(F6="Status",OR(F7="Res",F7="MR",F7="Disket",F7="Udmeldt"),F10=""),1,IF(AND(F6="Status",F7="",OR(F10=1,F10="x",F10=2)),1,IF(AND(F6="Status",F7="",F10=""),2,IF(AND(F6<>"Status",F7="",F10=""),1,0)))) -> 1 | D66: =IF(AND(H6="Status",OR(H7="Res",H7="MR",H7="Disket",H7="Udmeldt"),H10=""),1,IF(AND(H6="Status",H7="",OR(H10=1,H10="x",H10=2)),1,IF(AND(H6="Status",H7="",H10=""),2,IF(AND(H6<>"Status",H7="",H10=""),1,0)))) -> 1 | E66: =IF(AND(J6="Status",OR(J7="Res",J7="MR",J7="Disket",J7="Udmeldt"),J10=""),1,IF(AND(J6="Status",J7="",OR(J10=1,J10="x",J10=2)),1,IF(AND(J6="Status",J7="",J10=""),2,IF(AND(J6<>"Status",J7="",J10=""),1,0)))) -> 1 | F66: =IF(AND(L6="Status",OR(L7="Res",L7="MR",L7="Disket",L7="Udmeldt"),L10=""),1,IF(AND(L6="Status",L7="",OR(L10=1,L10="x",L10=2)),1,IF(AND(L6="Status",L7="",L10=""),2,IF(AND(L6<>"Status",L7="",L10=""),1,0)))) -> 1 | G66: =IF(AND(N6="Status",OR(N7="Res",N7="MR",N7="Disket",N7="Udmeldt"),N10=""),1,IF(AND(N6="Status",N7="",OR(N10=1,N10="x",N10=2)),1,IF(AND(N6="Status",N7="",N10=""),2,IF(AND(N6<>"Status",N7="",N10=""),1,0)))) -> 1 | H66: =IF(AND(P6="Status",OR(P7="Res",P7="MR",P7="Disket",P7="Udmeldt"),P10=""),1,IF(AND(P6="Status",P7="",OR(P10=1,P10="x",P10=2)),1,IF(AND(P6="Status",P7="",P10=""),2,IF(AND(P6<>"Status",P7="",P10=""),1,0)))) -> 1 | I66: =IF(AND(R6="Status",OR(R7="Res",R7="MR",R7="Disket",R7="Udmeldt"),R10=""),1,IF(AND(R6="Status",R7="",OR(R10=1,R10="x",R10=2)),1,IF(AND(R6="Status",R7="",R10=""),2,IF(AND(R6<>"Status",R7="",R10=""),1,0)))) -> 1 | J66: =IF(AND(T6="Status",OR(T7="Res",T7="MR",T7="Disket",T7="Udmeldt"),T10=""),1,IF(AND(T6="Status",T7="",OR(T10=1,T10="x",T10=2)),1,IF(AND(T6="Status",T7="",T10=""),2,IF(AND(T6<>"Status",T7="",T10=""),1,0)))) -> 1 | K66: =IF(AND(V6="Status",OR(V7="Res",V7="MR",V7="Disket",V7="Udmeldt"),V10=""),1,IF(AND(V6="Status",V7="",OR(V10=1,V10="x",V10=2)),1,IF(AND(V6="Status",V7="",V10=""),2,IF(AND(V6<>"Status",V7="",V10=""),1,0)))) -> 1 | L66: =IF(AND(X6="Status",OR(X7="Res",X7="MR",X7="Disket",X7="Udmeldt"),X10=""),1,IF(AND(X6="Status",X7="",OR(X10=1,X10="x",X10=2)),1,IF(AND(X6="Status",X7="",X10=""),2,IF(AND(X6<>"Status",X7="",X10=""),1,0)))) -> 1 | M66: =IF(AND(Z6="Status",OR(Z7="Res",Z7="MR",Z7="Disket",Z7="Udmeldt"),Z10=""),1,IF(AND(Z6="Status",Z7="",OR(Z10=1,Z10="x",Z10=2)),1,IF(AND(Z6="Status",Z7="",Z10=""),2,IF(AND(Z6<>"Status",Z7="",Z10=""),1,0)))) -> 1 | N66: =IF(AND(AB6="Status",OR(AB7="Res",AB7="MR",AB7="Disket",AB7="Udmeldt"),AB10=""),1,IF(AND(AB6="Status",AB7="",OR(AB10=1,AB10="x",AB10=2)),1,IF(AND(AB6="Status",AB7="",AB10=""),2,IF(AND(AB6<>"Status",AB7="",AB10=""),1,0)))) -> 1 | O66: =IF(AND(AD6="Status",OR(AD7="Res",AD7="MR",AD7="Disket",AD7="Udmeldt"),AD10=""),1,IF(AND(AD6="Status",AD7="",OR(AD10=1,AD10="x",AD10=2)),1,IF(AND(AD6="Status",AD7="",AD10=""),2,IF(AND(AD6<>"Status",AD7="",AD10=""),1,0)))) -> 1 | P66: =IF(AND(AF6="Status",OR(AF7="Res",AF7="MR",AF7="Disket",AF7="Udmeldt"),AF10=""),1,IF(AND(AF6="Status",AF7="",OR(AF10=1,AF10="x",AF10=2)),1,IF(AND(AF6="Status",AF7="",AF10=""),2,IF(AND(AF6<>"Status",AF7="",AF10=""),1,0)))) -> 1 | Q66: =IF(AND(AH6="Status",OR(AH7="Res",AH7="MR",AH7="Disket",AH7="Udmeldt"),AH10=""),1,IF(AND(AH6="Status",AH7="",OR(AH10=1,AH10="x",AH10=2)),1,IF(AND(AH6="Status",AH7="",AH10=""),2,IF(AND(AH6<>"Status",AH7="",AH10=""),1,0)))) -> 1 | R66: =IF(AND(AJ6="Status",OR(AJ7="Res",AJ7="MR",AJ7="Disket",AJ7="Udmeldt"),AJ10=""),1,IF(AND(AJ6="Status",AJ7="",OR(AJ10=1,AJ10="x",AJ10=2)),1,IF(AND(AJ6="Status",AJ7="",AJ10=""),2,IF(AND(AJ6<>"Status",AJ7="",AJ10=""),1,0)))) -> 1 | S66: =IF(AND(AL6="Status",OR(AL7="Res",AL7="MR",AL7="Disket",AL7="Udmeldt"),AL10=""),1,IF(AND(AL6="Status",AL7="",OR(AL10=1,AL10="x",AL10=2)),1,IF(AND(AL6="Status",AL7="",AL10=""),2,IF(AND(AL6<>"Status",AL7="",AL10=""),1,0)))) -> 1 | T66: =IF(AND(AN6="Status",OR(AN7="Res",AN7="MR",AN7="Disket",AN7="Udmeldt"),AN10=""),1,IF(AND(AN6="Status",AN7="",OR(AN10=1,AN10="x",AN10=2)),1,IF(AND(AN6="Status",AN7="",AN10=""),2,IF(AND(AN6<>"Status",AN7="",AN10=""),1,0)))) -> 1
A67: =IF(AND(B6="Status",OR(B7="Res",B7="MR",B7="Disket",B7="Udmeldt"),B11=""),1,IF(AND(B6="Status",B7="",OR(B11=1,B11="x",B11=2)),1,IF(AND(B6="Status",B7="",B11=""),2,IF(AND(B6<>"Status",B7="",B11=""),1,0)))) -> 1 | B67: =IF(AND(D6="Status",OR(D7="Res",D7="MR",D7="Disket",D7="Udmeldt"),D11=""),1,IF(AND(D6="Status",D7="",OR(D11=1,D11="x",D11=2)),1,IF(AND(D6="Status",D7="",D11=""),2,IF(AND(D6<>"Status",D7="",D11=""),1,0)))) -> 1 | C67: =IF(AND(F6="Status",OR(F7="Res",F7="MR",F7="Disket",F7="Udmeldt"),F11=""),1,IF(AND(F6="Status",F7="",OR(F11=1,F11="x",F11=2)),1,IF(AND(F6="Status",F7="",F11=""),2,IF(AND(F6<>"Status",F7="",F11=""),1,0)))) -> 1 | D67: =IF(AND(H6="Status",OR(H7="Res",H7="MR",H7="Disket",H7="Udmeldt"),H11=""),1,IF(AND(H6="Status",H7="",OR(H11=1,H11="x",H11=2)),1,IF(AND(H6="Status",H7="",H11=""),2,IF(AND(H6<>"Status",H7="",H11=""),1,0)))) -> 1 | E67: =IF(AND(J6="Status",OR(J7="Res",J7="MR",J7="Disket",J7="Udmeldt"),J11=""),1,IF(AND(J6="Status",J7="",OR(J11=1,J11="x",J11=2)),1,IF(AND(J6="Status",J7="",J11=""),2,IF(AND(J6<>"Status",J7="",J11=""),1,0)))) -> 1 | F67: =IF(AND(L6="Status",OR(L7="Res",L7="MR",L7="Disket",L7="Udmeldt"),L11=""),1,IF(AND(L6="Status",L7="",OR(L11=1,L11="x",L11=2)),1,IF(AND(L6="Status",L7="",L11=""),2,IF(AND(L6<>"Status",L7="",L11=""),1,0)))) -> 1 | G67: =IF(AND(N6="Status",OR(N7="Res",N7="MR",N7="Disket",N7="Udmeldt"),N11=""),1,IF(AND(N6="Status",N7="",OR(N11=1,N11="x",N11=2)),1,IF(AND(N6="Status",N7="",N11=""),2,IF(AND(N6<>"Status",N7="",N11=""),1,0)))) -> 1 | H67: =IF(AND(P6="Status",OR(P7="Res",P7="MR",P7="Disket",P7="Udmeldt"),P11=""),1,IF(AND(P6="Status",P7="",OR(P11=1,P11="x",P11=2)),1,IF(AND(P6="Status",P7="",P11=""),2,IF(AND(P6<>"Status",P7="",P11=""),1,0)))) -> 1 | I67: =IF(AND(R6="Status",OR(R7="Res",R7="MR",R7="Disket",R7="Udmeldt"),R11=""),1,IF(AND(R6="Status",R7="",OR(R11=1,R11="x",R11=2)),1,IF(AND(R6="Status",R7="",R11=""),2,IF(AND(R6<>"Status",R7="",R11=""),1,0)))) -> 1 | J67: =IF(AND(T6="Status",OR(T7="Res",T7="MR",T7="Disket",T7="Udmeldt"),T11=""),1,IF(AND(T6="Status",T7="",OR(T11=1,T11="x",T11=2)),1,IF(AND(T6="Status",T7="",T11=""),2,IF(AND(T6<>"Status",T7="",T11=""),1,0)))) -> 1 | K67: =IF(AND(V6="Status",OR(V7="Res",V7="MR",V7="Disket",V7="Udmeldt"),V11=""),1,IF(AND(V6="Status",V7="",OR(V11=1,V11="x",V11=2)),1,IF(AND(V6="Status",V7="",V11=""),2,IF(AND(V6<>"Status",V7="",V11=""),1,0)))) -> 1 | L67: =IF(AND(X6="Status",OR(X7="Res",X7="MR",X7="Disket",X7="Udmeldt"),X11=""),1,IF(AND(X6="Status",X7="",OR(X11=1,X11="x",X11=2)),1,IF(AND(X6="Status",X7="",X11=""),2,IF(AND(X6<>"Status",X7="",X11=""),1,0)))) -> 1 | M67: =IF(AND(Z6="Status",OR(Z7="Res",Z7="MR",Z7="Disket",Z7="Udmeldt"),Z11=""),1,IF(AND(Z6="Status",Z7="",OR(Z11=1,Z11="x",Z11=2)),1,IF(AND(Z6="Status",Z7="",Z11=""),2,IF(AND(Z6<>"Status",Z7="",Z11=""),1,0)))) -> 1 | N67: =IF(AND(AB6="Status",OR(AB7="Res",AB7="MR",AB7="Disket",AB7="Udmeldt"),AB11=""),1,IF(AND(AB6="Status",AB7="",OR(AB11=1,AB11="x",AB11=2)),1,IF(AND(AB6="Status",AB7="",AB11=""),2,IF(AND(AB6<>"Status",AB7="",AB11=""),1,0)))) -> 1 | O67: =IF(AND(AD6="Status",OR(AD7="Res",AD7="MR",AD7="Disket",AD7="Udmeldt"),AD11=""),1,IF(AND(AD6="Status",AD7="",OR(AD11=1,AD11="x",AD11=2)),1,IF(AND(AD6="Status",AD7="",AD11=""),2,IF(AND(AD6<>"Status",AD7="",AD11=""),1,0)))) -> 1 | P67: =IF(AND(AF6="Status",OR(AF7="Res",AF7="MR",AF7="Disket",AF7="Udmeldt"),AF11=""),1,IF(AND(AF6="Status",AF7="",OR(AF11=1,AF11="x",AF11=2)),1,IF(AND(AF6="Status",AF7="",AF11=""),2,IF(AND(AF6<>"Status",AF7="",AF11=""),1,0)))) -> 1 | Q67: =IF(AND(AH6="Status",OR(AH7="Res",AH7="MR",AH7="Disket",AH7="Udmeldt"),AH11=""),1,IF(AND(AH6="Status",AH7="",OR(AH11=1,AH11="x",AH11=2)),1,IF(AND(AH6="Status",AH7="",AH11=""),2,IF(AND(AH6<>"Status",AH7="",AH11=""),1,0)))) -> 1 | R67: =IF(AND(AJ6="Status",OR(AJ7="Res",AJ7="MR",AJ7="Disket",AJ7="Udmeldt"),AJ11=""),1,IF(AND(AJ6="Status",AJ7="",OR(AJ11=1,AJ11="x",AJ11=2)),1,IF(AND(AJ6="Status",AJ7="",AJ11=""),2,IF(AND(AJ6<>"Status",AJ7="",AJ11=""),1,0)))) -> 1 | S67: =IF(AND(AL6="Status",OR(AL7="Res",AL7="MR",AL7="Disket",AL7="Udmeldt"),AL11=""),1,IF(AND(AL6="Status",AL7="",OR(AL11=1,AL11="x",AL11=2)),1,IF(AND(AL6="Status",AL7="",AL11=""),2,IF(AND(AL6<>"Status",AL7="",AL11=""),1,0)))) -> 1 | T67: =IF(AND(AN6="Status",OR(AN7="Res",AN7="MR",AN7="Disket",AN7="Udmeldt"),AN11=""),1,IF(AND(AN6="Status",AN7="",OR(AN11=1,AN11="x",AN11=2)),1,IF(AND(AN6="Status",AN7="",AN11=""),2,IF(AND(AN6<>"Status",AN7="",AN11=""),1,0)))) -> 1
A68: =IF(AND(B6="Status",OR(B7="Res",B7="MR",B7="Disket",B7="Udmeldt"),B12=""),1,IF(AND(B6="Status",B7="",OR(B12=1,B12="x",B12=2)),1,IF(AND(B6="Status",B7="",B12=""),2,IF(AND(B6<>"Status",B7="",B12=""),1,0)))) -> 1 | B68: =IF(AND(D6="Status",OR(D7="Res",D7="MR",D7="Disket",D7="Udmeldt"),D12=""),1,IF(AND(D6="Status",D7="",OR(D12=1,D12="x",D12=2)),1,IF(AND(D6="Status",D7="",D12=""),2,IF(AND(D6<>"Status",D7="",D12=""),1,0)))) -> 1 | C68: =IF(AND(F6="Status",OR(F7="Res",F7="MR",F7="Disket",F7="Udmeldt"),F12=""),1,IF(AND(F6="Status",F7="",OR(F12=1,F12="x",F12=2)),1,IF(AND(F6="Status",F7="",F12=""),2,IF(AND(F6<>"Status",F7="",F12=""),1,0)))) -> 1 | D68: =IF(AND(H6="Status",OR(H7="Res",H7="MR",H7="Disket",H7="Udmeldt"),H12=""),1,IF(AND(H6="Status",H7="",OR(H12=1,H12="x",H12=2)),1,IF(AND(H6="Status",H7="",H12=""),2,IF(AND(H6<>"Status",H7="",H12=""),1,0)))) -> 1 | E68: =IF(AND(J6="Status",OR(J7="Res",J7="MR",J7="Disket",J7="Udmeldt"),J12=""),1,IF(AND(J6="Status",J7="",OR(J12=1,J12="x",J12=2)),1,IF(AND(J6="Status",J7="",J12=""),2,IF(AND(J6<>"Status",J7="",J12=""),1,0)))) -> 1 | F68: =IF(AND(L6="Status",OR(L7="Res",L7="MR",L7="Disket",L7="Udmeldt"),L12=""),1,IF(AND(L6="Status",L7="",OR(L12=1,L12="x",L12=2)),1,IF(AND(L6="Status",L7="",L12=""),2,IF(AND(L6<>"Status",L7="",L12=""),1,0)))) -> 1 | G68: =IF(AND(N6="Status",OR(N7="Res",N7="MR",N7="Disket",N7="Udmeldt"),N12=""),1,IF(AND(N6="Status",N7="",OR(N12=1,N12="x",N12=2)),1,IF(AND(N6="Status",N7="",N12=""),2,IF(AND(N6<>"Status",N7="",N12=""),1,0)))) -> 1 | H68: =IF(AND(P6="Status",OR(P7="Res",P7="MR",P7="Disket",P7="Udmeldt"),P12=""),1,IF(AND(P6="Status",P7="",OR(P12=1,P12="x",P12=2)),1,IF(AND(P6="Status",P7="",P12=""),2,IF(AND(P6<>"Status",P7="",P12=""),1,0)))) -> 1 | I68: =IF(AND(R6="Status",OR(R7="Res",R7="MR",R7="Disket",R7="Udmeldt"),R12=""),1,IF(AND(R6="Status",R7="",OR(R12=1,R12="x",R12=2)),1,IF(AND(R6="Status",R7="",R12=""),2,IF(AND(R6<>"Status",R7="",R12=""),1,0)))) -> 1 | J68: =IF(AND(T6="Status",OR(T7="Res",T7="MR",T7="Disket",T7="Udmeldt"),T12=""),1,IF(AND(T6="Status",T7="",OR(T12=1,T12="x",T12=2)),1,IF(AND(T6="Status",T7="",T12=""),2,IF(AND(T6<>"Status",T7="",T12=""),1,0)))) -> 1 | K68: =IF(AND(V6="Status",OR(V7="Res",V7="MR",V7="Disket",V7="Udmeldt"),V12=""),1,IF(AND(V6="Status",V7="",OR(V12=1,V12="x",V12=2)),1,IF(AND(V6="Status",V7="",V12=""),2,IF(AND(V6<>"Status",V7="",V12=""),1,0)))) -> 1 | L68: =IF(AND(X6="Status",OR(X7="Res",X7="MR",X7="Disket",X7="Udmeldt"),X12=""),1,IF(AND(X6="Status",X7="",OR(X12=1,X12="x",X12=2)),1,IF(AND(X6="Status",X7="",X12=""),2,IF(AND(X6<>"Status",X7="",X12=""),1,0)))) -> 1 | M68: =IF(AND(Z6="Status",OR(Z7="Res",Z7="MR",Z7="Disket",Z7="Udmeldt"),Z12=""),1,IF(AND(Z6="Status",Z7="",OR(Z12=1,Z12="x",Z12=2)),1,IF(AND(Z6="Status",Z7="",Z12=""),2,IF(AND(Z6<>"Status",Z7="",Z12=""),1,0)))) -> 1 | N68: =IF(AND(AB6="Status",OR(AB7="Res",AB7="MR",AB7="Disket",AB7="Udmeldt"),AB12=""),1,IF(AND(AB6="Status",AB7="",OR(AB12=1,AB12="x",AB12=2)),1,IF(AND(AB6="Status",AB7="",AB12=""),2,IF(AND(AB6<>"Status",AB7="",AB12=""),1,0)))) -> 1 | O68: =IF(AND(AD6="Status",OR(AD7="Res",AD7="MR",AD7="Disket",AD7="Udmeldt"),AD12=""),1,IF(AND(AD6="Status",AD7="",OR(AD12=1,AD12="x",AD12=2)),1,IF(AND(AD6="Status",AD7="",AD12=""),2,IF(AND(AD6<>"Status",AD7="",AD12=""),1,0)))) -> 1 | P68: =IF(AND(AF6="Status",OR(AF7="Res",AF7="MR",AF7="Disket",AF7="Udmeldt"),AF12=""),1,IF(AND(AF6="Status",AF7="",OR(AF12=1,AF12="x",AF12=2)),1,IF(AND(AF6="Status",AF7="",AF12=""),2,IF(AND(AF6<>"Status",AF7="",AF12=""),1,0)))) -> 1 | Q68: =IF(AND(AH6="Status",OR(AH7="Res",AH7="MR",AH7="Disket",AH7="Udmeldt"),AH12=""),1,IF(AND(AH6="Status",AH7="",OR(AH12=1,AH12="x",AH12=2)),1,IF(AND(AH6="Status",AH7="",AH12=""),2,IF(AND(AH6<>"Status",AH7="",AH12=""),1,0)))) -> 1 | R68: =IF(AND(AJ6="Status",OR(AJ7="Res",AJ7="MR",AJ7="Disket",AJ7="Udmeldt"),AJ12=""),1,IF(AND(AJ6="Status",AJ7="",OR(AJ12=1,AJ12="x",AJ12=2)),1,IF(AND(AJ6="Status",AJ7="",AJ12=""),2,IF(AND(AJ6<>"Status",AJ7="",AJ12=""),1,0)))) -> 1 | S68: =IF(AND(AL6="Status",OR(AL7="Res",AL7="MR",AL7="Disket",AL7="Udmeldt"),AL12=""),1,IF(AND(AL6="Status",AL7="",OR(AL12=1,AL12="x",AL12=2)),1,IF(AND(AL6="Status",AL7="",AL12=""),2,IF(AND(AL6<>"Status",AL7="",AL12=""),1,0)))) -> 1 | T68: =IF(AND(AN6="Status",OR(AN7="Res",AN7="MR",AN7="Disket",AN7="Udmeldt"),AN12=""),1,IF(AND(AN6="Status",AN7="",OR(AN12=1,AN12="x",AN12=2)),1,IF(AND(AN6="Status",AN7="",AN12=""),2,IF(AND(AN6<>"Status",AN7="",AN12=""),1,0)))) -> 1
A69: =IF(AND(B6="Status",OR(B7="Res",B7="MR",B7="Disket",B7="Udmeldt"),B13=""),1,IF(AND(B6="Status",B7="",OR(B13=1,B13="x",B13=2)),1,IF(AND(B6="Status",B7="",B13=""),2,IF(AND(B6<>"Status",B7="",B13=""),1,0)))) -> 1 | B69: =IF(AND(D6="Status",OR(D7="Res",D7="MR",D7="Disket",D7="Udmeldt"),D13=""),1,IF(AND(D6="Status",D7="",OR(D13=1,D13="x",D13=2)),1,IF(AND(D6="Status",D7="",D13=""),2,IF(AND(D6<>"Status",D7="",D13=""),1,0)))) -> 1 | C69: =IF(AND(F6="Status",OR(F7="Res",F7="MR",F7="Disket",F7="Udmeldt"),F13=""),1,IF(AND(F6="Status",F7="",OR(F13=1,F13="x",F13=2)),1,IF(AND(F6="Status",F7="",F13=""),2,IF(AND(F6<>"Status",F7="",F13=""),1,0)))) -> 1 | D69: =IF(AND(H6="Status",OR(H7="Res",H7="MR",H7="Disket",H7="Udmeldt"),H13=""),1,IF(AND(H6="Status",H7="",OR(H13=1,H13="x",H13=2)),1,IF(AND(H6="Status",H7="",H13=""),2,IF(AND(H6<>"Status",H7="",H13=""),1,0)))) -> 1 | E69: =IF(AND(J6="Status",OR(J7="Res",J7="MR",J7="Disket",J7="Udmeldt"),J13=""),1,IF(AND(J6="Status",J7="",OR(J13=1,J13="x",J13=2)),1,IF(AND(J6="Status",J7="",J13=""),2,IF(AND(J6<>"Status",J7="",J13=""),1,0)))) -> 1 | F69: =IF(AND(L6="Status",OR(L7="Res",L7="MR",L7="Disket",L7="Udmeldt"),L13=""),1,IF(AND(L6="Status",L7="",OR(L13=1,L13="x",L13=2)),1,IF(AND(L6="Status",L7="",L13=""),2,IF(AND(L6<>"Status",L7="",L13=""),1,0)))) -> 1 | G69: =IF(AND(N6="Status",OR(N7="Res",N7="MR",N7="Disket",N7="Udmeldt"),N13=""),1,IF(AND(N6="Status",N7="",OR(N13=1,N13="x",N13=2)),1,IF(AND(N6="Status",N7="",N13=""),2,IF(AND(N6<>"Status",N7="",N13=""),1,0)))) -> 1 | H69: =IF(AND(P6="Status",OR(P7="Res",P7="MR",P7="Disket",P7="Udmeldt"),P13=""),1,IF(AND(P6="Status",P7="",OR(P13=1,P13="x",P13=2)),1,IF(AND(P6="Status",P7="",P13=""),2,IF(AND(P6<>"Status",P7="",P13=""),1,0)))) -> 1 | I69: =IF(AND(R6="Status",OR(R7="Res",R7="MR",R7="Disket",R7="Udmeldt"),R13=""),1,IF(AND(R6="Status",R7="",OR(R13=1,R13="x",R13=2)),1,IF(AND(R6="Status",R7="",R13=""),2,IF(AND(R6<>"Status",R7="",R13=""),1,0)))) -> 1 | J69: =IF(AND(T6="Status",OR(T7="Res",T7="MR",T7="Disket",T7="Udmeldt"),T13=""),1,IF(AND(T6="Status",T7="",OR(T13=1,T13="x",T13=2)),1,IF(AND(T6="Status",T7="",T13=""),2,IF(AND(T6<>"Status",T7="",T13=""),1,0)))) -> 1 | K69: =IF(AND(V6="Status",OR(V7="Res",V7="MR",V7="Disket",V7="Udmeldt"),V13=""),1,IF(AND(V6="Status",V7="",OR(V13=1,V13="x",V13=2)),1,IF(AND(V6="Status",V7="",V13=""),2,IF(AND(V6<>"Status",V7="",V13=""),1,0)))) -> 1 | L69: =IF(AND(X6="Status",OR(X7="Res",X7="MR",X7="Disket",X7="Udmeldt"),X13=""),1,IF(AND(X6="Status",X7="",OR(X13=1,X13="x",X13=2)),1,IF(AND(X6="Status",X7="",X13=""),2,IF(AND(X6<>"Status",X7="",X13=""),1,0)))) -> 1 | M69: =IF(AND(Z6="Status",OR(Z7="Res",Z7="MR",Z7="Disket",Z7="Udmeldt"),Z13=""),1,IF(AND(Z6="Status",Z7="",OR(Z13=1,Z13="x",Z13=2)),1,IF(AND(Z6="Status",Z7="",Z13=""),2,IF(AND(Z6<>"Status",Z7="",Z13=""),1,0)))) -> 1 | N69: =IF(AND(AB6="Status",OR(AB7="Res",AB7="MR",AB7="Disket",AB7="Udmeldt"),AB13=""),1,IF(AND(AB6="Status",AB7="",OR(AB13=1,AB13="x",AB13=2)),1,IF(AND(AB6="Status",AB7="",AB13=""),2,IF(AND(AB6<>"Status",AB7="",AB13=""),1,0)))) -> 1 | O69: =IF(AND(AD6="Status",OR(AD7="Res",AD7="MR",AD7="Disket",AD7="Udmeldt"),AD13=""),1,IF(AND(AD6="Status",AD7="",OR(AD13=1,AD13="x",AD13=2)),1,IF(AND(AD6="Status",AD7="",AD13=""),2,IF(AND(AD6<>"Status",AD7="",AD13=""),1,0)))) -> 1 | P69: =IF(AND(AF6="Status",OR(AF7="Res",AF7="MR",AF7="Disket",AF7="Udmeldt"),AF13=""),1,IF(AND(AF6="Status",AF7="",OR(AF13=1,AF13="x",AF13=2)),1,IF(AND(AF6="Status",AF7="",AF13=""),2,IF(AND(AF6<>"Status",AF7="",AF13=""),1,0)))) -> 1 | Q69: =IF(AND(AH6="Status",OR(AH7="Res",AH7="MR",AH7="Disket",AH7="Udmeldt"),AH13=""),1,IF(AND(AH6="Status",AH7="",OR(AH13=1,AH13="x",AH13=2)),1,IF(AND(AH6="Status",AH7="",AH13=""),2,IF(AND(AH6<>"Status",AH7="",AH13=""),1,0)))) -> 1 | R69: =IF(AND(AJ6="Status",OR(AJ7="Res",AJ7="MR",AJ7="Disket",AJ7="Udmeldt"),AJ13=""),1,IF(AND(AJ6="Status",AJ7="",OR(AJ13=1,AJ13="x",AJ13=2)),1,IF(AND(AJ6="Status",AJ7="",AJ13=""),2,IF(AND(AJ6<>"Status",AJ7="",AJ13=""),1,0)))) -> 1 | S69: =IF(AND(AL6="Status",OR(AL7="Res",AL7="MR",AL7="Disket",AL7="Udmeldt"),AL13=""),1,IF(AND(AL6="Status",AL7="",OR(AL13=1,AL13="x",AL13=2)),1,IF(AND(AL6="Status",AL7="",AL13=""),2,IF(AND(AL6<>"Status",AL7="",AL13=""),1,0)))) -> 1 | T69: =IF(AND(AN6="Status",OR(AN7="Res",AN7="MR",AN7="Disket",AN7="Udmeldt"),AN13=""),1,IF(AND(AN6="Status",AN7="",OR(AN13=1,AN13="x",AN13=2)),1,IF(AND(AN6="Status",AN7="",AN13=""),2,IF(AND(AN6<>"Status",AN7="",AN13=""),1,0)))) -> 1
A70: =IF(AND(B6="Status",OR(B7="Res",B7="MR",B7="Disket",B7="Udmeldt"),B14=""),1,IF(AND(B6="Status",B7="",OR(B14=1,B14="x",B14=2)),1,IF(AND(B6="Status",B7="",B14=""),2,IF(AND(B6<>"Status",B7="",B14=""),1,0)))) -> 1 | B70: =IF(AND(D6="Status",OR(D7="Res",D7="MR",D7="Disket",D7="Udmeldt"),D14=""),1,IF(AND(D6="Status",D7="",OR(D14=1,D14="x",D14=2)),1,IF(AND(D6="Status",D7="",D14=""),2,IF(AND(D6<>"Status",D7="",D14=""),1,0)))) -> 1 | C70: =IF(AND(F6="Status",OR(F7="Res",F7="MR",F7="Disket",F7="Udmeldt"),F14=""),1,IF(AND(F6="Status",F7="",OR(F14=1,F14="x",F14=2)),1,IF(AND(F6="Status",F7="",F14=""),2,IF(AND(F6<>"Status",F7="",F14=""),1,0)))) -> 1 | D70: =IF(AND(H6="Status",OR(H7="Res",H7="MR",H7="Disket",H7="Udmeldt"),H14=""),1,IF(AND(H6="Status",H7="",OR(H14=1,H14="x",H14=2)),1,IF(AND(H6="Status",H7="",H14=""),2,IF(AND(H6<>"Status",H7="",H14=""),1,0)))) -> 1 | E70: =IF(AND(J6="Status",OR(J7="Res",J7="MR",J7="Disket",J7="Udmeldt"),J14=""),1,IF(AND(J6="Status",J7="",OR(J14=1,J14="x",J14=2)),1,IF(AND(J6="Status",J7="",J14=""),2,IF(AND(J6<>"Status",J7="",J14=""),1,0)))) -> 1 | F70: =IF(AND(L6="Status",OR(L7="Res",L7="MR",L7="Disket",L7="Udmeldt"),L14=""),1,IF(AND(L6="Status",L7="",OR(L14=1,L14="x",L14=2)),1,IF(AND(L6="Status",L7="",L14=""),2,IF(AND(L6<>"Status",L7="",L14=""),1,0)))) -> 1 | G70: =IF(AND(N6="Status",OR(N7="Res",N7="MR",N7="Disket",N7="Udmeldt"),N14=""),1,IF(AND(N6="Status",N7="",OR(N14=1,N14="x",N14=2)),1,IF(AND(N6="Status",N7="",N14=""),2,IF(AND(N6<>"Status",N7="",N14=""),1,0)))) -> 1 | H70: =IF(AND(P6="Status",OR(P7="Res",P7="MR",P7="Disket",P7="Udmeldt"),P14=""),1,IF(AND(P6="Status",P7="",OR(P14=1,P14="x",P14=2)),1,IF(AND(P6="Status",P7="",P14=""),2,IF(AND(P6<>"Status",P7="",P14=""),1,0)))) -> 1 | I70: =IF(AND(R6="Status",OR(R7="Res",R7="MR",R7="Disket",R7="Udmeldt"),R14=""),1,IF(AND(R6="Status",R7="",OR(R14=1,R14="x",R14=2)),1,IF(AND(R6="Status",R7="",R14=""),2,IF(AND(R6<>"Status",R7="",R14=""),1,0)))) -> 1 | J70: =IF(AND(T6="Status",OR(T7="Res",T7="MR",T7="Disket",T7="Udmeldt"),T14=""),1,IF(AND(T6="Status",T7="",OR(T14=1,T14="x",T14=2)),1,IF(AND(T6="Status",T7="",T14=""),2,IF(AND(T6<>"Status",T7="",T14=""),1,0)))) -> 1 | K70: =IF(AND(V6="Status",OR(V7="Res",V7="MR",V7="Disket",V7="Udmeldt"),V14=""),1,IF(AND(V6="Status",V7="",OR(V14=1,V14="x",V14=2)),1,IF(AND(V6="Status",V7="",V14=""),2,IF(AND(V6<>"Status",V7="",V14=""),1,0)))) -> 1 | L70: =IF(AND(X6="Status",OR(X7="Res",X7="MR",X7="Disket",X7="Udmeldt"),X14=""),1,IF(AND(X6="Status",X7="",OR(X14=1,X14="x",X14=2)),1,IF(AND(X6="Status",X7="",X14=""),2,IF(AND(X6<>"Status",X7="",X14=""),1,0)))) -> 1 | M70: =IF(AND(Z6="Status",OR(Z7="Res",Z7="MR",Z7="Disket",Z7="Udmeldt"),Z14=""),1,IF(AND(Z6="Status",Z7="",OR(Z14=1,Z14="x",Z14=2)),1,IF(AND(Z6="Status",Z7="",Z14=""),2,IF(AND(Z6<>"Status",Z7="",Z14=""),1,0)))) -> 1 | N70: =IF(AND(AB6="Status",OR(AB7="Res",AB7="MR",AB7="Disket",AB7="Udmeldt"),AB14=""),1,IF(AND(AB6="Status",AB7="",OR(AB14=1,AB14="x",AB14=2)),1,IF(AND(AB6="Status",AB7="",AB14=""),2,IF(AND(AB6<>"Status",AB7="",AB14=""),1,0)))) -> 1 | O70: =IF(AND(AD6="Status",OR(AD7="Res",AD7="MR",AD7="Disket",AD7="Udmeldt"),AD14=""),1,IF(AND(AD6="Status",AD7="",OR(AD14=1,AD14="x",AD14=2)),1,IF(AND(AD6="Status",AD7="",AD14=""),2,IF(AND(AD6<>"Status",AD7="",AD14=""),1,0)))) -> 1 | P70: =IF(AND(AF6="Status",OR(AF7="Res",AF7="MR",AF7="Disket",AF7="Udmeldt"),AF14=""),1,IF(AND(AF6="Status",AF7="",OR(AF14=1,AF14="x",AF14=2)),1,IF(AND(AF6="Status",AF7="",AF14=""),2,IF(AND(AF6<>"Status",AF7="",AF14=""),1,0)))) -> 1 | Q70: =IF(AND(AH6="Status",OR(AH7="Res",AH7="MR",AH7="Disket",AH7="Udmeldt"),AH14=""),1,IF(AND(AH6="Status",AH7="",OR(AH14=1,AH14="x",AH14=2)),1,IF(AND(AH6="Status",AH7="",AH14=""),2,IF(AND(AH6<>"Status",AH7="",AH14=""),1,0)))) -> 1 | R70: =IF(AND(AJ6="Status",OR(AJ7="Res",AJ7="MR",AJ7="Disket",AJ7="Udmeldt"),AJ14=""),1,IF(AND(AJ6="Status",AJ7="",OR(AJ14=1,AJ14="x",AJ14=2)),1,IF(AND(AJ6="Status",AJ7="",AJ14=""),2,IF(AND(AJ6<>"Status",AJ7="",AJ14=""),1,0)))) -> 1 | S70: =IF(AND(AL6="Status",OR(AL7="Res",AL7="MR",AL7="Disket",AL7="Udmeldt"),AL14=""),1,IF(AND(AL6="Status",AL7="",OR(AL14=1,AL14="x",AL14=2)),1,IF(AND(AL6="Status",AL7="",AL14=""),2,IF(AND(AL6<>"Status",AL7="",AL14=""),1,0)))) -> 1 | T70: =IF(AND(AN6="Status",OR(AN7="Res",AN7="MR",AN7="Disket",AN7="Udmeldt"),AN14=""),1,IF(AND(AN6="Status",AN7="",OR(AN14=1,AN14="x",AN14=2)),1,IF(AND(AN6="Status",AN7="",AN14=""),2,IF(AND(AN6<>"Status",AN7="",AN14=""),1,0)))) -> 1
A71: =IF(AND(B6="Status",OR(B7="Res",B7="MR",B7="Disket",B7="Udmeldt"),B15=""),1,IF(AND(B6="Status",B7="",OR(B15=1,B15="x",B15=2)),1,IF(AND(B6="Status",B7="",B15=""),2,IF(AND(B6<>"Status",B7="",B15=""),1,0)))) -> 1 | B71: =IF(AND(D6="Status",OR(D7="Res",D7="MR",D7="Disket",D7="Udmeldt"),D15=""),1,IF(AND(D6="Status",D7="",OR(D15=1,D15="x",D15=2)),1,IF(AND(D6="Status",D7="",D15=""),2,IF(AND(D6<>"Status",D7="",D15=""),1,0)))) -> 1 | C71: =IF(AND(F6="Status",OR(F7="Res",F7="MR",F7="Disket",F7="Udmeldt"),F15=""),1,IF(AND(F6="Status",F7="",OR(F15=1,F15="x",F15=2)),1,IF(AND(F6="Status",F7="",F15=""),2,IF(AND(F6<>"Status",F7="",F15=""),1,0)))) -> 1 | D71: =IF(AND(H6="Status",OR(H7="Res",H7="MR",H7="Disket",H7="Udmeldt"),H15=""),1,IF(AND(H6="Status",H7="",OR(H15=1,H15="x",H15=2)),1,IF(AND(H6="Status",H7="",H15=""),2,IF(AND(H6<>"Status",H7="",H15=""),1,0)))) -> 1 | E71: =IF(AND(J6="Status",OR(J7="Res",J7="MR",J7="Disket",J7="Udmeldt"),J15=""),1,IF(AND(J6="Status",J7="",OR(J15=1,J15="x",J15=2)),1,IF(AND(J6="Status",J7="",J15=""),2,IF(AND(J6<>"Status",J7="",J15=""),1,0)))) -> 1 | F71: =IF(AND(L6="Status",OR(L7="Res",L7="MR",L7="Disket",L7="Udmeldt"),L15=""),1,IF(AND(L6="Status",L7="",OR(L15=1,L15="x",L15=2)),1,IF(AND(L6="Status",L7="",L15=""),2,IF(AND(L6<>"Status",L7="",L15=""),1,0)))) -> 1 | G71: =IF(AND(N6="Status",OR(N7="Res",N7="MR",N7="Disket",N7="Udmeldt"),N15=""),1,IF(AND(N6="Status",N7="",OR(N15=1,N15="x",N15=2)),1,IF(AND(N6="Status",N7="",N15=""),2,IF(AND(N6<>"Status",N7="",N15=""),1,0)))) -> 1 | H71: =IF(AND(P6="Status",OR(P7="Res",P7="MR",P7="Disket",P7="Udmeldt"),P15=""),1,IF(AND(P6="Status",P7="",OR(P15=1,P15="x",P15=2)),1,IF(AND(P6="Status",P7="",P15=""),2,IF(AND(P6<>"Status",P7="",P15=""),1,0)))) -> 1 | I71: =IF(AND(R6="Status",OR(R7="Res",R7="MR",R7="Disket",R7="Udmeldt"),R15=""),1,IF(AND(R6="Status",R7="",OR(R15=1,R15="x",R15=2)),1,IF(AND(R6="Status",R7="",R15=""),2,IF(AND(R6<>"Status",R7="",R15=""),1,0)))) -> 1 | J71: =IF(AND(T6="Status",OR(T7="Res",T7="MR",T7="Disket",T7="Udmeldt"),T15=""),1,IF(AND(T6="Status",T7="",OR(T15=1,T15="x",T15=2)),1,IF(AND(T6="Status",T7="",T15=""),2,IF(AND(T6<>"Status",T7="",T15=""),1,0)))) -> 1 | K71: =IF(AND(V6="Status",OR(V7="Res",V7="MR",V7="Disket",V7="Udmeldt"),V15=""),1,IF(AND(V6="Status",V7="",OR(V15=1,V15="x",V15=2)),1,IF(AND(V6="Status",V7="",V15=""),2,IF(AND(V6<>"Status",V7="",V15=""),1,0)))) -> 1 | L71: =IF(AND(X6="Status",OR(X7="Res",X7="MR",X7="Disket",X7="Udmeldt"),X15=""),1,IF(AND(X6="Status",X7="",OR(X15=1,X15="x",X15=2)),1,IF(AND(X6="Status",X7="",X15=""),2,IF(AND(X6<>"Status",X7="",X15=""),1,0)))) -> 1 | M71: =IF(AND(Z6="Status",OR(Z7="Res",Z7="MR",Z7="Disket",Z7="Udmeldt"),Z15=""),1,IF(AND(Z6="Status",Z7="",OR(Z15=1,Z15="x",Z15=2)),1,IF(AND(Z6="Status",Z7="",Z15=""),2,IF(AND(Z6<>"Status",Z7="",Z15=""),1,0)))) -> 1 | N71: =IF(AND(AB6="Status",OR(AB7="Res",AB7="MR",AB7="Disket",AB7="Udmeldt"),AB15=""),1,IF(AND(AB6="Status",AB7="",OR(AB15=1,AB15="x",AB15=2)),1,IF(AND(AB6="Status",AB7="",AB15=""),2,IF(AND(AB6<>"Status",AB7="",AB15=""),1,0)))) -> 1 | O71: =IF(AND(AD6="Status",OR(AD7="Res",AD7="MR",AD7="Disket",AD7="Udmeldt"),AD15=""),1,IF(AND(AD6="Status",AD7="",OR(AD15=1,AD15="x",AD15=2)),1,IF(AND(AD6="Status",AD7="",AD15=""),2,IF(AND(AD6<>"Status",AD7="",AD15=""),1,0)))) -> 1 | P71: =IF(AND(AF6="Status",OR(AF7="Res",AF7="MR",AF7="Disket",AF7="Udmeldt"),AF15=""),1,IF(AND(AF6="Status",AF7="",OR(AF15=1,AF15="x",AF15=2)),1,IF(AND(AF6="Status",AF7="",AF15=""),2,IF(AND(AF6<>"Status",AF7="",AF15=""),1,0)))) -> 1 | Q71: =IF(AND(AH6="Status",OR(AH7="Res",AH7="MR",AH7="Disket",AH7="Udmeldt"),AH15=""),1,IF(AND(AH6="Status",AH7="",OR(AH15=1,AH15="x",AH15=2)),1,IF(AND(AH6="Status",AH7="",AH15=""),2,IF(AND(AH6<>"Status",AH7="",AH15=""),1,0)))) -> 1 | R71: =IF(AND(AJ6="Status",OR(AJ7="Res",AJ7="MR",AJ7="Disket",AJ7="Udmeldt"),AJ15=""),1,IF(AND(AJ6="Status",AJ7="",OR(AJ15=1,AJ15="x",AJ15=2)),1,IF(AND(AJ6="Status",AJ7="",AJ15=""),2,IF(AND(AJ6<>"Status",AJ7="",AJ15=""),1,0)))) -> 1 | S71: =IF(AND(AL6="Status",OR(AL7="Res",AL7="MR",AL7="Disket",AL7="Udmeldt"),AL15=""),1,IF(AND(AL6="Status",AL7="",OR(AL15=1,AL15="x",AL15=2)),1,IF(AND(AL6="Status",AL7="",AL15=""),2,IF(AND(AL6<>"Status",AL7="",AL15=""),1,0)))) -> 1 | T71: =IF(AND(AN6="Status",OR(AN7="Res",AN7="MR",AN7="Disket",AN7="Udmeldt"),AN15=""),1,IF(AND(AN6="Status",AN7="",OR(AN15=1,AN15="x",AN15=2)),1,IF(AND(AN6="Status",AN7="",AN15=""),2,IF(AND(AN6<>"Status",AN7="",AN15=""),1,0)))) -> 1
A72: =IF(AND(B6="Status",OR(B7="Res",B7="MR",B7="Disket",B7="Udmeldt"),B16=""),1,IF(AND(B6="Status",B7="",OR(B16=1,B16="x",B16=2)),1,IF(AND(B6="Status",B7="",B16=""),2,IF(AND(B6<>"Status",B7="",B16=""),1,0)))) -> 1 | B72: =IF(AND(D6="Status",OR(D7="Res",D7="MR",D7="Disket",D7="Udmeldt"),D16=""),1,IF(AND(D6="Status",D7="",OR(D16=1,D16="x",D16=2)),1,IF(AND(D6="Status",D7="",D16=""),2,IF(AND(D6<>"Status",D7="",D16=""),1,0)))) -> 1 | C72: =IF(AND(F6="Status",OR(F7="Res",F7="MR",F7="Disket",F7="Udmeldt"),F16=""),1,IF(AND(F6="Status",F7="",OR(F16=1,F16="x",F16=2)),1,IF(AND(F6="Status",F7="",F16=""),2,IF(AND(F6<>"Status",F7="",F16=""),1,0)))) -> 1 | D72: =IF(AND(H6="Status",OR(H7="Res",H7="MR",H7="Disket",H7="Udmeldt"),H16=""),1,IF(AND(H6="Status",H7="",OR(H16=1,H16="x",H16=2)),1,IF(AND(H6="Status",H7="",H16=""),2,IF(AND(H6<>"Status",H7="",H16=""),1,0)))) -> 1 | E72: =IF(AND(J6="Status",OR(J7="Res",J7="MR",J7="Disket",J7="Udmeldt"),J16=""),1,IF(AND(J6="Status",J7="",OR(J16=1,J16="x",J16=2)),1,IF(AND(J6="Status",J7="",J16=""),2,IF(AND(J6<>"Status",J7="",J16=""),1,0)))) -> 1 | F72: =IF(AND(L6="Status",OR(L7="Res",L7="MR",L7="Disket",L7="Udmeldt"),L16=""),1,IF(AND(L6="Status",L7="",OR(L16=1,L16="x",L16=2)),1,IF(AND(L6="Status",L7="",L16=""),2,IF(AND(L6<>"Status",L7="",L16=""),1,0)))) -> 1 | G72: =IF(AND(N6="Status",OR(N7="Res",N7="MR",N7="Disket",N7="Udmeldt"),N16=""),1,IF(AND(N6="Status",N7="",OR(N16=1,N16="x",N16=2)),1,IF(AND(N6="Status",N7="",N16=""),2,IF(AND(N6<>"Status",N7="",N16=""),1,0)))) -> 1 | H72: =IF(AND(P6="Status",OR(P7="Res",P7="MR",P7="Disket",P7="Udmeldt"),P16=""),1,IF(AND(P6="Status",P7="",OR(P16=1,P16="x",P16=2)),1,IF(AND(P6="Status",P7="",P16=""),2,IF(AND(P6<>"Status",P7="",P16=""),1,0)))) -> 1 | I72: =IF(AND(R6="Status",OR(R7="Res",R7="MR",R7="Disket",R7="Udmeldt"),R16=""),1,IF(AND(R6="Status",R7="",OR(R16=1,R16="x",R16=2)),1,IF(AND(R6="Status",R7="",R16=""),2,IF(AND(R6<>"Status",R7="",R16=""),1,0)))) -> 1 | J72: =IF(AND(T6="Status",OR(T7="Res",T7="MR",T7="Disket",T7="Udmeldt"),T16=""),1,IF(AND(T6="Status",T7="",OR(T16=1,T16="x",T16=2)),1,IF(AND(T6="Status",T7="",T16=""),2,IF(AND(T6<>"Status",T7="",T16=""),1,0)))) -> 1 | K72: =IF(AND(V6="Status",OR(V7="Res",V7="MR",V7="Disket",V7="Udmeldt"),V16=""),1,IF(AND(V6="Status",V7="",OR(V16=1,V16="x",V16=2)),1,IF(AND(V6="Status",V7="",V16=""),2,IF(AND(V6<>"Status",V7="",V16=""),1,0)))) -> 1 | L72: =IF(AND(X6="Status",OR(X7="Res",X7="MR",X7="Disket",X7="Udmeldt"),X16=""),1,IF(AND(X6="Status",X7="",OR(X16=1,X16="x",X16=2)),1,IF(AND(X6="Status",X7="",X16=""),2,IF(AND(X6<>"Status",X7="",X16=""),1,0)))) -> 1 | M72: =IF(AND(Z6="Status",OR(Z7="Res",Z7="MR",Z7="Disket",Z7="Udmeldt"),Z16=""),1,IF(AND(Z6="Status",Z7="",OR(Z16=1,Z16="x",Z16=2)),1,IF(AND(Z6="Status",Z7="",Z16=""),2,IF(AND(Z6<>"Status",Z7="",Z16=""),1,0)))) -> 1 | N72: =IF(AND(AB6="Status",OR(AB7="Res",AB7="MR",AB7="Disket",AB7="Udmeldt"),AB16=""),1,IF(AND(AB6="Status",AB7="",OR(AB16=1,AB16="x",AB16=2)),1,IF(AND(AB6="Status",AB7="",AB16=""),2,IF(AND(AB6<>"Status",AB7="",AB16=""),1,0)))) -> 1 | O72: =IF(AND(AD6="Status",OR(AD7="Res",AD7="MR",AD7="Disket",AD7="Udmeldt"),AD16=""),1,IF(AND(AD6="Status",AD7="",OR(AD16=1,AD16="x",AD16=2)),1,IF(AND(AD6="Status",AD7="",AD16=""),2,IF(AND(AD6<>"Status",AD7="",AD16=""),1,0)))) -> 1 | P72: =IF(AND(AF6="Status",OR(AF7="Res",AF7="MR",AF7="Disket",AF7="Udmeldt"),AF16=""),1,IF(AND(AF6="Status",AF7="",OR(AF16=1,AF16="x",AF16=2)),1,IF(AND(AF6="Status",AF7="",AF16=""),2,IF(AND(AF6<>"Status",AF7="",AF16=""),1,0)))) -> 1 | Q72: =IF(AND(AH6="Status",OR(AH7="Res",AH7="MR",AH7="Disket",AH7="Udmeldt"),AH16=""),1,IF(AND(AH6="Status",AH7="",OR(AH16=1,AH16="x",AH16=2)),1,IF(AND(AH6="Status",AH7="",AH16=""),2,IF(AND(AH6<>"Status",AH7="",AH16=""),1,0)))) -> 1 | R72: =IF(AND(AJ6="Status",OR(AJ7="Res",AJ7="MR",AJ7="Disket",AJ7="Udmeldt"),AJ16=""),1,IF(AND(AJ6="Status",AJ7="",OR(AJ16=1,AJ16="x",AJ16=2)),1,IF(AND(AJ6="Status",AJ7="",AJ16=""),2,IF(AND(AJ6<>"Status",AJ7="",AJ16=""),1,0)))) -> 1 | S72: =IF(AND(AL6="Status",OR(AL7="Res",AL7="MR",AL7="Disket",AL7="Udmeldt"),AL16=""),1,IF(AND(AL6="Status",AL7="",OR(AL16=1,AL16="x",AL16=2)),1,IF(AND(AL6="Status",AL7="",AL16=""),2,IF(AND(AL6<>"Status",AL7="",AL16=""),1,0)))) -> 1 | T72: =IF(AND(AN6="Status",OR(AN7="Res",AN7="MR",AN7="Disket",AN7="Udmeldt"),AN16=""),1,IF(AND(AN6="Status",AN7="",OR(AN16=1,AN16="x",AN16=2)),1,IF(AND(AN6="Status",AN7="",AN16=""),2,IF(AND(AN6<>"Status",AN7="",AN16=""),1,0)))) -> 1
A73: =IF(AND(B6="Status",OR(B7="Res",B7="MR",B7="Disket",B7="Udmeldt"),B17=""),1,IF(AND(B6="Status",B7="",OR(B17=1,B17="x",B17=2)),1,IF(AND(B6="Status",B7="",B17=""),2,IF(AND(B6<>"Status",B7="",B17=""),1,0)))) -> 1 | B73: =IF(AND(D6="Status",OR(D7="Res",D7="MR",D7="Disket",D7="Udmeldt"),D17=""),1,IF(AND(D6="Status",D7="",OR(D17=1,D17="x",D17=2)),1,IF(AND(D6="Status",D7="",D17=""),2,IF(AND(D6<>"Status",D7="",D17=""),1,0)))) -> 1 | C73: =IF(AND(F6="Status",OR(F7="Res",F7="MR",F7="Disket",F7="Udmeldt"),F17=""),1,IF(AND(F6="Status",F7="",OR(F17=1,F17="x",F17=2)),1,IF(AND(F6="Status",F7="",F17=""),2,IF(AND(F6<>"Status",F7="",F17=""),1,0)))) -> 1 | D73: =IF(AND(H6="Status",OR(H7="Res",H7="MR",H7="Disket",H7="Udmeldt"),H17=""),1,IF(AND(H6="Status",H7="",OR(H17=1,H17="x",H17=2)),1,IF(AND(H6="Status",H7="",H17=""),2,IF(AND(H6<>"Status",H7="",H17=""),1,0)))) -> 1 | E73: =IF(AND(J6="Status",OR(J7="Res",J7="MR",J7="Disket",J7="Udmeldt"),J17=""),1,IF(AND(J6="Status",J7="",OR(J17=1,J17="x",J17=2)),1,IF(AND(J6="Status",J7="",J17=""),2,IF(AND(J6<>"Status",J7="",J17=""),1,0)))) -> 1 | F73: =IF(AND(L6="Status",OR(L7="Res",L7="MR",L7="Disket",L7="Udmeldt"),L17=""),1,IF(AND(L6="Status",L7="",OR(L17=1,L17="x",L17=2)),1,IF(AND(L6="Status",L7="",L17=""),2,IF(AND(L6<>"Status",L7="",L17=""),1,0)))) -> 1 | G73: =IF(AND(N6="Status",OR(N7="Res",N7="MR",N7="Disket",N7="Udmeldt"),N17=""),1,IF(AND(N6="Status",N7="",OR(N17=1,N17="x",N17=2)),1,IF(AND(N6="Status",N7="",N17=""),2,IF(AND(N6<>"Status",N7="",N17=""),1,0)))) -> 1 | H73: =IF(AND(P6="Status",OR(P7="Res",P7="MR",P7="Disket",P7="Udmeldt"),P17=""),1,IF(AND(P6="Status",P7="",OR(P17=1,P17="x",P17=2)),1,IF(AND(P6="Status",P7="",P17=""),2,IF(AND(P6<>"Status",P7="",P17=""),1,0)))) -> 1 | I73: =IF(AND(R6="Status",OR(R7="Res",R7="MR",R7="Disket",R7="Udmeldt"),R17=""),1,IF(AND(R6="Status",R7="",OR(R17=1,R17="x",R17=2)),1,IF(AND(R6="Status",R7="",R17=""),2,IF(AND(R6<>"Status",R7="",R17=""),1,0)))) -> 1 | J73: =IF(AND(T6="Status",OR(T7="Res",T7="MR",T7="Disket",T7="Udmeldt"),T17=""),1,IF(AND(T6="Status",T7="",OR(T17=1,T17="x",T17=2)),1,IF(AND(T6="Status",T7="",T17=""),2,IF(AND(T6<>"Status",T7="",T17=""),1,0)))) -> 1 | K73: =IF(AND(V6="Status",OR(V7="Res",V7="MR",V7="Disket",V7="Udmeldt"),V17=""),1,IF(AND(V6="Status",V7="",OR(V17=1,V17="x",V17=2)),1,IF(AND(V6="Status",V7="",V17=""),2,IF(AND(V6<>"Status",V7="",V17=""),1,0)))) -> 1 | L73: =IF(AND(X6="Status",OR(X7="Res",X7="MR",X7="Disket",X7="Udmeldt"),X17=""),1,IF(AND(X6="Status",X7="",OR(X17=1,X17="x",X17=2)),1,IF(AND(X6="Status",X7="",X17=""),2,IF(AND(X6<>"Status",X7="",X17=""),1,0)))) -> 1 | M73: =IF(AND(Z6="Status",OR(Z7="Res",Z7="MR",Z7="Disket",Z7="Udmeldt"),Z17=""),1,IF(AND(Z6="Status",Z7="",OR(Z17=1,Z17="x",Z17=2)),1,IF(AND(Z6="Status",Z7="",Z17=""),2,IF(AND(Z6<>"Status",Z7="",Z17=""),1,0)))) -> 1 | N73: =IF(AND(AB6="Status",OR(AB7="Res",AB7="MR",AB7="Disket",AB7="Udmeldt"),AB17=""),1,IF(AND(AB6="Status",AB7="",OR(AB17=1,AB17="x",AB17=2)),1,IF(AND(AB6="Status",AB7="",AB17=""),2,IF(AND(AB6<>"Status",AB7="",AB17=""),1,0)))) -> 1 | O73: =IF(AND(AD6="Status",OR(AD7="Res",AD7="MR",AD7="Disket",AD7="Udmeldt"),AD17=""),1,IF(AND(AD6="Status",AD7="",OR(AD17=1,AD17="x",AD17=2)),1,IF(AND(AD6="Status",AD7="",AD17=""),2,IF(AND(AD6<>"Status",AD7="",AD17=""),1,0)))) -> 1 | P73: =IF(AND(AF6="Status",OR(AF7="Res",AF7="MR",AF7="Disket",AF7="Udmeldt"),AF17=""),1,IF(AND(AF6="Status",AF7="",OR(AF17=1,AF17="x",AF17=2)),1,IF(AND(AF6="Status",AF7="",AF17=""),2,IF(AND(AF6<>"Status",AF7="",AF17=""),1,0)))) -> 1 | Q73: =IF(AND(AH6="Status",OR(AH7="Res",AH7="MR",AH7="Disket",AH7="Udmeldt"),AH17=""),1,IF(AND(AH6="Status",AH7="",OR(AH17=1,AH17="x",AH17=2)),1,IF(AND(AH6="Status",AH7="",AH17=""),2,IF(AND(AH6<>"Status",AH7="",AH17=""),1,0)))) -> 1 | R73: =IF(AND(AJ6="Status",OR(AJ7="Res",AJ7="MR",AJ7="Disket",AJ7="Udmeldt"),AJ17=""),1,IF(AND(AJ6="Status",AJ7="",OR(AJ17=1,AJ17="x",AJ17=2)),1,IF(AND(AJ6="Status",AJ7="",AJ17=""),2,IF(AND(AJ6<>"Status",AJ7="",AJ17=""),1,0)))) -> 1 | S73: =IF(AND(AL6="Status",OR(AL7="Res",AL7="MR",AL7="Disket",AL7="Udmeldt"),AL17=""),1,IF(AND(AL6="Status",AL7="",OR(AL17=1,AL17="x",AL17=2)),1,IF(AND(AL6="Status",AL7="",AL17=""),2,IF(AND(AL6<>"Status",AL7="",AL17=""),1,0)))) -> 1 | T73: =IF(AND(AN6="Status",OR(AN7="Res",AN7="MR",AN7="Disket",AN7="Udmeldt"),AN17=""),1,IF(AND(AN6="Status",AN7="",OR(AN17=1,AN17="x",AN17=2)),1,IF(AND(AN6="Status",AN7="",AN17=""),2,IF(AND(AN6<>"Status",AN7="",AN17=""),1,0)))) -> 1
A74: =IF(AND(B6="Status",OR(B7="Res",B7="MR",B7="Disket",B7="Udmeldt"),B18=""),1,IF(AND(B6="Status",B7="",OR(B18=1,B18="x",B18=2)),1,IF(AND(B6="Status",B7="",B18=""),2,IF(AND(B6<>"Status",B7="",B18=""),1,0)))) -> 1 | B74: =IF(AND(D6="Status",OR(D7="Res",D7="MR",D7="Disket",D7="Udmeldt"),D18=""),1,IF(AND(D6="Status",D7="",OR(D18=1,D18="x",D18=2)),1,IF(AND(D6="Status",D7="",D18=""),2,IF(AND(D6<>"Status",D7="",D18=""),1,0)))) -> 1 | C74: =IF(AND(F6="Status",OR(F7="Res",F7="MR",F7="Disket",F7="Udmeldt"),F18=""),1,IF(AND(F6="Status",F7="",OR(F18=1,F18="x",F18=2)),1,IF(AND(F6="Status",F7="",F18=""),2,IF(AND(F6<>"Status",F7="",F18=""),1,0)))) -> 1 | D74: =IF(AND(H6="Status",OR(H7="Res",H7="MR",H7="Disket",H7="Udmeldt"),H18=""),1,IF(AND(H6="Status",H7="",OR(H18=1,H18="x",H18=2)),1,IF(AND(H6="Status",H7="",H18=""),2,IF(AND(H6<>"Status",H7="",H18=""),1,0)))) -> 1 | E74: =IF(AND(J6="Status",OR(J7="Res",J7="MR",J7="Disket",J7="Udmeldt"),J18=""),1,IF(AND(J6="Status",J7="",OR(J18=1,J18="x",J18=2)),1,IF(AND(J6="Status",J7="",J18=""),2,IF(AND(J6<>"Status",J7="",J18=""),1,0)))) -> 1 | F74: =IF(AND(L6="Status",OR(L7="Res",L7="MR",L7="Disket",L7="Udmeldt"),L18=""),1,IF(AND(L6="Status",L7="",OR(L18=1,L18="x",L18=2)),1,IF(AND(L6="Status",L7="",L18=""),2,IF(AND(L6<>"Status",L7="",L18=""),1,0)))) -> 1 | G74: =IF(AND(N6="Status",OR(N7="Res",N7="MR",N7="Disket",N7="Udmeldt"),N18=""),1,IF(AND(N6="Status",N7="",OR(N18=1,N18="x",N18=2)),1,IF(AND(N6="Status",N7="",N18=""),2,IF(AND(N6<>"Status",N7="",N18=""),1,0)))) -> 1 | H74: =IF(AND(P6="Status",OR(P7="Res",P7="MR",P7="Disket",P7="Udmeldt"),P18=""),1,IF(AND(P6="Status",P7="",OR(P18=1,P18="x",P18=2)),1,IF(AND(P6="Status",P7="",P18=""),2,IF(AND(P6<>"Status",P7="",P18=""),1,0)))) -> 1 | I74: =IF(AND(R6="Status",OR(R7="Res",R7="MR",R7="Disket",R7="Udmeldt"),R18=""),1,IF(AND(R6="Status",R7="",OR(R18=1,R18="x",R18=2)),1,IF(AND(R6="Status",R7="",R18=""),2,IF(AND(R6<>"Status",R7="",R18=""),1,0)))) -> 1 | J74: =IF(AND(T6="Status",OR(T7="Res",T7="MR",T7="Disket",T7="Udmeldt"),T18=""),1,IF(AND(T6="Status",T7="",OR(T18=1,T18="x",T18=2)),1,IF(AND(T6="Status",T7="",T18=""),2,IF(AND(T6<>"Status",T7="",T18=""),1,0)))) -> 1 | K74: =IF(AND(V6="Status",OR(V7="Res",V7="MR",V7="Disket",V7="Udmeldt"),V18=""),1,IF(AND(V6="Status",V7="",OR(V18=1,V18="x",V18=2)),1,IF(AND(V6="Status",V7="",V18=""),2,IF(AND(V6<>"Status",V7="",V18=""),1,0)))) -> 1 | L74: =IF(AND(X6="Status",OR(X7="Res",X7="MR",X7="Disket",X7="Udmeldt"),X18=""),1,IF(AND(X6="Status",X7="",OR(X18=1,X18="x",X18=2)),1,IF(AND(X6="Status",X7="",X18=""),2,IF(AND(X6<>"Status",X7="",X18=""),1,0)))) -> 1 | M74: =IF(AND(Z6="Status",OR(Z7="Res",Z7="MR",Z7="Disket",Z7="Udmeldt"),Z18=""),1,IF(AND(Z6="Status",Z7="",OR(Z18=1,Z18="x",Z18=2)),1,IF(AND(Z6="Status",Z7="",Z18=""),2,IF(AND(Z6<>"Status",Z7="",Z18=""),1,0)))) -> 1 | N74: =IF(AND(AB6="Status",OR(AB7="Res",AB7="MR",AB7="Disket",AB7="Udmeldt"),AB18=""),1,IF(AND(AB6="Status",AB7="",OR(AB18=1,AB18="x",AB18=2)),1,IF(AND(AB6="Status",AB7="",AB18=""),2,IF(AND(AB6<>"Status",AB7="",AB18=""),1,0)))) -> 1 | O74: =IF(AND(AD6="Status",OR(AD7="Res",AD7="MR",AD7="Disket",AD7="Udmeldt"),AD18=""),1,IF(AND(AD6="Status",AD7="",OR(AD18=1,AD18="x",AD18=2)),1,IF(AND(AD6="Status",AD7="",AD18=""),2,IF(AND(AD6<>"Status",AD7="",AD18=""),1,0)))) -> 1 | P74: =IF(AND(AF6="Status",OR(AF7="Res",AF7="MR",AF7="Disket",AF7="Udmeldt"),AF18=""),1,IF(AND(AF6="Status",AF7="",OR(AF18=1,AF18="x",AF18=2)),1,IF(AND(AF6="Status",AF7="",AF18=""),2,IF(AND(AF6<>"Status",AF7="",AF18=""),1,0)))) -> 1 | Q74: =IF(AND(AH6="Status",OR(AH7="Res",AH7="MR",AH7="Disket",AH7="Udmeldt"),AH18=""),1,IF(AND(AH6="Status",AH7="",OR(AH18=1,AH18="x",AH18=2)),1,IF(AND(AH6="Status",AH7="",AH18=""),2,IF(AND(AH6<>"Status",AH7="",AH18=""),1,0)))) -> 1 | R74: =IF(AND(AJ6="Status",OR(AJ7="Res",AJ7="MR",AJ7="Disket",AJ7="Udmeldt"),AJ18=""),1,IF(AND(AJ6="Status",AJ7="",OR(AJ18=1,AJ18="x",AJ18=2)),1,IF(AND(AJ6="Status",AJ7="",AJ18=""),2,IF(AND(AJ6<>"Status",AJ7="",AJ18=""),1,0)))) -> 1 | S74: =IF(AND(AL6="Status",OR(AL7="Res",AL7="MR",AL7="Disket",AL7="Udmeldt"),AL18=""),1,IF(AND(AL6="Status",AL7="",OR(AL18=1,AL18="x",AL18=2)),1,IF(AND(AL6="Status",AL7="",AL18=""),2,IF(AND(AL6<>"Status",AL7="",AL18=""),1,0)))) -> 1 | T74: =IF(AND(AN6="Status",OR(AN7="Res",AN7="MR",AN7="Disket",AN7="Udmeldt"),AN18=""),1,IF(AND(AN6="Status",AN7="",OR(AN18=1,AN18="x",AN18=2)),1,IF(AND(AN6="Status",AN7="",AN18=""),2,IF(AND(AN6<>"Status",AN7="",AN18=""),1,0)))) -> 1
A75: =IF(AND(B6="Status",OR(B7="Res",B7="MR",B7="Disket",B7="Udmeldt"),B19=""),1,IF(AND(B6="Status",B7="",OR(B19=1,B19="x",B19=2)),1,IF(AND(B6="Status",B7="",B19=""),2,IF(AND(B6<>"Status",B7="",B19=""),1,0)))) -> 1 | B75: =IF(AND(D6="Status",OR(D7="Res",D7="MR",D7="Disket",D7="Udmeldt"),D19=""),1,IF(AND(D6="Status",D7="",OR(D19=1,D19="x",D19=2)),1,IF(AND(D6="Status",D7="",D19=""),2,IF(AND(D6<>"Status",D7="",D19=""),1,0)))) -> 1 | C75: =IF(AND(F6="Status",OR(F7="Res",F7="MR",F7="Disket",F7="Udmeldt"),F19=""),1,IF(AND(F6="Status",F7="",OR(F19=1,F19="x",F19=2)),1,IF(AND(F6="Status",F7="",F19=""),2,IF(AND(F6<>"Status",F7="",F19=""),1,0)))) -> 1 | D75: =IF(AND(H6="Status",OR(H7="Res",H7="MR",H7="Disket",H7="Udmeldt"),H19=""),1,IF(AND(H6="Status",H7="",OR(H19=1,H19="x",H19=2)),1,IF(AND(H6="Status",H7="",H19=""),2,IF(AND(H6<>"Status",H7="",H19=""),1,0)))) -> 1 | E75: =IF(AND(J6="Status",OR(J7="Res",J7="MR",J7="Disket",J7="Udmeldt"),J19=""),1,IF(AND(J6="Status",J7="",OR(J19=1,J19="x",J19=2)),1,IF(AND(J6="Status",J7="",J19=""),2,IF(AND(J6<>"Status",J7="",J19=""),1,0)))) -> 1 | F75: =IF(AND(L6="Status",OR(L7="Res",L7="MR",L7="Disket",L7="Udmeldt"),L19=""),1,IF(AND(L6="Status",L7="",OR(L19=1,L19="x",L19=2)),1,IF(AND(L6="Status",L7="",L19=""),2,IF(AND(L6<>"Status",L7="",L19=""),1,0)))) -> 1 | G75: =IF(AND(N6="Status",OR(N7="Res",N7="MR",N7="Disket",N7="Udmeldt"),N19=""),1,IF(AND(N6="Status",N7="",OR(N19=1,N19="x",N19=2)),1,IF(AND(N6="Status",N7="",N19=""),2,IF(AND(N6<>"Status",N7="",N19=""),1,0)))) -> 1 | H75: =IF(AND(P6="Status",OR(P7="Res",P7="MR",P7="Disket",P7="Udmeldt"),P19=""),1,IF(AND(P6="Status",P7="",OR(P19=1,P19="x",P19=2)),1,IF(AND(P6="Status",P7="",P19=""),2,IF(AND(P6<>"Status",P7="",P19=""),1,0)))) -> 1 | I75: =IF(AND(R6="Status",OR(R7="Res",R7="MR",R7="Disket",R7="Udmeldt"),R19=""),1,IF(AND(R6="Status",R7="",OR(R19=1,R19="x",R19=2)),1,IF(AND(R6="Status",R7="",R19=""),2,IF(AND(R6<>"Status",R7="",R19=""),1,0)))) -> 1 | J75: =IF(AND(T6="Status",OR(T7="Res",T7="MR",T7="Disket",T7="Udmeldt"),T19=""),1,IF(AND(T6="Status",T7="",OR(T19=1,T19="x",T19=2)),1,IF(AND(T6="Status",T7="",T19=""),2,IF(AND(T6<>"Status",T7="",T19=""),1,0)))) -> 1 | K75: =IF(AND(V6="Status",OR(V7="Res",V7="MR",V7="Disket",V7="Udmeldt"),V19=""),1,IF(AND(V6="Status",V7="",OR(V19=1,V19="x",V19=2)),1,IF(AND(V6="Status",V7="",V19=""),2,IF(AND(V6<>"Status",V7="",V19=""),1,0)))) -> 1 | L75: =IF(AND(X6="Status",OR(X7="Res",X7="MR",X7="Disket",X7="Udmeldt"),X19=""),1,IF(AND(X6="Status",X7="",OR(X19=1,X19="x",X19=2)),1,IF(AND(X6="Status",X7="",X19=""),2,IF(AND(X6<>"Status",X7="",X19=""),1,0)))) -> 1 | M75: =IF(AND(Z6="Status",OR(Z7="Res",Z7="MR",Z7="Disket",Z7="Udmeldt"),Z19=""),1,IF(AND(Z6="Status",Z7="",OR(Z19=1,Z19="x",Z19=2)),1,IF(AND(Z6="Status",Z7="",Z19=""),2,IF(AND(Z6<>"Status",Z7="",Z19=""),1,0)))) -> 1 | N75: =IF(AND(AB6="Status",OR(AB7="Res",AB7="MR",AB7="Disket",AB7="Udmeldt"),AB19=""),1,IF(AND(AB6="Status",AB7="",OR(AB19=1,AB19="x",AB19=2)),1,IF(AND(AB6="Status",AB7="",AB19=""),2,IF(AND(AB6<>"Status",AB7="",AB19=""),1,0)))) -> 1 | O75: =IF(AND(AD6="Status",OR(AD7="Res",AD7="MR",AD7="Disket",AD7="Udmeldt"),AD19=""),1,IF(AND(AD6="Status",AD7="",OR(AD19=1,AD19="x",AD19=2)),1,IF(AND(AD6="Status",AD7="",AD19=""),2,IF(AND(AD6<>"Status",AD7="",AD19=""),1,0)))) -> 1 | P75: =IF(AND(AF6="Status",OR(AF7="Res",AF7="MR",AF7="Disket",AF7="Udmeldt"),AF19=""),1,IF(AND(AF6="Status",AF7="",OR(AF19=1,AF19="x",AF19=2)),1,IF(AND(AF6="Status",AF7="",AF19=""),2,IF(AND(AF6<>"Status",AF7="",AF19=""),1,0)))) -> 1 | Q75: =IF(AND(AH6="Status",OR(AH7="Res",AH7="MR",AH7="Disket",AH7="Udmeldt"),AH19=""),1,IF(AND(AH6="Status",AH7="",OR(AH19=1,AH19="x",AH19=2)),1,IF(AND(AH6="Status",AH7="",AH19=""),2,IF(AND(AH6<>"Status",AH7="",AH19=""),1,0)))) -> 1 | R75: =IF(AND(AJ6="Status",OR(AJ7="Res",AJ7="MR",AJ7="Disket",AJ7="Udmeldt"),AJ19=""),1,IF(AND(AJ6="Status",AJ7="",OR(AJ19=1,AJ19="x",AJ19=2)),1,IF(AND(AJ6="Status",AJ7="",AJ19=""),2,IF(AND(AJ6<>"Status",AJ7="",AJ19=""),1,0)))) -> 1 | S75: =IF(AND(AL6="Status",OR(AL7="Res",AL7="MR",AL7="Disket",AL7="Udmeldt"),AL19=""),1,IF(AND(AL6="Status",AL7="",OR(AL19=1,AL19="x",AL19=2)),1,IF(AND(AL6="Status",AL7="",AL19=""),2,IF(AND(AL6<>"Status",AL7="",AL19=""),1,0)))) -> 1 | T75: =IF(AND(AN6="Status",OR(AN7="Res",AN7="MR",AN7="Disket",AN7="Udmeldt"),AN19=""),1,IF(AND(AN6="Status",AN7="",OR(AN19=1,AN19="x",AN19=2)),1,IF(AND(AN6="Status",AN7="",AN19=""),2,IF(AND(AN6<>"Status",AN7="",AN19=""),1,0)))) -> 1
A76: =IF(AND(B6="Status",OR(B7="Res",B7="MR",B7="Disket",B7="Udmeldt"),B20=""),1,IF(AND(B6="Status",B7="",OR(B20=1,B20="x",B20=2)),1,IF(AND(B6="Status",B7="",B20=""),2,IF(AND(B6<>"Status",B7="",B20=""),1,0)))) -> 1 | B76: =IF(AND(D6="Status",OR(D7="Res",D7="MR",D7="Disket",D7="Udmeldt"),D20=""),1,IF(AND(D6="Status",D7="",OR(D20=1,D20="x",D20=2)),1,IF(AND(D6="Status",D7="",D20=""),2,IF(AND(D6<>"Status",D7="",D20=""),1,0)))) -> 1 | C76: =IF(AND(F6="Status",OR(F7="Res",F7="MR",F7="Disket",F7="Udmeldt"),F20=""),1,IF(AND(F6="Status",F7="",OR(F20=1,F20="x",F20=2)),1,IF(AND(F6="Status",F7="",F20=""),2,IF(AND(F6<>"Status",F7="",F20=""),1,0)))) -> 1 | D76: =IF(AND(H6="Status",OR(H7="Res",H7="MR",H7="Disket",H7="Udmeldt"),H20=""),1,IF(AND(H6="Status",H7="",OR(H20=1,H20="x",H20=2)),1,IF(AND(H6="Status",H7="",H20=""),2,IF(AND(H6<>"Status",H7="",H20=""),1,0)))) -> 1 | E76: =IF(AND(J6="Status",OR(J7="Res",J7="MR",J7="Disket",J7="Udmeldt"),J20=""),1,IF(AND(J6="Status",J7="",OR(J20=1,J20="x",J20=2)),1,IF(AND(J6="Status",J7="",J20=""),2,IF(AND(J6<>"Status",J7="",J20=""),1,0)))) -> 1 | F76: =IF(AND(L6="Status",OR(L7="Res",L7="MR",L7="Disket",L7="Udmeldt"),L20=""),1,IF(AND(L6="Status",L7="",OR(L20=1,L20="x",L20=2)),1,IF(AND(L6="Status",L7="",L20=""),2,IF(AND(L6<>"Status",L7="",L20=""),1,0)))) -> 1 | G76: =IF(AND(N6="Status",OR(N7="Res",N7="MR",N7="Disket",N7="Udmeldt"),N20=""),1,IF(AND(N6="Status",N7="",OR(N20=1,N20="x",N20=2)),1,IF(AND(N6="Status",N7="",N20=""),2,IF(AND(N6<>"Status",N7="",N20=""),1,0)))) -> 1 | H76: =IF(AND(P6="Status",OR(P7="Res",P7="MR",P7="Disket",P7="Udmeldt"),P20=""),1,IF(AND(P6="Status",P7="",OR(P20=1,P20="x",P20=2)),1,IF(AND(P6="Status",P7="",P20=""),2,IF(AND(P6<>"Status",P7="",P20=""),1,0)))) -> 1 | I76: =IF(AND(R6="Status",OR(R7="Res",R7="MR",R7="Disket",R7="Udmeldt"),R20=""),1,IF(AND(R6="Status",R7="",OR(R20=1,R20="x",R20=2)),1,IF(AND(R6="Status",R7="",R20=""),2,IF(AND(R6<>"Status",R7="",R20=""),1,0)))) -> 1 | J76: =IF(AND(T6="Status",OR(T7="Res",T7="MR",T7="Disket",T7="Udmeldt"),T20=""),1,IF(AND(T6="Status",T7="",OR(T20=1,T20="x",T20=2)),1,IF(AND(T6="Status",T7="",T20=""),2,IF(AND(T6<>"Status",T7="",T20=""),1,0)))) -> 1 | K76: =IF(AND(V6="Status",OR(V7="Res",V7="MR",V7="Disket",V7="Udmeldt"),V20=""),1,IF(AND(V6="Status",V7="",OR(V20=1,V20="x",V20=2)),1,IF(AND(V6="Status",V7="",V20=""),2,IF(AND(V6<>"Status",V7="",V20=""),1,0)))) -> 1 | L76: =IF(AND(X6="Status",OR(X7="Res",X7="MR",X7="Disket",X7="Udmeldt"),X20=""),1,IF(AND(X6="Status",X7="",OR(X20=1,X20="x",X20=2)),1,IF(AND(X6="Status",X7="",X20=""),2,IF(AND(X6<>"Status",X7="",X20=""),1,0)))) -> 1 | M76: =IF(AND(Z6="Status",OR(Z7="Res",Z7="MR",Z7="Disket",Z7="Udmeldt"),Z20=""),1,IF(AND(Z6="Status",Z7="",OR(Z20=1,Z20="x",Z20=2)),1,IF(AND(Z6="Status",Z7="",Z20=""),2,IF(AND(Z6<>"Status",Z7="",Z20=""),1,0)))) -> 1 | N76: =IF(AND(AB6="Status",OR(AB7="Res",AB7="MR",AB7="Disket",AB7="Udmeldt"),AB20=""),1,IF(AND(AB6="Status",AB7="",OR(AB20=1,AB20="x",AB20=2)),1,IF(AND(AB6="Status",AB7="",AB20=""),2,IF(AND(AB6<>"Status",AB7="",AB20=""),1,0)))) -> 1 | O76: =IF(AND(AD6="Status",OR(AD7="Res",AD7="MR",AD7="Disket",AD7="Udmeldt"),AD20=""),1,IF(AND(AD6="Status",AD7="",OR(AD20=1,AD20="x",AD20=2)),1,IF(AND(AD6="Status",AD7="",AD20=""),2,IF(AND(AD6<>"Status",AD7="",AD20=""),1,0)))) -> 1 | P76: =IF(AND(AF6="Status",OR(AF7="Res",AF7="MR",AF7="Disket",AF7="Udmeldt"),AF20=""),1,IF(AND(AF6="Status",AF7="",OR(AF20=1,AF20="x",AF20=2)),1,IF(AND(AF6="Status",AF7="",AF20=""),2,IF(AND(AF6<>"Status",AF7="",AF20=""),1,0)))) -> 1 | Q76: =IF(AND(AH6="Status",OR(AH7="Res",AH7="MR",AH7="Disket",AH7="Udmeldt"),AH20=""),1,IF(AND(AH6="Status",AH7="",OR(AH20=1,AH20="x",AH20=2)),1,IF(AND(AH6="Status",AH7="",AH20=""),2,IF(AND(AH6<>"Status",AH7="",AH20=""),1,0)))) -> 1 | R76: =IF(AND(AJ6="Status",OR(AJ7="Res",AJ7="MR",AJ7="Disket",AJ7="Udmeldt"),AJ20=""),1,IF(AND(AJ6="Status",AJ7="",OR(AJ20=1,AJ20="x",AJ20=2)),1,IF(AND(AJ6="Status",AJ7="",AJ20=""),2,IF(AND(AJ6<>"Status",AJ7="",AJ20=""),1,0)))) -> 1 | S76: =IF(AND(AL6="Status",OR(AL7="Res",AL7="MR",AL7="Disket",AL7="Udmeldt"),AL20=""),1,IF(AND(AL6="Status",AL7="",OR(AL20=1,AL20="x",AL20=2)),1,IF(AND(AL6="Status",AL7="",AL20=""),2,IF(AND(AL6<>"Status",AL7="",AL20=""),1,0)))) -> 1 | T76: =IF(AND(AN6="Status",OR(AN7="Res",AN7="MR",AN7="Disket",AN7="Udmeldt"),AN20=""),1,IF(AND(AN6="Status",AN7="",OR(AN20=1,AN20="x",AN20=2)),1,IF(AND(AN6="Status",AN7="",AN20=""),2,IF(AND(AN6<>"Status",AN7="",AN20=""),1,0)))) -> 1
A77: =IF(AND(B6="Status",OR(B7="Res",B7="MR",B7="Disket",B7="Udmeldt"),B21=""),1,IF(AND(B6="Status",B7="",OR(B21=1,B21="x",B21=2)),1,IF(AND(B6="Status",B7="",B21=""),2,IF(AND(B6<>"Status",B7="",B21=""),1,0)))) -> 1 | B77: =IF(AND(D6="Status",OR(D7="Res",D7="MR",D7="Disket",D7="Udmeldt"),D21=""),1,IF(AND(D6="Status",D7="",OR(D21=1,D21="x",D21=2)),1,IF(AND(D6="Status",D7="",D21=""),2,IF(AND(D6<>"Status",D7="",D21=""),1,0)))) -> 1 | C77: =IF(AND(F6="Status",OR(F7="Res",F7="MR",F7="Disket",F7="Udmeldt"),F21=""),1,IF(AND(F6="Status",F7="",OR(F21=1,F21="x",F21=2)),1,IF(AND(F6="Status",F7="",F21=""),2,IF(AND(F6<>"Status",F7="",F21=""),1,0)))) -> 1 | D77: =IF(AND(H6="Status",OR(H7="Res",H7="MR",H7="Disket",H7="Udmeldt"),H21=""),1,IF(AND(H6="Status",H7="",OR(H21=1,H21="x",H21=2)),1,IF(AND(H6="Status",H7="",H21=""),2,IF(AND(H6<>"Status",H7="",H21=""),1,0)))) -> 1 | E77: =IF(AND(J6="Status",OR(J7="Res",J7="MR",J7="Disket",J7="Udmeldt"),J21=""),1,IF(AND(J6="Status",J7="",OR(J21=1,J21="x",J21=2)),1,IF(AND(J6="Status",J7="",J21=""),2,IF(AND(J6<>"Status",J7="",J21=""),1,0)))) -> 1 | F77: =IF(AND(L6="Status",OR(L7="Res",L7="MR",L7="Disket",L7="Udmeldt"),L21=""),1,IF(AND(L6="Status",L7="",OR(L21=1,L21="x",L21=2)),1,IF(AND(L6="Status",L7="",L21=""),2,IF(AND(L6<>"Status",L7="",L21=""),1,0)))) -> 1 | G77: =IF(AND(N6="Status",OR(N7="Res",N7="MR",N7="Disket",N7="Udmeldt"),N21=""),1,IF(AND(N6="Status",N7="",OR(N21=1,N21="x",N21=2)),1,IF(AND(N6="Status",N7="",N21=""),2,IF(AND(N6<>"Status",N7="",N21=""),1,0)))) -> 1 | H77: =IF(AND(P6="Status",OR(P7="Res",P7="MR",P7="Disket",P7="Udmeldt"),P21=""),1,IF(AND(P6="Status",P7="",OR(P21=1,P21="x",P21=2)),1,IF(AND(P6="Status",P7="",P21=""),2,IF(AND(P6<>"Status",P7="",P21=""),1,0)))) -> 1 | I77: =IF(AND(R6="Status",OR(R7="Res",R7="MR",R7="Disket",R7="Udmeldt"),R21=""),1,IF(AND(R6="Status",R7="",OR(R21=1,R21="x",R21=2)),1,IF(AND(R6="Status",R7="",R21=""),2,IF(AND(R6<>"Status",R7="",R21=""),1,0)))) -> 1 | J77: =IF(AND(T6="Status",OR(T7="Res",T7="MR",T7="Disket",T7="Udmeldt"),T21=""),1,IF(AND(T6="Status",T7="",OR(T21=1,T21="x",T21=2)),1,IF(AND(T6="Status",T7="",T21=""),2,IF(AND(T6<>"Status",T7="",T21=""),1,0)))) -> 1 | K77: =IF(AND(V6="Status",OR(V7="Res",V7="MR",V7="Disket",V7="Udmeldt"),V21=""),1,IF(AND(V6="Status",V7="",OR(V21=1,V21="x",V21=2)),1,IF(AND(V6="Status",V7="",V21=""),2,IF(AND(V6<>"Status",V7="",V21=""),1,0)))) -> 1 | L77: =IF(AND(X6="Status",OR(X7="Res",X7="MR",X7="Disket",X7="Udmeldt"),X21=""),1,IF(AND(X6="Status",X7="",OR(X21=1,X21="x",X21=2)),1,IF(AND(X6="Status",X7="",X21=""),2,IF(AND(X6<>"Status",X7="",X21=""),1,0)))) -> 1 | M77: =IF(AND(Z6="Status",OR(Z7="Res",Z7="MR",Z7="Disket",Z7="Udmeldt"),Z21=""),1,IF(AND(Z6="Status",Z7="",OR(Z21=1,Z21="x",Z21=2)),1,IF(AND(Z6="Status",Z7="",Z21=""),2,IF(AND(Z6<>"Status",Z7="",Z21=""),1,0)))) -> 1 | N77: =IF(AND(AB6="Status",OR(AB7="Res",AB7="MR",AB7="Disket",AB7="Udmeldt"),AB21=""),1,IF(AND(AB6="Status",AB7="",OR(AB21=1,AB21="x",AB21=2)),1,IF(AND(AB6="Status",AB7="",AB21=""),2,IF(AND(AB6<>"Status",AB7="",AB21=""),1,0)))) -> 1 | O77: =IF(AND(AD6="Status",OR(AD7="Res",AD7="MR",AD7="Disket",AD7="Udmeldt"),AD21=""),1,IF(AND(AD6="Status",AD7="",OR(AD21=1,AD21="x",AD21=2)),1,IF(AND(AD6="Status",AD7="",AD21=""),2,IF(AND(AD6<>"Status",AD7="",AD21=""),1,0)))) -> 1 | P77: =IF(AND(AF6="Status",OR(AF7="Res",AF7="MR",AF7="Disket",AF7="Udmeldt"),AF21=""),1,IF(AND(AF6="Status",AF7="",OR(AF21=1,AF21="x",AF21=2)),1,IF(AND(AF6="Status",AF7="",AF21=""),2,IF(AND(AF6<>"Status",AF7="",AF21=""),1,0)))) -> 1 | Q77: =IF(AND(AH6="Status",OR(AH7="Res",AH7="MR",AH7="Disket",AH7="Udmeldt"),AH21=""),1,IF(AND(AH6="Status",AH7="",OR(AH21=1,AH21="x",AH21=2)),1,IF(AND(AH6="Status",AH7="",AH21=""),2,IF(AND(AH6<>"Status",AH7="",AH21=""),1,0)))) -> 1 | R77: =IF(AND(AJ6="Status",OR(AJ7="Res",AJ7="MR",AJ7="Disket",AJ7="Udmeldt"),AJ21=""),1,IF(AND(AJ6="Status",AJ7="",OR(AJ21=1,AJ21="x",AJ21=2)),1,IF(AND(AJ6="Status",AJ7="",AJ21=""),2,IF(AND(AJ6<>"Status",AJ7="",AJ21=""),1,0)))) -> 1 | S77: =IF(AND(AL6="Status",OR(AL7="Res",AL7="MR",AL7="Disket",AL7="Udmeldt"),AL21=""),1,IF(AND(AL6="Status",AL7="",OR(AL21=1,AL21="x",AL21=2)),1,IF(AND(AL6="Status",AL7="",AL21=""),2,IF(AND(AL6<>"Status",AL7="",AL21=""),1,0)))) -> 1 | T77: =IF(AND(AN6="Status",OR(AN7="Res",AN7="MR",AN7="Disket",AN7="Udmeldt"),AN21=""),1,IF(AND(AN6="Status",AN7="",OR(AN21=1,AN21="x",AN21=2)),1,IF(AND(AN6="Status",AN7="",AN21=""),2,IF(AND(AN6<>"Status",AN7="",AN21=""),1,0)))) -> 1
A78: =IF(COUNTIF(A65:A77,"=1")=13,"OK",IF(COUNTIF(A65:A77,"=2")>0,"","FEJL")) -> OK | B78: =IF(COUNTIF(B65:B77,"=1")=13,"OK",IF(COUNTIF(B65:B77,"=2")>0,"","FEJL")) -> OK | C78: =IF(COUNTIF(C65:C77,"=1")=13,"OK",IF(COUNTIF(C65:C77,"=2")>0,"","FEJL")) -> OK | D78: =IF(COUNTIF(D65:D77,"=1")=13,"OK",IF(COUNTIF(D65:D77,"=2")>0,"","FEJL")) -> OK | E78: =IF(COUNTIF(E65:E77,"=1")=13,"OK",IF(COUNTIF(E65:E77,"=2")>0,"","FEJL")) -> OK | F78: =IF(COUNTIF(F65:F77,"=1")=13,"OK",IF(COUNTIF(F65:F77,"=2")>0,"","FEJL")) -> OK | G78: =IF(COUNTIF(G65:G77,"=1")=13,"OK",IF(COUNTIF(G65:G77,"=2")>0,"","FEJL")) -> OK | H78: =IF(COUNTIF(H65:H77,"=1")=13,"OK",IF(COUNTIF(H65:H77,"=2")>0,"","FEJL")) -> OK | ... T78: =IF(COUNTIF(T65:T77,"=1")=13,"OK",IF(COUNTIF(T65:T77,"=2")>0,"","FEJL")) -> OK
A79: =IF(AND(B27="Status",OR(B28="Res",B28="MR",B28="Disket",B28="Udmeldt"),B30=""),1,IF(AND(B27="Status",B28="",OR(B30=1,B30="x",B30=2)),1,IF(AND(B27="Status",B28="",B30=""),2,IF(AND(B27<>"Status",B28="",B30=""),1,0)))) -> 1 | B79: =IF(AND(D27="Status",OR(D28="Res",D28="MR",D28="Disket",D28="Udmeldt"),D30=""),1,IF(AND(D27="Status",D28="",OR(D30=1,D30="x",D30=2)),1,IF(AND(D27="Status",D28="",D30=""),2,IF(AND(D27<>"Status",D28="",D30=""),1,0)))) -> 1 | C79: =IF(AND(F27="Status",OR(F28="Res",F28="MR",F28="Disket",F28="Udmeldt"),F30=""),1,IF(AND(F27="Status",F28="",OR(F30=1,F30="x",F30=2)),1,IF(AND(F27="Status",F28="",F30=""),2,IF(AND(F27<>"Status",F28="",F30=""),1,0)))) -> 1 | D79: =IF(AND(H27="Status",OR(H28="Res",H28="MR",H28="Disket",H28="Udmeldt"),H30=""),1,IF(AND(H27="Status",H28="",OR(H30=1,H30="x",H30=2)),1,IF(AND(H27="Status",H28="",H30=""),2,IF(AND(H27<>"Status",H28="",H30=""),1,0)))) -> 1 | E79: =IF(AND(J27="Status",OR(J28="Res",J28="MR",J28="Disket",J28="Udmeldt"),J30=""),1,IF(AND(J27="Status",J28="",OR(J30=1,J30="x",J30=2)),1,IF(AND(J27="Status",J28="",J30=""),2,IF(AND(J27<>"Status",J28="",J30=""),1,0)))) -> 1 | F79: =IF(AND(L27="Status",OR(L28="Res",L28="MR",L28="Disket",L28="Udmeldt"),L30=""),1,IF(AND(L27="Status",L28="",OR(L30=1,L30="x",L30=2)),1,IF(AND(L27="Status",L28="",L30=""),2,IF(AND(L27<>"Status",L28="",L30=""),1,0)))) -> 1 | G79: =IF(AND(N27="Status",OR(N28="Res",N28="MR",N28="Disket",N28="Udmeldt"),N30=""),1,IF(AND(N27="Status",N28="",OR(N30=1,N30="x",N30=2)),1,IF(AND(N27="Status",N28="",N30=""),2,IF(AND(N27<>"Status",N28="",N30=""),1,0)))) -> 1 | H79: =IF(AND(P27="Status",OR(P28="Res",P28="MR",P28="Disket",P28="Udmeldt"),P30=""),1,IF(AND(P27="Status",P28="",OR(P30=1,P30="x",P30=2)),1,IF(AND(P27="Status",P28="",P30=""),2,IF(AND(P27<>"Status",P28="",P30=""),1,0)))) -> 1 | I79: =IF(AND(R27="Status",OR(R28="Res",R28="MR",R28="Disket",R28="Udmeldt"),R30=""),1,IF(AND(R27="Status",R28="",OR(R30=1,R30="x",R30=2)),1,IF(AND(R27="Status",R28="",R30=""),2,IF(AND(R27<>"Status",R28="",R30=""),1,0)))) -> 1 | J79: =IF(AND(T27="Status",OR(T28="Res",T28="MR",T28="Disket",T28="Udmeldt"),T30=""),1,IF(AND(T27="Status",T28="",OR(T30=1,T30="x",T30=2)),1,IF(AND(T27="Status",T28="",T30=""),2,IF(AND(T27<>"Status",T28="",T30=""),1,0)))) -> 1 | K79: =IF(AND(V27="Status",OR(V28="Res",V28="MR",V28="Disket",V28="Udmeldt"),V30=""),1,IF(AND(V27="Status",V28="",OR(V30=1,V30="x",V30=2)),1,IF(AND(V27="Status",V28="",V30=""),2,IF(AND(V27<>"Status",V28="",V30=""),1,0)))) -> 1 | L79: =IF(AND(X27="Status",OR(X28="Res",X28="MR",X28="Disket",X28="Udmeldt"),X30=""),1,IF(AND(X27="Status",X28="",OR(X30=1,X30="x",X30=2)),1,IF(AND(X27="Status",X28="",X30=""),2,IF(AND(X27<>"Status",X28="",X30=""),1,0)))) -> 1 | M79: =IF(AND(Z27="Status",OR(Z28="Res",Z28="MR",Z28="Disket",Z28="Udmeldt"),Z30=""),1,IF(AND(Z27="Status",Z28="",OR(Z30=1,Z30="x",Z30=2)),1,IF(AND(Z27="Status",Z28="",Z30=""),2,IF(AND(Z27<>"Status",Z28="",Z30=""),1,0)))) -> 1 | N79: =IF(AND(AB27="Status",OR(AB28="Res",AB28="MR",AB28="Disket",AB28="Udmeldt"),AB30=""),1,IF(AND(AB27="Status",AB28="",OR(AB30=1,AB30="x",AB30=2)),1,IF(AND(AB27="Status",AB28="",AB30=""),2,IF(AND(AB27<>"Status",AB28="",AB30=""),1,0)))) -> 1 | O79: =IF(AND(AD27="Status",OR(AD28="Res",AD28="MR",AD28="Disket",AD28="Udmeldt"),AD30=""),1,IF(AND(AD27="Status",AD28="",OR(AD30=1,AD30="x",AD30=2)),1,IF(AND(AD27="Status",AD28="",AD30=""),2,IF(AND(AD27<>"Status",AD28="",AD30=""),1,0)))) -> 1 | P79: =IF(AND(AF27="Status",OR(AF28="Res",AF28="MR",AF28="Disket",AF28="Udmeldt"),AF30=""),1,IF(AND(AF27="Status",AF28="",OR(AF30=1,AF30="x",AF30=2)),1,IF(AND(AF27="Status",AF28="",AF30=""),2,IF(AND(AF27<>"Status",AF28="",AF30=""),1,0)))) -> 1 | Q79: =IF(AND(AH27="Status",OR(AH28="Res",AH28="MR",AH28="Disket",AH28="Udmeldt"),AH30=""),1,IF(AND(AH27="Status",AH28="",OR(AH30=1,AH30="x",AH30=2)),1,IF(AND(AH27="Status",AH28="",AH30=""),2,IF(AND(AH27<>"Status",AH28="",AH30=""),1,0)))) -> 1 | R79: =IF(AND(AJ27="Status",OR(AJ28="Res",AJ28="MR",AJ28="Disket",AJ28="Udmeldt"),AJ30=""),1,IF(AND(AJ27="Status",AJ28="",OR(AJ30=1,AJ30="x",AJ30=2)),1,IF(AND(AJ27="Status",AJ28="",AJ30=""),2,IF(AND(AJ27<>"Status",AJ28="",AJ30=""),1,0)))) -> 1 | S79: =IF(AND(AL27="Status",OR(AL28="Res",AL28="MR",AL28="Disket",AL28="Udmeldt"),AL30=""),1,IF(AND(AL27="Status",AL28="",OR(AL30=1,AL30="x",AL30=2)),1,IF(AND(AL27="Status",AL28="",AL30=""),2,IF(AND(AL27<>"Status",AL28="",AL30=""),1,0)))) -> 1 | T79: =IF(AND(AN27="Status",OR(AN28="Res",AN28="MR",AN28="Disket",AN28="Udmeldt"),AN30=""),1,IF(AND(AN27="Status",AN28="",OR(AN30=1,AN30="x",AN30=2)),1,IF(AND(AN27="Status",AN28="",AN30=""),2,IF(AND(AN27<>"Status",AN28="",AN30=""),1,0)))) -> 1
A80: =IF(AND(B27="Status",OR(B28="Res",B28="MR",B28="Disket",B28="Udmeldt"),B31=""),1,IF(AND(B27="Status",B28="",OR(B31=1,B31="x",B31=2)),1,IF(AND(B27="Status",B28="",B31=""),2,IF(AND(B27<>"Status",B28="",B31=""),1,0)))) -> 1 | B80: =IF(AND(D27="Status",OR(D28="Res",D28="MR",D28="Disket",D28="Udmeldt"),D31=""),1,IF(AND(D27="Status",D28="",OR(D31=1,D31="x",D31=2)),1,IF(AND(D27="Status",D28="",D31=""),2,IF(AND(D27<>"Status",D28="",D31=""),1,0)))) -> 1 | C80: =IF(AND(F27="Status",OR(F28="Res",F28="MR",F28="Disket",F28="Udmeldt"),F31=""),1,IF(AND(F27="Status",F28="",OR(F31=1,F31="x",F31=2)),1,IF(AND(F27="Status",F28="",F31=""),2,IF(AND(F27<>"Status",F28="",F31=""),1,0)))) -> 1 | D80: =IF(AND(H27="Status",OR(H28="Res",H28="MR",H28="Disket",H28="Udmeldt"),H31=""),1,IF(AND(H27="Status",H28="",OR(H31=1,H31="x",H31=2)),1,IF(AND(H27="Status",H28="",H31=""),2,IF(AND(H27<>"Status",H28="",H31=""),1,0)))) -> 1 | E80: =IF(AND(J27="Status",OR(J28="Res",J28="MR",J28="Disket",J28="Udmeldt"),J31=""),1,IF(AND(J27="Status",J28="",OR(J31=1,J31="x",J31=2)),1,IF(AND(J27="Status",J28="",J31=""),2,IF(AND(J27<>"Status",J28="",J31=""),1,0)))) -> 1 | F80: =IF(AND(L27="Status",OR(L28="Res",L28="MR",L28="Disket",L28="Udmeldt"),L31=""),1,IF(AND(L27="Status",L28="",OR(L31=1,L31="x",L31=2)),1,IF(AND(L27="Status",L28="",L31=""),2,IF(AND(L27<>"Status",L28="",L31=""),1,0)))) -> 1 | G80: =IF(AND(N27="Status",OR(N28="Res",N28="MR",N28="Disket",N28="Udmeldt"),N31=""),1,IF(AND(N27="Status",N28="",OR(N31=1,N31="x",N31=2)),1,IF(AND(N27="Status",N28="",N31=""),2,IF(AND(N27<>"Status",N28="",N31=""),1,0)))) -> 1 | H80: =IF(AND(P27="Status",OR(P28="Res",P28="MR",P28="Disket",P28="Udmeldt"),P31=""),1,IF(AND(P27="Status",P28="",OR(P31=1,P31="x",P31=2)),1,IF(AND(P27="Status",P28="",P31=""),2,IF(AND(P27<>"Status",P28="",P31=""),1,0)))) -> 1 | I80: =IF(AND(R27="Status",OR(R28="Res",R28="MR",R28="Disket",R28="Udmeldt"),R31=""),1,IF(AND(R27="Status",R28="",OR(R31=1,R31="x",R31=2)),1,IF(AND(R27="Status",R28="",R31=""),2,IF(AND(R27<>"Status",R28="",R31=""),1,0)))) -> 1 | J80: =IF(AND(T27="Status",OR(T28="Res",T28="MR",T28="Disket",T28="Udmeldt"),T31=""),1,IF(AND(T27="Status",T28="",OR(T31=1,T31="x",T31=2)),1,IF(AND(T27="Status",T28="",T31=""),2,IF(AND(T27<>"Status",T28="",T31=""),1,0)))) -> 1 | K80: =IF(AND(V27="Status",OR(V28="Res",V28="MR",V28="Disket",V28="Udmeldt"),V31=""),1,IF(AND(V27="Status",V28="",OR(V31=1,V31="x",V31=2)),1,IF(AND(V27="Status",V28="",V31=""),2,IF(AND(V27<>"Status",V28="",V31=""),1,0)))) -> 1 | L80: =IF(AND(X27="Status",OR(X28="Res",X28="MR",X28="Disket",X28="Udmeldt"),X31=""),1,IF(AND(X27="Status",X28="",OR(X31=1,X31="x",X31=2)),1,IF(AND(X27="Status",X28="",X31=""),2,IF(AND(X27<>"Status",X28="",X31=""),1,0)))) -> 1 | M80: =IF(AND(Z27="Status",OR(Z28="Res",Z28="MR",Z28="Disket",Z28="Udmeldt"),Z31=""),1,IF(AND(Z27="Status",Z28="",OR(Z31=1,Z31="x",Z31=2)),1,IF(AND(Z27="Status",Z28="",Z31=""),2,IF(AND(Z27<>"Status",Z28="",Z31=""),1,0)))) -> 1 | N80: =IF(AND(AB27="Status",OR(AB28="Res",AB28="MR",AB28="Disket",AB28="Udmeldt"),AB31=""),1,IF(AND(AB27="Status",AB28="",OR(AB31=1,AB31="x",AB31=2)),1,IF(AND(AB27="Status",AB28="",AB31=""),2,IF(AND(AB27<>"Status",AB28="",AB31=""),1,0)))) -> 1 | O80: =IF(AND(AD27="Status",OR(AD28="Res",AD28="MR",AD28="Disket",AD28="Udmeldt"),AD31=""),1,IF(AND(AD27="Status",AD28="",OR(AD31=1,AD31="x",AD31=2)),1,IF(AND(AD27="Status",AD28="",AD31=""),2,IF(AND(AD27<>"Status",AD28="",AD31=""),1,0)))) -> 1 | P80: =IF(AND(AF27="Status",OR(AF28="Res",AF28="MR",AF28="Disket",AF28="Udmeldt"),AF31=""),1,IF(AND(AF27="Status",AF28="",OR(AF31=1,AF31="x",AF31=2)),1,IF(AND(AF27="Status",AF28="",AF31=""),2,IF(AND(AF27<>"Status",AF28="",AF31=""),1,0)))) -> 1 | Q80: =IF(AND(AH27="Status",OR(AH28="Res",AH28="MR",AH28="Disket",AH28="Udmeldt"),AH31=""),1,IF(AND(AH27="Status",AH28="",OR(AH31=1,AH31="x",AH31=2)),1,IF(AND(AH27="Status",AH28="",AH31=""),2,IF(AND(AH27<>"Status",AH28="",AH31=""),1,0)))) -> 1 | R80: =IF(AND(AJ27="Status",OR(AJ28="Res",AJ28="MR",AJ28="Disket",AJ28="Udmeldt"),AJ31=""),1,IF(AND(AJ27="Status",AJ28="",OR(AJ31=1,AJ31="x",AJ31=2)),1,IF(AND(AJ27="Status",AJ28="",AJ31=""),2,IF(AND(AJ27<>"Status",AJ28="",AJ31=""),1,0)))) -> 1 | S80: =IF(AND(AL27="Status",OR(AL28="Res",AL28="MR",AL28="Disket",AL28="Udmeldt"),AL31=""),1,IF(AND(AL27="Status",AL28="",OR(AL31=1,AL31="x",AL31=2)),1,IF(AND(AL27="Status",AL28="",AL31=""),2,IF(AND(AL27<>"Status",AL28="",AL31=""),1,0)))) -> 1 | T80: =IF(AND(AN27="Status",OR(AN28="Res",AN28="MR",AN28="Disket",AN28="Udmeldt"),AN31=""),1,IF(AND(AN27="Status",AN28="",OR(AN31=1,AN31="x",AN31=2)),1,IF(AND(AN27="Status",AN28="",AN31=""),2,IF(AND(AN27<>"Status",AN28="",AN31=""),1,0)))) -> 1
A81: =IF(AND(B27="Status",OR(B28="Res",B28="MR",B28="Disket",B28="Udmeldt"),B32=""),1,IF(AND(B27="Status",B28="",OR(B32=1,B32="x",B32=2)),1,IF(AND(B27="Status",B28="",B32=""),2,IF(AND(B27<>"Status",B28="",B32=""),1,0)))) -> 1 | B81: =IF(AND(D27="Status",OR(D28="Res",D28="MR",D28="Disket",D28="Udmeldt"),D32=""),1,IF(AND(D27="Status",D28="",OR(D32=1,D32="x",D32=2)),1,IF(AND(D27="Status",D28="",D32=""),2,IF(AND(D27<>"Status",D28="",D32=""),1,0)))) -> 1 | C81: =IF(AND(F27="Status",OR(F28="Res",F28="MR",F28="Disket",F28="Udmeldt"),F32=""),1,IF(AND(F27="Status",F28="",OR(F32=1,F32="x",F32=2)),1,IF(AND(F27="Status",F28="",F32=""),2,IF(AND(F27<>"Status",F28="",F32=""),1,0)))) -> 1 | D81: =IF(AND(H27="Status",OR(H28="Res",H28="MR",H28="Disket",H28="Udmeldt"),H32=""),1,IF(AND(H27="Status",H28="",OR(H32=1,H32="x",H32=2)),1,IF(AND(H27="Status",H28="",H32=""),2,IF(AND(H27<>"Status",H28="",H32=""),1,0)))) -> 1 | E81: =IF(AND(J27="Status",OR(J28="Res",J28="MR",J28="Disket",J28="Udmeldt"),J32=""),1,IF(AND(J27="Status",J28="",OR(J32=1,J32="x",J32=2)),1,IF(AND(J27="Status",J28="",J32=""),2,IF(AND(J27<>"Status",J28="",J32=""),1,0)))) -> 1 | F81: =IF(AND(L27="Status",OR(L28="Res",L28="MR",L28="Disket",L28="Udmeldt"),L32=""),1,IF(AND(L27="Status",L28="",OR(L32=1,L32="x",L32=2)),1,IF(AND(L27="Status",L28="",L32=""),2,IF(AND(L27<>"Status",L28="",L32=""),1,0)))) -> 1 | G81: =IF(AND(N27="Status",OR(N28="Res",N28="MR",N28="Disket",N28="Udmeldt"),N32=""),1,IF(AND(N27="Status",N28="",OR(N32=1,N32="x",N32=2)),1,IF(AND(N27="Status",N28="",N32=""),2,IF(AND(N27<>"Status",N28="",N32=""),1,0)))) -> 1 | H81: =IF(AND(P27="Status",OR(P28="Res",P28="MR",P28="Disket",P28="Udmeldt"),P32=""),1,IF(AND(P27="Status",P28="",OR(P32=1,P32="x",P32=2)),1,IF(AND(P27="Status",P28="",P32=""),2,IF(AND(P27<>"Status",P28="",P32=""),1,0)))) -> 1 | I81: =IF(AND(R27="Status",OR(R28="Res",R28="MR",R28="Disket",R28="Udmeldt"),R32=""),1,IF(AND(R27="Status",R28="",OR(R32=1,R32="x",R32=2)),1,IF(AND(R27="Status",R28="",R32=""),2,IF(AND(R27<>"Status",R28="",R32=""),1,0)))) -> 1 | J81: =IF(AND(T27="Status",OR(T28="Res",T28="MR",T28="Disket",T28="Udmeldt"),T32=""),1,IF(AND(T27="Status",T28="",OR(T32=1,T32="x",T32=2)),1,IF(AND(T27="Status",T28="",T32=""),2,IF(AND(T27<>"Status",T28="",T32=""),1,0)))) -> 1 | K81: =IF(AND(V27="Status",OR(V28="Res",V28="MR",V28="Disket",V28="Udmeldt"),V32=""),1,IF(AND(V27="Status",V28="",OR(V32=1,V32="x",V32=2)),1,IF(AND(V27="Status",V28="",V32=""),2,IF(AND(V27<>"Status",V28="",V32=""),1,0)))) -> 1 | L81: =IF(AND(X27="Status",OR(X28="Res",X28="MR",X28="Disket",X28="Udmeldt"),X32=""),1,IF(AND(X27="Status",X28="",OR(X32=1,X32="x",X32=2)),1,IF(AND(X27="Status",X28="",X32=""),2,IF(AND(X27<>"Status",X28="",X32=""),1,0)))) -> 1 | M81: =IF(AND(Z27="Status",OR(Z28="Res",Z28="MR",Z28="Disket",Z28="Udmeldt"),Z32=""),1,IF(AND(Z27="Status",Z28="",OR(Z32=1,Z32="x",Z32=2)),1,IF(AND(Z27="Status",Z28="",Z32=""),2,IF(AND(Z27<>"Status",Z28="",Z32=""),1,0)))) -> 1 | N81: =IF(AND(AB27="Status",OR(AB28="Res",AB28="MR",AB28="Disket",AB28="Udmeldt"),AB32=""),1,IF(AND(AB27="Status",AB28="",OR(AB32=1,AB32="x",AB32=2)),1,IF(AND(AB27="Status",AB28="",AB32=""),2,IF(AND(AB27<>"Status",AB28="",AB32=""),1,0)))) -> 1 | O81: =IF(AND(AD27="Status",OR(AD28="Res",AD28="MR",AD28="Disket",AD28="Udmeldt"),AD32=""),1,IF(AND(AD27="Status",AD28="",OR(AD32=1,AD32="x",AD32=2)),1,IF(AND(AD27="Status",AD28="",AD32=""),2,IF(AND(AD27<>"Status",AD28="",AD32=""),1,0)))) -> 1 | P81: =IF(AND(AF27="Status",OR(AF28="Res",AF28="MR",AF28="Disket",AF28="Udmeldt"),AF32=""),1,IF(AND(AF27="Status",AF28="",OR(AF32=1,AF32="x",AF32=2)),1,IF(AND(AF27="Status",AF28="",AF32=""),2,IF(AND(AF27<>"Status",AF28="",AF32=""),1,0)))) -> 1 | Q81: =IF(AND(AH27="Status",OR(AH28="Res",AH28="MR",AH28="Disket",AH28="Udmeldt"),AH32=""),1,IF(AND(AH27="Status",AH28="",OR(AH32=1,AH32="x",AH32=2)),1,IF(AND(AH27="Status",AH28="",AH32=""),2,IF(AND(AH27<>"Status",AH28="",AH32=""),1,0)))) -> 1 | R81: =IF(AND(AJ27="Status",OR(AJ28="Res",AJ28="MR",AJ28="Disket",AJ28="Udmeldt"),AJ32=""),1,IF(AND(AJ27="Status",AJ28="",OR(AJ32=1,AJ32="x",AJ32=2)),1,IF(AND(AJ27="Status",AJ28="",AJ32=""),2,IF(AND(AJ27<>"Status",AJ28="",AJ32=""),1,0)))) -> 1 | S81: =IF(AND(AL27="Status",OR(AL28="Res",AL28="MR",AL28="Disket",AL28="Udmeldt"),AL32=""),1,IF(AND(AL27="Status",AL28="",OR(AL32=1,AL32="x",AL32=2)),1,IF(AND(AL27="Status",AL28="",AL32=""),2,IF(AND(AL27<>"Status",AL28="",AL32=""),1,0)))) -> 1 | T81: =IF(AND(AN27="Status",OR(AN28="Res",AN28="MR",AN28="Disket",AN28="Udmeldt"),AN32=""),1,IF(AND(AN27="Status",AN28="",OR(AN32=1,AN32="x",AN32=2)),1,IF(AND(AN27="Status",AN28="",AN32=""),2,IF(AND(AN27<>"Status",AN28="",AN32=""),1,0)))) -> 1
A82: =IF(AND(B27="Status",OR(B28="Res",B28="MR",B28="Disket",B28="Udmeldt"),B33=""),1,IF(AND(B27="Status",B28="",OR(B33=1,B33="x",B33=2)),1,IF(AND(B27="Status",B28="",B33=""),2,IF(AND(B27<>"Status",B28="",B33=""),1,0)))) -> 1 | B82: =IF(AND(D27="Status",OR(D28="Res",D28="MR",D28="Disket",D28="Udmeldt"),D33=""),1,IF(AND(D27="Status",D28="",OR(D33=1,D33="x",D33=2)),1,IF(AND(D27="Status",D28="",D33=""),2,IF(AND(D27<>"Status",D28="",D33=""),1,0)))) -> 1 | C82: =IF(AND(F27="Status",OR(F28="Res",F28="MR",F28="Disket",F28="Udmeldt"),F33=""),1,IF(AND(F27="Status",F28="",OR(F33=1,F33="x",F33=2)),1,IF(AND(F27="Status",F28="",F33=""),2,IF(AND(F27<>"Status",F28="",F33=""),1,0)))) -> 1 | D82: =IF(AND(H27="Status",OR(H28="Res",H28="MR",H28="Disket",H28="Udmeldt"),H33=""),1,IF(AND(H27="Status",H28="",OR(H33=1,H33="x",H33=2)),1,IF(AND(H27="Status",H28="",H33=""),2,IF(AND(H27<>"Status",H28="",H33=""),1,0)))) -> 1 | E82: =IF(AND(J27="Status",OR(J28="Res",J28="MR",J28="Disket",J28="Udmeldt"),J33=""),1,IF(AND(J27="Status",J28="",OR(J33=1,J33="x",J33=2)),1,IF(AND(J27="Status",J28="",J33=""),2,IF(AND(J27<>"Status",J28="",J33=""),1,0)))) -> 1 | F82: =IF(AND(L27="Status",OR(L28="Res",L28="MR",L28="Disket",L28="Udmeldt"),L33=""),1,IF(AND(L27="Status",L28="",OR(L33=1,L33="x",L33=2)),1,IF(AND(L27="Status",L28="",L33=""),2,IF(AND(L27<>"Status",L28="",L33=""),1,0)))) -> 1 | G82: =IF(AND(N27="Status",OR(N28="Res",N28="MR",N28="Disket",N28="Udmeldt"),N33=""),1,IF(AND(N27="Status",N28="",OR(N33=1,N33="x",N33=2)),1,IF(AND(N27="Status",N28="",N33=""),2,IF(AND(N27<>"Status",N28="",N33=""),1,0)))) -> 1 | H82: =IF(AND(P27="Status",OR(P28="Res",P28="MR",P28="Disket",P28="Udmeldt"),P33=""),1,IF(AND(P27="Status",P28="",OR(P33=1,P33="x",P33=2)),1,IF(AND(P27="Status",P28="",P33=""),2,IF(AND(P27<>"Status",P28="",P33=""),1,0)))) -> 1 | I82: =IF(AND(R27="Status",OR(R28="Res",R28="MR",R28="Disket",R28="Udmeldt"),R33=""),1,IF(AND(R27="Status",R28="",OR(R33=1,R33="x",R33=2)),1,IF(AND(R27="Status",R28="",R33=""),2,IF(AND(R27<>"Status",R28="",R33=""),1,0)))) -> 1 | J82: =IF(AND(T27="Status",OR(T28="Res",T28="MR",T28="Disket",T28="Udmeldt"),T33=""),1,IF(AND(T27="Status",T28="",OR(T33=1,T33="x",T33=2)),1,IF(AND(T27="Status",T28="",T33=""),2,IF(AND(T27<>"Status",T28="",T33=""),1,0)))) -> 1 | K82: =IF(AND(V27="Status",OR(V28="Res",V28="MR",V28="Disket",V28="Udmeldt"),V33=""),1,IF(AND(V27="Status",V28="",OR(V33=1,V33="x",V33=2)),1,IF(AND(V27="Status",V28="",V33=""),2,IF(AND(V27<>"Status",V28="",V33=""),1,0)))) -> 1 | L82: =IF(AND(X27="Status",OR(X28="Res",X28="MR",X28="Disket",X28="Udmeldt"),X33=""),1,IF(AND(X27="Status",X28="",OR(X33=1,X33="x",X33=2)),1,IF(AND(X27="Status",X28="",X33=""),2,IF(AND(X27<>"Status",X28="",X33=""),1,0)))) -> 1 | M82: =IF(AND(Z27="Status",OR(Z28="Res",Z28="MR",Z28="Disket",Z28="Udmeldt"),Z33=""),1,IF(AND(Z27="Status",Z28="",OR(Z33=1,Z33="x",Z33=2)),1,IF(AND(Z27="Status",Z28="",Z33=""),2,IF(AND(Z27<>"Status",Z28="",Z33=""),1,0)))) -> 1 | N82: =IF(AND(AB27="Status",OR(AB28="Res",AB28="MR",AB28="Disket",AB28="Udmeldt"),AB33=""),1,IF(AND(AB27="Status",AB28="",OR(AB33=1,AB33="x",AB33=2)),1,IF(AND(AB27="Status",AB28="",AB33=""),2,IF(AND(AB27<>"Status",AB28="",AB33=""),1,0)))) -> 1 | O82: =IF(AND(AD27="Status",OR(AD28="Res",AD28="MR",AD28="Disket",AD28="Udmeldt"),AD33=""),1,IF(AND(AD27="Status",AD28="",OR(AD33=1,AD33="x",AD33=2)),1,IF(AND(AD27="Status",AD28="",AD33=""),2,IF(AND(AD27<>"Status",AD28="",AD33=""),1,0)))) -> 1 | P82: =IF(AND(AF27="Status",OR(AF28="Res",AF28="MR",AF28="Disket",AF28="Udmeldt"),AF33=""),1,IF(AND(AF27="Status",AF28="",OR(AF33=1,AF33="x",AF33=2)),1,IF(AND(AF27="Status",AF28="",AF33=""),2,IF(AND(AF27<>"Status",AF28="",AF33=""),1,0)))) -> 1 | Q82: =IF(AND(AH27="Status",OR(AH28="Res",AH28="MR",AH28="Disket",AH28="Udmeldt"),AH33=""),1,IF(AND(AH27="Status",AH28="",OR(AH33=1,AH33="x",AH33=2)),1,IF(AND(AH27="Status",AH28="",AH33=""),2,IF(AND(AH27<>"Status",AH28="",AH33=""),1,0)))) -> 1 | R82: =IF(AND(AJ27="Status",OR(AJ28="Res",AJ28="MR",AJ28="Disket",AJ28="Udmeldt"),AJ33=""),1,IF(AND(AJ27="Status",AJ28="",OR(AJ33=1,AJ33="x",AJ33=2)),1,IF(AND(AJ27="Status",AJ28="",AJ33=""),2,IF(AND(AJ27<>"Status",AJ28="",AJ33=""),1,0)))) -> 1 | S82: =IF(AND(AL27="Status",OR(AL28="Res",AL28="MR",AL28="Disket",AL28="Udmeldt"),AL33=""),1,IF(AND(AL27="Status",AL28="",OR(AL33=1,AL33="x",AL33=2)),1,IF(AND(AL27="Status",AL28="",AL33=""),2,IF(AND(AL27<>"Status",AL28="",AL33=""),1,0)))) -> 1 | T82: =IF(AND(AN27="Status",OR(AN28="Res",AN28="MR",AN28="Disket",AN28="Udmeldt"),AN33=""),1,IF(AND(AN27="Status",AN28="",OR(AN33=1,AN33="x",AN33=2)),1,IF(AND(AN27="Status",AN28="",AN33=""),2,IF(AND(AN27<>"Status",AN28="",AN33=""),1,0)))) -> 1
A83: =IF(AND(B27="Status",OR(B28="Res",B28="MR",B28="Disket",B28="Udmeldt"),B34=""),1,IF(AND(B27="Status",B28="",OR(B34=1,B34="x",B34=2)),1,IF(AND(B27="Status",B28="",B34=""),2,IF(AND(B27<>"Status",B28="",B34=""),1,0)))) -> 1 | B83: =IF(AND(D27="Status",OR(D28="Res",D28="MR",D28="Disket",D28="Udmeldt"),D34=""),1,IF(AND(D27="Status",D28="",OR(D34=1,D34="x",D34=2)),1,IF(AND(D27="Status",D28="",D34=""),2,IF(AND(D27<>"Status",D28="",D34=""),1,0)))) -> 1 | C83: =IF(AND(F27="Status",OR(F28="Res",F28="MR",F28="Disket",F28="Udmeldt"),F34=""),1,IF(AND(F27="Status",F28="",OR(F34=1,F34="x",F34=2)),1,IF(AND(F27="Status",F28="",F34=""),2,IF(AND(F27<>"Status",F28="",F34=""),1,0)))) -> 1 | D83: =IF(AND(H27="Status",OR(H28="Res",H28="MR",H28="Disket",H28="Udmeldt"),H34=""),1,IF(AND(H27="Status",H28="",OR(H34=1,H34="x",H34=2)),1,IF(AND(H27="Status",H28="",H34=""),2,IF(AND(H27<>"Status",H28="",H34=""),1,0)))) -> 1 | E83: =IF(AND(J27="Status",OR(J28="Res",J28="MR",J28="Disket",J28="Udmeldt"),J34=""),1,IF(AND(J27="Status",J28="",OR(J34=1,J34="x",J34=2)),1,IF(AND(J27="Status",J28="",J34=""),2,IF(AND(J27<>"Status",J28="",J34=""),1,0)))) -> 1 | F83: =IF(AND(L27="Status",OR(L28="Res",L28="MR",L28="Disket",L28="Udmeldt"),L34=""),1,IF(AND(L27="Status",L28="",OR(L34=1,L34="x",L34=2)),1,IF(AND(L27="Status",L28="",L34=""),2,IF(AND(L27<>"Status",L28="",L34=""),1,0)))) -> 1 | G83: =IF(AND(N27="Status",OR(N28="Res",N28="MR",N28="Disket",N28="Udmeldt"),N34=""),1,IF(AND(N27="Status",N28="",OR(N34=1,N34="x",N34=2)),1,IF(AND(N27="Status",N28="",N34=""),2,IF(AND(N27<>"Status",N28="",N34=""),1,0)))) -> 1 | H83: =IF(AND(P27="Status",OR(P28="Res",P28="MR",P28="Disket",P28="Udmeldt"),P34=""),1,IF(AND(P27="Status",P28="",OR(P34=1,P34="x",P34=2)),1,IF(AND(P27="Status",P28="",P34=""),2,IF(AND(P27<>"Status",P28="",P34=""),1,0)))) -> 1 | I83: =IF(AND(R27="Status",OR(R28="Res",R28="MR",R28="Disket",R28="Udmeldt"),R34=""),1,IF(AND(R27="Status",R28="",OR(R34=1,R34="x",R34=2)),1,IF(AND(R27="Status",R28="",R34=""),2,IF(AND(R27<>"Status",R28="",R34=""),1,0)))) -> 1 | J83: =IF(AND(T27="Status",OR(T28="Res",T28="MR",T28="Disket",T28="Udmeldt"),T34=""),1,IF(AND(T27="Status",T28="",OR(T34=1,T34="x",T34=2)),1,IF(AND(T27="Status",T28="",T34=""),2,IF(AND(T27<>"Status",T28="",T34=""),1,0)))) -> 1 | K83: =IF(AND(V27="Status",OR(V28="Res",V28="MR",V28="Disket",V28="Udmeldt"),V34=""),1,IF(AND(V27="Status",V28="",OR(V34=1,V34="x",V34=2)),1,IF(AND(V27="Status",V28="",V34=""),2,IF(AND(V27<>"Status",V28="",V34=""),1,0)))) -> 1 | L83: =IF(AND(X27="Status",OR(X28="Res",X28="MR",X28="Disket",X28="Udmeldt"),X34=""),1,IF(AND(X27="Status",X28="",OR(X34=1,X34="x",X34=2)),1,IF(AND(X27="Status",X28="",X34=""),2,IF(AND(X27<>"Status",X28="",X34=""),1,0)))) -> 1 | M83: =IF(AND(Z27="Status",OR(Z28="Res",Z28="MR",Z28="Disket",Z28="Udmeldt"),Z34=""),1,IF(AND(Z27="Status",Z28="",OR(Z34=1,Z34="x",Z34=2)),1,IF(AND(Z27="Status",Z28="",Z34=""),2,IF(AND(Z27<>"Status",Z28="",Z34=""),1,0)))) -> 1 | N83: =IF(AND(AB27="Status",OR(AB28="Res",AB28="MR",AB28="Disket",AB28="Udmeldt"),AB34=""),1,IF(AND(AB27="Status",AB28="",OR(AB34=1,AB34="x",AB34=2)),1,IF(AND(AB27="Status",AB28="",AB34=""),2,IF(AND(AB27<>"Status",AB28="",AB34=""),1,0)))) -> 1 | O83: =IF(AND(AD27="Status",OR(AD28="Res",AD28="MR",AD28="Disket",AD28="Udmeldt"),AD34=""),1,IF(AND(AD27="Status",AD28="",OR(AD34=1,AD34="x",AD34=2)),1,IF(AND(AD27="Status",AD28="",AD34=""),2,IF(AND(AD27<>"Status",AD28="",AD34=""),1,0)))) -> 1 | P83: =IF(AND(AF27="Status",OR(AF28="Res",AF28="MR",AF28="Disket",AF28="Udmeldt"),AF34=""),1,IF(AND(AF27="Status",AF28="",OR(AF34=1,AF34="x",AF34=2)),1,IF(AND(AF27="Status",AF28="",AF34=""),2,IF(AND(AF27<>"Status",AF28="",AF34=""),1,0)))) -> 1 | Q83: =IF(AND(AH27="Status",OR(AH28="Res",AH28="MR",AH28="Disket",AH28="Udmeldt"),AH34=""),1,IF(AND(AH27="Status",AH28="",OR(AH34=1,AH34="x",AH34=2)),1,IF(AND(AH27="Status",AH28="",AH34=""),2,IF(AND(AH27<>"Status",AH28="",AH34=""),1,0)))) -> 1 | R83: =IF(AND(AJ27="Status",OR(AJ28="Res",AJ28="MR",AJ28="Disket",AJ28="Udmeldt"),AJ34=""),1,IF(AND(AJ27="Status",AJ28="",OR(AJ34=1,AJ34="x",AJ34=2)),1,IF(AND(AJ27="Status",AJ28="",AJ34=""),2,IF(AND(AJ27<>"Status",AJ28="",AJ34=""),1,0)))) -> 1 | S83: =IF(AND(AL27="Status",OR(AL28="Res",AL28="MR",AL28="Disket",AL28="Udmeldt"),AL34=""),1,IF(AND(AL27="Status",AL28="",OR(AL34=1,AL34="x",AL34=2)),1,IF(AND(AL27="Status",AL28="",AL34=""),2,IF(AND(AL27<>"Status",AL28="",AL34=""),1,0)))) -> 1 | T83: =IF(AND(AN27="Status",OR(AN28="Res",AN28="MR",AN28="Disket",AN28="Udmeldt"),AN34=""),1,IF(AND(AN27="Status",AN28="",OR(AN34=1,AN34="x",AN34=2)),1,IF(AND(AN27="Status",AN28="",AN34=""),2,IF(AND(AN27<>"Status",AN28="",AN34=""),1,0)))) -> 1
A84: =IF(AND(B27="Status",OR(B28="Res",B28="MR",B28="Disket",B28="Udmeldt"),B35=""),1,IF(AND(B27="Status",B28="",OR(B35=1,B35="x",B35=2)),1,IF(AND(B27="Status",B28="",B35=""),2,IF(AND(B27<>"Status",B28="",B35=""),1,0)))) -> 1 | B84: =IF(AND(D27="Status",OR(D28="Res",D28="MR",D28="Disket",D28="Udmeldt"),D35=""),1,IF(AND(D27="Status",D28="",OR(D35=1,D35="x",D35=2)),1,IF(AND(D27="Status",D28="",D35=""),2,IF(AND(D27<>"Status",D28="",D35=""),1,0)))) -> 1 | C84: =IF(AND(F27="Status",OR(F28="Res",F28="MR",F28="Disket",F28="Udmeldt"),F35=""),1,IF(AND(F27="Status",F28="",OR(F35=1,F35="x",F35=2)),1,IF(AND(F27="Status",F28="",F35=""),2,IF(AND(F27<>"Status",F28="",F35=""),1,0)))) -> 1 | D84: =IF(AND(H27="Status",OR(H28="Res",H28="MR",H28="Disket",H28="Udmeldt"),H35=""),1,IF(AND(H27="Status",H28="",OR(H35=1,H35="x",H35=2)),1,IF(AND(H27="Status",H28="",H35=""),2,IF(AND(H27<>"Status",H28="",H35=""),1,0)))) -> 1 | E84: =IF(AND(J27="Status",OR(J28="Res",J28="MR",J28="Disket",J28="Udmeldt"),J35=""),1,IF(AND(J27="Status",J28="",OR(J35=1,J35="x",J35=2)),1,IF(AND(J27="Status",J28="",J35=""),2,IF(AND(J27<>"Status",J28="",J35=""),1,0)))) -> 1 | F84: =IF(AND(L27="Status",OR(L28="Res",L28="MR",L28="Disket",L28="Udmeldt"),L35=""),1,IF(AND(L27="Status",L28="",OR(L35=1,L35="x",L35=2)),1,IF(AND(L27="Status",L28="",L35=""),2,IF(AND(L27<>"Status",L28="",L35=""),1,0)))) -> 1 | G84: =IF(AND(N27="Status",OR(N28="Res",N28="MR",N28="Disket",N28="Udmeldt"),N35=""),1,IF(AND(N27="Status",N28="",OR(N35=1,N35="x",N35=2)),1,IF(AND(N27="Status",N28="",N35=""),2,IF(AND(N27<>"Status",N28="",N35=""),1,0)))) -> 1 | H84: =IF(AND(P27="Status",OR(P28="Res",P28="MR",P28="Disket",P28="Udmeldt"),P35=""),1,IF(AND(P27="Status",P28="",OR(P35=1,P35="x",P35=2)),1,IF(AND(P27="Status",P28="",P35=""),2,IF(AND(P27<>"Status",P28="",P35=""),1,0)))) -> 1 | I84: =IF(AND(R27="Status",OR(R28="Res",R28="MR",R28="Disket",R28="Udmeldt"),R35=""),1,IF(AND(R27="Status",R28="",OR(R35=1,R35="x",R35=2)),1,IF(AND(R27="Status",R28="",R35=""),2,IF(AND(R27<>"Status",R28="",R35=""),1,0)))) -> 1 | J84: =IF(AND(T27="Status",OR(T28="Res",T28="MR",T28="Disket",T28="Udmeldt"),T35=""),1,IF(AND(T27="Status",T28="",OR(T35=1,T35="x",T35=2)),1,IF(AND(T27="Status",T28="",T35=""),2,IF(AND(T27<>"Status",T28="",T35=""),1,0)))) -> 1 | K84: =IF(AND(V27="Status",OR(V28="Res",V28="MR",V28="Disket",V28="Udmeldt"),V35=""),1,IF(AND(V27="Status",V28="",OR(V35=1,V35="x",V35=2)),1,IF(AND(V27="Status",V28="",V35=""),2,IF(AND(V27<>"Status",V28="",V35=""),1,0)))) -> 1 | L84: =IF(AND(X27="Status",OR(X28="Res",X28="MR",X28="Disket",X28="Udmeldt"),X35=""),1,IF(AND(X27="Status",X28="",OR(X35=1,X35="x",X35=2)),1,IF(AND(X27="Status",X28="",X35=""),2,IF(AND(X27<>"Status",X28="",X35=""),1,0)))) -> 1 | M84: =IF(AND(Z27="Status",OR(Z28="Res",Z28="MR",Z28="Disket",Z28="Udmeldt"),Z35=""),1,IF(AND(Z27="Status",Z28="",OR(Z35=1,Z35="x",Z35=2)),1,IF(AND(Z27="Status",Z28="",Z35=""),2,IF(AND(Z27<>"Status",Z28="",Z35=""),1,0)))) -> 1 | N84: =IF(AND(AB27="Status",OR(AB28="Res",AB28="MR",AB28="Disket",AB28="Udmeldt"),AB35=""),1,IF(AND(AB27="Status",AB28="",OR(AB35=1,AB35="x",AB35=2)),1,IF(AND(AB27="Status",AB28="",AB35=""),2,IF(AND(AB27<>"Status",AB28="",AB35=""),1,0)))) -> 1 | O84: =IF(AND(AD27="Status",OR(AD28="Res",AD28="MR",AD28="Disket",AD28="Udmeldt"),AD35=""),1,IF(AND(AD27="Status",AD28="",OR(AD35=1,AD35="x",AD35=2)),1,IF(AND(AD27="Status",AD28="",AD35=""),2,IF(AND(AD27<>"Status",AD28="",AD35=""),1,0)))) -> 1 | P84: =IF(AND(AF27="Status",OR(AF28="Res",AF28="MR",AF28="Disket",AF28="Udmeldt"),AF35=""),1,IF(AND(AF27="Status",AF28="",OR(AF35=1,AF35="x",AF35=2)),1,IF(AND(AF27="Status",AF28="",AF35=""),2,IF(AND(AF27<>"Status",AF28="",AF35=""),1,0)))) -> 1 | Q84: =IF(AND(AH27="Status",OR(AH28="Res",AH28="MR",AH28="Disket",AH28="Udmeldt"),AH35=""),1,IF(AND(AH27="Status",AH28="",OR(AH35=1,AH35="x",AH35=2)),1,IF(AND(AH27="Status",AH28="",AH35=""),2,IF(AND(AH27<>"Status",AH28="",AH35=""),1,0)))) -> 1 | R84: =IF(AND(AJ27="Status",OR(AJ28="Res",AJ28="MR",AJ28="Disket",AJ28="Udmeldt"),AJ35=""),1,IF(AND(AJ27="Status",AJ28="",OR(AJ35=1,AJ35="x",AJ35=2)),1,IF(AND(AJ27="Status",AJ28="",AJ35=""),2,IF(AND(AJ27<>"Status",AJ28="",AJ35=""),1,0)))) -> 1 | S84: =IF(AND(AL27="Status",OR(AL28="Res",AL28="MR",AL28="Disket",AL28="Udmeldt"),AL35=""),1,IF(AND(AL27="Status",AL28="",OR(AL35=1,AL35="x",AL35=2)),1,IF(AND(AL27="Status",AL28="",AL35=""),2,IF(AND(AL27<>"Status",AL28="",AL35=""),1,0)))) -> 1 | T84: =IF(AND(AN27="Status",OR(AN28="Res",AN28="MR",AN28="Disket",AN28="Udmeldt"),AN35=""),1,IF(AND(AN27="Status",AN28="",OR(AN35=1,AN35="x",AN35=2)),1,IF(AND(AN27="Status",AN28="",AN35=""),2,IF(AND(AN27<>"Status",AN28="",AN35=""),1,0)))) -> 1
A85: =IF(AND(B27="Status",OR(B28="Res",B28="MR",B28="Disket",B28="Udmeldt"),B36=""),1,IF(AND(B27="Status",B28="",OR(B36=1,B36="x",B36=2)),1,IF(AND(B27="Status",B28="",B36=""),2,IF(AND(B27<>"Status",B28="",B36=""),1,0)))) -> 1 | B85: =IF(AND(D27="Status",OR(D28="Res",D28="MR",D28="Disket",D28="Udmeldt"),D36=""),1,IF(AND(D27="Status",D28="",OR(D36=1,D36="x",D36=2)),1,IF(AND(D27="Status",D28="",D36=""),2,IF(AND(D27<>"Status",D28="",D36=""),1,0)))) -> 1 | C85: =IF(AND(F27="Status",OR(F28="Res",F28="MR",F28="Disket",F28="Udmeldt"),F36=""),1,IF(AND(F27="Status",F28="",OR(F36=1,F36="x",F36=2)),1,IF(AND(F27="Status",F28="",F36=""),2,IF(AND(F27<>"Status",F28="",F36=""),1,0)))) -> 1 | D85: =IF(AND(H27="Status",OR(H28="Res",H28="MR",H28="Disket",H28="Udmeldt"),H36=""),1,IF(AND(H27="Status",H28="",OR(H36=1,H36="x",H36=2)),1,IF(AND(H27="Status",H28="",H36=""),2,IF(AND(H27<>"Status",H28="",H36=""),1,0)))) -> 1 | E85: =IF(AND(J27="Status",OR(J28="Res",J28="MR",J28="Disket",J28="Udmeldt"),J36=""),1,IF(AND(J27="Status",J28="",OR(J36=1,J36="x",J36=2)),1,IF(AND(J27="Status",J28="",J36=""),2,IF(AND(J27<>"Status",J28="",J36=""),1,0)))) -> 1 | F85: =IF(AND(L27="Status",OR(L28="Res",L28="MR",L28="Disket",L28="Udmeldt"),L36=""),1,IF(AND(L27="Status",L28="",OR(L36=1,L36="x",L36=2)),1,IF(AND(L27="Status",L28="",L36=""),2,IF(AND(L27<>"Status",L28="",L36=""),1,0)))) -> 1 | G85: =IF(AND(N27="Status",OR(N28="Res",N28="MR",N28="Disket",N28="Udmeldt"),N36=""),1,IF(AND(N27="Status",N28="",OR(N36=1,N36="x",N36=2)),1,IF(AND(N27="Status",N28="",N36=""),2,IF(AND(N27<>"Status",N28="",N36=""),1,0)))) -> 1 | H85: =IF(AND(P27="Status",OR(P28="Res",P28="MR",P28="Disket",P28="Udmeldt"),P36=""),1,IF(AND(P27="Status",P28="",OR(P36=1,P36="x",P36=2)),1,IF(AND(P27="Status",P28="",P36=""),2,IF(AND(P27<>"Status",P28="",P36=""),1,0)))) -> 1 | I85: =IF(AND(R27="Status",OR(R28="Res",R28="MR",R28="Disket",R28="Udmeldt"),R36=""),1,IF(AND(R27="Status",R28="",OR(R36=1,R36="x",R36=2)),1,IF(AND(R27="Status",R28="",R36=""),2,IF(AND(R27<>"Status",R28="",R36=""),1,0)))) -> 1 | J85: =IF(AND(T27="Status",OR(T28="Res",T28="MR",T28="Disket",T28="Udmeldt"),T36=""),1,IF(AND(T27="Status",T28="",OR(T36=1,T36="x",T36=2)),1,IF(AND(T27="Status",T28="",T36=""),2,IF(AND(T27<>"Status",T28="",T36=""),1,0)))) -> 1 | K85: =IF(AND(V27="Status",OR(V28="Res",V28="MR",V28="Disket",V28="Udmeldt"),V36=""),1,IF(AND(V27="Status",V28="",OR(V36=1,V36="x",V36=2)),1,IF(AND(V27="Status",V28="",V36=""),2,IF(AND(V27<>"Status",V28="",V36=""),1,0)))) -> 1 | L85: =IF(AND(X27="Status",OR(X28="Res",X28="MR",X28="Disket",X28="Udmeldt"),X36=""),1,IF(AND(X27="Status",X28="",OR(X36=1,X36="x",X36=2)),1,IF(AND(X27="Status",X28="",X36=""),2,IF(AND(X27<>"Status",X28="",X36=""),1,0)))) -> 1 | M85: =IF(AND(Z27="Status",OR(Z28="Res",Z28="MR",Z28="Disket",Z28="Udmeldt"),Z36=""),1,IF(AND(Z27="Status",Z28="",OR(Z36=1,Z36="x",Z36=2)),1,IF(AND(Z27="Status",Z28="",Z36=""),2,IF(AND(Z27<>"Status",Z28="",Z36=""),1,0)))) -> 1 | N85: =IF(AND(AB27="Status",OR(AB28="Res",AB28="MR",AB28="Disket",AB28="Udmeldt"),AB36=""),1,IF(AND(AB27="Status",AB28="",OR(AB36=1,AB36="x",AB36=2)),1,IF(AND(AB27="Status",AB28="",AB36=""),2,IF(AND(AB27<>"Status",AB28="",AB36=""),1,0)))) -> 1 | O85: =IF(AND(AD27="Status",OR(AD28="Res",AD28="MR",AD28="Disket",AD28="Udmeldt"),AD36=""),1,IF(AND(AD27="Status",AD28="",OR(AD36=1,AD36="x",AD36=2)),1,IF(AND(AD27="Status",AD28="",AD36=""),2,IF(AND(AD27<>"Status",AD28="",AD36=""),1,0)))) -> 1 | P85: =IF(AND(AF27="Status",OR(AF28="Res",AF28="MR",AF28="Disket",AF28="Udmeldt"),AF36=""),1,IF(AND(AF27="Status",AF28="",OR(AF36=1,AF36="x",AF36=2)),1,IF(AND(AF27="Status",AF28="",AF36=""),2,IF(AND(AF27<>"Status",AF28="",AF36=""),1,0)))) -> 1 | Q85: =IF(AND(AH27="Status",OR(AH28="Res",AH28="MR",AH28="Disket",AH28="Udmeldt"),AH36=""),1,IF(AND(AH27="Status",AH28="",OR(AH36=1,AH36="x",AH36=2)),1,IF(AND(AH27="Status",AH28="",AH36=""),2,IF(AND(AH27<>"Status",AH28="",AH36=""),1,0)))) -> 1 | R85: =IF(AND(AJ27="Status",OR(AJ28="Res",AJ28="MR",AJ28="Disket",AJ28="Udmeldt"),AJ36=""),1,IF(AND(AJ27="Status",AJ28="",OR(AJ36=1,AJ36="x",AJ36=2)),1,IF(AND(AJ27="Status",AJ28="",AJ36=""),2,IF(AND(AJ27<>"Status",AJ28="",AJ36=""),1,0)))) -> 1 | S85: =IF(AND(AL27="Status",OR(AL28="Res",AL28="MR",AL28="Disket",AL28="Udmeldt"),AL36=""),1,IF(AND(AL27="Status",AL28="",OR(AL36=1,AL36="x",AL36=2)),1,IF(AND(AL27="Status",AL28="",AL36=""),2,IF(AND(AL27<>"Status",AL28="",AL36=""),1,0)))) -> 1 | T85: =IF(AND(AN27="Status",OR(AN28="Res",AN28="MR",AN28="Disket",AN28="Udmeldt"),AN36=""),1,IF(AND(AN27="Status",AN28="",OR(AN36=1,AN36="x",AN36=2)),1,IF(AND(AN27="Status",AN28="",AN36=""),2,IF(AND(AN27<>"Status",AN28="",AN36=""),1,0)))) -> 1
A86: =IF(AND(B27="Status",OR(B28="Res",B28="MR",B28="Disket",B28="Udmeldt"),B37=""),1,IF(AND(B27="Status",B28="",OR(B37=1,B37="x",B37=2)),1,IF(AND(B27="Status",B28="",B37=""),2,IF(AND(B27<>"Status",B28="",B37=""),1,0)))) -> 1 | B86: =IF(AND(D27="Status",OR(D28="Res",D28="MR",D28="Disket",D28="Udmeldt"),D37=""),1,IF(AND(D27="Status",D28="",OR(D37=1,D37="x",D37=2)),1,IF(AND(D27="Status",D28="",D37=""),2,IF(AND(D27<>"Status",D28="",D37=""),1,0)))) -> 1 | C86: =IF(AND(F27="Status",OR(F28="Res",F28="MR",F28="Disket",F28="Udmeldt"),F37=""),1,IF(AND(F27="Status",F28="",OR(F37=1,F37="x",F37=2)),1,IF(AND(F27="Status",F28="",F37=""),2,IF(AND(F27<>"Status",F28="",F37=""),1,0)))) -> 1 | D86: =IF(AND(H27="Status",OR(H28="Res",H28="MR",H28="Disket",H28="Udmeldt"),H37=""),1,IF(AND(H27="Status",H28="",OR(H37=1,H37="x",H37=2)),1,IF(AND(H27="Status",H28="",H37=""),2,IF(AND(H27<>"Status",H28="",H37=""),1,0)))) -> 1 | E86: =IF(AND(J27="Status",OR(J28="Res",J28="MR",J28="Disket",J28="Udmeldt"),J37=""),1,IF(AND(J27="Status",J28="",OR(J37=1,J37="x",J37=2)),1,IF(AND(J27="Status",J28="",J37=""),2,IF(AND(J27<>"Status",J28="",J37=""),1,0)))) -> 1 | F86: =IF(AND(L27="Status",OR(L28="Res",L28="MR",L28="Disket",L28="Udmeldt"),L37=""),1,IF(AND(L27="Status",L28="",OR(L37=1,L37="x",L37=2)),1,IF(AND(L27="Status",L28="",L37=""),2,IF(AND(L27<>"Status",L28="",L37=""),1,0)))) -> 1 | G86: =IF(AND(N27="Status",OR(N28="Res",N28="MR",N28="Disket",N28="Udmeldt"),N37=""),1,IF(AND(N27="Status",N28="",OR(N37=1,N37="x",N37=2)),1,IF(AND(N27="Status",N28="",N37=""),2,IF(AND(N27<>"Status",N28="",N37=""),1,0)))) -> 1 | H86: =IF(AND(P27="Status",OR(P28="Res",P28="MR",P28="Disket",P28="Udmeldt"),P37=""),1,IF(AND(P27="Status",P28="",OR(P37=1,P37="x",P37=2)),1,IF(AND(P27="Status",P28="",P37=""),2,IF(AND(P27<>"Status",P28="",P37=""),1,0)))) -> 1 | I86: =IF(AND(R27="Status",OR(R28="Res",R28="MR",R28="Disket",R28="Udmeldt"),R37=""),1,IF(AND(R27="Status",R28="",OR(R37=1,R37="x",R37=2)),1,IF(AND(R27="Status",R28="",R37=""),2,IF(AND(R27<>"Status",R28="",R37=""),1,0)))) -> 1 | J86: =IF(AND(T27="Status",OR(T28="Res",T28="MR",T28="Disket",T28="Udmeldt"),T37=""),1,IF(AND(T27="Status",T28="",OR(T37=1,T37="x",T37=2)),1,IF(AND(T27="Status",T28="",T37=""),2,IF(AND(T27<>"Status",T28="",T37=""),1,0)))) -> 1 | K86: =IF(AND(V27="Status",OR(V28="Res",V28="MR",V28="Disket",V28="Udmeldt"),V37=""),1,IF(AND(V27="Status",V28="",OR(V37=1,V37="x",V37=2)),1,IF(AND(V27="Status",V28="",V37=""),2,IF(AND(V27<>"Status",V28="",V37=""),1,0)))) -> 1 | L86: =IF(AND(X27="Status",OR(X28="Res",X28="MR",X28="Disket",X28="Udmeldt"),X37=""),1,IF(AND(X27="Status",X28="",OR(X37=1,X37="x",X37=2)),1,IF(AND(X27="Status",X28="",X37=""),2,IF(AND(X27<>"Status",X28="",X37=""),1,0)))) -> 1 | M86: =IF(AND(Z27="Status",OR(Z28="Res",Z28="MR",Z28="Disket",Z28="Udmeldt"),Z37=""),1,IF(AND(Z27="Status",Z28="",OR(Z37=1,Z37="x",Z37=2)),1,IF(AND(Z27="Status",Z28="",Z37=""),2,IF(AND(Z27<>"Status",Z28="",Z37=""),1,0)))) -> 1 | N86: =IF(AND(AB27="Status",OR(AB28="Res",AB28="MR",AB28="Disket",AB28="Udmeldt"),AB37=""),1,IF(AND(AB27="Status",AB28="",OR(AB37=1,AB37="x",AB37=2)),1,IF(AND(AB27="Status",AB28="",AB37=""),2,IF(AND(AB27<>"Status",AB28="",AB37=""),1,0)))) -> 1 | O86: =IF(AND(AD27="Status",OR(AD28="Res",AD28="MR",AD28="Disket",AD28="Udmeldt"),AD37=""),1,IF(AND(AD27="Status",AD28="",OR(AD37=1,AD37="x",AD37=2)),1,IF(AND(AD27="Status",AD28="",AD37=""),2,IF(AND(AD27<>"Status",AD28="",AD37=""),1,0)))) -> 1 | P86: =IF(AND(AF27="Status",OR(AF28="Res",AF28="MR",AF28="Disket",AF28="Udmeldt"),AF37=""),1,IF(AND(AF27="Status",AF28="",OR(AF37=1,AF37="x",AF37=2)),1,IF(AND(AF27="Status",AF28="",AF37=""),2,IF(AND(AF27<>"Status",AF28="",AF37=""),1,0)))) -> 1 | Q86: =IF(AND(AH27="Status",OR(AH28="Res",AH28="MR",AH28="Disket",AH28="Udmeldt"),AH37=""),1,IF(AND(AH27="Status",AH28="",OR(AH37=1,AH37="x",AH37=2)),1,IF(AND(AH27="Status",AH28="",AH37=""),2,IF(AND(AH27<>"Status",AH28="",AH37=""),1,0)))) -> 1 | R86: =IF(AND(AJ27="Status",OR(AJ28="Res",AJ28="MR",AJ28="Disket",AJ28="Udmeldt"),AJ37=""),1,IF(AND(AJ27="Status",AJ28="",OR(AJ37=1,AJ37="x",AJ37=2)),1,IF(AND(AJ27="Status",AJ28="",AJ37=""),2,IF(AND(AJ27<>"Status",AJ28="",AJ37=""),1,0)))) -> 1 | S86: =IF(AND(AL27="Status",OR(AL28="Res",AL28="MR",AL28="Disket",AL28="Udmeldt"),AL37=""),1,IF(AND(AL27="Status",AL28="",OR(AL37=1,AL37="x",AL37=2)),1,IF(AND(AL27="Status",AL28="",AL37=""),2,IF(AND(AL27<>"Status",AL28="",AL37=""),1,0)))) -> 1 | T86: =IF(AND(AN27="Status",OR(AN28="Res",AN28="MR",AN28="Disket",AN28="Udmeldt"),AN37=""),1,IF(AND(AN27="Status",AN28="",OR(AN37=1,AN37="x",AN37=2)),1,IF(AND(AN27="Status",AN28="",AN37=""),2,IF(AND(AN27<>"Status",AN28="",AN37=""),1,0)))) -> 1
A87: =IF(AND(B27="Status",OR(B28="Res",B28="MR",B28="Disket",B28="Udmeldt"),B38=""),1,IF(AND(B27="Status",B28="",OR(B38=1,B38="x",B38=2)),1,IF(AND(B27="Status",B28="",B38=""),2,IF(AND(B27<>"Status",B28="",B38=""),1,0)))) -> 1 | B87: =IF(AND(D27="Status",OR(D28="Res",D28="MR",D28="Disket",D28="Udmeldt"),D38=""),1,IF(AND(D27="Status",D28="",OR(D38=1,D38="x",D38=2)),1,IF(AND(D27="Status",D28="",D38=""),2,IF(AND(D27<>"Status",D28="",D38=""),1,0)))) -> 1 | C87: =IF(AND(F27="Status",OR(F28="Res",F28="MR",F28="Disket",F28="Udmeldt"),F38=""),1,IF(AND(F27="Status",F28="",OR(F38=1,F38="x",F38=2)),1,IF(AND(F27="Status",F28="",F38=""),2,IF(AND(F27<>"Status",F28="",F38=""),1,0)))) -> 1 | D87: =IF(AND(H27="Status",OR(H28="Res",H28="MR",H28="Disket",H28="Udmeldt"),H38=""),1,IF(AND(H27="Status",H28="",OR(H38=1,H38="x",H38=2)),1,IF(AND(H27="Status",H28="",H38=""),2,IF(AND(H27<>"Status",H28="",H38=""),1,0)))) -> 1 | E87: =IF(AND(J27="Status",OR(J28="Res",J28="MR",J28="Disket",J28="Udmeldt"),J38=""),1,IF(AND(J27="Status",J28="",OR(J38=1,J38="x",J38=2)),1,IF(AND(J27="Status",J28="",J38=""),2,IF(AND(J27<>"Status",J28="",J38=""),1,0)))) -> 1 | F87: =IF(AND(L27="Status",OR(L28="Res",L28="MR",L28="Disket",L28="Udmeldt"),L38=""),1,IF(AND(L27="Status",L28="",OR(L38=1,L38="x",L38=2)),1,IF(AND(L27="Status",L28="",L38=""),2,IF(AND(L27<>"Status",L28="",L38=""),1,0)))) -> 1 | G87: =IF(AND(N27="Status",OR(N28="Res",N28="MR",N28="Disket",N28="Udmeldt"),N38=""),1,IF(AND(N27="Status",N28="",OR(N38=1,N38="x",N38=2)),1,IF(AND(N27="Status",N28="",N38=""),2,IF(AND(N27<>"Status",N28="",N38=""),1,0)))) -> 1 | H87: =IF(AND(P27="Status",OR(P28="Res",P28="MR",P28="Disket",P28="Udmeldt"),P38=""),1,IF(AND(P27="Status",P28="",OR(P38=1,P38="x",P38=2)),1,IF(AND(P27="Status",P28="",P38=""),2,IF(AND(P27<>"Status",P28="",P38=""),1,0)))) -> 1 | I87: =IF(AND(R27="Status",OR(R28="Res",R28="MR",R28="Disket",R28="Udmeldt"),R38=""),1,IF(AND(R27="Status",R28="",OR(R38=1,R38="x",R38=2)),1,IF(AND(R27="Status",R28="",R38=""),2,IF(AND(R27<>"Status",R28="",R38=""),1,0)))) -> 1 | J87: =IF(AND(T27="Status",OR(T28="Res",T28="MR",T28="Disket",T28="Udmeldt"),T38=""),1,IF(AND(T27="Status",T28="",OR(T38=1,T38="x",T38=2)),1,IF(AND(T27="Status",T28="",T38=""),2,IF(AND(T27<>"Status",T28="",T38=""),1,0)))) -> 1 | K87: =IF(AND(V27="Status",OR(V28="Res",V28="MR",V28="Disket",V28="Udmeldt"),V38=""),1,IF(AND(V27="Status",V28="",OR(V38=1,V38="x",V38=2)),1,IF(AND(V27="Status",V28="",V38=""),2,IF(AND(V27<>"Status",V28="",V38=""),1,0)))) -> 1 | L87: =IF(AND(X27="Status",OR(X28="Res",X28="MR",X28="Disket",X28="Udmeldt"),X38=""),1,IF(AND(X27="Status",X28="",OR(X38=1,X38="x",X38=2)),1,IF(AND(X27="Status",X28="",X38=""),2,IF(AND(X27<>"Status",X28="",X38=""),1,0)))) -> 1 | M87: =IF(AND(Z27="Status",OR(Z28="Res",Z28="MR",Z28="Disket",Z28="Udmeldt"),Z38=""),1,IF(AND(Z27="Status",Z28="",OR(Z38=1,Z38="x",Z38=2)),1,IF(AND(Z27="Status",Z28="",Z38=""),2,IF(AND(Z27<>"Status",Z28="",Z38=""),1,0)))) -> 1 | N87: =IF(AND(AB27="Status",OR(AB28="Res",AB28="MR",AB28="Disket",AB28="Udmeldt"),AB38=""),1,IF(AND(AB27="Status",AB28="",OR(AB38=1,AB38="x",AB38=2)),1,IF(AND(AB27="Status",AB28="",AB38=""),2,IF(AND(AB27<>"Status",AB28="",AB38=""),1,0)))) -> 1 | O87: =IF(AND(AD27="Status",OR(AD28="Res",AD28="MR",AD28="Disket",AD28="Udmeldt"),AD38=""),1,IF(AND(AD27="Status",AD28="",OR(AD38=1,AD38="x",AD38=2)),1,IF(AND(AD27="Status",AD28="",AD38=""),2,IF(AND(AD27<>"Status",AD28="",AD38=""),1,0)))) -> 1 | P87: =IF(AND(AF27="Status",OR(AF28="Res",AF28="MR",AF28="Disket",AF28="Udmeldt"),AF38=""),1,IF(AND(AF27="Status",AF28="",OR(AF38=1,AF38="x",AF38=2)),1,IF(AND(AF27="Status",AF28="",AF38=""),2,IF(AND(AF27<>"Status",AF28="",AF38=""),1,0)))) -> 1 | Q87: =IF(AND(AH27="Status",OR(AH28="Res",AH28="MR",AH28="Disket",AH28="Udmeldt"),AH38=""),1,IF(AND(AH27="Status",AH28="",OR(AH38=1,AH38="x",AH38=2)),1,IF(AND(AH27="Status",AH28="",AH38=""),2,IF(AND(AH27<>"Status",AH28="",AH38=""),1,0)))) -> 1 | R87: =IF(AND(AJ27="Status",OR(AJ28="Res",AJ28="MR",AJ28="Disket",AJ28="Udmeldt"),AJ38=""),1,IF(AND(AJ27="Status",AJ28="",OR(AJ38=1,AJ38="x",AJ38=2)),1,IF(AND(AJ27="Status",AJ28="",AJ38=""),2,IF(AND(AJ27<>"Status",AJ28="",AJ38=""),1,0)))) -> 1 | S87: =IF(AND(AL27="Status",OR(AL28="Res",AL28="MR",AL28="Disket",AL28="Udmeldt"),AL38=""),1,IF(AND(AL27="Status",AL28="",OR(AL38=1,AL38="x",AL38=2)),1,IF(AND(AL27="Status",AL28="",AL38=""),2,IF(AND(AL27<>"Status",AL28="",AL38=""),1,0)))) -> 1 | T87: =IF(AND(AN27="Status",OR(AN28="Res",AN28="MR",AN28="Disket",AN28="Udmeldt"),AN38=""),1,IF(AND(AN27="Status",AN28="",OR(AN38=1,AN38="x",AN38=2)),1,IF(AND(AN27="Status",AN28="",AN38=""),2,IF(AND(AN27<>"Status",AN28="",AN38=""),1,0)))) -> 1
A88: =IF(AND(B27="Status",OR(B28="Res",B28="MR",B28="Disket",B28="Udmeldt"),B39=""),1,IF(AND(B27="Status",B28="",OR(B39=1,B39="x",B39=2)),1,IF(AND(B27="Status",B28="",B39=""),2,IF(AND(B27<>"Status",B28="",B39=""),1,0)))) -> 1 | B88: =IF(AND(D27="Status",OR(D28="Res",D28="MR",D28="Disket",D28="Udmeldt"),D39=""),1,IF(AND(D27="Status",D28="",OR(D39=1,D39="x",D39=2)),1,IF(AND(D27="Status",D28="",D39=""),2,IF(AND(D27<>"Status",D28="",D39=""),1,0)))) -> 1 | C88: =IF(AND(F27="Status",OR(F28="Res",F28="MR",F28="Disket",F28="Udmeldt"),F39=""),1,IF(AND(F27="Status",F28="",OR(F39=1,F39="x",F39=2)),1,IF(AND(F27="Status",F28="",F39=""),2,IF(AND(F27<>"Status",F28="",F39=""),1,0)))) -> 1 | D88: =IF(AND(H27="Status",OR(H28="Res",H28="MR",H28="Disket",H28="Udmeldt"),H39=""),1,IF(AND(H27="Status",H28="",OR(H39=1,H39="x",H39=2)),1,IF(AND(H27="Status",H28="",H39=""),2,IF(AND(H27<>"Status",H28="",H39=""),1,0)))) -> 1 | E88: =IF(AND(J27="Status",OR(J28="Res",J28="MR",J28="Disket",J28="Udmeldt"),J39=""),1,IF(AND(J27="Status",J28="",OR(J39=1,J39="x",J39=2)),1,IF(AND(J27="Status",J28="",J39=""),2,IF(AND(J27<>"Status",J28="",J39=""),1,0)))) -> 1 | F88: =IF(AND(L27="Status",OR(L28="Res",L28="MR",L28="Disket",L28="Udmeldt"),L39=""),1,IF(AND(L27="Status",L28="",OR(L39=1,L39="x",L39=2)),1,IF(AND(L27="Status",L28="",L39=""),2,IF(AND(L27<>"Status",L28="",L39=""),1,0)))) -> 1 | G88: =IF(AND(N27="Status",OR(N28="Res",N28="MR",N28="Disket",N28="Udmeldt"),N39=""),1,IF(AND(N27="Status",N28="",OR(N39=1,N39="x",N39=2)),1,IF(AND(N27="Status",N28="",N39=""),2,IF(AND(N27<>"Status",N28="",N39=""),1,0)))) -> 1 | H88: =IF(AND(P27="Status",OR(P28="Res",P28="MR",P28="Disket",P28="Udmeldt"),P39=""),1,IF(AND(P27="Status",P28="",OR(P39=1,P39="x",P39=2)),1,IF(AND(P27="Status",P28="",P39=""),2,IF(AND(P27<>"Status",P28="",P39=""),1,0)))) -> 1 | I88: =IF(AND(R27="Status",OR(R28="Res",R28="MR",R28="Disket",R28="Udmeldt"),R39=""),1,IF(AND(R27="Status",R28="",OR(R39=1,R39="x",R39=2)),1,IF(AND(R27="Status",R28="",R39=""),2,IF(AND(R27<>"Status",R28="",R39=""),1,0)))) -> 1 | J88: =IF(AND(T27="Status",OR(T28="Res",T28="MR",T28="Disket",T28="Udmeldt"),T39=""),1,IF(AND(T27="Status",T28="",OR(T39=1,T39="x",T39=2)),1,IF(AND(T27="Status",T28="",T39=""),2,IF(AND(T27<>"Status",T28="",T39=""),1,0)))) -> 1 | K88: =IF(AND(V27="Status",OR(V28="Res",V28="MR",V28="Disket",V28="Udmeldt"),V39=""),1,IF(AND(V27="Status",V28="",OR(V39=1,V39="x",V39=2)),1,IF(AND(V27="Status",V28="",V39=""),2,IF(AND(V27<>"Status",V28="",V39=""),1,0)))) -> 1 | L88: =IF(AND(X27="Status",OR(X28="Res",X28="MR",X28="Disket",X28="Udmeldt"),X39=""),1,IF(AND(X27="Status",X28="",OR(X39=1,X39="x",X39=2)),1,IF(AND(X27="Status",X28="",X39=""),2,IF(AND(X27<>"Status",X28="",X39=""),1,0)))) -> 1 | M88: =IF(AND(Z27="Status",OR(Z28="Res",Z28="MR",Z28="Disket",Z28="Udmeldt"),Z39=""),1,IF(AND(Z27="Status",Z28="",OR(Z39=1,Z39="x",Z39=2)),1,IF(AND(Z27="Status",Z28="",Z39=""),2,IF(AND(Z27<>"Status",Z28="",Z39=""),1,0)))) -> 1 | N88: =IF(AND(AB27="Status",OR(AB28="Res",AB28="MR",AB28="Disket",AB28="Udmeldt"),AB39=""),1,IF(AND(AB27="Status",AB28="",OR(AB39=1,AB39="x",AB39=2)),1,IF(AND(AB27="Status",AB28="",AB39=""),2,IF(AND(AB27<>"Status",AB28="",AB39=""),1,0)))) -> 1 | O88: =IF(AND(AD27="Status",OR(AD28="Res",AD28="MR",AD28="Disket",AD28="Udmeldt"),AD39=""),1,IF(AND(AD27="Status",AD28="",OR(AD39=1,AD39="x",AD39=2)),1,IF(AND(AD27="Status",AD28="",AD39=""),2,IF(AND(AD27<>"Status",AD28="",AD39=""),1,0)))) -> 1 | P88: =IF(AND(AF27="Status",OR(AF28="Res",AF28="MR",AF28="Disket",AF28="Udmeldt"),AF39=""),1,IF(AND(AF27="Status",AF28="",OR(AF39=1,AF39="x",AF39=2)),1,IF(AND(AF27="Status",AF28="",AF39=""),2,IF(AND(AF27<>"Status",AF28="",AF39=""),1,0)))) -> 1 | Q88: =IF(AND(AH27="Status",OR(AH28="Res",AH28="MR",AH28="Disket",AH28="Udmeldt"),AH39=""),1,IF(AND(AH27="Status",AH28="",OR(AH39=1,AH39="x",AH39=2)),1,IF(AND(AH27="Status",AH28="",AH39=""),2,IF(AND(AH27<>"Status",AH28="",AH39=""),1,0)))) -> 1 | R88: =IF(AND(AJ27="Status",OR(AJ28="Res",AJ28="MR",AJ28="Disket",AJ28="Udmeldt"),AJ39=""),1,IF(AND(AJ27="Status",AJ28="",OR(AJ39=1,AJ39="x",AJ39=2)),1,IF(AND(AJ27="Status",AJ28="",AJ39=""),2,IF(AND(AJ27<>"Status",AJ28="",AJ39=""),1,0)))) -> 1 | S88: =IF(AND(AL27="Status",OR(AL28="Res",AL28="MR",AL28="Disket",AL28="Udmeldt"),AL39=""),1,IF(AND(AL27="Status",AL28="",OR(AL39=1,AL39="x",AL39=2)),1,IF(AND(AL27="Status",AL28="",AL39=""),2,IF(AND(AL27<>"Status",AL28="",AL39=""),1,0)))) -> 1 | T88: =IF(AND(AN27="Status",OR(AN28="Res",AN28="MR",AN28="Disket",AN28="Udmeldt"),AN39=""),1,IF(AND(AN27="Status",AN28="",OR(AN39=1,AN39="x",AN39=2)),1,IF(AND(AN27="Status",AN28="",AN39=""),2,IF(AND(AN27<>"Status",AN28="",AN39=""),1,0)))) -> 1
A89: =IF(AND(B27="Status",OR(B28="Res",B28="MR",B28="Disket",B28="Udmeldt"),B40=""),1,IF(AND(B27="Status",B28="",OR(B40=1,B40="x",B40=2)),1,IF(AND(B27="Status",B28="",B40=""),2,IF(AND(B27<>"Status",B28="",B40=""),1,0)))) -> 1 | B89: =IF(AND(D27="Status",OR(D28="Res",D28="MR",D28="Disket",D28="Udmeldt"),D40=""),1,IF(AND(D27="Status",D28="",OR(D40=1,D40="x",D40=2)),1,IF(AND(D27="Status",D28="",D40=""),2,IF(AND(D27<>"Status",D28="",D40=""),1,0)))) -> 1 | C89: =IF(AND(F27="Status",OR(F28="Res",F28="MR",F28="Disket",F28="Udmeldt"),F40=""),1,IF(AND(F27="Status",F28="",OR(F40=1,F40="x",F40=2)),1,IF(AND(F27="Status",F28="",F40=""),2,IF(AND(F27<>"Status",F28="",F40=""),1,0)))) -> 1 | D89: =IF(AND(H27="Status",OR(H28="Res",H28="MR",H28="Disket",H28="Udmeldt"),H40=""),1,IF(AND(H27="Status",H28="",OR(H40=1,H40="x",H40=2)),1,IF(AND(H27="Status",H28="",H40=""),2,IF(AND(H27<>"Status",H28="",H40=""),1,0)))) -> 1 | E89: =IF(AND(J27="Status",OR(J28="Res",J28="MR",J28="Disket",J28="Udmeldt"),J40=""),1,IF(AND(J27="Status",J28="",OR(J40=1,J40="x",J40=2)),1,IF(AND(J27="Status",J28="",J40=""),2,IF(AND(J27<>"Status",J28="",J40=""),1,0)))) -> 1 | F89: =IF(AND(L27="Status",OR(L28="Res",L28="MR",L28="Disket",L28="Udmeldt"),L40=""),1,IF(AND(L27="Status",L28="",OR(L40=1,L40="x",L40=2)),1,IF(AND(L27="Status",L28="",L40=""),2,IF(AND(L27<>"Status",L28="",L40=""),1,0)))) -> 1 | G89: =IF(AND(N27="Status",OR(N28="Res",N28="MR",N28="Disket",N28="Udmeldt"),N40=""),1,IF(AND(N27="Status",N28="",OR(N40=1,N40="x",N40=2)),1,IF(AND(N27="Status",N28="",N40=""),2,IF(AND(N27<>"Status",N28="",N40=""),1,0)))) -> 1 | H89: =IF(AND(P27="Status",OR(P28="Res",P28="MR",P28="Disket",P28="Udmeldt"),P40=""),1,IF(AND(P27="Status",P28="",OR(P40=1,P40="x",P40=2)),1,IF(AND(P27="Status",P28="",P40=""),2,IF(AND(P27<>"Status",P28="",P40=""),1,0)))) -> 1 | I89: =IF(AND(R27="Status",OR(R28="Res",R28="MR",R28="Disket",R28="Udmeldt"),R40=""),1,IF(AND(R27="Status",R28="",OR(R40=1,R40="x",R40=2)),1,IF(AND(R27="Status",R28="",R40=""),2,IF(AND(R27<>"Status",R28="",R40=""),1,0)))) -> 1 | J89: =IF(AND(T27="Status",OR(T28="Res",T28="MR",T28="Disket",T28="Udmeldt"),T40=""),1,IF(AND(T27="Status",T28="",OR(T40=1,T40="x",T40=2)),1,IF(AND(T27="Status",T28="",T40=""),2,IF(AND(T27<>"Status",T28="",T40=""),1,0)))) -> 1 | K89: =IF(AND(V27="Status",OR(V28="Res",V28="MR",V28="Disket",V28="Udmeldt"),V40=""),1,IF(AND(V27="Status",V28="",OR(V40=1,V40="x",V40=2)),1,IF(AND(V27="Status",V28="",V40=""),2,IF(AND(V27<>"Status",V28="",V40=""),1,0)))) -> 1 | L89: =IF(AND(X27="Status",OR(X28="Res",X28="MR",X28="Disket",X28="Udmeldt"),X40=""),1,IF(AND(X27="Status",X28="",OR(X40=1,X40="x",X40=2)),1,IF(AND(X27="Status",X28="",X40=""),2,IF(AND(X27<>"Status",X28="",X40=""),1,0)))) -> 1 | M89: =IF(AND(Z27="Status",OR(Z28="Res",Z28="MR",Z28="Disket",Z28="Udmeldt"),Z40=""),1,IF(AND(Z27="Status",Z28="",OR(Z40=1,Z40="x",Z40=2)),1,IF(AND(Z27="Status",Z28="",Z40=""),2,IF(AND(Z27<>"Status",Z28="",Z40=""),1,0)))) -> 1 | N89: =IF(AND(AB27="Status",OR(AB28="Res",AB28="MR",AB28="Disket",AB28="Udmeldt"),AB40=""),1,IF(AND(AB27="Status",AB28="",OR(AB40=1,AB40="x",AB40=2)),1,IF(AND(AB27="Status",AB28="",AB40=""),2,IF(AND(AB27<>"Status",AB28="",AB40=""),1,0)))) -> 1 | O89: =IF(AND(AD27="Status",OR(AD28="Res",AD28="MR",AD28="Disket",AD28="Udmeldt"),AD40=""),1,IF(AND(AD27="Status",AD28="",OR(AD40=1,AD40="x",AD40=2)),1,IF(AND(AD27="Status",AD28="",AD40=""),2,IF(AND(AD27<>"Status",AD28="",AD40=""),1,0)))) -> 1 | P89: =IF(AND(AF27="Status",OR(AF28="Res",AF28="MR",AF28="Disket",AF28="Udmeldt"),AF40=""),1,IF(AND(AF27="Status",AF28="",OR(AF40=1,AF40="x",AF40=2)),1,IF(AND(AF27="Status",AF28="",AF40=""),2,IF(AND(AF27<>"Status",AF28="",AF40=""),1,0)))) -> 1 | Q89: =IF(AND(AH27="Status",OR(AH28="Res",AH28="MR",AH28="Disket",AH28="Udmeldt"),AH40=""),1,IF(AND(AH27="Status",AH28="",OR(AH40=1,AH40="x",AH40=2)),1,IF(AND(AH27="Status",AH28="",AH40=""),2,IF(AND(AH27<>"Status",AH28="",AH40=""),1,0)))) -> 1 | R89: =IF(AND(AJ27="Status",OR(AJ28="Res",AJ28="MR",AJ28="Disket",AJ28="Udmeldt"),AJ40=""),1,IF(AND(AJ27="Status",AJ28="",OR(AJ40=1,AJ40="x",AJ40=2)),1,IF(AND(AJ27="Status",AJ28="",AJ40=""),2,IF(AND(AJ27<>"Status",AJ28="",AJ40=""),1,0)))) -> 1 | S89: =IF(AND(AL27="Status",OR(AL28="Res",AL28="MR",AL28="Disket",AL28="Udmeldt"),AL40=""),1,IF(AND(AL27="Status",AL28="",OR(AL40=1,AL40="x",AL40=2)),1,IF(AND(AL27="Status",AL28="",AL40=""),2,IF(AND(AL27<>"Status",AL28="",AL40=""),1,0)))) -> 1 | T89: =IF(AND(AN27="Status",OR(AN28="Res",AN28="MR",AN28="Disket",AN28="Udmeldt"),AN40=""),1,IF(AND(AN27="Status",AN28="",OR(AN40=1,AN40="x",AN40=2)),1,IF(AND(AN27="Status",AN28="",AN40=""),2,IF(AND(AN27<>"Status",AN28="",AN40=""),1,0)))) -> 1
A90: =IF(AND(B27="Status",OR(B28="Res",B28="MR",B28="Disket",B28="Udmeldt"),B41=""),1,IF(AND(B27="Status",B28="",OR(B41=1,B41="x",B41=2)),1,IF(AND(B27="Status",B28="",B41=""),2,IF(AND(B27<>"Status",B28="",B41=""),1,0)))) -> 1 | B90: =IF(AND(D27="Status",OR(D28="Res",D28="MR",D28="Disket",D28="Udmeldt"),D41=""),1,IF(AND(D27="Status",D28="",OR(D41=1,D41="x",D41=2)),1,IF(AND(D27="Status",D28="",D41=""),2,IF(AND(D27<>"Status",D28="",D41=""),1,0)))) -> 1 | C90: =IF(AND(F27="Status",OR(F28="Res",F28="MR",F28="Disket",F28="Udmeldt"),F41=""),1,IF(AND(F27="Status",F28="",OR(F41=1,F41="x",F41=2)),1,IF(AND(F27="Status",F28="",F41=""),2,IF(AND(F27<>"Status",F28="",F41=""),1,0)))) -> 1 | D90: =IF(AND(H27="Status",OR(H28="Res",H28="MR",H28="Disket",H28="Udmeldt"),H41=""),1,IF(AND(H27="Status",H28="",OR(H41=1,H41="x",H41=2)),1,IF(AND(H27="Status",H28="",H41=""),2,IF(AND(H27<>"Status",H28="",H41=""),1,0)))) -> 1 | E90: =IF(AND(J27="Status",OR(J28="Res",J28="MR",J28="Disket",J28="Udmeldt"),J41=""),1,IF(AND(J27="Status",J28="",OR(J41=1,J41="x",J41=2)),1,IF(AND(J27="Status",J28="",J41=""),2,IF(AND(J27<>"Status",J28="",J41=""),1,0)))) -> 1 | F90: =IF(AND(L27="Status",OR(L28="Res",L28="MR",L28="Disket",L28="Udmeldt"),L41=""),1,IF(AND(L27="Status",L28="",OR(L41=1,L41="x",L41=2)),1,IF(AND(L27="Status",L28="",L41=""),2,IF(AND(L27<>"Status",L28="",L41=""),1,0)))) -> 1 | G90: =IF(AND(N27="Status",OR(N28="Res",N28="MR",N28="Disket",N28="Udmeldt"),N41=""),1,IF(AND(N27="Status",N28="",OR(N41=1,N41="x",N41=2)),1,IF(AND(N27="Status",N28="",N41=""),2,IF(AND(N27<>"Status",N28="",N41=""),1,0)))) -> 1 | H90: =IF(AND(P27="Status",OR(P28="Res",P28="MR",P28="Disket",P28="Udmeldt"),P41=""),1,IF(AND(P27="Status",P28="",OR(P41=1,P41="x",P41=2)),1,IF(AND(P27="Status",P28="",P41=""),2,IF(AND(P27<>"Status",P28="",P41=""),1,0)))) -> 1 | I90: =IF(AND(R27="Status",OR(R28="Res",R28="MR",R28="Disket",R28="Udmeldt"),R41=""),1,IF(AND(R27="Status",R28="",OR(R41=1,R41="x",R41=2)),1,IF(AND(R27="Status",R28="",R41=""),2,IF(AND(R27<>"Status",R28="",R41=""),1,0)))) -> 1 | J90: =IF(AND(T27="Status",OR(T28="Res",T28="MR",T28="Disket",T28="Udmeldt"),T41=""),1,IF(AND(T27="Status",T28="",OR(T41=1,T41="x",T41=2)),1,IF(AND(T27="Status",T28="",T41=""),2,IF(AND(T27<>"Status",T28="",T41=""),1,0)))) -> 1 | K90: =IF(AND(V27="Status",OR(V28="Res",V28="MR",V28="Disket",V28="Udmeldt"),V41=""),1,IF(AND(V27="Status",V28="",OR(V41=1,V41="x",V41=2)),1,IF(AND(V27="Status",V28="",V41=""),2,IF(AND(V27<>"Status",V28="",V41=""),1,0)))) -> 1 | L90: =IF(AND(X27="Status",OR(X28="Res",X28="MR",X28="Disket",X28="Udmeldt"),X41=""),1,IF(AND(X27="Status",X28="",OR(X41=1,X41="x",X41=2)),1,IF(AND(X27="Status",X28="",X41=""),2,IF(AND(X27<>"Status",X28="",X41=""),1,0)))) -> 1 | M90: =IF(AND(Z27="Status",OR(Z28="Res",Z28="MR",Z28="Disket",Z28="Udmeldt"),Z41=""),1,IF(AND(Z27="Status",Z28="",OR(Z41=1,Z41="x",Z41=2)),1,IF(AND(Z27="Status",Z28="",Z41=""),2,IF(AND(Z27<>"Status",Z28="",Z41=""),1,0)))) -> 1 | N90: =IF(AND(AB27="Status",OR(AB28="Res",AB28="MR",AB28="Disket",AB28="Udmeldt"),AB41=""),1,IF(AND(AB27="Status",AB28="",OR(AB41=1,AB41="x",AB41=2)),1,IF(AND(AB27="Status",AB28="",AB41=""),2,IF(AND(AB27<>"Status",AB28="",AB41=""),1,0)))) -> 1 | O90: =IF(AND(AD27="Status",OR(AD28="Res",AD28="MR",AD28="Disket",AD28="Udmeldt"),AD41=""),1,IF(AND(AD27="Status",AD28="",OR(AD41=1,AD41="x",AD41=2)),1,IF(AND(AD27="Status",AD28="",AD41=""),2,IF(AND(AD27<>"Status",AD28="",AD41=""),1,0)))) -> 1 | P90: =IF(AND(AF27="Status",OR(AF28="Res",AF28="MR",AF28="Disket",AF28="Udmeldt"),AF41=""),1,IF(AND(AF27="Status",AF28="",OR(AF41=1,AF41="x",AF41=2)),1,IF(AND(AF27="Status",AF28="",AF41=""),2,IF(AND(AF27<>"Status",AF28="",AF41=""),1,0)))) -> 1 | Q90: =IF(AND(AH27="Status",OR(AH28="Res",AH28="MR",AH28="Disket",AH28="Udmeldt"),AH41=""),1,IF(AND(AH27="Status",AH28="",OR(AH41=1,AH41="x",AH41=2)),1,IF(AND(AH27="Status",AH28="",AH41=""),2,IF(AND(AH27<>"Status",AH28="",AH41=""),1,0)))) -> 1 | R90: =IF(AND(AJ27="Status",OR(AJ28="Res",AJ28="MR",AJ28="Disket",AJ28="Udmeldt"),AJ41=""),1,IF(AND(AJ27="Status",AJ28="",OR(AJ41=1,AJ41="x",AJ41=2)),1,IF(AND(AJ27="Status",AJ28="",AJ41=""),2,IF(AND(AJ27<>"Status",AJ28="",AJ41=""),1,0)))) -> 1 | S90: =IF(AND(AL27="Status",OR(AL28="Res",AL28="MR",AL28="Disket",AL28="Udmeldt"),AL41=""),1,IF(AND(AL27="Status",AL28="",OR(AL41=1,AL41="x",AL41=2)),1,IF(AND(AL27="Status",AL28="",AL41=""),2,IF(AND(AL27<>"Status",AL28="",AL41=""),1,0)))) -> 1 | T90: =IF(AND(AN27="Status",OR(AN28="Res",AN28="MR",AN28="Disket",AN28="Udmeldt"),AN41=""),1,IF(AND(AN27="Status",AN28="",OR(AN41=1,AN41="x",AN41=2)),1,IF(AND(AN27="Status",AN28="",AN41=""),2,IF(AND(AN27<>"Status",AN28="",AN41=""),1,0)))) -> 1
A91: =IF(AND(B27="Status",OR(B28="Res",B28="MR",B28="Disket",B28="Udmeldt"),B42=""),1,IF(AND(B27="Status",B28="",OR(B42=1,B42="x",B42=2)),1,IF(AND(B27="Status",B28="",B42=""),2,IF(AND(B27<>"Status",B28="",B42=""),1,0)))) -> 1 | B91: =IF(AND(D27="Status",OR(D28="Res",D28="MR",D28="Disket",D28="Udmeldt"),D42=""),1,IF(AND(D27="Status",D28="",OR(D42=1,D42="x",D42=2)),1,IF(AND(D27="Status",D28="",D42=""),2,IF(AND(D27<>"Status",D28="",D42=""),1,0)))) -> 1 | C91: =IF(AND(F27="Status",OR(F28="Res",F28="MR",F28="Disket",F28="Udmeldt"),F42=""),1,IF(AND(F27="Status",F28="",OR(F42=1,F42="x",F42=2)),1,IF(AND(F27="Status",F28="",F42=""),2,IF(AND(F27<>"Status",F28="",F42=""),1,0)))) -> 1 | D91: =IF(AND(H27="Status",OR(H28="Res",H28="MR",H28="Disket",H28="Udmeldt"),H42=""),1,IF(AND(H27="Status",H28="",OR(H42=1,H42="x",H42=2)),1,IF(AND(H27="Status",H28="",H42=""),2,IF(AND(H27<>"Status",H28="",H42=""),1,0)))) -> 1 | E91: =IF(AND(J27="Status",OR(J28="Res",J28="MR",J28="Disket",J28="Udmeldt"),J42=""),1,IF(AND(J27="Status",J28="",OR(J42=1,J42="x",J42=2)),1,IF(AND(J27="Status",J28="",J42=""),2,IF(AND(J27<>"Status",J28="",J42=""),1,0)))) -> 1 | F91: =IF(AND(L27="Status",OR(L28="Res",L28="MR",L28="Disket",L28="Udmeldt"),L42=""),1,IF(AND(L27="Status",L28="",OR(L42=1,L42="x",L42=2)),1,IF(AND(L27="Status",L28="",L42=""),2,IF(AND(L27<>"Status",L28="",L42=""),1,0)))) -> 1 | G91: =IF(AND(N27="Status",OR(N28="Res",N28="MR",N28="Disket",N28="Udmeldt"),N42=""),1,IF(AND(N27="Status",N28="",OR(N42=1,N42="x",N42=2)),1,IF(AND(N27="Status",N28="",N42=""),2,IF(AND(N27<>"Status",N28="",N42=""),1,0)))) -> 1 | H91: =IF(AND(P27="Status",OR(P28="Res",P28="MR",P28="Disket",P28="Udmeldt"),P42=""),1,IF(AND(P27="Status",P28="",OR(P42=1,P42="x",P42=2)),1,IF(AND(P27="Status",P28="",P42=""),2,IF(AND(P27<>"Status",P28="",P42=""),1,0)))) -> 1 | I91: =IF(AND(R27="Status",OR(R28="Res",R28="MR",R28="Disket",R28="Udmeldt"),R42=""),1,IF(AND(R27="Status",R28="",OR(R42=1,R42="x",R42=2)),1,IF(AND(R27="Status",R28="",R42=""),2,IF(AND(R27<>"Status",R28="",R42=""),1,0)))) -> 1 | J91: =IF(AND(T27="Status",OR(T28="Res",T28="MR",T28="Disket",T28="Udmeldt"),T42=""),1,IF(AND(T27="Status",T28="",OR(T42=1,T42="x",T42=2)),1,IF(AND(T27="Status",T28="",T42=""),2,IF(AND(T27<>"Status",T28="",T42=""),1,0)))) -> 1 | K91: =IF(AND(V27="Status",OR(V28="Res",V28="MR",V28="Disket",V28="Udmeldt"),V42=""),1,IF(AND(V27="Status",V28="",OR(V42=1,V42="x",V42=2)),1,IF(AND(V27="Status",V28="",V42=""),2,IF(AND(V27<>"Status",V28="",V42=""),1,0)))) -> 1 | L91: =IF(AND(X27="Status",OR(X28="Res",X28="MR",X28="Disket",X28="Udmeldt"),X42=""),1,IF(AND(X27="Status",X28="",OR(X42=1,X42="x",X42=2)),1,IF(AND(X27="Status",X28="",X42=""),2,IF(AND(X27<>"Status",X28="",X42=""),1,0)))) -> 1 | M91: =IF(AND(Z27="Status",OR(Z28="Res",Z28="MR",Z28="Disket",Z28="Udmeldt"),Z42=""),1,IF(AND(Z27="Status",Z28="",OR(Z42=1,Z42="x",Z42=2)),1,IF(AND(Z27="Status",Z28="",Z42=""),2,IF(AND(Z27<>"Status",Z28="",Z42=""),1,0)))) -> 1 | N91: =IF(AND(AB27="Status",OR(AB28="Res",AB28="MR",AB28="Disket",AB28="Udmeldt"),AB42=""),1,IF(AND(AB27="Status",AB28="",OR(AB42=1,AB42="x",AB42=2)),1,IF(AND(AB27="Status",AB28="",AB42=""),2,IF(AND(AB27<>"Status",AB28="",AB42=""),1,0)))) -> 1 | O91: =IF(AND(AD27="Status",OR(AD28="Res",AD28="MR",AD28="Disket",AD28="Udmeldt"),AD42=""),1,IF(AND(AD27="Status",AD28="",OR(AD42=1,AD42="x",AD42=2)),1,IF(AND(AD27="Status",AD28="",AD42=""),2,IF(AND(AD27<>"Status",AD28="",AD42=""),1,0)))) -> 1 | P91: =IF(AND(AF27="Status",OR(AF28="Res",AF28="MR",AF28="Disket",AF28="Udmeldt"),AF42=""),1,IF(AND(AF27="Status",AF28="",OR(AF42=1,AF42="x",AF42=2)),1,IF(AND(AF27="Status",AF28="",AF42=""),2,IF(AND(AF27<>"Status",AF28="",AF42=""),1,0)))) -> 1 | Q91: =IF(AND(AH27="Status",OR(AH28="Res",AH28="MR",AH28="Disket",AH28="Udmeldt"),AH42=""),1,IF(AND(AH27="Status",AH28="",OR(AH42=1,AH42="x",AH42=2)),1,IF(AND(AH27="Status",AH28="",AH42=""),2,IF(AND(AH27<>"Status",AH28="",AH42=""),1,0)))) -> 1 | R91: =IF(AND(AJ27="Status",OR(AJ28="Res",AJ28="MR",AJ28="Disket",AJ28="Udmeldt"),AJ42=""),1,IF(AND(AJ27="Status",AJ28="",OR(AJ42=1,AJ42="x",AJ42=2)),1,IF(AND(AJ27="Status",AJ28="",AJ42=""),2,IF(AND(AJ27<>"Status",AJ28="",AJ42=""),1,0)))) -> 1 | S91: =IF(AND(AL27="Status",OR(AL28="Res",AL28="MR",AL28="Disket",AL28="Udmeldt"),AL42=""),1,IF(AND(AL27="Status",AL28="",OR(AL42=1,AL42="x",AL42=2)),1,IF(AND(AL27="Status",AL28="",AL42=""),2,IF(AND(AL27<>"Status",AL28="",AL42=""),1,0)))) -> 1 | T91: =IF(AND(AN27="Status",OR(AN28="Res",AN28="MR",AN28="Disket",AN28="Udmeldt"),AN42=""),1,IF(AND(AN27="Status",AN28="",OR(AN42=1,AN42="x",AN42=2)),1,IF(AND(AN27="Status",AN28="",AN42=""),2,IF(AND(AN27<>"Status",AN28="",AN42=""),1,0)))) -> 1
A92: =IF(COUNTIF(A79:A91,"=1")=13,"OK",IF(COUNTIF(A79:A91,"=2")>0,"","FEJL")) -> OK | B92: =IF(COUNTIF(B79:B91,"=1")=13,"OK",IF(COUNTIF(B79:B91,"=2")>0,"","FEJL")) -> OK | C92: =IF(COUNTIF(C79:C91,"=1")=13,"OK",IF(COUNTIF(C79:C91,"=2")>0,"","FEJL")) -> OK | D92: =IF(COUNTIF(D79:D91,"=1")=13,"OK",IF(COUNTIF(D79:D91,"=2")>0,"","FEJL")) -> OK | E92: =IF(COUNTIF(E79:E91,"=1")=13,"OK",IF(COUNTIF(E79:E91,"=2")>0,"","FEJL")) -> OK | F92: =IF(COUNTIF(F79:F91,"=1")=13,"OK",IF(COUNTIF(F79:F91,"=2")>0,"","FEJL")) -> OK | G92: =IF(COUNTIF(G79:G91,"=1")=13,"OK",IF(COUNTIF(G79:G91,"=2")>0,"","FEJL")) -> OK | H92: =IF(COUNTIF(H79:H91,"=1")=13,"OK",IF(COUNTIF(H79:H91,"=2")>0,"","FEJL")) -> OK | ... T92: =IF(COUNTIF(T79:T91,"=1")=13,"OK",IF(COUNTIF(T79:T91,"=2")>0,"","FEJL")) -> OK
A93: =IF(AND(B48="Status",OR(B49="Res",B49="MR",B49="Disket",B49="Udmeldt"),B51=""),1,IF(AND(B48="Status",B49="",OR(B51=1,B51="x",B51=2)),1,IF(AND(B48="Status",B49="",B51=""),2,IF(AND(B48<>"Status",B49="",B51=""),1,0)))) -> 1 | B93: =IF(AND(D48="Status",OR(D49="Res",D49="MR",D49="Disket",D49="Udmeldt"),D51=""),1,IF(AND(D48="Status",D49="",OR(D51=1,D51="x",D51=2)),1,IF(AND(D48="Status",D49="",D51=""),2,IF(AND(D48<>"Status",D49="",D51=""),1,0)))) -> 1 | C93: =IF(AND(F48="Status",OR(F49="Res",F49="MR",F49="Disket",F49="Udmeldt"),F51=""),1,IF(AND(F48="Status",F49="",OR(F51=1,F51="x",F51=2)),1,IF(AND(F48="Status",F49="",F51=""),2,IF(AND(F48<>"Status",F49="",F51=""),1,0)))) -> 1 | D93: =IF(AND(H48="Status",OR(H49="Res",H49="MR",H49="Disket",H49="Udmeldt"),H51=""),1,IF(AND(H48="Status",H49="",OR(H51=1,H51="x",H51=2)),1,IF(AND(H48="Status",H49="",H51=""),2,IF(AND(H48<>"Status",H49="",H51=""),1,0)))) -> 1 | E93: =IF(AND(J48="Status",OR(J49="Res",J49="MR",J49="Disket",J49="Udmeldt"),J51=""),1,IF(AND(J48="Status",J49="",OR(J51=1,J51="x",J51=2)),1,IF(AND(J48="Status",J49="",J51=""),2,IF(AND(J48<>"Status",J49="",J51=""),1,0)))) -> 1 | F93: =IF(AND(L48="Status",OR(L49="Res",L49="MR",L49="Disket",L49="Udmeldt"),L51=""),1,IF(AND(L48="Status",L49="",OR(L51=1,L51="x",L51=2)),1,IF(AND(L48="Status",L49="",L51=""),2,IF(AND(L48<>"Status",L49="",L51=""),1,0)))) -> 1 | G93: =IF(AND(N48="Status",OR(N49="Res",N49="MR",N49="Disket",N49="Udmeldt"),N51=""),1,IF(AND(N48="Status",N49="",OR(N51=1,N51="x",N51=2)),1,IF(AND(N48="Status",N49="",N51=""),2,IF(AND(N48<>"Status",N49="",N51=""),1,0)))) -> 1 | H93: =IF(AND(P48="Status",OR(P49="Res",P49="MR",P49="Disket",P49="Udmeldt"),P51=""),1,IF(AND(P48="Status",P49="",OR(P51=1,P51="x",P51=2)),1,IF(AND(P48="Status",P49="",P51=""),2,IF(AND(P48<>"Status",P49="",P51=""),1,0)))) -> 1 | I93: =IF(AND(R48="Status",OR(R49="Res",R49="MR",R49="Disket",R49="Udmeldt"),R51=""),1,IF(AND(R48="Status",R49="",OR(R51=1,R51="x",R51=2)),1,IF(AND(R48="Status",R49="",R51=""),2,IF(AND(R48<>"Status",R49="",R51=""),1,0)))) -> 1 | J93: =IF(AND(T48="Status",OR(T49="Res",T49="MR",T49="Disket",T49="Udmeldt"),T51=""),1,IF(AND(T48="Status",T49="",OR(T51=1,T51="x",T51=2)),1,IF(AND(T48="Status",T49="",T51=""),2,IF(AND(T48<>"Status",T49="",T51=""),1,0)))) -> 1 | K93: =IF(AND(V48="Status",OR(V49="Res",V49="MR",V49="Disket",V49="Udmeldt"),V51=""),1,IF(AND(V48="Status",V49="",OR(V51=1,V51="x",V51=2)),1,IF(AND(V48="Status",V49="",V51=""),2,IF(AND(V48<>"Status",V49="",V51=""),1,0)))) -> 1 | L93: =IF(AND(X48="Status",OR(X49="Res",X49="MR",X49="Disket",X49="Udmeldt"),X51=""),1,IF(AND(X48="Status",X49="",OR(X51=1,X51="x",X51=2)),1,IF(AND(X48="Status",X49="",X51=""),2,IF(AND(X48<>"Status",X49="",X51=""),1,0)))) -> 1 | M93: =IF(AND(Z48="Status",OR(Z49="Res",Z49="MR",Z49="Disket",Z49="Udmeldt"),Z51=""),1,IF(AND(Z48="Status",Z49="",OR(Z51=1,Z51="x",Z51=2)),1,IF(AND(Z48="Status",Z49="",Z51=""),2,IF(AND(Z48<>"Status",Z49="",Z51=""),1,0)))) -> 1 | N93: =IF(AND(AB48="Status",OR(AB49="Res",AB49="MR",AB49="Disket",AB49="Udmeldt"),AB51=""),1,IF(AND(AB48="Status",AB49="",OR(AB51=1,AB51="x",AB51=2)),1,IF(AND(AB48="Status",AB49="",AB51=""),2,IF(AND(AB48<>"Status",AB49="",AB51=""),1,0)))) -> 1 | O93: =IF(AND(AD48="Status",OR(AD49="Res",AD49="MR",AD49="Disket",AD49="Udmeldt"),AD51=""),1,IF(AND(AD48="Status",AD49="",OR(AD51=1,AD51="x",AD51=2)),1,IF(AND(AD48="Status",AD49="",AD51=""),2,IF(AND(AD48<>"Status",AD49="",AD51=""),1,0)))) -> 1 | P93: =IF(AND(AF48="Status",OR(AF49="Res",AF49="MR",AF49="Disket",AF49="Udmeldt"),AF51=""),1,IF(AND(AF48="Status",AF49="",OR(AF51=1,AF51="x",AF51=2)),1,IF(AND(AF48="Status",AF49="",AF51=""),2,IF(AND(AF48<>"Status",AF49="",AF51=""),1,0)))) -> 1 | Q93: =IF(AND(AH48="Status",OR(AH49="Res",AH49="MR",AH49="Disket",AH49="Udmeldt"),AH51=""),1,IF(AND(AH48="Status",AH49="",OR(AH51=1,AH51="x",AH51=2)),1,IF(AND(AH48="Status",AH49="",AH51=""),2,IF(AND(AH48<>"Status",AH49="",AH51=""),1,0)))) -> 1 | R93: =IF(AND(AJ48="Status",OR(AJ49="Res",AJ49="MR",AJ49="Disket",AJ49="Udmeldt"),AJ51=""),1,IF(AND(AJ48="Status",AJ49="",OR(AJ51=1,AJ51="x",AJ51=2)),1,IF(AND(AJ48="Status",AJ49="",AJ51=""),2,IF(AND(AJ48<>"Status",AJ49="",AJ51=""),1,0)))) -> 1 | S93: =IF(AND(AL48="Status",OR(AL49="Res",AL49="MR",AL49="Disket",AL49="Udmeldt"),AL51=""),1,IF(AND(AL48="Status",AL49="",OR(AL51=1,AL51="x",AL51=2)),1,IF(AND(AL48="Status",AL49="",AL51=""),2,IF(AND(AL48<>"Status",AL49="",AL51=""),1,0)))) -> 1 | T93: =IF(AND(AN48="Status",OR(AN49="Res",AN49="MR",AN49="Disket",AN49="Udmeldt"),AN51=""),1,IF(AND(AN48="Status",AN49="",OR(AN51=1,AN51="x",AN51=2)),1,IF(AND(AN48="Status",AN49="",AN51=""),2,IF(AND(AN48<>"Status",AN49="",AN51=""),1,0)))) -> 1
A94: =IF(AND(B48="Status",OR(B49="Res",B49="MR",B49="Disket",B49="Udmeldt"),B52=""),1,IF(AND(B48="Status",B49="",OR(B52=1,B52="x",B52=2)),1,IF(AND(B48="Status",B49="",B52=""),2,IF(AND(B48<>"Status",B49="",B52=""),1,0)))) -> 1 | B94: =IF(AND(D48="Status",OR(D49="Res",D49="MR",D49="Disket",D49="Udmeldt"),D52=""),1,IF(AND(D48="Status",D49="",OR(D52=1,D52="x",D52=2)),1,IF(AND(D48="Status",D49="",D52=""),2,IF(AND(D48<>"Status",D49="",D52=""),1,0)))) -> 1 | C94: =IF(AND(F48="Status",OR(F49="Res",F49="MR",F49="Disket",F49="Udmeldt"),F52=""),1,IF(AND(F48="Status",F49="",OR(F52=1,F52="x",F52=2)),1,IF(AND(F48="Status",F49="",F52=""),2,IF(AND(F48<>"Status",F49="",F52=""),1,0)))) -> 1 | D94: =IF(AND(H48="Status",OR(H49="Res",H49="MR",H49="Disket",H49="Udmeldt"),H52=""),1,IF(AND(H48="Status",H49="",OR(H52=1,H52="x",H52=2)),1,IF(AND(H48="Status",H49="",H52=""),2,IF(AND(H48<>"Status",H49="",H52=""),1,0)))) -> 1 | E94: =IF(AND(J48="Status",OR(J49="Res",J49="MR",J49="Disket",J49="Udmeldt"),J52=""),1,IF(AND(J48="Status",J49="",OR(J52=1,J52="x",J52=2)),1,IF(AND(J48="Status",J49="",J52=""),2,IF(AND(J48<>"Status",J49="",J52=""),1,0)))) -> 1 | F94: =IF(AND(L48="Status",OR(L49="Res",L49="MR",L49="Disket",L49="Udmeldt"),L52=""),1,IF(AND(L48="Status",L49="",OR(L52=1,L52="x",L52=2)),1,IF(AND(L48="Status",L49="",L52=""),2,IF(AND(L48<>"Status",L49="",L52=""),1,0)))) -> 1 | G94: =IF(AND(N48="Status",OR(N49="Res",N49="MR",N49="Disket",N49="Udmeldt"),N52=""),1,IF(AND(N48="Status",N49="",OR(N52=1,N52="x",N52=2)),1,IF(AND(N48="Status",N49="",N52=""),2,IF(AND(N48<>"Status",N49="",N52=""),1,0)))) -> 1 | H94: =IF(AND(P48="Status",OR(P49="Res",P49="MR",P49="Disket",P49="Udmeldt"),P52=""),1,IF(AND(P48="Status",P49="",OR(P52=1,P52="x",P52=2)),1,IF(AND(P48="Status",P49="",P52=""),2,IF(AND(P48<>"Status",P49="",P52=""),1,0)))) -> 1 | I94: =IF(AND(R48="Status",OR(R49="Res",R49="MR",R49="Disket",R49="Udmeldt"),R52=""),1,IF(AND(R48="Status",R49="",OR(R52=1,R52="x",R52=2)),1,IF(AND(R48="Status",R49="",R52=""),2,IF(AND(R48<>"Status",R49="",R52=""),1,0)))) -> 1 | J94: =IF(AND(T48="Status",OR(T49="Res",T49="MR",T49="Disket",T49="Udmeldt"),T52=""),1,IF(AND(T48="Status",T49="",OR(T52=1,T52="x",T52=2)),1,IF(AND(T48="Status",T49="",T52=""),2,IF(AND(T48<>"Status",T49="",T52=""),1,0)))) -> 1 | K94: =IF(AND(V48="Status",OR(V49="Res",V49="MR",V49="Disket",V49="Udmeldt"),V52=""),1,IF(AND(V48="Status",V49="",OR(V52=1,V52="x",V52=2)),1,IF(AND(V48="Status",V49="",V52=""),2,IF(AND(V48<>"Status",V49="",V52=""),1,0)))) -> 1 | L94: =IF(AND(X48="Status",OR(X49="Res",X49="MR",X49="Disket",X49="Udmeldt"),X52=""),1,IF(AND(X48="Status",X49="",OR(X52=1,X52="x",X52=2)),1,IF(AND(X48="Status",X49="",X52=""),2,IF(AND(X48<>"Status",X49="",X52=""),1,0)))) -> 1 | M94: =IF(AND(Z48="Status",OR(Z49="Res",Z49="MR",Z49="Disket",Z49="Udmeldt"),Z52=""),1,IF(AND(Z48="Status",Z49="",OR(Z52=1,Z52="x",Z52=2)),1,IF(AND(Z48="Status",Z49="",Z52=""),2,IF(AND(Z48<>"Status",Z49="",Z52=""),1,0)))) -> 1 | N94: =IF(AND(AB48="Status",OR(AB49="Res",AB49="MR",AB49="Disket",AB49="Udmeldt"),AB52=""),1,IF(AND(AB48="Status",AB49="",OR(AB52=1,AB52="x",AB52=2)),1,IF(AND(AB48="Status",AB49="",AB52=""),2,IF(AND(AB48<>"Status",AB49="",AB52=""),1,0)))) -> 1 | O94: =IF(AND(AD48="Status",OR(AD49="Res",AD49="MR",AD49="Disket",AD49="Udmeldt"),AD52=""),1,IF(AND(AD48="Status",AD49="",OR(AD52=1,AD52="x",AD52=2)),1,IF(AND(AD48="Status",AD49="",AD52=""),2,IF(AND(AD48<>"Status",AD49="",AD52=""),1,0)))) -> 1 | P94: =IF(AND(AF48="Status",OR(AF49="Res",AF49="MR",AF49="Disket",AF49="Udmeldt"),AF52=""),1,IF(AND(AF48="Status",AF49="",OR(AF52=1,AF52="x",AF52=2)),1,IF(AND(AF48="Status",AF49="",AF52=""),2,IF(AND(AF48<>"Status",AF49="",AF52=""),1,0)))) -> 1 | Q94: =IF(AND(AH48="Status",OR(AH49="Res",AH49="MR",AH49="Disket",AH49="Udmeldt"),AH52=""),1,IF(AND(AH48="Status",AH49="",OR(AH52=1,AH52="x",AH52=2)),1,IF(AND(AH48="Status",AH49="",AH52=""),2,IF(AND(AH48<>"Status",AH49="",AH52=""),1,0)))) -> 1 | R94: =IF(AND(AJ48="Status",OR(AJ49="Res",AJ49="MR",AJ49="Disket",AJ49="Udmeldt"),AJ52=""),1,IF(AND(AJ48="Status",AJ49="",OR(AJ52=1,AJ52="x",AJ52=2)),1,IF(AND(AJ48="Status",AJ49="",AJ52=""),2,IF(AND(AJ48<>"Status",AJ49="",AJ52=""),1,0)))) -> 1 | S94: =IF(AND(AL48="Status",OR(AL49="Res",AL49="MR",AL49="Disket",AL49="Udmeldt"),AL52=""),1,IF(AND(AL48="Status",AL49="",OR(AL52=1,AL52="x",AL52=2)),1,IF(AND(AL48="Status",AL49="",AL52=""),2,IF(AND(AL48<>"Status",AL49="",AL52=""),1,0)))) -> 1 | T94: =IF(AND(AN48="Status",OR(AN49="Res",AN49="MR",AN49="Disket",AN49="Udmeldt"),AN52=""),1,IF(AND(AN48="Status",AN49="",OR(AN52=1,AN52="x",AN52=2)),1,IF(AND(AN48="Status",AN49="",AN52=""),2,IF(AND(AN48<>"Status",AN49="",AN52=""),1,0)))) -> 1
A95: =IF(AND(B48="Status",OR(B49="Res",B49="MR",B49="Disket",B49="Udmeldt"),B53=""),1,IF(AND(B48="Status",B49="",OR(B53=1,B53="x",B53=2)),1,IF(AND(B48="Status",B49="",B53=""),2,IF(AND(B48<>"Status",B49="",B53=""),1,0)))) -> 1 | B95: =IF(AND(D48="Status",OR(D49="Res",D49="MR",D49="Disket",D49="Udmeldt"),D53=""),1,IF(AND(D48="Status",D49="",OR(D53=1,D53="x",D53=2)),1,IF(AND(D48="Status",D49="",D53=""),2,IF(AND(D48<>"Status",D49="",D53=""),1,0)))) -> 1 | C95: =IF(AND(F48="Status",OR(F49="Res",F49="MR",F49="Disket",F49="Udmeldt"),F53=""),1,IF(AND(F48="Status",F49="",OR(F53=1,F53="x",F53=2)),1,IF(AND(F48="Status",F49="",F53=""),2,IF(AND(F48<>"Status",F49="",F53=""),1,0)))) -> 1 | D95: =IF(AND(H48="Status",OR(H49="Res",H49="MR",H49="Disket",H49="Udmeldt"),H53=""),1,IF(AND(H48="Status",H49="",OR(H53=1,H53="x",H53=2)),1,IF(AND(H48="Status",H49="",H53=""),2,IF(AND(H48<>"Status",H49="",H53=""),1,0)))) -> 1 | E95: =IF(AND(J48="Status",OR(J49="Res",J49="MR",J49="Disket",J49="Udmeldt"),J53=""),1,IF(AND(J48="Status",J49="",OR(J53=1,J53="x",J53=2)),1,IF(AND(J48="Status",J49="",J53=""),2,IF(AND(J48<>"Status",J49="",J53=""),1,0)))) -> 1 | F95: =IF(AND(L48="Status",OR(L49="Res",L49="MR",L49="Disket",L49="Udmeldt"),L53=""),1,IF(AND(L48="Status",L49="",OR(L53=1,L53="x",L53=2)),1,IF(AND(L48="Status",L49="",L53=""),2,IF(AND(L48<>"Status",L49="",L53=""),1,0)))) -> 1 | G95: =IF(AND(N48="Status",OR(N49="Res",N49="MR",N49="Disket",N49="Udmeldt"),N53=""),1,IF(AND(N48="Status",N49="",OR(N53=1,N53="x",N53=2)),1,IF(AND(N48="Status",N49="",N53=""),2,IF(AND(N48<>"Status",N49="",N53=""),1,0)))) -> 1 | H95: =IF(AND(P48="Status",OR(P49="Res",P49="MR",P49="Disket",P49="Udmeldt"),P53=""),1,IF(AND(P48="Status",P49="",OR(P53=1,P53="x",P53=2)),1,IF(AND(P48="Status",P49="",P53=""),2,IF(AND(P48<>"Status",P49="",P53=""),1,0)))) -> 1 | I95: =IF(AND(R48="Status",OR(R49="Res",R49="MR",R49="Disket",R49="Udmeldt"),R53=""),1,IF(AND(R48="Status",R49="",OR(R53=1,R53="x",R53=2)),1,IF(AND(R48="Status",R49="",R53=""),2,IF(AND(R48<>"Status",R49="",R53=""),1,0)))) -> 1 | J95: =IF(AND(T48="Status",OR(T49="Res",T49="MR",T49="Disket",T49="Udmeldt"),T53=""),1,IF(AND(T48="Status",T49="",OR(T53=1,T53="x",T53=2)),1,IF(AND(T48="Status",T49="",T53=""),2,IF(AND(T48<>"Status",T49="",T53=""),1,0)))) -> 1 | K95: =IF(AND(V48="Status",OR(V49="Res",V49="MR",V49="Disket",V49="Udmeldt"),V53=""),1,IF(AND(V48="Status",V49="",OR(V53=1,V53="x",V53=2)),1,IF(AND(V48="Status",V49="",V53=""),2,IF(AND(V48<>"Status",V49="",V53=""),1,0)))) -> 1 | L95: =IF(AND(X48="Status",OR(X49="Res",X49="MR",X49="Disket",X49="Udmeldt"),X53=""),1,IF(AND(X48="Status",X49="",OR(X53=1,X53="x",X53=2)),1,IF(AND(X48="Status",X49="",X53=""),2,IF(AND(X48<>"Status",X49="",X53=""),1,0)))) -> 1 | M95: =IF(AND(Z48="Status",OR(Z49="Res",Z49="MR",Z49="Disket",Z49="Udmeldt"),Z53=""),1,IF(AND(Z48="Status",Z49="",OR(Z53=1,Z53="x",Z53=2)),1,IF(AND(Z48="Status",Z49="",Z53=""),2,IF(AND(Z48<>"Status",Z49="",Z53=""),1,0)))) -> 1 | N95: =IF(AND(AB48="Status",OR(AB49="Res",AB49="MR",AB49="Disket",AB49="Udmeldt"),AB53=""),1,IF(AND(AB48="Status",AB49="",OR(AB53=1,AB53="x",AB53=2)),1,IF(AND(AB48="Status",AB49="",AB53=""),2,IF(AND(AB48<>"Status",AB49="",AB53=""),1,0)))) -> 1 | O95: =IF(AND(AD48="Status",OR(AD49="Res",AD49="MR",AD49="Disket",AD49="Udmeldt"),AD53=""),1,IF(AND(AD48="Status",AD49="",OR(AD53=1,AD53="x",AD53=2)),1,IF(AND(AD48="Status",AD49="",AD53=""),2,IF(AND(AD48<>"Status",AD49="",AD53=""),1,0)))) -> 1 | P95: =IF(AND(AF48="Status",OR(AF49="Res",AF49="MR",AF49="Disket",AF49="Udmeldt"),AF53=""),1,IF(AND(AF48="Status",AF49="",OR(AF53=1,AF53="x",AF53=2)),1,IF(AND(AF48="Status",AF49="",AF53=""),2,IF(AND(AF48<>"Status",AF49="",AF53=""),1,0)))) -> 1 | Q95: =IF(AND(AH48="Status",OR(AH49="Res",AH49="MR",AH49="Disket",AH49="Udmeldt"),AH53=""),1,IF(AND(AH48="Status",AH49="",OR(AH53=1,AH53="x",AH53=2)),1,IF(AND(AH48="Status",AH49="",AH53=""),2,IF(AND(AH48<>"Status",AH49="",AH53=""),1,0)))) -> 1 | R95: =IF(AND(AJ48="Status",OR(AJ49="Res",AJ49="MR",AJ49="Disket",AJ49="Udmeldt"),AJ53=""),1,IF(AND(AJ48="Status",AJ49="",OR(AJ53=1,AJ53="x",AJ53=2)),1,IF(AND(AJ48="Status",AJ49="",AJ53=""),2,IF(AND(AJ48<>"Status",AJ49="",AJ53=""),1,0)))) -> 1 | S95: =IF(AND(AL48="Status",OR(AL49="Res",AL49="MR",AL49="Disket",AL49="Udmeldt"),AL53=""),1,IF(AND(AL48="Status",AL49="",OR(AL53=1,AL53="x",AL53=2)),1,IF(AND(AL48="Status",AL49="",AL53=""),2,IF(AND(AL48<>"Status",AL49="",AL53=""),1,0)))) -> 1 | T95: =IF(AND(AN48="Status",OR(AN49="Res",AN49="MR",AN49="Disket",AN49="Udmeldt"),AN53=""),1,IF(AND(AN48="Status",AN49="",OR(AN53=1,AN53="x",AN53=2)),1,IF(AND(AN48="Status",AN49="",AN53=""),2,IF(AND(AN48<>"Status",AN49="",AN53=""),1,0)))) -> 1
A96: =IF(AND(B48="Status",OR(B49="Res",B49="MR",B49="Disket",B49="Udmeldt"),B54=""),1,IF(AND(B48="Status",B49="",OR(B54=1,B54="x",B54=2)),1,IF(AND(B48="Status",B49="",B54=""),2,IF(AND(B48<>"Status",B49="",B54=""),1,0)))) -> 1 | B96: =IF(AND(D48="Status",OR(D49="Res",D49="MR",D49="Disket",D49="Udmeldt"),D54=""),1,IF(AND(D48="Status",D49="",OR(D54=1,D54="x",D54=2)),1,IF(AND(D48="Status",D49="",D54=""),2,IF(AND(D48<>"Status",D49="",D54=""),1,0)))) -> 1 | C96: =IF(AND(F48="Status",OR(F49="Res",F49="MR",F49="Disket",F49="Udmeldt"),F54=""),1,IF(AND(F48="Status",F49="",OR(F54=1,F54="x",F54=2)),1,IF(AND(F48="Status",F49="",F54=""),2,IF(AND(F48<>"Status",F49="",F54=""),1,0)))) -> 1 | D96: =IF(AND(H48="Status",OR(H49="Res",H49="MR",H49="Disket",H49="Udmeldt"),H54=""),1,IF(AND(H48="Status",H49="",OR(H54=1,H54="x",H54=2)),1,IF(AND(H48="Status",H49="",H54=""),2,IF(AND(H48<>"Status",H49="",H54=""),1,0)))) -> 1 | E96: =IF(AND(J48="Status",OR(J49="Res",J49="MR",J49="Disket",J49="Udmeldt"),J54=""),1,IF(AND(J48="Status",J49="",OR(J54=1,J54="x",J54=2)),1,IF(AND(J48="Status",J49="",J54=""),2,IF(AND(J48<>"Status",J49="",J54=""),1,0)))) -> 1 | F96: =IF(AND(L48="Status",OR(L49="Res",L49="MR",L49="Disket",L49="Udmeldt"),L54=""),1,IF(AND(L48="Status",L49="",OR(L54=1,L54="x",L54=2)),1,IF(AND(L48="Status",L49="",L54=""),2,IF(AND(L48<>"Status",L49="",L54=""),1,0)))) -> 1 | G96: =IF(AND(N48="Status",OR(N49="Res",N49="MR",N49="Disket",N49="Udmeldt"),N54=""),1,IF(AND(N48="Status",N49="",OR(N54=1,N54="x",N54=2)),1,IF(AND(N48="Status",N49="",N54=""),2,IF(AND(N48<>"Status",N49="",N54=""),1,0)))) -> 1 | H96: =IF(AND(P48="Status",OR(P49="Res",P49="MR",P49="Disket",P49="Udmeldt"),P54=""),1,IF(AND(P48="Status",P49="",OR(P54=1,P54="x",P54=2)),1,IF(AND(P48="Status",P49="",P54=""),2,IF(AND(P48<>"Status",P49="",P54=""),1,0)))) -> 1 | I96: =IF(AND(R48="Status",OR(R49="Res",R49="MR",R49="Disket",R49="Udmeldt"),R54=""),1,IF(AND(R48="Status",R49="",OR(R54=1,R54="x",R54=2)),1,IF(AND(R48="Status",R49="",R54=""),2,IF(AND(R48<>"Status",R49="",R54=""),1,0)))) -> 1 | J96: =IF(AND(T48="Status",OR(T49="Res",T49="MR",T49="Disket",T49="Udmeldt"),T54=""),1,IF(AND(T48="Status",T49="",OR(T54=1,T54="x",T54=2)),1,IF(AND(T48="Status",T49="",T54=""),2,IF(AND(T48<>"Status",T49="",T54=""),1,0)))) -> 1 | K96: =IF(AND(V48="Status",OR(V49="Res",V49="MR",V49="Disket",V49="Udmeldt"),V54=""),1,IF(AND(V48="Status",V49="",OR(V54=1,V54="x",V54=2)),1,IF(AND(V48="Status",V49="",V54=""),2,IF(AND(V48<>"Status",V49="",V54=""),1,0)))) -> 1 | L96: =IF(AND(X48="Status",OR(X49="Res",X49="MR",X49="Disket",X49="Udmeldt"),X54=""),1,IF(AND(X48="Status",X49="",OR(X54=1,X54="x",X54=2)),1,IF(AND(X48="Status",X49="",X54=""),2,IF(AND(X48<>"Status",X49="",X54=""),1,0)))) -> 1 | M96: =IF(AND(Z48="Status",OR(Z49="Res",Z49="MR",Z49="Disket",Z49="Udmeldt"),Z54=""),1,IF(AND(Z48="Status",Z49="",OR(Z54=1,Z54="x",Z54=2)),1,IF(AND(Z48="Status",Z49="",Z54=""),2,IF(AND(Z48<>"Status",Z49="",Z54=""),1,0)))) -> 1 | N96: =IF(AND(AB48="Status",OR(AB49="Res",AB49="MR",AB49="Disket",AB49="Udmeldt"),AB54=""),1,IF(AND(AB48="Status",AB49="",OR(AB54=1,AB54="x",AB54=2)),1,IF(AND(AB48="Status",AB49="",AB54=""),2,IF(AND(AB48<>"Status",AB49="",AB54=""),1,0)))) -> 1 | O96: =IF(AND(AD48="Status",OR(AD49="Res",AD49="MR",AD49="Disket",AD49="Udmeldt"),AD54=""),1,IF(AND(AD48="Status",AD49="",OR(AD54=1,AD54="x",AD54=2)),1,IF(AND(AD48="Status",AD49="",AD54=""),2,IF(AND(AD48<>"Status",AD49="",AD54=""),1,0)))) -> 1 | P96: =IF(AND(AF48="Status",OR(AF49="Res",AF49="MR",AF49="Disket",AF49="Udmeldt"),AF54=""),1,IF(AND(AF48="Status",AF49="",OR(AF54=1,AF54="x",AF54=2)),1,IF(AND(AF48="Status",AF49="",AF54=""),2,IF(AND(AF48<>"Status",AF49="",AF54=""),1,0)))) -> 1 | Q96: =IF(AND(AH48="Status",OR(AH49="Res",AH49="MR",AH49="Disket",AH49="Udmeldt"),AH54=""),1,IF(AND(AH48="Status",AH49="",OR(AH54=1,AH54="x",AH54=2)),1,IF(AND(AH48="Status",AH49="",AH54=""),2,IF(AND(AH48<>"Status",AH49="",AH54=""),1,0)))) -> 1 | R96: =IF(AND(AJ48="Status",OR(AJ49="Res",AJ49="MR",AJ49="Disket",AJ49="Udmeldt"),AJ54=""),1,IF(AND(AJ48="Status",AJ49="",OR(AJ54=1,AJ54="x",AJ54=2)),1,IF(AND(AJ48="Status",AJ49="",AJ54=""),2,IF(AND(AJ48<>"Status",AJ49="",AJ54=""),1,0)))) -> 1 | S96: =IF(AND(AL48="Status",OR(AL49="Res",AL49="MR",AL49="Disket",AL49="Udmeldt"),AL54=""),1,IF(AND(AL48="Status",AL49="",OR(AL54=1,AL54="x",AL54=2)),1,IF(AND(AL48="Status",AL49="",AL54=""),2,IF(AND(AL48<>"Status",AL49="",AL54=""),1,0)))) -> 1 | T96: =IF(AND(AN48="Status",OR(AN49="Res",AN49="MR",AN49="Disket",AN49="Udmeldt"),AN54=""),1,IF(AND(AN48="Status",AN49="",OR(AN54=1,AN54="x",AN54=2)),1,IF(AND(AN48="Status",AN49="",AN54=""),2,IF(AND(AN48<>"Status",AN49="",AN54=""),1,0)))) -> 1
A97: =IF(AND(B48="Status",OR(B49="Res",B49="MR",B49="Disket",B49="Udmeldt"),B55=""),1,IF(AND(B48="Status",B49="",OR(B55=1,B55="x",B55=2)),1,IF(AND(B48="Status",B49="",B55=""),2,IF(AND(B48<>"Status",B49="",B55=""),1,0)))) -> 1 | B97: =IF(AND(D48="Status",OR(D49="Res",D49="MR",D49="Disket",D49="Udmeldt"),D55=""),1,IF(AND(D48="Status",D49="",OR(D55=1,D55="x",D55=2)),1,IF(AND(D48="Status",D49="",D55=""),2,IF(AND(D48<>"Status",D49="",D55=""),1,0)))) -> 1 | C97: =IF(AND(F48="Status",OR(F49="Res",F49="MR",F49="Disket",F49="Udmeldt"),F55=""),1,IF(AND(F48="Status",F49="",OR(F55=1,F55="x",F55=2)),1,IF(AND(F48="Status",F49="",F55=""),2,IF(AND(F48<>"Status",F49="",F55=""),1,0)))) -> 1 | D97: =IF(AND(H48="Status",OR(H49="Res",H49="MR",H49="Disket",H49="Udmeldt"),H55=""),1,IF(AND(H48="Status",H49="",OR(H55=1,H55="x",H55=2)),1,IF(AND(H48="Status",H49="",H55=""),2,IF(AND(H48<>"Status",H49="",H55=""),1,0)))) -> 1 | E97: =IF(AND(J48="Status",OR(J49="Res",J49="MR",J49="Disket",J49="Udmeldt"),J55=""),1,IF(AND(J48="Status",J49="",OR(J55=1,J55="x",J55=2)),1,IF(AND(J48="Status",J49="",J55=""),2,IF(AND(J48<>"Status",J49="",J55=""),1,0)))) -> 1 | F97: =IF(AND(L48="Status",OR(L49="Res",L49="MR",L49="Disket",L49="Udmeldt"),L55=""),1,IF(AND(L48="Status",L49="",OR(L55=1,L55="x",L55=2)),1,IF(AND(L48="Status",L49="",L55=""),2,IF(AND(L48<>"Status",L49="",L55=""),1,0)))) -> 1 | G97: =IF(AND(N48="Status",OR(N49="Res",N49="MR",N49="Disket",N49="Udmeldt"),N55=""),1,IF(AND(N48="Status",N49="",OR(N55=1,N55="x",N55=2)),1,IF(AND(N48="Status",N49="",N55=""),2,IF(AND(N48<>"Status",N49="",N55=""),1,0)))) -> 1 | H97: =IF(AND(P48="Status",OR(P49="Res",P49="MR",P49="Disket",P49="Udmeldt"),P55=""),1,IF(AND(P48="Status",P49="",OR(P55=1,P55="x",P55=2)),1,IF(AND(P48="Status",P49="",P55=""),2,IF(AND(P48<>"Status",P49="",P55=""),1,0)))) -> 1 | I97: =IF(AND(R48="Status",OR(R49="Res",R49="MR",R49="Disket",R49="Udmeldt"),R55=""),1,IF(AND(R48="Status",R49="",OR(R55=1,R55="x",R55=2)),1,IF(AND(R48="Status",R49="",R55=""),2,IF(AND(R48<>"Status",R49="",R55=""),1,0)))) -> 1 | J97: =IF(AND(T48="Status",OR(T49="Res",T49="MR",T49="Disket",T49="Udmeldt"),T55=""),1,IF(AND(T48="Status",T49="",OR(T55=1,T55="x",T55=2)),1,IF(AND(T48="Status",T49="",T55=""),2,IF(AND(T48<>"Status",T49="",T55=""),1,0)))) -> 1 | K97: =IF(AND(V48="Status",OR(V49="Res",V49="MR",V49="Disket",V49="Udmeldt"),V55=""),1,IF(AND(V48="Status",V49="",OR(V55=1,V55="x",V55=2)),1,IF(AND(V48="Status",V49="",V55=""),2,IF(AND(V48<>"Status",V49="",V55=""),1,0)))) -> 1 | L97: =IF(AND(X48="Status",OR(X49="Res",X49="MR",X49="Disket",X49="Udmeldt"),X55=""),1,IF(AND(X48="Status",X49="",OR(X55=1,X55="x",X55=2)),1,IF(AND(X48="Status",X49="",X55=""),2,IF(AND(X48<>"Status",X49="",X55=""),1,0)))) -> 1 | M97: =IF(AND(Z48="Status",OR(Z49="Res",Z49="MR",Z49="Disket",Z49="Udmeldt"),Z55=""),1,IF(AND(Z48="Status",Z49="",OR(Z55=1,Z55="x",Z55=2)),1,IF(AND(Z48="Status",Z49="",Z55=""),2,IF(AND(Z48<>"Status",Z49="",Z55=""),1,0)))) -> 1 | N97: =IF(AND(AB48="Status",OR(AB49="Res",AB49="MR",AB49="Disket",AB49="Udmeldt"),AB55=""),1,IF(AND(AB48="Status",AB49="",OR(AB55=1,AB55="x",AB55=2)),1,IF(AND(AB48="Status",AB49="",AB55=""),2,IF(AND(AB48<>"Status",AB49="",AB55=""),1,0)))) -> 1 | O97: =IF(AND(AD48="Status",OR(AD49="Res",AD49="MR",AD49="Disket",AD49="Udmeldt"),AD55=""),1,IF(AND(AD48="Status",AD49="",OR(AD55=1,AD55="x",AD55=2)),1,IF(AND(AD48="Status",AD49="",AD55=""),2,IF(AND(AD48<>"Status",AD49="",AD55=""),1,0)))) -> 1 | P97: =IF(AND(AF48="Status",OR(AF49="Res",AF49="MR",AF49="Disket",AF49="Udmeldt"),AF55=""),1,IF(AND(AF48="Status",AF49="",OR(AF55=1,AF55="x",AF55=2)),1,IF(AND(AF48="Status",AF49="",AF55=""),2,IF(AND(AF48<>"Status",AF49="",AF55=""),1,0)))) -> 1 | Q97: =IF(AND(AH48="Status",OR(AH49="Res",AH49="MR",AH49="Disket",AH49="Udmeldt"),AH55=""),1,IF(AND(AH48="Status",AH49="",OR(AH55=1,AH55="x",AH55=2)),1,IF(AND(AH48="Status",AH49="",AH55=""),2,IF(AND(AH48<>"Status",AH49="",AH55=""),1,0)))) -> 1 | R97: =IF(AND(AJ48="Status",OR(AJ49="Res",AJ49="MR",AJ49="Disket",AJ49="Udmeldt"),AJ55=""),1,IF(AND(AJ48="Status",AJ49="",OR(AJ55=1,AJ55="x",AJ55=2)),1,IF(AND(AJ48="Status",AJ49="",AJ55=""),2,IF(AND(AJ48<>"Status",AJ49="",AJ55=""),1,0)))) -> 1 | S97: =IF(AND(AL48="Status",OR(AL49="Res",AL49="MR",AL49="Disket",AL49="Udmeldt"),AL55=""),1,IF(AND(AL48="Status",AL49="",OR(AL55=1,AL55="x",AL55=2)),1,IF(AND(AL48="Status",AL49="",AL55=""),2,IF(AND(AL48<>"Status",AL49="",AL55=""),1,0)))) -> 1 | T97: =IF(AND(AN48="Status",OR(AN49="Res",AN49="MR",AN49="Disket",AN49="Udmeldt"),AN55=""),1,IF(AND(AN48="Status",AN49="",OR(AN55=1,AN55="x",AN55=2)),1,IF(AND(AN48="Status",AN49="",AN55=""),2,IF(AND(AN48<>"Status",AN49="",AN55=""),1,0)))) -> 1
A98: =IF(AND(B48="Status",OR(B49="Res",B49="MR",B49="Disket",B49="Udmeldt"),B56=""),1,IF(AND(B48="Status",B49="",OR(B56=1,B56="x",B56=2)),1,IF(AND(B48="Status",B49="",B56=""),2,IF(AND(B48<>"Status",B49="",B56=""),1,0)))) -> 1 | B98: =IF(AND(D48="Status",OR(D49="Res",D49="MR",D49="Disket",D49="Udmeldt"),D56=""),1,IF(AND(D48="Status",D49="",OR(D56=1,D56="x",D56=2)),1,IF(AND(D48="Status",D49="",D56=""),2,IF(AND(D48<>"Status",D49="",D56=""),1,0)))) -> 1 | C98: =IF(AND(F48="Status",OR(F49="Res",F49="MR",F49="Disket",F49="Udmeldt"),F56=""),1,IF(AND(F48="Status",F49="",OR(F56=1,F56="x",F56=2)),1,IF(AND(F48="Status",F49="",F56=""),2,IF(AND(F48<>"Status",F49="",F56=""),1,0)))) -> 1 | D98: =IF(AND(H48="Status",OR(H49="Res",H49="MR",H49="Disket",H49="Udmeldt"),H56=""),1,IF(AND(H48="Status",H49="",OR(H56=1,H56="x",H56=2)),1,IF(AND(H48="Status",H49="",H56=""),2,IF(AND(H48<>"Status",H49="",H56=""),1,0)))) -> 1 | E98: =IF(AND(J48="Status",OR(J49="Res",J49="MR",J49="Disket",J49="Udmeldt"),J56=""),1,IF(AND(J48="Status",J49="",OR(J56=1,J56="x",J56=2)),1,IF(AND(J48="Status",J49="",J56=""),2,IF(AND(J48<>"Status",J49="",J56=""),1,0)))) -> 1 | F98: =IF(AND(L48="Status",OR(L49="Res",L49="MR",L49="Disket",L49="Udmeldt"),L56=""),1,IF(AND(L48="Status",L49="",OR(L56=1,L56="x",L56=2)),1,IF(AND(L48="Status",L49="",L56=""),2,IF(AND(L48<>"Status",L49="",L56=""),1,0)))) -> 1 | G98: =IF(AND(N48="Status",OR(N49="Res",N49="MR",N49="Disket",N49="Udmeldt"),N56=""),1,IF(AND(N48="Status",N49="",OR(N56=1,N56="x",N56=2)),1,IF(AND(N48="Status",N49="",N56=""),2,IF(AND(N48<>"Status",N49="",N56=""),1,0)))) -> 1 | H98: =IF(AND(P48="Status",OR(P49="Res",P49="MR",P49="Disket",P49="Udmeldt"),P56=""),1,IF(AND(P48="Status",P49="",OR(P56=1,P56="x",P56=2)),1,IF(AND(P48="Status",P49="",P56=""),2,IF(AND(P48<>"Status",P49="",P56=""),1,0)))) -> 1 | I98: =IF(AND(R48="Status",OR(R49="Res",R49="MR",R49="Disket",R49="Udmeldt"),R56=""),1,IF(AND(R48="Status",R49="",OR(R56=1,R56="x",R56=2)),1,IF(AND(R48="Status",R49="",R56=""),2,IF(AND(R48<>"Status",R49="",R56=""),1,0)))) -> 1 | J98: =IF(AND(T48="Status",OR(T49="Res",T49="MR",T49="Disket",T49="Udmeldt"),T56=""),1,IF(AND(T48="Status",T49="",OR(T56=1,T56="x",T56=2)),1,IF(AND(T48="Status",T49="",T56=""),2,IF(AND(T48<>"Status",T49="",T56=""),1,0)))) -> 1 | K98: =IF(AND(V48="Status",OR(V49="Res",V49="MR",V49="Disket",V49="Udmeldt"),V56=""),1,IF(AND(V48="Status",V49="",OR(V56=1,V56="x",V56=2)),1,IF(AND(V48="Status",V49="",V56=""),2,IF(AND(V48<>"Status",V49="",V56=""),1,0)))) -> 1 | L98: =IF(AND(X48="Status",OR(X49="Res",X49="MR",X49="Disket",X49="Udmeldt"),X56=""),1,IF(AND(X48="Status",X49="",OR(X56=1,X56="x",X56=2)),1,IF(AND(X48="Status",X49="",X56=""),2,IF(AND(X48<>"Status",X49="",X56=""),1,0)))) -> 1 | M98: =IF(AND(Z48="Status",OR(Z49="Res",Z49="MR",Z49="Disket",Z49="Udmeldt"),Z56=""),1,IF(AND(Z48="Status",Z49="",OR(Z56=1,Z56="x",Z56=2)),1,IF(AND(Z48="Status",Z49="",Z56=""),2,IF(AND(Z48<>"Status",Z49="",Z56=""),1,0)))) -> 1 | N98: =IF(AND(AB48="Status",OR(AB49="Res",AB49="MR",AB49="Disket",AB49="Udmeldt"),AB56=""),1,IF(AND(AB48="Status",AB49="",OR(AB56=1,AB56="x",AB56=2)),1,IF(AND(AB48="Status",AB49="",AB56=""),2,IF(AND(AB48<>"Status",AB49="",AB56=""),1,0)))) -> 1 | O98: =IF(AND(AD48="Status",OR(AD49="Res",AD49="MR",AD49="Disket",AD49="Udmeldt"),AD56=""),1,IF(AND(AD48="Status",AD49="",OR(AD56=1,AD56="x",AD56=2)),1,IF(AND(AD48="Status",AD49="",AD56=""),2,IF(AND(AD48<>"Status",AD49="",AD56=""),1,0)))) -> 1 | P98: =IF(AND(AF48="Status",OR(AF49="Res",AF49="MR",AF49="Disket",AF49="Udmeldt"),AF56=""),1,IF(AND(AF48="Status",AF49="",OR(AF56=1,AF56="x",AF56=2)),1,IF(AND(AF48="Status",AF49="",AF56=""),2,IF(AND(AF48<>"Status",AF49="",AF56=""),1,0)))) -> 1 | Q98: =IF(AND(AH48="Status",OR(AH49="Res",AH49="MR",AH49="Disket",AH49="Udmeldt"),AH56=""),1,IF(AND(AH48="Status",AH49="",OR(AH56=1,AH56="x",AH56=2)),1,IF(AND(AH48="Status",AH49="",AH56=""),2,IF(AND(AH48<>"Status",AH49="",AH56=""),1,0)))) -> 1 | R98: =IF(AND(AJ48="Status",OR(AJ49="Res",AJ49="MR",AJ49="Disket",AJ49="Udmeldt"),AJ56=""),1,IF(AND(AJ48="Status",AJ49="",OR(AJ56=1,AJ56="x",AJ56=2)),1,IF(AND(AJ48="Status",AJ49="",AJ56=""),2,IF(AND(AJ48<>"Status",AJ49="",AJ56=""),1,0)))) -> 1 | S98: =IF(AND(AL48="Status",OR(AL49="Res",AL49="MR",AL49="Disket",AL49="Udmeldt"),AL56=""),1,IF(AND(AL48="Status",AL49="",OR(AL56=1,AL56="x",AL56=2)),1,IF(AND(AL48="Status",AL49="",AL56=""),2,IF(AND(AL48<>"Status",AL49="",AL56=""),1,0)))) -> 1 | T98: =IF(AND(AN48="Status",OR(AN49="Res",AN49="MR",AN49="Disket",AN49="Udmeldt"),AN56=""),1,IF(AND(AN48="Status",AN49="",OR(AN56=1,AN56="x",AN56=2)),1,IF(AND(AN48="Status",AN49="",AN56=""),2,IF(AND(AN48<>"Status",AN49="",AN56=""),1,0)))) -> 1
A99: =IF(AND(B48="Status",OR(B49="Res",B49="MR",B49="Disket",B49="Udmeldt"),B57=""),1,IF(AND(B48="Status",B49="",OR(B57=1,B57="x",B57=2)),1,IF(AND(B48="Status",B49="",B57=""),2,IF(AND(B48<>"Status",B49="",B57=""),1,0)))) -> 1 | B99: =IF(AND(D48="Status",OR(D49="Res",D49="MR",D49="Disket",D49="Udmeldt"),D57=""),1,IF(AND(D48="Status",D49="",OR(D57=1,D57="x",D57=2)),1,IF(AND(D48="Status",D49="",D57=""),2,IF(AND(D48<>"Status",D49="",D57=""),1,0)))) -> 1 | C99: =IF(AND(F48="Status",OR(F49="Res",F49="MR",F49="Disket",F49="Udmeldt"),F57=""),1,IF(AND(F48="Status",F49="",OR(F57=1,F57="x",F57=2)),1,IF(AND(F48="Status",F49="",F57=""),2,IF(AND(F48<>"Status",F49="",F57=""),1,0)))) -> 1 | D99: =IF(AND(H48="Status",OR(H49="Res",H49="MR",H49="Disket",H49="Udmeldt"),H57=""),1,IF(AND(H48="Status",H49="",OR(H57=1,H57="x",H57=2)),1,IF(AND(H48="Status",H49="",H57=""),2,IF(AND(H48<>"Status",H49="",H57=""),1,0)))) -> 1 | E99: =IF(AND(J48="Status",OR(J49="Res",J49="MR",J49="Disket",J49="Udmeldt"),J57=""),1,IF(AND(J48="Status",J49="",OR(J57=1,J57="x",J57=2)),1,IF(AND(J48="Status",J49="",J57=""),2,IF(AND(J48<>"Status",J49="",J57=""),1,0)))) -> 1 | F99: =IF(AND(L48="Status",OR(L49="Res",L49="MR",L49="Disket",L49="Udmeldt"),L57=""),1,IF(AND(L48="Status",L49="",OR(L57=1,L57="x",L57=2)),1,IF(AND(L48="Status",L49="",L57=""),2,IF(AND(L48<>"Status",L49="",L57=""),1,0)))) -> 1 | G99: =IF(AND(N48="Status",OR(N49="Res",N49="MR",N49="Disket",N49="Udmeldt"),N57=""),1,IF(AND(N48="Status",N49="",OR(N57=1,N57="x",N57=2)),1,IF(AND(N48="Status",N49="",N57=""),2,IF(AND(N48<>"Status",N49="",N57=""),1,0)))) -> 1 | H99: =IF(AND(P48="Status",OR(P49="Res",P49="MR",P49="Disket",P49="Udmeldt"),P57=""),1,IF(AND(P48="Status",P49="",OR(P57=1,P57="x",P57=2)),1,IF(AND(P48="Status",P49="",P57=""),2,IF(AND(P48<>"Status",P49="",P57=""),1,0)))) -> 1 | I99: =IF(AND(R48="Status",OR(R49="Res",R49="MR",R49="Disket",R49="Udmeldt"),R57=""),1,IF(AND(R48="Status",R49="",OR(R57=1,R57="x",R57=2)),1,IF(AND(R48="Status",R49="",R57=""),2,IF(AND(R48<>"Status",R49="",R57=""),1,0)))) -> 1 | J99: =IF(AND(T48="Status",OR(T49="Res",T49="MR",T49="Disket",T49="Udmeldt"),T57=""),1,IF(AND(T48="Status",T49="",OR(T57=1,T57="x",T57=2)),1,IF(AND(T48="Status",T49="",T57=""),2,IF(AND(T48<>"Status",T49="",T57=""),1,0)))) -> 1 | K99: =IF(AND(V48="Status",OR(V49="Res",V49="MR",V49="Disket",V49="Udmeldt"),V57=""),1,IF(AND(V48="Status",V49="",OR(V57=1,V57="x",V57=2)),1,IF(AND(V48="Status",V49="",V57=""),2,IF(AND(V48<>"Status",V49="",V57=""),1,0)))) -> 1 | L99: =IF(AND(X48="Status",OR(X49="Res",X49="MR",X49="Disket",X49="Udmeldt"),X57=""),1,IF(AND(X48="Status",X49="",OR(X57=1,X57="x",X57=2)),1,IF(AND(X48="Status",X49="",X57=""),2,IF(AND(X48<>"Status",X49="",X57=""),1,0)))) -> 1 | M99: =IF(AND(Z48="Status",OR(Z49="Res",Z49="MR",Z49="Disket",Z49="Udmeldt"),Z57=""),1,IF(AND(Z48="Status",Z49="",OR(Z57=1,Z57="x",Z57=2)),1,IF(AND(Z48="Status",Z49="",Z57=""),2,IF(AND(Z48<>"Status",Z49="",Z57=""),1,0)))) -> 1 | N99: =IF(AND(AB48="Status",OR(AB49="Res",AB49="MR",AB49="Disket",AB49="Udmeldt"),AB57=""),1,IF(AND(AB48="Status",AB49="",OR(AB57=1,AB57="x",AB57=2)),1,IF(AND(AB48="Status",AB49="",AB57=""),2,IF(AND(AB48<>"Status",AB49="",AB57=""),1,0)))) -> 1 | O99: =IF(AND(AD48="Status",OR(AD49="Res",AD49="MR",AD49="Disket",AD49="Udmeldt"),AD57=""),1,IF(AND(AD48="Status",AD49="",OR(AD57=1,AD57="x",AD57=2)),1,IF(AND(AD48="Status",AD49="",AD57=""),2,IF(AND(AD48<>"Status",AD49="",AD57=""),1,0)))) -> 1 | P99: =IF(AND(AF48="Status",OR(AF49="Res",AF49="MR",AF49="Disket",AF49="Udmeldt"),AF57=""),1,IF(AND(AF48="Status",AF49="",OR(AF57=1,AF57="x",AF57=2)),1,IF(AND(AF48="Status",AF49="",AF57=""),2,IF(AND(AF48<>"Status",AF49="",AF57=""),1,0)))) -> 1 | Q99: =IF(AND(AH48="Status",OR(AH49="Res",AH49="MR",AH49="Disket",AH49="Udmeldt"),AH57=""),1,IF(AND(AH48="Status",AH49="",OR(AH57=1,AH57="x",AH57=2)),1,IF(AND(AH48="Status",AH49="",AH57=""),2,IF(AND(AH48<>"Status",AH49="",AH57=""),1,0)))) -> 1 | R99: =IF(AND(AJ48="Status",OR(AJ49="Res",AJ49="MR",AJ49="Disket",AJ49="Udmeldt"),AJ57=""),1,IF(AND(AJ48="Status",AJ49="",OR(AJ57=1,AJ57="x",AJ57=2)),1,IF(AND(AJ48="Status",AJ49="",AJ57=""),2,IF(AND(AJ48<>"Status",AJ49="",AJ57=""),1,0)))) -> 1 | S99: =IF(AND(AL48="Status",OR(AL49="Res",AL49="MR",AL49="Disket",AL49="Udmeldt"),AL57=""),1,IF(AND(AL48="Status",AL49="",OR(AL57=1,AL57="x",AL57=2)),1,IF(AND(AL48="Status",AL49="",AL57=""),2,IF(AND(AL48<>"Status",AL49="",AL57=""),1,0)))) -> 1 | T99: =IF(AND(AN48="Status",OR(AN49="Res",AN49="MR",AN49="Disket",AN49="Udmeldt"),AN57=""),1,IF(AND(AN48="Status",AN49="",OR(AN57=1,AN57="x",AN57=2)),1,IF(AND(AN48="Status",AN49="",AN57=""),2,IF(AND(AN48<>"Status",AN49="",AN57=""),1,0)))) -> 1
A100: =IF(AND(B48="Status",OR(B49="Res",B49="MR",B49="Disket",B49="Udmeldt"),B58=""),1,IF(AND(B48="Status",B49="",OR(B58=1,B58="x",B58=2)),1,IF(AND(B48="Status",B49="",B58=""),2,IF(AND(B48<>"Status",B49="",B58=""),1,0)))) -> 1 | B100: =IF(AND(D48="Status",OR(D49="Res",D49="MR",D49="Disket",D49="Udmeldt"),D58=""),1,IF(AND(D48="Status",D49="",OR(D58=1,D58="x",D58=2)),1,IF(AND(D48="Status",D49="",D58=""),2,IF(AND(D48<>"Status",D49="",D58=""),1,0)))) -> 1 | C100: =IF(AND(F48="Status",OR(F49="Res",F49="MR",F49="Disket",F49="Udmeldt"),F58=""),1,IF(AND(F48="Status",F49="",OR(F58=1,F58="x",F58=2)),1,IF(AND(F48="Status",F49="",F58=""),2,IF(AND(F48<>"Status",F49="",F58=""),1,0)))) -> 1 | D100: =IF(AND(H48="Status",OR(H49="Res",H49="MR",H49="Disket",H49="Udmeldt"),H58=""),1,IF(AND(H48="Status",H49="",OR(H58=1,H58="x",H58=2)),1,IF(AND(H48="Status",H49="",H58=""),2,IF(AND(H48<>"Status",H49="",H58=""),1,0)))) -> 1 | E100: =IF(AND(J48="Status",OR(J49="Res",J49="MR",J49="Disket",J49="Udmeldt"),J58=""),1,IF(AND(J48="Status",J49="",OR(J58=1,J58="x",J58=2)),1,IF(AND(J48="Status",J49="",J58=""),2,IF(AND(J48<>"Status",J49="",J58=""),1,0)))) -> 1 | F100: =IF(AND(L48="Status",OR(L49="Res",L49="MR",L49="Disket",L49="Udmeldt"),L58=""),1,IF(AND(L48="Status",L49="",OR(L58=1,L58="x",L58=2)),1,IF(AND(L48="Status",L49="",L58=""),2,IF(AND(L48<>"Status",L49="",L58=""),1,0)))) -> 1 | G100: =IF(AND(N48="Status",OR(N49="Res",N49="MR",N49="Disket",N49="Udmeldt"),N58=""),1,IF(AND(N48="Status",N49="",OR(N58=1,N58="x",N58=2)),1,IF(AND(N48="Status",N49="",N58=""),2,IF(AND(N48<>"Status",N49="",N58=""),1,0)))) -> 1 | H100: =IF(AND(P48="Status",OR(P49="Res",P49="MR",P49="Disket",P49="Udmeldt"),P58=""),1,IF(AND(P48="Status",P49="",OR(P58=1,P58="x",P58=2)),1,IF(AND(P48="Status",P49="",P58=""),2,IF(AND(P48<>"Status",P49="",P58=""),1,0)))) -> 1 | I100: =IF(AND(R48="Status",OR(R49="Res",R49="MR",R49="Disket",R49="Udmeldt"),R58=""),1,IF(AND(R48="Status",R49="",OR(R58=1,R58="x",R58=2)),1,IF(AND(R48="Status",R49="",R58=""),2,IF(AND(R48<>"Status",R49="",R58=""),1,0)))) -> 1 | J100: =IF(AND(T48="Status",OR(T49="Res",T49="MR",T49="Disket",T49="Udmeldt"),T58=""),1,IF(AND(T48="Status",T49="",OR(T58=1,T58="x",T58=2)),1,IF(AND(T48="Status",T49="",T58=""),2,IF(AND(T48<>"Status",T49="",T58=""),1,0)))) -> 1 | K100: =IF(AND(V48="Status",OR(V49="Res",V49="MR",V49="Disket",V49="Udmeldt"),V58=""),1,IF(AND(V48="Status",V49="",OR(V58=1,V58="x",V58=2)),1,IF(AND(V48="Status",V49="",V58=""),2,IF(AND(V48<>"Status",V49="",V58=""),1,0)))) -> 1 | L100: =IF(AND(X48="Status",OR(X49="Res",X49="MR",X49="Disket",X49="Udmeldt"),X58=""),1,IF(AND(X48="Status",X49="",OR(X58=1,X58="x",X58=2)),1,IF(AND(X48="Status",X49="",X58=""),2,IF(AND(X48<>"Status",X49="",X58=""),1,0)))) -> 1 | M100: =IF(AND(Z48="Status",OR(Z49="Res",Z49="MR",Z49="Disket",Z49="Udmeldt"),Z58=""),1,IF(AND(Z48="Status",Z49="",OR(Z58=1,Z58="x",Z58=2)),1,IF(AND(Z48="Status",Z49="",Z58=""),2,IF(AND(Z48<>"Status",Z49="",Z58=""),1,0)))) -> 1 | N100: =IF(AND(AB48="Status",OR(AB49="Res",AB49="MR",AB49="Disket",AB49="Udmeldt"),AB58=""),1,IF(AND(AB48="Status",AB49="",OR(AB58=1,AB58="x",AB58=2)),1,IF(AND(AB48="Status",AB49="",AB58=""),2,IF(AND(AB48<>"Status",AB49="",AB58=""),1,0)))) -> 1 | O100: =IF(AND(AD48="Status",OR(AD49="Res",AD49="MR",AD49="Disket",AD49="Udmeldt"),AD58=""),1,IF(AND(AD48="Status",AD49="",OR(AD58=1,AD58="x",AD58=2)),1,IF(AND(AD48="Status",AD49="",AD58=""),2,IF(AND(AD48<>"Status",AD49="",AD58=""),1,0)))) -> 1 | P100: =IF(AND(AF48="Status",OR(AF49="Res",AF49="MR",AF49="Disket",AF49="Udmeldt"),AF58=""),1,IF(AND(AF48="Status",AF49="",OR(AF58=1,AF58="x",AF58=2)),1,IF(AND(AF48="Status",AF49="",AF58=""),2,IF(AND(AF48<>"Status",AF49="",AF58=""),1,0)))) -> 1 | Q100: =IF(AND(AH48="Status",OR(AH49="Res",AH49="MR",AH49="Disket",AH49="Udmeldt"),AH58=""),1,IF(AND(AH48="Status",AH49="",OR(AH58=1,AH58="x",AH58=2)),1,IF(AND(AH48="Status",AH49="",AH58=""),2,IF(AND(AH48<>"Status",AH49="",AH58=""),1,0)))) -> 1 | R100: =IF(AND(AJ48="Status",OR(AJ49="Res",AJ49="MR",AJ49="Disket",AJ49="Udmeldt"),AJ58=""),1,IF(AND(AJ48="Status",AJ49="",OR(AJ58=1,AJ58="x",AJ58=2)),1,IF(AND(AJ48="Status",AJ49="",AJ58=""),2,IF(AND(AJ48<>"Status",AJ49="",AJ58=""),1,0)))) -> 1 | S100: =IF(AND(AL48="Status",OR(AL49="Res",AL49="MR",AL49="Disket",AL49="Udmeldt"),AL58=""),1,IF(AND(AL48="Status",AL49="",OR(AL58=1,AL58="x",AL58=2)),1,IF(AND(AL48="Status",AL49="",AL58=""),2,IF(AND(AL48<>"Status",AL49="",AL58=""),1,0)))) -> 1 | T100: =IF(AND(AN48="Status",OR(AN49="Res",AN49="MR",AN49="Disket",AN49="Udmeldt"),AN58=""),1,IF(AND(AN48="Status",AN49="",OR(AN58=1,AN58="x",AN58=2)),1,IF(AND(AN48="Status",AN49="",AN58=""),2,IF(AND(AN48<>"Status",AN49="",AN58=""),1,0)))) -> 1
A101: =IF(AND(B48="Status",OR(B49="Res",B49="MR",B49="Disket",B49="Udmeldt"),B59=""),1,IF(AND(B48="Status",B49="",OR(B59=1,B59="x",B59=2)),1,IF(AND(B48="Status",B49="",B59=""),2,IF(AND(B48<>"Status",B49="",B59=""),1,0)))) -> 1 | B101: =IF(AND(D48="Status",OR(D49="Res",D49="MR",D49="Disket",D49="Udmeldt"),D59=""),1,IF(AND(D48="Status",D49="",OR(D59=1,D59="x",D59=2)),1,IF(AND(D48="Status",D49="",D59=""),2,IF(AND(D48<>"Status",D49="",D59=""),1,0)))) -> 1 | C101: =IF(AND(F48="Status",OR(F49="Res",F49="MR",F49="Disket",F49="Udmeldt"),F59=""),1,IF(AND(F48="Status",F49="",OR(F59=1,F59="x",F59=2)),1,IF(AND(F48="Status",F49="",F59=""),2,IF(AND(F48<>"Status",F49="",F59=""),1,0)))) -> 1 | D101: =IF(AND(H48="Status",OR(H49="Res",H49="MR",H49="Disket",H49="Udmeldt"),H59=""),1,IF(AND(H48="Status",H49="",OR(H59=1,H59="x",H59=2)),1,IF(AND(H48="Status",H49="",H59=""),2,IF(AND(H48<>"Status",H49="",H59=""),1,0)))) -> 1 | E101: =IF(AND(J48="Status",OR(J49="Res",J49="MR",J49="Disket",J49="Udmeldt"),J59=""),1,IF(AND(J48="Status",J49="",OR(J59=1,J59="x",J59=2)),1,IF(AND(J48="Status",J49="",J59=""),2,IF(AND(J48<>"Status",J49="",J59=""),1,0)))) -> 1 | F101: =IF(AND(L48="Status",OR(L49="Res",L49="MR",L49="Disket",L49="Udmeldt"),L59=""),1,IF(AND(L48="Status",L49="",OR(L59=1,L59="x",L59=2)),1,IF(AND(L48="Status",L49="",L59=""),2,IF(AND(L48<>"Status",L49="",L59=""),1,0)))) -> 1 | G101: =IF(AND(N48="Status",OR(N49="Res",N49="MR",N49="Disket",N49="Udmeldt"),N59=""),1,IF(AND(N48="Status",N49="",OR(N59=1,N59="x",N59=2)),1,IF(AND(N48="Status",N49="",N59=""),2,IF(AND(N48<>"Status",N49="",N59=""),1,0)))) -> 1 | H101: =IF(AND(P48="Status",OR(P49="Res",P49="MR",P49="Disket",P49="Udmeldt"),P59=""),1,IF(AND(P48="Status",P49="",OR(P59=1,P59="x",P59=2)),1,IF(AND(P48="Status",P49="",P59=""),2,IF(AND(P48<>"Status",P49="",P59=""),1,0)))) -> 1 | I101: =IF(AND(R48="Status",OR(R49="Res",R49="MR",R49="Disket",R49="Udmeldt"),R59=""),1,IF(AND(R48="Status",R49="",OR(R59=1,R59="x",R59=2)),1,IF(AND(R48="Status",R49="",R59=""),2,IF(AND(R48<>"Status",R49="",R59=""),1,0)))) -> 1 | J101: =IF(AND(T48="Status",OR(T49="Res",T49="MR",T49="Disket",T49="Udmeldt"),T59=""),1,IF(AND(T48="Status",T49="",OR(T59=1,T59="x",T59=2)),1,IF(AND(T48="Status",T49="",T59=""),2,IF(AND(T48<>"Status",T49="",T59=""),1,0)))) -> 1 | K101: =IF(AND(V48="Status",OR(V49="Res",V49="MR",V49="Disket",V49="Udmeldt"),V59=""),1,IF(AND(V48="Status",V49="",OR(V59=1,V59="x",V59=2)),1,IF(AND(V48="Status",V49="",V59=""),2,IF(AND(V48<>"Status",V49="",V59=""),1,0)))) -> 1 | L101: =IF(AND(X48="Status",OR(X49="Res",X49="MR",X49="Disket",X49="Udmeldt"),X59=""),1,IF(AND(X48="Status",X49="",OR(X59=1,X59="x",X59=2)),1,IF(AND(X48="Status",X49="",X59=""),2,IF(AND(X48<>"Status",X49="",X59=""),1,0)))) -> 1 | M101: =IF(AND(Z48="Status",OR(Z49="Res",Z49="MR",Z49="Disket",Z49="Udmeldt"),Z59=""),1,IF(AND(Z48="Status",Z49="",OR(Z59=1,Z59="x",Z59=2)),1,IF(AND(Z48="Status",Z49="",Z59=""),2,IF(AND(Z48<>"Status",Z49="",Z59=""),1,0)))) -> 1 | N101: =IF(AND(AB48="Status",OR(AB49="Res",AB49="MR",AB49="Disket",AB49="Udmeldt"),AB59=""),1,IF(AND(AB48="Status",AB49="",OR(AB59=1,AB59="x",AB59=2)),1,IF(AND(AB48="Status",AB49="",AB59=""),2,IF(AND(AB48<>"Status",AB49="",AB59=""),1,0)))) -> 1 | O101: =IF(AND(AD48="Status",OR(AD49="Res",AD49="MR",AD49="Disket",AD49="Udmeldt"),AD59=""),1,IF(AND(AD48="Status",AD49="",OR(AD59=1,AD59="x",AD59=2)),1,IF(AND(AD48="Status",AD49="",AD59=""),2,IF(AND(AD48<>"Status",AD49="",AD59=""),1,0)))) -> 1 | P101: =IF(AND(AF48="Status",OR(AF49="Res",AF49="MR",AF49="Disket",AF49="Udmeldt"),AF59=""),1,IF(AND(AF48="Status",AF49="",OR(AF59=1,AF59="x",AF59=2)),1,IF(AND(AF48="Status",AF49="",AF59=""),2,IF(AND(AF48<>"Status",AF49="",AF59=""),1,0)))) -> 1 | Q101: =IF(AND(AH48="Status",OR(AH49="Res",AH49="MR",AH49="Disket",AH49="Udmeldt"),AH59=""),1,IF(AND(AH48="Status",AH49="",OR(AH59=1,AH59="x",AH59=2)),1,IF(AND(AH48="Status",AH49="",AH59=""),2,IF(AND(AH48<>"Status",AH49="",AH59=""),1,0)))) -> 1 | R101: =IF(AND(AJ48="Status",OR(AJ49="Res",AJ49="MR",AJ49="Disket",AJ49="Udmeldt"),AJ59=""),1,IF(AND(AJ48="Status",AJ49="",OR(AJ59=1,AJ59="x",AJ59=2)),1,IF(AND(AJ48="Status",AJ49="",AJ59=""),2,IF(AND(AJ48<>"Status",AJ49="",AJ59=""),1,0)))) -> 1 | S101: =IF(AND(AL48="Status",OR(AL49="Res",AL49="MR",AL49="Disket",AL49="Udmeldt"),AL59=""),1,IF(AND(AL48="Status",AL49="",OR(AL59=1,AL59="x",AL59=2)),1,IF(AND(AL48="Status",AL49="",AL59=""),2,IF(AND(AL48<>"Status",AL49="",AL59=""),1,0)))) -> 1 | T101: =IF(AND(AN48="Status",OR(AN49="Res",AN49="MR",AN49="Disket",AN49="Udmeldt"),AN59=""),1,IF(AND(AN48="Status",AN49="",OR(AN59=1,AN59="x",AN59=2)),1,IF(AND(AN48="Status",AN49="",AN59=""),2,IF(AND(AN48<>"Status",AN49="",AN59=""),1,0)))) -> 1
A102: =IF(AND(B48="Status",OR(B49="Res",B49="MR",B49="Disket",B49="Udmeldt"),B60=""),1,IF(AND(B48="Status",B49="",OR(B60=1,B60="x",B60=2)),1,IF(AND(B48="Status",B49="",B60=""),2,IF(AND(B48<>"Status",B49="",B60=""),1,0)))) -> 1 | B102: =IF(AND(D48="Status",OR(D49="Res",D49="MR",D49="Disket",D49="Udmeldt"),D60=""),1,IF(AND(D48="Status",D49="",OR(D60=1,D60="x",D60=2)),1,IF(AND(D48="Status",D49="",D60=""),2,IF(AND(D48<>"Status",D49="",D60=""),1,0)))) -> 1 | C102: =IF(AND(F48="Status",OR(F49="Res",F49="MR",F49="Disket",F49="Udmeldt"),F60=""),1,IF(AND(F48="Status",F49="",OR(F60=1,F60="x",F60=2)),1,IF(AND(F48="Status",F49="",F60=""),2,IF(AND(F48<>"Status",F49="",F60=""),1,0)))) -> 1 | D102: =IF(AND(H48="Status",OR(H49="Res",H49="MR",H49="Disket",H49="Udmeldt"),H60=""),1,IF(AND(H48="Status",H49="",OR(H60=1,H60="x",H60=2)),1,IF(AND(H48="Status",H49="",H60=""),2,IF(AND(H48<>"Status",H49="",H60=""),1,0)))) -> 1 | E102: =IF(AND(J48="Status",OR(J49="Res",J49="MR",J49="Disket",J49="Udmeldt"),J60=""),1,IF(AND(J48="Status",J49="",OR(J60=1,J60="x",J60=2)),1,IF(AND(J48="Status",J49="",J60=""),2,IF(AND(J48<>"Status",J49="",J60=""),1,0)))) -> 1 | F102: =IF(AND(L48="Status",OR(L49="Res",L49="MR",L49="Disket",L49="Udmeldt"),L60=""),1,IF(AND(L48="Status",L49="",OR(L60=1,L60="x",L60=2)),1,IF(AND(L48="Status",L49="",L60=""),2,IF(AND(L48<>"Status",L49="",L60=""),1,0)))) -> 1 | G102: =IF(AND(N48="Status",OR(N49="Res",N49="MR",N49="Disket",N49="Udmeldt"),N60=""),1,IF(AND(N48="Status",N49="",OR(N60=1,N60="x",N60=2)),1,IF(AND(N48="Status",N49="",N60=""),2,IF(AND(N48<>"Status",N49="",N60=""),1,0)))) -> 1 | H102: =IF(AND(P48="Status",OR(P49="Res",P49="MR",P49="Disket",P49="Udmeldt"),P60=""),1,IF(AND(P48="Status",P49="",OR(P60=1,P60="x",P60=2)),1,IF(AND(P48="Status",P49="",P60=""),2,IF(AND(P48<>"Status",P49="",P60=""),1,0)))) -> 1 | I102: =IF(AND(R48="Status",OR(R49="Res",R49="MR",R49="Disket",R49="Udmeldt"),R60=""),1,IF(AND(R48="Status",R49="",OR(R60=1,R60="x",R60=2)),1,IF(AND(R48="Status",R49="",R60=""),2,IF(AND(R48<>"Status",R49="",R60=""),1,0)))) -> 1 | J102: =IF(AND(T48="Status",OR(T49="Res",T49="MR",T49="Disket",T49="Udmeldt"),T60=""),1,IF(AND(T48="Status",T49="",OR(T60=1,T60="x",T60=2)),1,IF(AND(T48="Status",T49="",T60=""),2,IF(AND(T48<>"Status",T49="",T60=""),1,0)))) -> 1 | K102: =IF(AND(V48="Status",OR(V49="Res",V49="MR",V49="Disket",V49="Udmeldt"),V60=""),1,IF(AND(V48="Status",V49="",OR(V60=1,V60="x",V60=2)),1,IF(AND(V48="Status",V49="",V60=""),2,IF(AND(V48<>"Status",V49="",V60=""),1,0)))) -> 1 | L102: =IF(AND(X48="Status",OR(X49="Res",X49="MR",X49="Disket",X49="Udmeldt"),X60=""),1,IF(AND(X48="Status",X49="",OR(X60=1,X60="x",X60=2)),1,IF(AND(X48="Status",X49="",X60=""),2,IF(AND(X48<>"Status",X49="",X60=""),1,0)))) -> 1 | M102: =IF(AND(Z48="Status",OR(Z49="Res",Z49="MR",Z49="Disket",Z49="Udmeldt"),Z60=""),1,IF(AND(Z48="Status",Z49="",OR(Z60=1,Z60="x",Z60=2)),1,IF(AND(Z48="Status",Z49="",Z60=""),2,IF(AND(Z48<>"Status",Z49="",Z60=""),1,0)))) -> 1 | N102: =IF(AND(AB48="Status",OR(AB49="Res",AB49="MR",AB49="Disket",AB49="Udmeldt"),AB60=""),1,IF(AND(AB48="Status",AB49="",OR(AB60=1,AB60="x",AB60=2)),1,IF(AND(AB48="Status",AB49="",AB60=""),2,IF(AND(AB48<>"Status",AB49="",AB60=""),1,0)))) -> 1 | O102: =IF(AND(AD48="Status",OR(AD49="Res",AD49="MR",AD49="Disket",AD49="Udmeldt"),AD60=""),1,IF(AND(AD48="Status",AD49="",OR(AD60=1,AD60="x",AD60=2)),1,IF(AND(AD48="Status",AD49="",AD60=""),2,IF(AND(AD48<>"Status",AD49="",AD60=""),1,0)))) -> 1 | P102: =IF(AND(AF48="Status",OR(AF49="Res",AF49="MR",AF49="Disket",AF49="Udmeldt"),AF60=""),1,IF(AND(AF48="Status",AF49="",OR(AF60=1,AF60="x",AF60=2)),1,IF(AND(AF48="Status",AF49="",AF60=""),2,IF(AND(AF48<>"Status",AF49="",AF60=""),1,0)))) -> 1 | Q102: =IF(AND(AH48="Status",OR(AH49="Res",AH49="MR",AH49="Disket",AH49="Udmeldt"),AH60=""),1,IF(AND(AH48="Status",AH49="",OR(AH60=1,AH60="x",AH60=2)),1,IF(AND(AH48="Status",AH49="",AH60=""),2,IF(AND(AH48<>"Status",AH49="",AH60=""),1,0)))) -> 1 | R102: =IF(AND(AJ48="Status",OR(AJ49="Res",AJ49="MR",AJ49="Disket",AJ49="Udmeldt"),AJ60=""),1,IF(AND(AJ48="Status",AJ49="",OR(AJ60=1,AJ60="x",AJ60=2)),1,IF(AND(AJ48="Status",AJ49="",AJ60=""),2,IF(AND(AJ48<>"Status",AJ49="",AJ60=""),1,0)))) -> 1 | S102: =IF(AND(AL48="Status",OR(AL49="Res",AL49="MR",AL49="Disket",AL49="Udmeldt"),AL60=""),1,IF(AND(AL48="Status",AL49="",OR(AL60=1,AL60="x",AL60=2)),1,IF(AND(AL48="Status",AL49="",AL60=""),2,IF(AND(AL48<>"Status",AL49="",AL60=""),1,0)))) -> 1 | T102: =IF(AND(AN48="Status",OR(AN49="Res",AN49="MR",AN49="Disket",AN49="Udmeldt"),AN60=""),1,IF(AND(AN48="Status",AN49="",OR(AN60=1,AN60="x",AN60=2)),1,IF(AND(AN48="Status",AN49="",AN60=""),2,IF(AND(AN48<>"Status",AN49="",AN60=""),1,0)))) -> 1
A103: =IF(AND(B48="Status",OR(B49="Res",B49="MR",B49="Disket",B49="Udmeldt"),B61=""),1,IF(AND(B48="Status",B49="",OR(B61=1,B61="x",B61=2)),1,IF(AND(B48="Status",B49="",B61=""),2,IF(AND(B48<>"Status",B49="",B61=""),1,0)))) -> 1 | B103: =IF(AND(D48="Status",OR(D49="Res",D49="MR",D49="Disket",D49="Udmeldt"),D61=""),1,IF(AND(D48="Status",D49="",OR(D61=1,D61="x",D61=2)),1,IF(AND(D48="Status",D49="",D61=""),2,IF(AND(D48<>"Status",D49="",D61=""),1,0)))) -> 1 | C103: =IF(AND(F48="Status",OR(F49="Res",F49="MR",F49="Disket",F49="Udmeldt"),F61=""),1,IF(AND(F48="Status",F49="",OR(F61=1,F61="x",F61=2)),1,IF(AND(F48="Status",F49="",F61=""),2,IF(AND(F48<>"Status",F49="",F61=""),1,0)))) -> 1 | D103: =IF(AND(H48="Status",OR(H49="Res",H49="MR",H49="Disket",H49="Udmeldt"),H61=""),1,IF(AND(H48="Status",H49="",OR(H61=1,H61="x",H61=2)),1,IF(AND(H48="Status",H49="",H61=""),2,IF(AND(H48<>"Status",H49="",H61=""),1,0)))) -> 1 | E103: =IF(AND(J48="Status",OR(J49="Res",J49="MR",J49="Disket",J49="Udmeldt"),J61=""),1,IF(AND(J48="Status",J49="",OR(J61=1,J61="x",J61=2)),1,IF(AND(J48="Status",J49="",J61=""),2,IF(AND(J48<>"Status",J49="",J61=""),1,0)))) -> 1 | F103: =IF(AND(L48="Status",OR(L49="Res",L49="MR",L49="Disket",L49="Udmeldt"),L61=""),1,IF(AND(L48="Status",L49="",OR(L61=1,L61="x",L61=2)),1,IF(AND(L48="Status",L49="",L61=""),2,IF(AND(L48<>"Status",L49="",L61=""),1,0)))) -> 1 | G103: =IF(AND(N48="Status",OR(N49="Res",N49="MR",N49="Disket",N49="Udmeldt"),N61=""),1,IF(AND(N48="Status",N49="",OR(N61=1,N61="x",N61=2)),1,IF(AND(N48="Status",N49="",N61=""),2,IF(AND(N48<>"Status",N49="",N61=""),1,0)))) -> 1 | H103: =IF(AND(P48="Status",OR(P49="Res",P49="MR",P49="Disket",P49="Udmeldt"),P61=""),1,IF(AND(P48="Status",P49="",OR(P61=1,P61="x",P61=2)),1,IF(AND(P48="Status",P49="",P61=""),2,IF(AND(P48<>"Status",P49="",P61=""),1,0)))) -> 1 | I103: =IF(AND(R48="Status",OR(R49="Res",R49="MR",R49="Disket",R49="Udmeldt"),R61=""),1,IF(AND(R48="Status",R49="",OR(R61=1,R61="x",R61=2)),1,IF(AND(R48="Status",R49="",R61=""),2,IF(AND(R48<>"Status",R49="",R61=""),1,0)))) -> 1 | J103: =IF(AND(T48="Status",OR(T49="Res",T49="MR",T49="Disket",T49="Udmeldt"),T61=""),1,IF(AND(T48="Status",T49="",OR(T61=1,T61="x",T61=2)),1,IF(AND(T48="Status",T49="",T61=""),2,IF(AND(T48<>"Status",T49="",T61=""),1,0)))) -> 1 | K103: =IF(AND(V48="Status",OR(V49="Res",V49="MR",V49="Disket",V49="Udmeldt"),V61=""),1,IF(AND(V48="Status",V49="",OR(V61=1,V61="x",V61=2)),1,IF(AND(V48="Status",V49="",V61=""),2,IF(AND(V48<>"Status",V49="",V61=""),1,0)))) -> 1 | L103: =IF(AND(X48="Status",OR(X49="Res",X49="MR",X49="Disket",X49="Udmeldt"),X61=""),1,IF(AND(X48="Status",X49="",OR(X61=1,X61="x",X61=2)),1,IF(AND(X48="Status",X49="",X61=""),2,IF(AND(X48<>"Status",X49="",X61=""),1,0)))) -> 1 | M103: =IF(AND(Z48="Status",OR(Z49="Res",Z49="MR",Z49="Disket",Z49="Udmeldt"),Z61=""),1,IF(AND(Z48="Status",Z49="",OR(Z61=1,Z61="x",Z61=2)),1,IF(AND(Z48="Status",Z49="",Z61=""),2,IF(AND(Z48<>"Status",Z49="",Z61=""),1,0)))) -> 1 | N103: =IF(AND(AB48="Status",OR(AB49="Res",AB49="MR",AB49="Disket",AB49="Udmeldt"),AB61=""),1,IF(AND(AB48="Status",AB49="",OR(AB61=1,AB61="x",AB61=2)),1,IF(AND(AB48="Status",AB49="",AB61=""),2,IF(AND(AB48<>"Status",AB49="",AB61=""),1,0)))) -> 1 | O103: =IF(AND(AD48="Status",OR(AD49="Res",AD49="MR",AD49="Disket",AD49="Udmeldt"),AD61=""),1,IF(AND(AD48="Status",AD49="",OR(AD61=1,AD61="x",AD61=2)),1,IF(AND(AD48="Status",AD49="",AD61=""),2,IF(AND(AD48<>"Status",AD49="",AD61=""),1,0)))) -> 1 | P103: =IF(AND(AF48="Status",OR(AF49="Res",AF49="MR",AF49="Disket",AF49="Udmeldt"),AF61=""),1,IF(AND(AF48="Status",AF49="",OR(AF61=1,AF61="x",AF61=2)),1,IF(AND(AF48="Status",AF49="",AF61=""),2,IF(AND(AF48<>"Status",AF49="",AF61=""),1,0)))) -> 1 | Q103: =IF(AND(AH48="Status",OR(AH49="Res",AH49="MR",AH49="Disket",AH49="Udmeldt"),AH61=""),1,IF(AND(AH48="Status",AH49="",OR(AH61=1,AH61="x",AH61=2)),1,IF(AND(AH48="Status",AH49="",AH61=""),2,IF(AND(AH48<>"Status",AH49="",AH61=""),1,0)))) -> 1 | R103: =IF(AND(AJ48="Status",OR(AJ49="Res",AJ49="MR",AJ49="Disket",AJ49="Udmeldt"),AJ61=""),1,IF(AND(AJ48="Status",AJ49="",OR(AJ61=1,AJ61="x",AJ61=2)),1,IF(AND(AJ48="Status",AJ49="",AJ61=""),2,IF(AND(AJ48<>"Status",AJ49="",AJ61=""),1,0)))) -> 1 | S103: =IF(AND(AL48="Status",OR(AL49="Res",AL49="MR",AL49="Disket",AL49="Udmeldt"),AL61=""),1,IF(AND(AL48="Status",AL49="",OR(AL61=1,AL61="x",AL61=2)),1,IF(AND(AL48="Status",AL49="",AL61=""),2,IF(AND(AL48<>"Status",AL49="",AL61=""),1,0)))) -> 1 | T103: =IF(AND(AN48="Status",OR(AN49="Res",AN49="MR",AN49="Disket",AN49="Udmeldt"),AN61=""),1,IF(AND(AN48="Status",AN49="",OR(AN61=1,AN61="x",AN61=2)),1,IF(AND(AN48="Status",AN49="",AN61=""),2,IF(AND(AN48<>"Status",AN49="",AN61=""),1,0)))) -> 1
