Workbook

Sheet Kampe
A1: =CONCATENATE("Kampe - ",Rækker!B1) -> Kampe - Uge 43
B3: Hjemmehold | D3: Udehold
A5: 1. | B5: Arsenal | C5: - | D5: Everton
A6: 2. | B6: Coventry | C6: - | D6: Fulham
A7: 3. | B7: Blackburn | C7: - | D7: Wrexham
A8: 4. | B8: Cardiff | C8: - | D8: Birmingham
A9: 5. | B9: Lincoln | C9: - | D9: Burnley
A10: 6. | B10: Preston | C10: - | D10: West Bromwich
A11: 7. | B11: West Ham | C11: - | D11: Southampton
A12: 8. | B12: Stoke | C12: - | D12: Bristol C
A13: 9. | B13: Queens Park R | C13: - | D13: Swansea
A14: 10. | B14: Wolverhampton | C14: - | D14: Watford
A15: 11. | B15: Blackpool | C15: - | D15: Mansfield
A16: 12. | B16: Stevenage | C16: - | D16: Milton Keynes Dons
A17: 13. | B17: AFC Wimbledon | C17: - | D17: Wycombe
A19: N.B.: Holdnavne skal holdes inden for de grønne felter.

Sheet Rækker
B1: =CONCATENATE("Uge ",DB!B2) -> Uge 43
B3: 1. Division | D3: 1. Division | F3: 1. Division | H3: 1. Division | J3: 1. Division | L3: 1. Division | N3: 1. Division | P3: 1. Division | R3: 1. Division | T3: 1. Division | V3: 1. Division | X3: 1. Division | Z3: 1. Division | AB3: 1. Division | AD3: 1. Division | AF3: 1. Division | AH3: 1. Division | AJ3: 1. Division | AL3: 1. Division | AN3: 1. Division
B5: =DB!K6 -> Arsenal | D5: =DB!K7 -> Benbo | F5: =DB!K8 -> Canary | H5: =DB!K9 -> Chelsea | J5: =DB!K10 -> Cork | L5: =DB!K11 -> Flinca | N5: =DB!K12 -> Forest | P5: =DB!K13 -> Frydkær | R5: =DB!K14 -> Futte | T5: =DB!K15 -> Harry | V5: =DB!K17 -> Idskov | X5: =DB!K18 -> Murer | Z5: =DB!K19 -> Nuser | AB5: =DB!K20 -> Piquet | AD5: =DB!K21 -> Select | AF5: =DB!K22 -> SPVK | AH5: =DB!K23 -> Steam | AJ5: =DB!K24 -> Stoke | AL5: =DB!K25 -> Tynde | AN5: =DB!K26 -> United
B6: =IF(DB!M6=1,"Disket",IF(DB!O6=1,"Udmeldt","Status")) -> Status | D6: =IF(DB!M7=1,"Disket",IF(DB!O7=1,"Udmeldt","Status")) -> Status | F6: =IF(DB!M8=1,"Disket",IF(DB!O8=1,"Udmeldt","Status")) -> Status | H6: =IF(DB!M9=1,"Disket",IF(DB!O9=1,"Udmeldt","Status")) -> Status | J6: =IF(DB!M10=1,"Disket",IF(DB!O10=1,"Udmeldt","Status")) -> Status | L6: =IF(DB!M11=1,"Disket",IF(DB!O11=1,"Udmeldt","Status")) -> Status | N6: =IF(DB!M12=1,"Disket",IF(DB!O12=1,"Udmeldt","Status")) -> Status | P6: =IF(DB!M13=1,"Disket",IF(DB!O13=1,"Udmeldt","Status")) -> Status | R6: =IF(DB!M14=1,"Disket",IF(DB!O14=1,"Udmeldt","Status")) -> Status | T6: =IF(DB!M15=1,"Disket",IF(DB!O15=1,"Udmeldt","Status")) -> Status | V6: =IF(DB!M17=1,"Disket",IF(DB!O17=1,"Udmeldt","Status")) -> Status | X6: =IF(DB!M18=1,"Disket",IF(DB!O18=1,"Udmeldt","Status")) -> Status | Z6: =IF(DB!M19=1,"Disket",IF(DB!O19=1,"Udmeldt","Status")) -> Status | AB6: =IF(DB!M20=1,"Disket",IF(DB!O20=1,"Udmeldt","Status")) -> Status | AD6: =IF(DB!M21=1,"Disket",IF(DB!O21=1,"Udmeldt","Status")) -> Status | AF6: =IF(DB!M22=1,"Disket",IF(DB!O22=1,"Udmeldt","Status")) -> Status | AH6: =IF(DB!M23=1,"Disket",IF(DB!O23=1,"Udmeldt","Status")) -> Status | AJ6: =IF(DB!M24=1,"Disket",IF(DB!O24=1,"Udmeldt","Status")) -> Status | AL6: =IF(DB!M25=1,"Disket",IF(DB!O25=1,"Udmeldt","Status")) -> Status | AN6: =IF(DB!M26=1,"Disket",IF(DB!O26=1,"Udmeldt","Status")) -> Status
V7: Res
B8: Enkeltrække | D8: Enkeltrække | F8: Enkeltrække | H8: Enkeltrække | J8: Enkeltrække | L8: Enkeltrække | N8: Enkeltrække | P8: Enkeltrække | R8: Enkeltrække | T8: Enkeltrække | V8: Enkeltrække | X8: Enkeltrække | Z8: Enkeltrække | AB8: Enkeltrække | AD8: Enkeltrække | AF8: Enkeltrække | AH8: Enkeltrække | AJ8: Enkeltrække | AL8: Enkeltrække | AN8: Enkeltrække
A9: 1. | B9: 1 | C9: 1. | D9: 1 | E9: 1. | F9: 1 | G9: 1. | H9: 1 | I9: 1. | J9: 1 | K9: 1. | L9: 1 | M9: 1. | N9: 1 | O9: 1. | P9: 1 | Q9: 1. | R9: 1 | S9: 1. | T9: 1 | U9: 1. | W9: 1. | X9: 1 | Y9: 1. | Z9: 1 | AA9: 1. | AB9: 1 | AC9: 1. | AD9: 1 | AE9: 1. | AF9: 1 | AG9: 1. | AH9: 1 | AI9: 1. | AJ9: 1 | AK9: 1. | AL9: 1 | AM9: 1. | AN9: 1
A10: 2. | B10: 2 | C10: 2. | D10: 2 | E10: 2. | F10: 2 | G10: 2. | H10: 1 | I10: 2. | J10: 2 | K10: 2. | L10: 2 | M10: 2. | N10: x | O10: 2. | P10: 2 | Q10: 2. | R10: 1 | S10: 2. | T10: 2 | U10: 2. | W10: 2. | X10: 1 | Y10: 2. | Z10: 2 | AA10: 2. | AB10: x | AC10: 2. | AD10: 2 | AE10: 2. | AF10: x | AG10: 2. | AH10: 1 | AI10: 2. | AJ10: 2 | AK10: 2. | AL10: x | AM10: 2. | AN10: 2
A11: 3. | B11: 1 | C11: 3. | D11: x | E11: 3. | F11: x | G11: 3. | H11: 1 | I11: 3. | J11: x | K11: 3. | L11: x | M11: 3. | N11: 1 | O11: 3. | P11: 2 | Q11: 3. | R11: 2 | S11: 3. | T11: 1 | U11: 3. | W11: 3. | X11: 1 | Y11: 3. | Z11: 1 | AA11: 3. | AB11: 1 | AC11: 3. | AD11: x | AE11: 3. | AF11: 2 | AG11: 3. | AH11: 1 | AI11: 3. | AJ11: 2 | AK11: 3. | AL11: 1 | AM11: 3. | AN11: 2
A12: 4. | B12: 2 | C12: 4. | D12: 2 | E12: 4. | F12: 1 | G12: 4. | H12: 2 | I12: 4. | J12: 2 | K12: 4. | L12: 2 | M12: 4. | N12: 2 | O12: 4. | P12: 2 | Q12: 4. | R12: X | S12: 4. | T12: 1 | U12: 4. | W12: 4. | X12: 2 | Y12: 4. | Z12: 1 | AA12: 4. | AB12: 2 | AC12: 4. | AD12: 1 | AE12: 4. | AF12: 2 | AG12: 4. | AH12: x | AI12: 4. | AJ12: 2 | AK12: 4. | AL12: 2 | AM12: 4. | AN12: x
A13: 5. | B13: 2 | C13: 5. | D13: 2 | E13: 5. | F13: 2 | G13: 5. | H13: 2 | I13: 5. | J13: 2 | K13: 5. | L13: 2 | M13: 5. | N13: 2 | O13: 5. | P13: 2 | Q13: 5. | R13: 1 | S13: 5. | T13: 2 | U13: 5. | W13: 5. | X13: x | Y13: 5. | Z13: 2 | AA13: 5. | AB13: 1 | AC13: 5. | AD13: 2 | AE13: 5. | AF13: 2 | AG13: 5. | AH13: 2 | AI13: 5. | AJ13: x | AK13: 5. | AL13: 1 | AM13: 5. | AN13: 2
A14: 6. | B14: 2 | C14: 6. | D14: 2 | E14: 6. | F14: 2 | G14: 6. | H14: 2 | I14: 6. | J14: 2 | K14: 6. | L14: 2 | M14: 6. | N14: 2 | O14: 6. | P14: 2 | Q14: 6. | R14: 2 | S14: 6. | T14: 2 | U14: 6. | W14: 6. | X14: 2 | Y14: 6. | Z14: 2 | AA14: 6. | AB14: 2 | AC14: 6. | AD14: 2 | AE14: 6. | AF14: 2 | AG14: 6. | AH14: 2 | AI14: 6. | AJ14: 2 | AK14: 6. | AL14: 1 | AM14: 6. | AN14: 2
A15: 7. | B15: 1 | C15: 7. | D15: 1 | E15: 7. | F15: 1 | G15: 7. | H15: 1 | I15: 7. | J15: 1 | K15: 7. | L15: 1 | M15: 7. | N15: 1 | O15: 7. | P15: 1 | Q15: 7. | R15: 1 | S15: 7. | T15: 1 | U15: 7. | W15: 7. | X15: 1 | Y15: 7. | Z15: 1 | AA15: 7. | AB15: 1 | AC15: 7. | AD15: 1 | AE15: 7. | AF15: 1 | AG15: 7. | AH15: 1 | AI15: 7. | AJ15: 1 | AK15: 7. | AL15: 1 | AM15: 7. | AN15: 1
A16: 8. | B16: 1 | C16: 8. | D16: 1 | E16: 8. | F16: 1 | G16: 8. | H16: 1 | I16: 8. | J16: 1 | K16: 8. | L16: 1 | M16: 8. | N16: 1 | O16: 8. | P16: 1 | Q16: 8. | R16: 1 | S16: 8. | T16: 1 | U16: 8. | W16: 8. | X16: 1 | Y16: 8. | Z16: 1 | AA16: 8. | AB16: 1 | AC16: 8. | AD16: 1 | AE16: 8. | AF16: 1 | AG16: 8. | AH16: 1 | AI16: 8. | AJ16: 1 | AK16: 8. | AL16: 2 | AM16: 8. | AN16: 1
A17: 9. | B17: x | C17: 9. | D17: 2 | E17: 9. | F17: 1 | G17: 9. | H17: 2 | I17: 9. | J17: 1 | K17: 9. | L17: 1 | M17: 9. | N17: 1 | O17: 9. | P17: 2 | Q17: 9. | R17: 1 | S17: 9. | T17: x | U17: 9. | W17: 9. | X17: 2 | Y17: 9. | Z17: x | AA17: 9. | AB17: 1 | AC17: 9. | AD17: 1 | AE17: 9. | AF17: 1 | AG17: 9. | AH17: 2 | AI17: 9. | AJ17: 2 | AK17: 9. | AL17: 2 | AM17: 9. | AN17: 1
A18: 10. | B18: 1 | C18: 10. | D18: 1 | E18: 10. | F18: 1 | G18: 10. | H18: 1 | I18: 10. | J18: 1 | K18: 10. | L18: 1 | M18: 10. | N18: 1 | O18: 10. | P18: 1 | Q18: 10. | R18: 1 | S18: 10. | T18: 1 | U18: 10. | W18: 10. | X18: 1 | Y18: 10. | Z18: 1 | AA18: 10. | AB18: 1 | AC18: 10. | AD18: 1 | AE18: 10. | AF18: 1 | AG18: 10. | AH18: 1 | AI18: 10. | AJ18: 1 | AK18: 10. | AL18: 1 | AM18: 10. | AN18: 1
A19: 11. | B19: 2 | C19: 11. | D19: 2 | E19: 11. | F19: 2 | G19: 11. | H19: x | I19: 11. | J19: 2 | K19: 11. | L19: 2 | M19: 11. | N19: 2 | O19: 11. | P19: x | Q19: 11. | R19: 1 | S19: 11. | T19: 1 | U19: 11. | W19: 11. | X19: 1 | Y19: 11. | Z19: 1 | AA19: 11. | AB19: 1 | AC19: 11. | AD19: 2 | AE19: 11. | AF19: 2 | AG19: 11. | AH19: 1 | AI19: 11. | AJ19: 2 | AK19: 11. | AL19: 2 | AM19: 11. | AN19: 2
A20: 12. | B20: 1 | C20: 12. | D20: 1 | E20: 12. | F20: 1 | G20: 12. | H20: x | I20: 12. | J20: 1 | K20: 12. | L20: 1 | M20: 12. | N20: 1 | O20: 12. | P20: 1 | Q20: 12. | R20: 1 | S20: 12. | T20: 1 | U20: 12. | W20: 12. | X20: 1 | Y20: 12. | Z20: 1 | AA20: 12. | AB20: 1 | AC20: 12. | AD20: 1 | AE20: 12. | AF20: 1 | AG20: 12. | AH20: 1 | AI20: 12. | AJ20: 1 | AK20: 12. | AL20: 1 | AM20: 12. | AN20: 1
A21: 13. | B21: 2 | C21: 13. | D21: 2 | E21: 13. | F21: 2 | G21: 13. | H21: 2 | I21: 13. | J21: 2 | K21: 13. | L21: 2 | M21: 13. | N21: 2 | O21: 13. | P21: 2 | Q21: 13. | R21: 2 | S21: 13. | T21: 2 | U21: 13. | W21: 13. | X21: 2 | Y21: 13. | Z21: 2 | AA21: 13. | AB21: 1 | AC21: 13. | AD21: 2 | AE21: 13. | AF21: 2 | AG21: 13. | AH21: 1 | AI21: 13. | AJ21: 2 | AK21: 13. | AL21: 2 | AM21: 13. | AN21: 2
B22: =A78 -> OK | D22: =B78 -> OK | F22: =C78 -> OK | H22: =D78 -> OK | J22: =E78 -> OK | L22: =F78 -> OK | N22: =G78 -> OK | P22: =H78 -> OK | R22: =I78 -> OK | T22: =J78 -> OK | V22: =K78 -> OK | X22: =L78 -> OK | Z22: =M78 -> OK | AB22: =N78 -> OK | AD22: =O78 -> OK | AF22: =P78 -> OK | AH22: =Q78 -> OK | AJ22: =R78 -> OK | AL22: =S78 -> OK | AN22: =T78 -> OK
B24: 2. Division | D24: 2. Division | F24: 2. Division | H24: 2. Division | J24: 2. Division | L24: 2. Division | N24: 2. Division | P24: 2. Division | R24: 2. Division | T24: 2. Division | V24: 2. Division | X24: 2. Division | Z24: 2. Division | AB24: 2. Division | AD24: 2. Division | AF24: 2. Division | AH24: 2. Division | AJ24: 2. Division | AL24: 2. Division | AN24: 2. Division
B26: =DB!K28 -> Agger | D26: =DB!K29 -> Anderup | F26: =DB!K30 -> Cottee | H26: =DB!K31 -> Culopip | J26: =DB!K32 -> Degnen | L26: =DB!K33 -> Far | N26: =DB!K34 -> Fox | P26: =DB!K35 -> Halvor | R26: =DB!K36 -> Himbo | T26: =DB!K37 -> IANRUSH | V26: =DB!K39 -> Kailua | X26: =DB!K40 -> Kinks | Z26: =DB!K41 -> Laplace | AB26: =DB!K42 -> Lions | AD26: =DB!K43 -> Livpool | AF26: =DB!K44 -> MFP | AH26: =DB!K45 -> Nemelig | AJ26: =DB!K46 -> Percy | AL26: =DB!K47 -> Tøfting | AN26: =DB!K48 -> Zico
B27: =IF(DB!M28=1,"Disket",IF(DB!O28=1,"Udmeldt","Status")) -> Status | D27: =IF(DB!M29=1,"Disket",IF(DB!O29=1,"Udmeldt","Status")) -> Status | F27: =IF(DB!M30=1,"Disket",IF(DB!O30=1,"Udmeldt","Status")) -> Status | H27: =IF(DB!M31=1,"Disket",IF(DB!O31=1,"Udmeldt","Status")) -> Status | J27: =IF(DB!M32=1,"Disket",IF(DB!O32=1,"Udmeldt","Status")) -> Status | L27: =IF(DB!M33=1,"Disket",IF(DB!O33=1,"Udmeldt","Status")) -> Status | N27: =IF(DB!M34=1,"Disket",IF(DB!O34=1,"Udmeldt","Status")) -> Status | P27: =IF(DB!M35=1,"Disket",IF(DB!O35=1,"Udmeldt","Status")) -> Status | R27: =IF(DB!M36=1,"Disket",IF(DB!O36=1,"Udmeldt","Status")) -> Status | T27: =IF(DB!M37=1,"Disket",IF(DB!O37=1,"Udmeldt","Status")) -> Disket | V27: =IF(DB!M39=1,"Disket",IF(DB!O39=1,"Udmeldt","Status")) -> Status | X27: =IF(DB!M40=1,"Disket",IF(DB!O40=1,"Udmeldt","Status")) -> Status | Z27: =IF(DB!M41=1,"Disket",IF(DB!O41=1,"Udmeldt","Status")) -> Status | AB27: =IF(DB!M42=1,"Disket",IF(DB!O42=1,"Udmeldt","Status")) -> Status | AD27: =IF(DB!M43=1,"Disket",IF(DB!O43=1,"Udmeldt","Status")) -> Status | AF27: =IF(DB!M44=1,"Disket",IF(DB!O44=1,"Udmeldt","Status")) -> Status | AH27: =IF(DB!M45=1,"Disket",IF(DB!O45=1,"Udmeldt","Status")) -> Status | AJ27: =IF(DB!M46=1,"Disket",IF(DB!O46=1,"Udmeldt","Status")) -> Status | AL27: =IF(DB!M47=1,"Disket",IF(DB!O47=1,"Udmeldt","Status")) -> Status | AN27: =IF(DB!M48=1,"Disket",IF(DB!O48=1,"Udmeldt","Status")) -> Status
B29: Enkeltrække | D29: Enkeltrække | F29: Enkeltrække | H29: Enkeltrække | J29: Enkeltrække | L29: Enkeltrække | N29: Enkeltrække | P29: Enkeltrække | R29: Enkeltrække | T29: Enkeltrække | V29: Enkeltrække | X29: Enkeltrække | Z29: Enkeltrække | AB29: Enkeltrække | AD29: Enkeltrække | AF29: Enkeltrække | AH29: Enkeltrække | AJ29: Enkeltrække | AL29: Enkeltrække | AN29: Enkeltrække
A30: 1. | B30: 1 | C30: 1. | D30: 1 | E30: 1. | F30: 1 | G30: 1. | H30: 1 | I30: 1. | J30: 1 | K30: 1. | L30: 1 | M30: 1. | N30: 1 | O30: 1. | P30: 1 | Q30: 1. | R30: 1 | S30: 1. | U30: 1. | V30: 1 | W30: 1. | X30: 1 | Y30: 1. | Z30: 1 | AA30: 1. | AB30: 1 | AC30: 1. | AD30: 1 | AE30: 1. | AF30: 1 | AG30: 1. | AH30: 1 | AI30: 1. | AJ30: 1 | AK30: 1. | AL30: 1 | AM30: 1. | AN30: 1
A31: 2. | B31: x | C31: 2. | D31: 1 | E31: 2. | F31: x | G31: 2. | H31: 2 | I31: 2. | J31: 2 | K31: 2. | L31: 2 | M31: 2. | N31: x | O31: 2. | P31: 1 | Q31: 2. | R31: x | S31: 2. | U31: 2. | V31: 1 | W31: 2. | X31: 2 | Y31: 2. | Z31: 1 | AA31: 2. | AB31: 1 | AC31: 2. | AD31: x | AE31: 2. | AF31: x | AG31: 2. | AH31: x | AI31: 2. | AJ31: 2 | AK31: 2. | AL31: 1 | AM31: 2. | AN31: 2
A32: 3. | B32: 1 | C32: 3. | D32: 1 | E32: 3. | F32: 1 | G32: 3. | H32: x | I32: 3. | J32: x | K32: 3. | L32: 1 | M32: 3. | N32: 1 | O32: 3. | P32: 1 | Q32: 3. | R32: 1 | S32: 3. | U32: 3. | V32: x | W32: 3. | X32: x | Y32: 3. | Z32: 2 | AA32: 3. | AB32: 2 | AC32: 3. | AD32: x | AE32: 3. | AF32: 2 | AG32: 3. | AH32: 1 | AI32: 3. | AJ32: 2 | AK32: 3. | AL32: 1 | AM32: 3. | AN32: 1
A33: 4. | B33: 2 | C33: 4. | D33: x | E33: 4. | F33: 2 | G33: 4. | H33: 2 | I33: 4. | J33: 2 | K33: 4. | L33: 2 | M33: 4. | N33: 2 | O33: 4. | P33: 2 | Q33: 4. | R33: 1 | S33: 4. | U33: 4. | V33: 2 | W33: 4. | X33: 2 | Y33: 4. | Z33: x | AA33: 4. | AB33: X | AC33: 4. | AD33: 2 | AE33: 4. | AF33: 1 | AG33: 4. | AH33: 2 | AI33: 4. | AJ33: 1 | AK33: 4. | AL33: 2 | AM33: 4. | AN33: 2
A34: 5. | B34: 2 | C34: 5. | D34: 2 | E34: 5. | F34: 2 | G34: 5. | H34: 2 | I34: 5. | J34: 2 | K34: 5. | L34: 2 | M34: 5. | N34: 1 | O34: 5. | P34: 2 | Q34: 5. | R34: 2 | S34: 5. | U34: 5. | V34: 2 | W34: 5. | X34: 2 | Y34: 5. | Z34: 2 | AA34: 5. | AB34: 1 | AC34: 5. | AD34: 2 | AE34: 5. | AF34: 2 | AG34: 5. | AH34: 2 | AI34: 5. | AJ34: 2 | AK34: 5. | AL34: 2 | AM34: 5. | AN34: 2
A35: 6. | B35: 2 | C35: 6. | D35: 2 | E35: 6. | F35: 2 | G35: 6. | H35: 2 | I35: 6. | J35: 2 | K35: 6. | L35: 2 | M35: 6. | N35: 2 | O35: 6. | P35: 2 | Q35: 6. | R35: 2 | S35: 6. | U35: 6. | V35: 2 | W35: 6. | X35: 2 | Y35: 6. | Z35: 2 | AA35: 6. | AB35: 2 | AC35: 6. | AD35: 2 | AE35: 6. | AF35: 2 | AG35: 6. | AH35: 2 | AI35: 6. | AJ35: 2 | AK35: 6. | AL35: 2 | AM35: 6. | AN35: 2
A36: 7. | B36: 1 | C36: 7. | D36: 1 | E36: 7. | F36: 1 | G36: 7. | H36: 1 | I36: 7. | J36: 1 | K36: 7. | L36: 1 | M36: 7. | N36: 1 | O36: 7. | P36: 1 | Q36: 7. | R36: 1 | S36: 7. | U36: 7. | V36: 1 | W36: 7. | X36: 1 | Y36: 7. | Z36: 1 | AA36: 7. | AB36: 1 | AC36: 7. | AD36: 1 | AE36: 7. | AF36: 1 | AG36: 7. | AH36: 1 | AI36: 7. | AJ36: 1 | AK36: 7. | AL36: 1 | AM36: 7. | AN36: 1
A37: 8. | B37: 1 | C37: 8. | D37: 1 | E37: 8. | F37: 1 | G37: 8. | H37: 1 | I37: 8. | J37: 1 | K37: 8. | L37: 1 | M37: 8. | N37: 1 | O37: 8. | P37: 1 | Q37: 8. | R37: 1 | S37: 8. | U37: 8. | V37: 1 | W37: 8. | X37: 1 | Y37: 8. | Z37: 1 | AA37: 8. | AB37: 1 | AC37: 8. | AD37: 1 | AE37: 8. | AF37: 1 | AG37: 8. | AH37: 1 | AI37: 8. | AJ37: 1 | AK37: 8. | AL37: 1 | AM37: 8. | AN37: 1
A38: 9. | B38: 2 | C38: 9. | D38: 2 | E38: 9. | F38: 2 | G38: 9. | H38: 1 | I38: 9. | J38: 1 | K38: 9. | L38: x | M38: 9. | N38: 1 | O38: 9. | P38: 2 | Q38: 9. | R38: 2 | S38: 9. | U38: 9. | V38: 2 | W38: 9. | X38: 1 | Y38: 9. | Z38: 1 | AA38: 9. | AB38: 1 | AC38: 9. | AD38: x | AE38: 9. | AF38: 1 | AG38: 9. | AH38: 2 | AI38: 9. | AJ38: x | AK38: 9. | AL38: 2 | AM38: 9. | AN38: x
A39: 10. | B39: 1 | C39: 10. | D39: 1 | E39: 10. | F39: 1 | G39: 10. | H39: 1 | I39: 10. | J39: 1 | K39: 10. | L39: 1 | M39: 10. | N39: 1 | O39: 10. | P39: 1 | Q39: 10. | R39: 1 | S39: 10. | U39: 10. | V39: 1 | W39: 10. | X39: 1 | Y39: 10. | Z39: 1 | AA39: 10. | AB39: 1 | AC39: 10. | AD39: 1 | AE39: 10. | AF39: 1 | AG39: 10. | AH39: 1 | AI39: 10. | AJ39: 1 | AK39: 10. | AL39: 1 | AM39: 10. | AN39: 1
A40: 11. | B40: 1 | C40: 11. | D40: 1 | E40: 11. | F40: 2 | G40: 11. | H40: x | I40: 11. | J40: 1 | K40: 11. | L40: 1 | M40: 11. | N40: 1 | O40: 11. | P40: 1 | Q40: 11. | R40: 1 | S40: 11. | U40: 11. | V40: 1 | W40: 11. | X40: 1 | Y40: 11. | Z40: 1 | AA40: 11. | AB40: 1 | AC40: 11. | AD40: 1 | AE40: 11. | AF40: 1 | AG40: 11. | AH40: 2 | AI40: 11. | AJ40: 1 | AK40: 11. | AL40: 1 | AM40: 11. | AN40: x
A41: 12. | B41: 1 | C41: 12. | D41: 1 | E41: 12. | F41: 1 | G41: 12. | H41: 1 | I41: 12. | J41: 1 | K41: 12. | L41: 1 | M41: 12. | N41: 1 | O41: 12. | P41: x | Q41: 12. | R41: 1 | S41: 12. | U41: 12. | V41: 1 | W41: 12. | X41: 1 | Y41: 12. | Z41: 1 | AA41: 12. | AB41: 1 | AC41: 12. | AD41: 1 | AE41: 12. | AF41: 1 | AG41: 12. | AH41: 1 | AI41: 12. | AJ41: 1 | AK41: 12. | AL41: x | AM41: 12. | AN41: 1
A42: 13. | B42: 2 | C42: 13. | D42: 2 | E42: 13. | F42: 2 | G42: 13. | H42: 2 | I42: 13. | J42: 2 | K42: 13. | L42: 2 | M42: 13. | N42: 1 | O42: 13. | P42: 2 | Q42: 13. | R42: x | S42: 13. | U42: 13. | V42: 2 | W42: 13. | X42: 2 | Y42: 13. | Z42: 2 | AA42: 13. | AB42: 2 | AC42: 13. | AD42: 2 | AE42: 13. | AF42: 2 | AG42: 13. | AH42: 2 | AI42: 13. | AJ42: 2 | AK42: 13. | AL42: 2 | AM42: 13. | AN42: 2
B43: =A92 -> OK | D43: =B92 -> OK | F43: =C92 -> OK | H43: =D92 -> OK | J43: =E92 -> OK | L43: =F92 -> OK | N43: =G92 -> OK | P43: =H92 -> OK | R43: =I92 -> OK | T43: =J92 -> OK | V43: =K92 -> OK | X43: =L92 -> OK | Z43: =M92 -> OK | AB43: =N92 -> OK | AD43: =O92 -> OK | AF43: =P92 -> OK | AH43: =Q92 -> OK | AJ43: =R92 -> OK | AL43: =S92 -> OK | AN43: =T92 -> OK
B45: 3. Division | D45: 3. Division | F45: 3. Division | H45: 3. Division | J45: 3. Division | L45: 3. Division | N45: 3. Division | P45: 3. Division | R45: 3. Division | T45: 3. Division | V45: 3. Division | X45: 3. Division | Z45: 3. Division | AB45: 3. Division | AD45: 3. Division | AF45: 3. Division | AH45: 3. Division | AJ45: 3. Division | AL45: 3. Division | AN45: 3. Division
B47: =DB!K50 -> Anfield | D47: =DB!K51 -> brula | F47: =DB!K52 -> Gunners | H47: =DB!K53 -> Hede | J47: =DB!K54 -> Højgård | L47: =DB!K55 -> Håvard | N47: =DB!K56 -> Kudsken | P47: =DB!K57 -> LPHJ | R47: =DB!K58 -> Lucky | T47: =DB!K59 -> LUFCMOT | V47: =DB!K61 -> Magpies | X47: =DB!K62 -> Mauer | Z47: =DB!K63 -> McCoist | AB47: =DB!K64 -> Nielsen | AD47: =DB!K65 -> Randers | AF47: =DB!K66 -> Schøn | AH47: =DB!K67 -> Sebjoh | AJ47: =DB!K68 -> Sergio | AL47: =DB!K69 -> Søknud | AN47: =DB!K70 -> ÅZÆTZØW
...

Sheet 1. Division
A1: =CONCATENATE(DB!D2,"."," runde") -> 2. runde | I1: =CONCATENATE("Lund's Ligaturnering ",DB!B1) -> Lund's Ligaturnering 2026 | BR1: 1. Division | CG1: =IF(H11=1,1,IF(H11="x",1,IF(H11=2,1,0))) -> 1 | CH1: =IF(I9="",CM14,0) -> 5 | CI1: =IF(I9="",1,0) -> 1 | CJ1: =IF(J3=DB!K6,DB!W6,IF(J3=DB!K7,DB!W7,IF(J3=DB!K8,DB!W8,IF(J3=DB!K9,DB!W9,IF(J3=DB!K10,DB!W10,IF(J3=DB!K11,DB!W11,IF(J3=DB!K12,DB!W12,IF(J3=DB!K13,DB!W13,CK1)))))))) | CK1: =IF(J3=DB!K14,DB!W14,IF(J3=DB!K15,DB!W15,IF(J3=DB!K17,DB!W17,IF(J3=DB!K18,DB!W18,IF(J3=DB!K19,DB!W19,IF(J3=DB!K20,DB!W20,IF(J3=DB!K21,DB!W21,IF(J3=DB!K22,DB!W22,CL1)))))))) | CL1: =IF(J3=DB!K23,DB!W23,IF(J3=DB!K24,DB!W24,IF(J3=DB!K25,DB!W25,DB!W26))) | CM1: =IF(J3=Rækker!B5,Rækker!B9,IF(J3=Rækker!D5,Rækker!D9,IF(J3=Rækker!F5,Rækker!F9,IF(J3=Rækker!H5,Rækker!H9,IF(J3=Rækker!J5,Rækker!J9,IF(J3=Rækker!L5,Rækker!L9,IF(J3=Rækker!N5,Rækker!N9,IF(J3=Rækker!P5,Rækker!P9,CN1)))))))) -> 1 | CN1: =IF(J3=Rækker!R5,Rækker!R9,IF(J3=Rækker!T5,Rækker!T9,IF(J3=Rækker!V5,Rækker!V9,IF(J3=Rækker!X5,Rækker!X9,IF(J3=Rækker!Z5,Rækker!Z9,IF(J3=Rækker!AB5,Rækker!AB9,IF(J3=Rækker!AD5,Rækker!AD9,IF(J3=Rækker!AF5,Rækker!AF9,CO1)))))))) -> 0 | CO1: =IF(J3=Rækker!AH5,Rækker!AH9,IF(J3=Rækker!AJ5,Rækker!AJ9,IF(J3=Rækker!AL5,Rækker!AL9,IF(J3=Rækker!AN5,Rækker!AN9,0)))) -> 0 | CP1: =IF(P3=Rækker!B5,Rækker!B9,IF(P3=Rækker!D5,Rækker!D9,IF(P3=Rækker!F5,Rækker!F9,IF(P3=Rækker!H5,Rækker!H9,IF(P3=Rækker!J5,Rækker!J9,IF(P3=Rækker!L5,Rækker!L9,IF(P3=Rækker!N5,Rækker!N9,IF(P3=Rækker!P5,Rækker!P9,CQ1)))))))) -> 1 | CQ1: =IF(P3=Rækker!R5,Rækker!R9,IF(P3=Rækker!T5,Rækker!T9,IF(P3=Rækker!V5,Rækker!V9,IF(P3=Rækker!X5,Rækker!X9,IF(P3=Rækker!Z5,Rækker!Z9,IF(P3=Rækker!AB5,Rækker!AB9,IF(P3=Rækker!AD5,Rækker!AD9,IF(P3=Rækker!AF5,Rækker!AF9,CR1)))))))) -> 1 | CR1: =IF(P3=Rækker!AH5,Rækker!AH9,IF(P3=Rækker!AJ5,Rækker!AJ9,IF(P3=Rækker!AL5,Rækker!AL9,IF(P3=Rækker!AN5,Rækker!AN9,0)))) -> 0 | CS1: =IF(V3=Rækker!B5,Rækker!B9,IF(V3=Rækker!D5,Rækker!D9,IF(V3=Rækker!F5,Rækker!F9,IF(V3=Rækker!H5,Rækker!H9,IF(V3=Rækker!J5,Rækker!J9,IF(V3=Rækker!L5,Rækker!L9,IF(V3=Rækker!N5,Rækker!N9,IF(V3=Rækker!P5,Rækker!P9,CT1)))))))) -> 1 | CT1: =IF(V3=Rækker!R5,Rækker!R9,IF(V3=Rækker!T5,Rækker!T9,IF(V3=Rækker!V5,Rækker!V9,IF(V3=Rækker!X5,Rækker!X9,IF(V3=Rækker!Z5,Rækker!Z9,IF(V3=Rækker!AB5,Rækker!AB9,IF(V3=Rækker!AD5,Rækker!AD9,IF(V3=Rækker!AF5,Rækker!AF9,CU1)))))))) -> 1 | CU1: =IF(V3=Rækker!AH5,Rækker!AH9,IF(V3=Rækker!AJ5,Rækker!AJ9,IF(V3=Rækker!AL5,Rækker!AL9,IF(V3=Rækker!AN5,Rækker!AN9,0)))) -> 0 | CV1: =IF(AB3=Rækker!B5,Rækker!B9,IF(AB3=Rækker!D5,Rækker!D9,IF(AB3=Rækker!F5,Rækker!F9,IF(AB3=Rækker!H5,Rækker!H9,IF(AB3=Rækker!J5,Rækker!J9,IF(AB3=Rækker!L5,Rækker!L9,IF(AB3=Rækker!N5,Rækker!N9,IF(AB3=Rækker!P5,Rækker!P9,CW1)))))))) -> 1 | CW1: =IF(AB3=Rækker!R5,Rækker!R9,IF(AB3=Rækker!T5,Rækker!T9,IF(AB3=Rækker!V5,Rækker!V9,IF(AB3=Rækker!X5,Rækker!X9,IF(AB3=Rækker!Z5,Rækker!Z9,IF(AB3=Rækker!AB5,Rækker!AB9,IF(AB3=Rækker!AD5,Rækker!AD9,IF(AB3=Rækker!AF5,Rækker!AF9,CX1)))))))) -> 0 | CX1: =IF(AB3=Rækker!AH5,Rækker!AH9,IF(AB3=Rækker!AJ5,Rækker!AJ9,IF(AB3=Rækker!AL5,Rækker!AL9,IF(AB3=Rækker!AN5,Rækker!AN9,0)))) -> 0 | CY1: =IF(AH3=Rækker!B5,Rækker!B9,IF(AH3=Rækker!D5,Rækker!D9,IF(AH3=Rækker!F5,Rækker!F9,IF(AH3=Rækker!H5,Rækker!H9,IF(AH3=Rækker!J5,Rækker!J9,IF(AH3=Rækker!L5,Rækker!L9,IF(AH3=Rækker!N5,Rækker!N9,IF(AH3=Rækker!P5,Rækker!P9,CZ1)))))))) -> 1 | CZ1: =IF(AH3=Rækker!R5,Rækker!R9,IF(AH3=Rækker!T5,Rækker!T9,IF(AH3=Rækker!V5,Rækker!V9,IF(AH3=Rækker!X5,Rækker!X9,IF(AH3=Rækker!Z5,Rækker!Z9,IF(AH3=Rækker!AB5,Rækker!AB9,IF(AH3=Rækker!AD5,Rækker!AD9,IF(AH3=Rækker!AF5,Rækker!AF9,DA1)))))))) -> 0 | DA1: =IF(AH3=Rækker!AH5,Rækker!AH9,IF(AH3=Rækker!AJ5,Rækker!AJ9,IF(AH3=Rækker!AL5,Rækker!AL9,IF(AH3=Rækker!AN5,Rækker!AN9,0)))) -> 0 | DB1: =IF(AN3=Rækker!B5,Rækker!B9,IF(AN3=Rækker!D5,Rækker!D9,IF(AN3=Rækker!F5,Rækker!F9,IF(AN3=Rækker!H5,Rækker!H9,IF(AN3=Rækker!J5,Rækker!J9,IF(AN3=Rækker!L5,Rækker!L9,IF(AN3=Rækker!N5,Rækker!N9,IF(AN3=Rækker!P5,Rækker!P9,DC1)))))))) -> 0 | DC1: =IF(AN3=Rækker!R5,Rækker!R9,IF(AN3=Rækker!T5,Rækker!T9,IF(AN3=Rækker!V5,Rækker!V9,IF(AN3=Rækker!X5,Rækker!X9,IF(AN3=Rækker!Z5,Rækker!Z9,IF(AN3=Rækker!AB5,Rækker!AB9,IF(AN3=Rækker!AD5,Rækker!AD9,IF(AN3=Rækker!AF5,Rækker!AF9,DD1)))))))) -> 0 | DD1: =IF(AN3=Rækker!AH5,Rækker!AH9,IF(AN3=Rækker!AJ5,Rækker!AJ9,IF(AN3=Rækker!AL5,Rækker!AL9,IF(AN3=Rækker!AN5,Rækker!AN9,0)))) -> 0 | DE1: =IF(AT3=Rækker!B5,Rækker!B9,IF(AT3=Rækker!D5,Rækker!D9,IF(AT3=Rækker!F5,Rækker!F9,IF(AT3=Rækker!H5,Rækker!H9,IF(AT3=Rækker!J5,Rækker!J9,IF(AT3=Rækker!L5,Rækker!L9,IF(AT3=Rækker!N5,Rækker!N9,IF(AT3=Rækker!P5,Rækker!P9,DF1)))))))) -> 1 | DF1: =IF(AT3=Rækker!R5,Rækker!R9,IF(AT3=Rækker!T5,Rækker!T9,IF(AT3=Rækker!V5,Rækker!V9,IF(AT3=Rækker!X5,Rækker!X9,IF(AT3=Rækker!Z5,Rækker!Z9,IF(AT3=Rækker!AB5,Rækker!AB9,IF(AT3=Rækker!AD5,Rækker!AD9,IF(AT3=Rækker!AF5,Rækker!AF9,DG1)))))))) -> 1 | DG1: =IF(AT3=Rækker!AH5,Rækker!AH9,IF(AT3=Rækker!AJ5,Rækker!AJ9,IF(AT3=Rækker!AL5,Rækker!AL9,IF(AT3=Rækker!AN5,Rækker!AN9,0)))) -> 1 | DH1: =IF(AZ3=Rækker!B5,Rækker!B9,IF(AZ3=Rækker!D5,Rækker!D9,IF(AZ3=Rækker!F5,Rækker!F9,IF(AZ3=Rækker!H5,Rækker!H9,IF(AZ3=Rækker!J5,Rækker!J9,IF(AZ3=Rækker!L5,Rækker!L9,IF(AZ3=Rækker!N5,Rækker!N9,IF(AZ3=Rækker!P5,Rækker!P9,DI1)))))))) -> 1 | DI1: =IF(AZ3=Rækker!R5,Rækker!R9,IF(AZ3=Rækker!T5,Rækker!T9,IF(AZ3=Rækker!V5,Rækker!V9,IF(AZ3=Rækker!X5,Rækker!X9,IF(AZ3=Rækker!Z5,Rækker!Z9,IF(AZ3=Rækker!AB5,Rækker!AB9,IF(AZ3=Rækker!AD5,Rækker!AD9,IF(AZ3=Rækker!AF5,Rækker!AF9,DJ1)))))))) -> 0 | DJ1: =IF(AZ3=Rækker!AH5,Rækker!AH9,IF(AZ3=Rækker!AJ5,Rækker!AJ9,IF(AZ3=Rækker!AL5,Rækker!AL9,IF(AZ3=Rækker!AN5,Rækker!AN9,0)))) -> 0 | DK1: =IF(BF3=Rækker!B5,Rækker!B9,IF(BF3=Rækker!D5,Rækker!D9,IF(BF3=Rækker!F5,Rækker!F9,IF(BF3=Rækker!H5,Rækker!H9,IF(BF3=Rækker!J5,Rækker!J9,IF(BF3=Rækker!L5,Rækker!L9,IF(BF3=Rækker!N5,Rækker!N9,IF(BF3=Rækker!P5,Rækker!P9,DL1)))))))) -> 1 | DL1: =IF(BF3=Rækker!R5,Rækker!R9,IF(BF3=Rækker!T5,Rækker!T9,IF(BF3=Rækker!V5,Rækker!V9,IF(BF3=Rækker!X5,Rækker!X9,IF(BF3=Rækker!Z5,Rækker!Z9,IF(BF3=Rækker!AB5,Rækker!AB9,IF(BF3=Rækker!AD5,Rækker!AD9,IF(BF3=Rækker!AF5,Rækker!AF9,DM1)))))))) -> 0 | DM1: =IF(BF3=Rækker!AH5,Rækker!AH9,IF(BF3=Rækker!AJ5,Rækker!AJ9,IF(BF3=Rækker!AL5,Rækker!AL9,IF(BF3=Rækker!AN5,Rækker!AN9,0)))) -> 0 | DN1: =IF(BL3=Rækker!B5,Rækker!B9,IF(BL3=Rækker!D5,Rækker!D9,IF(BL3=Rækker!F5,Rækker!F9,IF(BL3=Rækker!H5,Rækker!H9,IF(BL3=Rækker!J5,Rækker!J9,IF(BL3=Rækker!L5,Rækker!L9,IF(BL3=Rækker!N5,Rækker!N9,IF(BL3=Rækker!P5,Rækker!P9,DO1)))))))) -> 1 | DO1: =IF(BL3=Rækker!R5,Rækker!R9,IF(BL3=Rækker!T5,Rækker!T9,IF(BL3=Rækker!V5,Rækker!V9,IF(BL3=Rækker!X5,Rækker!X9,IF(BL3=Rækker!Z5,Rækker!Z9,IF(BL3=Rækker!AB5,Rækker!AB9,IF(BL3=Rækker!AD5,Rækker!AD9,IF(BL3=Rækker!AF5,Rækker!AF9,DP1)))))))) -> 1 | DP1: =IF(BL3=Rækker!AH5,Rækker!AH9,IF(BL3=Rækker!AJ5,Rækker!AJ9,IF(BL3=Rækker!AL5,Rækker!AL9,IF(BL3=Rækker!AN5,Rækker!AN9,0)))) -> 0
CG2: =IF(H12=1,1,IF(H12="x",1,IF(H12=2,1,0))) -> 1 | CH2: =IF(O9="",CP14,0) -> 5 | CI2: =IF(O9="",1,0) -> 1 | CJ2: =IF(P3=DB!K6,DB!W6,IF(P3=DB!K7,DB!W7,IF(P3=DB!K8,DB!W8,IF(P3=DB!K9,DB!W9,IF(P3=DB!K10,DB!W10,IF(P3=DB!K11,DB!W11,IF(P3=DB!K12,DB!W12,IF(P3=DB!K13,DB!W13,CK2)))))))) | CK2: =IF(P3=DB!K14,DB!W14,IF(P3=DB!K15,DB!W15,IF(P3=DB!K17,DB!W17,IF(P3=DB!K18,DB!W18,IF(P3=DB!K19,DB!W19,IF(P3=DB!K20,DB!W20,IF(P3=DB!K21,DB!W21,IF(P3=DB!K22,DB!W22,CL2)))))))) | CL2: =IF(P3=DB!K23,DB!W23,IF(P3=DB!K24,DB!W24,IF(P3=DB!K25,DB!W25,DB!W26))) | CM2: =IF(J3=Rækker!B5,Rækker!B10,IF(J3=Rækker!D5,Rækker!D10,IF(J3=Rækker!F5,Rækker!F10,IF(J3=Rækker!H5,Rækker!H10,IF(J3=Rækker!J5,Rækker!J10,IF(J3=Rækker!L5,Rækker!L10,IF(J3=Rækker!N5,Rækker!N10,IF(J3=Rækker!P5,Rækker!P10,CN2)))))))) -> 2 | CN2: =IF(J3=Rækker!R5,Rækker!R10,IF(J3=Rækker!T5,Rækker!T10,IF(J3=Rækker!V5,Rækker!V10,IF(J3=Rækker!X5,Rækker!X10,IF(J3=Rækker!Z5,Rækker!Z10,IF(J3=Rækker!AB5,Rækker!AB10,IF(J3=Rækker!AD5,Rækker!AD10,IF(J3=Rækker!AF5,Rækker!AF10,CO2)))))))) -> 0 | CO2: =IF(J3=Rækker!AH5,Rækker!AH10,IF(J3=Rækker!AJ5,Rækker!AJ10,IF(J3=Rækker!AL5,Rækker!AL10,IF(J3=Rækker!AN5,Rækker!AN10,0)))) -> 0 | CP2: =IF(P3=Rækker!B5,Rækker!B10,IF(P3=Rækker!D5,Rækker!D10,IF(P3=Rækker!F5,Rækker!F10,IF(P3=Rækker!H5,Rækker!H10,IF(P3=Rækker!J5,Rækker!J10,IF(P3=Rækker!L5,Rækker!L10,IF(P3=Rækker!N5,Rækker!N10,IF(P3=Rækker!P5,Rækker!P10,CQ2)))))))) -> x | CQ2: =IF(P3=Rækker!R5,Rækker!R10,IF(P3=Rækker!T5,Rækker!T10,IF(P3=Rækker!V5,Rækker!V10,IF(P3=Rækker!X5,Rækker!X10,IF(P3=Rækker!Z5,Rækker!Z10,IF(P3=Rækker!AB5,Rækker!AB10,IF(P3=Rækker!AD5,Rækker!AD10,IF(P3=Rækker!AF5,Rækker!AF10,CR2)))))))) -> x | CR2: =IF(P3=Rækker!AH5,Rækker!AH10,IF(P3=Rækker!AJ5,Rækker!AJ10,IF(P3=Rækker!AL5,Rækker!AL10,IF(P3=Rækker!AN5,Rækker!AN10,0)))) -> 0 | CS2: =IF(V3=Rækker!B5,Rækker!B10,IF(V3=Rækker!D5,Rækker!D10,IF(V3=Rækker!F5,Rækker!F10,IF(V3=Rækker!H5,Rækker!H10,IF(V3=Rækker!J5,Rækker!J10,IF(V3=Rækker!L5,Rækker!L10,IF(V3=Rækker!N5,Rækker!N10,IF(V3=Rækker!P5,Rækker!P10,CT2)))))))) -> 2 | CT2: =IF(V3=Rækker!R5,Rækker!R10,IF(V3=Rækker!T5,Rækker!T10,IF(V3=Rækker!V5,Rækker!V10,IF(V3=Rækker!X5,Rækker!X10,IF(V3=Rækker!Z5,Rækker!Z10,IF(V3=Rækker!AB5,Rækker!AB10,IF(V3=Rækker!AD5,Rækker!AD10,IF(V3=Rækker!AF5,Rækker!AF10,CU2)))))))) -> 2 | CU2: =IF(V3=Rækker!AH5,Rækker!AH10,IF(V3=Rækker!AJ5,Rækker!AJ10,IF(V3=Rækker!AL5,Rækker!AL10,IF(V3=Rækker!AN5,Rækker!AN10,0)))) -> 0 | CV2: =IF(AB3=Rækker!B5,Rækker!B10,IF(AB3=Rækker!D5,Rækker!D10,IF(AB3=Rækker!F5,Rækker!F10,IF(AB3=Rækker!H5,Rækker!H10,IF(AB3=Rækker!J5,Rækker!J10,IF(AB3=Rækker!L5,Rækker!L10,IF(AB3=Rækker!N5,Rækker!N10,IF(AB3=Rækker!P5,Rækker!P10,CW2)))))))) -> 2 | CW2: =IF(AB3=Rækker!R5,Rækker!R10,IF(AB3=Rækker!T5,Rækker!T10,IF(AB3=Rækker!V5,Rækker!V10,IF(AB3=Rækker!X5,Rækker!X10,IF(AB3=Rækker!Z5,Rækker!Z10,IF(AB3=Rækker!AB5,Rækker!AB10,IF(AB3=Rækker!AD5,Rækker!AD10,IF(AB3=Rækker!AF5,Rækker!AF10,CX2)))))))) -> 0 | CX2: =IF(AB3=Rækker!AH5,Rækker!AH10,IF(AB3=Rækker!AJ5,Rækker!AJ10,IF(AB3=Rækker!AL5,Rækker!AL10,IF(AB3=Rækker!AN5,Rækker!AN10,0)))) -> 0 | CY2: =IF(AH3=Rækker!B5,Rækker!B10,IF(AH3=Rækker!D5,Rækker!D10,IF(AH3=Rækker!F5,Rækker!F10,IF(AH3=Rækker!H5,Rækker!H10,IF(AH3=Rækker!J5,Rækker!J10,IF(AH3=Rækker!L5,Rækker!L10,IF(AH3=Rækker!N5,Rækker!N10,IF(AH3=Rækker!P5,Rækker!P10,CZ2)))))))) -> 2 | CZ2: =IF(AH3=Rækker!R5,Rækker!R10,IF(AH3=Rækker!T5,Rækker!T10,IF(AH3=Rækker!V5,Rækker!V10,IF(AH3=Rækker!X5,Rækker!X10,IF(AH3=Rækker!Z5,Rækker!Z10,IF(AH3=Rækker!AB5,Rækker!AB10,IF(AH3=Rækker!AD5,Rækker!AD10,IF(AH3=Rækker!AF5,Rækker!AF10,DA2)))))))) -> 0 | DA2: =IF(AH3=Rækker!AH5,Rækker!AH10,IF(AH3=Rækker!AJ5,Rækker!AJ10,IF(AH3=Rækker!AL5,Rækker!AL10,IF(AH3=Rækker!AN5,Rækker!AN10,0)))) -> 0 | DB2: =IF(AN3=Rækker!B5,Rækker!B10,IF(AN3=Rækker!D5,Rækker!D10,IF(AN3=Rækker!F5,Rækker!F10,IF(AN3=Rækker!H5,Rækker!H10,IF(AN3=Rækker!J5,Rækker!J10,IF(AN3=Rækker!L5,Rækker!L10,IF(AN3=Rækker!N5,Rækker!N10,IF(AN3=Rækker!P5,Rækker!P10,DC2)))))))) -> 0 | DC2: =IF(AN3=Rækker!R5,Rækker!R10,IF(AN3=Rækker!T5,Rækker!T10,IF(AN3=Rækker!V5,Rækker!V10,IF(AN3=Rækker!X5,Rækker!X10,IF(AN3=Rækker!Z5,Rækker!Z10,IF(AN3=Rækker!AB5,Rækker!AB10,IF(AN3=Rækker!AD5,Rækker!AD10,IF(AN3=Rækker!AF5,Rækker!AF10,DD2)))))))) -> 0 | DD2: =IF(AN3=Rækker!AH5,Rækker!AH10,IF(AN3=Rækker!AJ5,Rækker!AJ10,IF(AN3=Rækker!AL5,Rækker!AL10,IF(AN3=Rækker!AN5,Rækker!AN10,0)))) -> 0 | DE2: =IF(AT3=Rækker!B5,Rækker!B10,IF(AT3=Rækker!D5,Rækker!D10,IF(AT3=Rækker!F5,Rækker!F10,IF(AT3=Rækker!H5,Rækker!H10,IF(AT3=Rækker!J5,Rækker!J10,IF(AT3=Rækker!L5,Rækker!L10,IF(AT3=Rækker!N5,Rækker!N10,IF(AT3=Rækker!P5,Rækker!P10,DF2)))))))) -> 2 | DF2: =IF(AT3=Rækker!R5,Rækker!R10,IF(AT3=Rækker!T5,Rækker!T10,IF(AT3=Rækker!V5,Rækker!V10,IF(AT3=Rækker!X5,Rækker!X10,IF(AT3=Rækker!Z5,Rækker!Z10,IF(AT3=Rækker!AB5,Rækker!AB10,IF(AT3=Rækker!AD5,Rækker!AD10,IF(AT3=Rækker!AF5,Rækker!AF10,DG2)))))))) -> 2 | DG2: =IF(AT3=Rækker!AH5,Rækker!AH10,IF(AT3=Rækker!AJ5,Rækker!AJ10,IF(AT3=Rækker!AL5,Rækker!AL10,IF(AT3=Rækker!AN5,Rækker!AN10,0)))) -> 2 | DH2: =IF(AZ3=Rækker!B5,Rækker!B10,IF(AZ3=Rækker!D5,Rækker!D10,IF(AZ3=Rækker!F5,Rækker!F10,IF(AZ3=Rækker!H5,Rækker!H10,IF(AZ3=Rækker!J5,Rækker!J10,IF(AZ3=Rækker!L5,Rækker!L10,IF(AZ3=Rækker!N5,Rækker!N10,IF(AZ3=Rækker!P5,Rækker!P10,DI2)))))))) -> 2 | DI2: =IF(AZ3=Rækker!R5,Rækker!R10,IF(AZ3=Rækker!T5,Rækker!T10,IF(AZ3=Rækker!V5,Rækker!V10,IF(AZ3=Rækker!X5,Rækker!X10,IF(AZ3=Rækker!Z5,Rækker!Z10,IF(AZ3=Rækker!AB5,Rækker!AB10,IF(AZ3=Rækker!AD5,Rækker!AD10,IF(AZ3=Rækker!AF5,Rækker!AF10,DJ2)))))))) -> 0 | DJ2: =IF(AZ3=Rækker!AH5,Rækker!AH10,IF(AZ3=Rækker!AJ5,Rækker!AJ10,IF(AZ3=Rækker!AL5,Rækker!AL10,IF(AZ3=Rækker!AN5,Rækker!AN10,0)))) -> 0 | DK2: =IF(BF3=Rækker!B5,Rækker!B10,IF(BF3=Rækker!D5,Rækker!D10,IF(BF3=Rækker!F5,Rækker!F10,IF(BF3=Rækker!H5,Rækker!H10,IF(BF3=Rækker!J5,Rækker!J10,IF(BF3=Rækker!L5,Rækker!L10,IF(BF3=Rækker!N5,Rækker!N10,IF(BF3=Rækker!P5,Rækker!P10,DL2)))))))) -> 2 | DL2: =IF(BF3=Rækker!R5,Rækker!R10,IF(BF3=Rækker!T5,Rækker!T10,IF(BF3=Rækker!V5,Rækker!V10,IF(BF3=Rækker!X5,Rækker!X10,IF(BF3=Rækker!Z5,Rækker!Z10,IF(BF3=Rækker!AB5,Rækker!AB10,IF(BF3=Rækker!AD5,Rækker!AD10,IF(BF3=Rækker!AF5,Rækker!AF10,DM2)))))))) -> 0 | DM2: =IF(BF3=Rækker!AH5,Rækker!AH10,IF(BF3=Rækker!AJ5,Rækker!AJ10,IF(BF3=Rækker!AL5,Rækker!AL10,IF(BF3=Rækker!AN5,Rækker!AN10,0)))) -> 0 | DN2: =IF(BL3=Rækker!B5,Rækker!B10,IF(BL3=Rækker!D5,Rækker!D10,IF(BL3=Rækker!F5,Rækker!F10,IF(BL3=Rækker!H5,Rækker!H10,IF(BL3=Rækker!J5,Rækker!J10,IF(BL3=Rækker!L5,Rækker!L10,IF(BL3=Rækker!N5,Rækker!N10,IF(BL3=Rækker!P5,Rækker!P10,DO2)))))))) -> 1 | DO2: =IF(BL3=Rækker!R5,Rækker!R10,IF(BL3=Rækker!T5,Rækker!T10,IF(BL3=Rækker!V5,Rækker!V10,IF(BL3=Rækker!X5,Rækker!X10,IF(BL3=Rækker!Z5,Rækker!Z10,IF(BL3=Rækker!AB5,Rækker!AB10,IF(BL3=Rækker!AD5,Rækker!AD10,IF(BL3=Rækker!AF5,Rækker!AF10,DP2)))))))) -> 1 | DP2: =IF(BL3=Rækker!AH5,Rækker!AH10,IF(BL3=Rækker!AJ5,Rækker!AJ10,IF(BL3=Rækker!AL5,Rækker!AL10,IF(BL3=Rækker!AN5,Rækker!AN10,0)))) -> 0
A3: =Rækker!B1 -> Uge 43 | H3: De 13 rigtige | J3: =DB!E6 -> Arsenal | N3: - | P3: =DB!F6 -> Piquet | V3: =DB!E7 -> Select | Z3: - | AB3: =DB!F7 -> Benbo | AH3: =DB!E8 -> Flinca | AL3: - | AN3: =DB!F8 -> Idskov | AT3: =DB!E9 -> Stoke | AX3: - | AZ3: =DB!F9 -> Canary | BF3: =DB!E10 -> Frydkær | BJ3: - | BL3: =DB!F10 -> Futte | BR3: =IF(CG14=13,CONCATENATE("Resultater, ",A1," - Pulje A:"),CONCATENATE("Resultater, ",DB!D1,". runde"," - Pulje A:")) -> Resultater, 2. runde - Pulje A: | CG3: =IF(H13=1,1,IF(H13="x",1,IF(H13=2,1,0))) -> 1 | CH3: =IF(U9="",CS14,0) -> 6 | CI3: =IF(U9="",1,0) -> 1 | CJ3: =IF(V3=DB!K6,DB!W6,IF(V3=DB!K7,DB!W7,IF(V3=DB!K8,DB!W8,IF(V3=DB!K9,DB!W9,IF(V3=DB!K10,DB!W10,IF(V3=DB!K11,DB!W11,IF(V3=DB!K12,DB!W12,IF(V3=DB!K13,DB!W13,CK3)))))))) | CK3: =IF(V3=DB!K14,DB!W14,IF(V3=DB!K15,DB!W15,IF(V3=DB!K17,DB!W17,IF(V3=DB!K18,DB!W18,IF(V3=DB!K19,DB!W19,IF(V3=DB!K20,DB!W20,IF(V3=DB!K21,DB!W21,IF(V3=DB!K22,DB!W22,CL3)))))))) | CL3: =IF(V3=DB!K23,DB!W23,IF(V3=DB!K24,DB!W24,IF(V3=DB!K25,DB!W25,DB!W26))) | CM3: =IF(J3=Rækker!B5,Rækker!B11,IF(J3=Rækker!D5,Rækker!D11,IF(J3=Rækker!F5,Rækker!F11,IF(J3=Rækker!H5,Rækker!H11,IF(J3=Rækker!J5,Rækker!J11,IF(J3=Rækker!L5,Rækker!L11,IF(J3=Rækker!N5,Rækker!N11,IF(J3=Rækker!P5,Rækker!P11,CN3)))))))) -> 1 | CN3: =IF(J3=Rækker!R5,Rækker!R11,IF(J3=Rækker!T5,Rækker!T11,IF(J3=Rækker!V5,Rækker!V11,IF(J3=Rækker!X5,Rækker!X11,IF(J3=Rækker!Z5,Rækker!Z11,IF(J3=Rækker!AB5,Rækker!AB11,IF(J3=Rækker!AD5,Rækker!AD11,IF(J3=Rækker!AF5,Rækker!AF11,CO3)))))))) -> 0 | CO3: =IF(J3=Rækker!AH5,Rækker!AH11,IF(J3=Rækker!AJ5,Rækker!AJ11,IF(J3=Rækker!AL5,Rækker!AL11,IF(J3=Rækker!AN5,Rækker!AN11,0)))) -> 0 | CP3: =IF(P3=Rækker!B5,Rækker!B11,IF(P3=Rækker!D5,Rækker!D11,IF(P3=Rækker!F5,Rækker!F11,IF(P3=Rækker!H5,Rækker!H11,IF(P3=Rækker!J5,Rækker!J11,IF(P3=Rækker!L5,Rækker!L11,IF(P3=Rækker!N5,Rækker!N11,IF(P3=Rækker!P5,Rækker!P11,CQ3)))))))) -> 1 | CQ3: =IF(P3=Rækker!R5,Rækker!R11,IF(P3=Rækker!T5,Rækker!T11,IF(P3=Rækker!V5,Rækker!V11,IF(P3=Rækker!X5,Rækker!X11,IF(P3=Rækker!Z5,Rækker!Z11,IF(P3=Rækker!AB5,Rækker!AB11,IF(P3=Rækker!AD5,Rækker!AD11,IF(P3=Rækker!AF5,Rækker!AF11,CR3)))))))) -> 1 | CR3: =IF(P3=Rækker!AH5,Rækker!AH11,IF(P3=Rækker!AJ5,Rækker!AJ11,IF(P3=Rækker!AL5,Rækker!AL11,IF(P3=Rækker!AN5,Rækker!AN11,0)))) -> 0 | CS3: =IF(V3=Rækker!B5,Rækker!B11,IF(V3=Rækker!D5,Rækker!D11,IF(V3=Rækker!F5,Rækker!F11,IF(V3=Rækker!H5,Rækker!H11,IF(V3=Rækker!J5,Rækker!J11,IF(V3=Rækker!L5,Rækker!L11,IF(V3=Rækker!N5,Rækker!N11,IF(V3=Rækker!P5,Rækker!P11,CT3)))))))) -> x | CT3: =IF(V3=Rækker!R5,Rækker!R11,IF(V3=Rækker!T5,Rækker!T11,IF(V3=Rækker!V5,Rækker!V11,IF(V3=Rækker!X5,Rækker!X11,IF(V3=Rækker!Z5,Rækker!Z11,IF(V3=Rækker!AB5,Rækker!AB11,IF(V3=Rækker!AD5,Rækker!AD11,IF(V3=Rækker!AF5,Rækker!AF11,CU3)))))))) -> x | CU3: =IF(V3=Rækker!AH5,Rækker!AH11,IF(V3=Rækker!AJ5,Rækker!AJ11,IF(V3=Rækker!AL5,Rækker!AL11,IF(V3=Rækker!AN5,Rækker!AN11,0)))) -> 0 | CV3: =IF(AB3=Rækker!B5,Rækker!B11,IF(AB3=Rækker!D5,Rækker!D11,IF(AB3=Rækker!F5,Rækker!F11,IF(AB3=Rækker!H5,Rækker!H11,IF(AB3=Rækker!J5,Rækker!J11,IF(AB3=Rækker!L5,Rækker!L11,IF(AB3=Rækker!N5,Rækker!N11,IF(AB3=Rækker!P5,Rækker!P11,CW3)))))))) -> x | CW3: =IF(AB3=Rækker!R5,Rækker!R11,IF(AB3=Rækker!T5,Rækker!T11,IF(AB3=Rækker!V5,Rækker!V11,IF(AB3=Rækker!X5,Rækker!X11,IF(AB3=Rækker!Z5,Rækker!Z11,IF(AB3=Rækker!AB5,Rækker!AB11,IF(AB3=Rækker!AD5,Rækker!AD11,IF(AB3=Rækker!AF5,Rækker!AF11,CX3)))))))) -> 0 | CX3: =IF(AB3=Rækker!AH5,Rækker!AH11,IF(AB3=Rækker!AJ5,Rækker!AJ11,IF(AB3=Rækker!AL5,Rækker!AL11,IF(AB3=Rækker!AN5,Rækker!AN11,0)))) -> 0 | CY3: =IF(AH3=Rækker!B5,Rækker!B11,IF(AH3=Rækker!D5,Rækker!D11,IF(AH3=Rækker!F5,Rækker!F11,IF(AH3=Rækker!H5,Rækker!H11,IF(AH3=Rækker!J5,Rækker!J11,IF(AH3=Rækker!L5,Rækker!L11,IF(AH3=Rækker!N5,Rækker!N11,IF(AH3=Rækker!P5,Rækker!P11,CZ3)))))))) -> x | CZ3: =IF(AH3=Rækker!R5,Rækker!R11,IF(AH3=Rækker!T5,Rækker!T11,IF(AH3=Rækker!V5,Rækker!V11,IF(AH3=Rækker!X5,Rækker!X11,IF(AH3=Rækker!Z5,Rækker!Z11,IF(AH3=Rækker!AB5,Rækker!AB11,IF(AH3=Rækker!AD5,Rækker!AD11,IF(AH3=Rækker!AF5,Rækker!AF11,DA3)))))))) -> 0 | DA3: =IF(AH3=Rækker!AH5,Rækker!AH11,IF(AH3=Rækker!AJ5,Rækker!AJ11,IF(AH3=Rækker!AL5,Rækker!AL11,IF(AH3=Rækker!AN5,Rækker!AN11,0)))) -> 0 | DB3: =IF(AN3=Rækker!B5,Rækker!B11,IF(AN3=Rækker!D5,Rækker!D11,IF(AN3=Rækker!F5,Rækker!F11,IF(AN3=Rækker!H5,Rækker!H11,IF(AN3=Rækker!J5,Rækker!J11,IF(AN3=Rækker!L5,Rækker!L11,IF(AN3=Rækker!N5,Rækker!N11,IF(AN3=Rækker!P5,Rækker!P11,DC3)))))))) -> 0 | DC3: =IF(AN3=Rækker!R5,Rækker!R11,IF(AN3=Rækker!T5,Rækker!T11,IF(AN3=Rækker!V5,Rækker!V11,IF(AN3=Rækker!X5,Rækker!X11,IF(AN3=Rækker!Z5,Rækker!Z11,IF(AN3=Rækker!AB5,Rækker!AB11,IF(AN3=Rækker!AD5,Rækker!AD11,IF(AN3=Rækker!AF5,Rækker!AF11,DD3)))))))) -> 0 | DD3: =IF(AN3=Rækker!AH5,Rækker!AH11,IF(AN3=Rækker!AJ5,Rækker!AJ11,IF(AN3=Rækker!AL5,Rækker!AL11,IF(AN3=Rækker!AN5,Rækker!AN11,0)))) -> 0 | DE3: =IF(AT3=Rækker!B5,Rækker!B11,IF(AT3=Rækker!D5,Rækker!D11,IF(AT3=Rækker!F5,Rækker!F11,IF(AT3=Rækker!H5,Rækker!H11,IF(AT3=Rækker!J5,Rækker!J11,IF(AT3=Rækker!L5,Rækker!L11,IF(AT3=Rækker!N5,Rækker!N11,IF(AT3=Rækker!P5,Rækker!P11,DF3)))))))) -> 2 | DF3: =IF(AT3=Rækker!R5,Rækker!R11,IF(AT3=Rækker!T5,Rækker!T11,IF(AT3=Rækker!V5,Rækker!V11,IF(AT3=Rækker!X5,Rækker!X11,IF(AT3=Rækker!Z5,Rækker!Z11,IF(AT3=Rækker!AB5,Rækker!AB11,IF(AT3=Rækker!AD5,Rækker!AD11,IF(AT3=Rækker!AF5,Rækker!AF11,DG3)))))))) -> 2 | DG3: =IF(AT3=Rækker!AH5,Rækker!AH11,IF(AT3=Rækker!AJ5,Rækker!AJ11,IF(AT3=Rækker!AL5,Rækker!AL11,IF(AT3=Rækker!AN5,Rækker!AN11,0)))) -> 2 | DH3: =IF(AZ3=Rækker!B5,Rækker!B11,IF(AZ3=Rækker!D5,Rækker!D11,IF(AZ3=Rækker!F5,Rækker!F11,IF(AZ3=Rækker!H5,Rækker!H11,IF(AZ3=Rækker!J5,Rækker!J11,IF(AZ3=Rækker!L5,Rækker!L11,IF(AZ3=Rækker!N5,Rækker!N11,IF(AZ3=Rækker!P5,Rækker!P11,DI3)))))))) -> x | DI3: =IF(AZ3=Rækker!R5,Rækker!R11,IF(AZ3=Rækker!T5,Rækker!T11,IF(AZ3=Rækker!V5,Rækker!V11,IF(AZ3=Rækker!X5,Rækker!X11,IF(AZ3=Rækker!Z5,Rækker!Z11,IF(AZ3=Rækker!AB5,Rækker!AB11,IF(AZ3=Rækker!AD5,Rækker!AD11,IF(AZ3=Rækker!AF5,Rækker!AF11,DJ3)))))))) -> 0 | DJ3: =IF(AZ3=Rækker!AH5,Rækker!AH11,IF(AZ3=Rækker!AJ5,Rækker!AJ11,IF(AZ3=Rækker!AL5,Rækker!AL11,IF(AZ3=Rækker!AN5,Rækker!AN11,0)))) -> 0 | DK3: =IF(BF3=Rækker!B5,Rækker!B11,IF(BF3=Rækker!D5,Rækker!D11,IF(BF3=Rækker!F5,Rækker!F11,IF(BF3=Rækker!H5,Rækker!H11,IF(BF3=Rækker!J5,Rækker!J11,IF(BF3=Rækker!L5,Rækker!L11,IF(BF3=Rækker!N5,Rækker!N11,IF(BF3=Rækker!P5,Rækker!P11,DL3)))))))) -> 2 | DL3: =IF(BF3=Rækker!R5,Rækker!R11,IF(BF3=Rækker!T5,Rækker!T11,IF(BF3=Rækker!V5,Rækker!V11,IF(BF3=Rækker!X5,Rækker!X11,IF(BF3=Rækker!Z5,Rækker!Z11,IF(BF3=Rækker!AB5,Rækker!AB11,IF(BF3=Rækker!AD5,Rækker!AD11,IF(BF3=Rækker!AF5,Rækker!AF11,DM3)))))))) -> 0 | DM3: =IF(BF3=Rækker!AH5,Rækker!AH11,IF(BF3=Rækker!AJ5,Rækker!AJ11,IF(BF3=Rækker!AL5,Rækker!AL11,IF(BF3=Rækker!AN5,Rækker!AN11,0)))) -> 0 | DN3: =IF(BL3=Rækker!B5,Rækker!B11,IF(BL3=Rækker!D5,Rækker!D11,IF(BL3=Rækker!F5,Rækker!F11,IF(BL3=Rækker!H5,Rækker!H11,IF(BL3=Rækker!J5,Rækker!J11,IF(BL3=Rækker!L5,Rækker!L11,IF(BL3=Rækker!N5,Rækker!N11,IF(BL3=Rækker!P5,Rækker!P11,DO3)))))))) -> 2 | DO3: =IF(BL3=Rækker!R5,Rækker!R11,IF(BL3=Rækker!T5,Rækker!T11,IF(BL3=Rækker!V5,Rækker!V11,IF(BL3=Rækker!X5,Rækker!X11,IF(BL3=Rækker!Z5,Rækker!Z11,IF(BL3=Rækker!AB5,Rækker!AB11,IF(BL3=Rækker!AD5,Rækker!AD11,IF(BL3=Rækker!AF5,Rækker!AF11,DP3)))))))) -> 2 | DP3: =IF(BL3=Rækker!AH5,Rækker!AH11,IF(BL3=Rækker!AJ5,Rækker!AJ11,IF(BL3=Rækker!AL5,Rækker!AL11,IF(BL3=Rækker!AN5,Rækker!AN11,0)))) -> 0
BR4: =IF(CG14=13,DB!E6,DB!A6) -> Arsenal | BT4: - | BU4: =IF(CG14=13,DB!F6,DB!B6) -> Piquet | CB4: =IF(CG14=13,DB!G6,DB!C6) -> 5 | CC4: - | CD4: =IF(CG14=13,DB!H6,DB!D6) -> 5 | CG4: =IF(H14=1,1,IF(H14="x",1,IF(H14=2,1,0))) -> 1 | CH4: =IF(AA9="",CV14,0) -> 4 | CI4: =IF(AA9="",1,0) -> 1 | CJ4: =IF(AB3=DB!K6,DB!W6,IF(AB3=DB!K7,DB!W7,IF(AB3=DB!K8,DB!W8,IF(AB3=DB!K9,DB!W9,IF(AB3=DB!K10,DB!W10,IF(AB3=DB!K11,DB!W11,IF(AB3=DB!K12,DB!W12,IF(AB3=DB!K13,DB!W13,CK4)))))))) | CK4: =IF(AB3=DB!K14,DB!W14,IF(AB3=DB!K15,DB!W15,IF(AB3=DB!K17,DB!W17,IF(AB3=DB!K18,DB!W18,IF(AB3=DB!K19,DB!W19,IF(AB3=DB!K20,DB!W20,IF(AB3=DB!K21,DB!W21,IF(AB3=DB!K22,DB!W22,CL4)))))))) | CL4: =IF(AB3=DB!K23,DB!W23,IF(AB3=DB!K24,DB!W24,IF(AB3=DB!K25,DB!W25,DB!W26))) | CM4: =IF(J3=Rækker!B5,Rækker!B12,IF(J3=Rækker!D5,Rækker!D12,IF(J3=Rækker!F5,Rækker!F12,IF(J3=Rækker!H5,Rækker!H12,IF(J3=Rækker!J5,Rækker!J12,IF(J3=Rækker!L5,Rækker!L12,IF(J3=Rækker!N5,Rækker!N12,IF(J3=Rækker!P5,Rækker!P12,CN4)))))))) -> 2 | CN4: =IF(J3=Rækker!R5,Rækker!R12,IF(J3=Rækker!T5,Rækker!T12,IF(J3=Rækker!V5,Rækker!V12,IF(J3=Rækker!X5,Rækker!X12,IF(J3=Rækker!Z5,Rækker!Z12,IF(J3=Rækker!AB5,Rækker!AB12,IF(J3=Rækker!AD5,Rækker!AD12,IF(J3=Rækker!AF5,Rækker!AF12,CO4)))))))) -> 0 | CO4: =IF(J3=Rækker!AH5,Rækker!AH12,IF(J3=Rækker!AJ5,Rækker!AJ12,IF(J3=Rækker!AL5,Rækker!AL12,IF(J3=Rækker!AN5,Rækker!AN12,0)))) -> 0 | CP4: =IF(P3=Rækker!B5,Rækker!B12,IF(P3=Rækker!D5,Rækker!D12,IF(P3=Rækker!F5,Rækker!F12,IF(P3=Rækker!H5,Rækker!H12,IF(P3=Rækker!J5,Rækker!J12,IF(P3=Rækker!L5,Rækker!L12,IF(P3=Rækker!N5,Rækker!N12,IF(P3=Rækker!P5,Rækker!P12,CQ4)))))))) -> 2 | CQ4: =IF(P3=Rækker!R5,Rækker!R12,IF(P3=Rækker!T5,Rækker!T12,IF(P3=Rækker!V5,Rækker!V12,IF(P3=Rækker!X5,Rækker!X12,IF(P3=Rækker!Z5,Rækker!Z12,IF(P3=Rækker!AB5,Rækker!AB12,IF(P3=Rækker!AD5,Rækker!AD12,IF(P3=Rækker!AF5,Rækker!AF12,CR4)))))))) -> 2 | CR4: =IF(P3=Rækker!AH5,Rækker!AH12,IF(P3=Rækker!AJ5,Rækker!AJ12,IF(P3=Rækker!AL5,Rækker!AL12,IF(P3=Rækker!AN5,Rækker!AN12,0)))) -> 0 | CS4: =IF(V3=Rækker!B5,Rækker!B12,IF(V3=Rækker!D5,Rækker!D12,IF(V3=Rækker!F5,Rækker!F12,IF(V3=Rækker!H5,Rækker!H12,IF(V3=Rækker!J5,Rækker!J12,IF(V3=Rækker!L5,Rækker!L12,IF(V3=Rækker!N5,Rækker!N12,IF(V3=Rækker!P5,Rækker!P12,CT4)))))))) -> 1 | CT4: =IF(V3=Rækker!R5,Rækker!R12,IF(V3=Rækker!T5,Rækker!T12,IF(V3=Rækker!V5,Rækker!V12,IF(V3=Rækker!X5,Rækker!X12,IF(V3=Rækker!Z5,Rækker!Z12,IF(V3=Rækker!AB5,Rækker!AB12,IF(V3=Rækker!AD5,Rækker!AD12,IF(V3=Rækker!AF5,Rækker!AF12,CU4)))))))) -> 1 | CU4: =IF(V3=Rækker!AH5,Rækker!AH12,IF(V3=Rækker!AJ5,Rækker!AJ12,IF(V3=Rækker!AL5,Rækker!AL12,IF(V3=Rækker!AN5,Rækker!AN12,0)))) -> 0 | CV4: =IF(AB3=Rækker!B5,Rækker!B12,IF(AB3=Rækker!D5,Rækker!D12,IF(AB3=Rækker!F5,Rækker!F12,IF(AB3=Rækker!H5,Rækker!H12,IF(AB3=Rækker!J5,Rækker!J12,IF(AB3=Rækker!L5,Rækker!L12,IF(AB3=Rækker!N5,Rækker!N12,IF(AB3=Rækker!P5,Rækker!P12,CW4)))))))) -> 2 | CW4: =IF(AB3=Rækker!R5,Rækker!R12,IF(AB3=Rækker!T5,Rækker!T12,IF(AB3=Rækker!V5,Rækker!V12,IF(AB3=Rækker!X5,Rækker!X12,IF(AB3=Rækker!Z5,Rækker!Z12,IF(AB3=Rækker!AB5,Rækker!AB12,IF(AB3=Rækker!AD5,Rækker!AD12,IF(AB3=Rækker!AF5,Rækker!AF12,CX4)))))))) -> 0 | CX4: =IF(AB3=Rækker!AH5,Rækker!AH12,IF(AB3=Rækker!AJ5,Rækker!AJ12,IF(AB3=Rækker!AL5,Rækker!AL12,IF(AB3=Rækker!AN5,Rækker!AN12,0)))) -> 0 | CY4: =IF(AH3=Rækker!B5,Rækker!B12,IF(AH3=Rækker!D5,Rækker!D12,IF(AH3=Rækker!F5,Rækker!F12,IF(AH3=Rækker!H5,Rækker!H12,IF(AH3=Rækker!J5,Rækker!J12,IF(AH3=Rækker!L5,Rækker!L12,IF(AH3=Rækker!N5,Rækker!N12,IF(AH3=Rækker!P5,Rækker!P12,CZ4)))))))) -> 2 | CZ4: =IF(AH3=Rækker!R5,Rækker!R12,IF(AH3=Rækker!T5,Rækker!T12,IF(AH3=Rækker!V5,Rækker!V12,IF(AH3=Rækker!X5,Rækker!X12,IF(AH3=Rækker!Z5,Rækker!Z12,IF(AH3=Rækker!AB5,Rækker!AB12,IF(AH3=Rækker!AD5,Rækker!AD12,IF(AH3=Rækker!AF5,Rækker!AF12,DA4)))))))) -> 0 | DA4: =IF(AH3=Rækker!AH5,Rækker!AH12,IF(AH3=Rækker!AJ5,Rækker!AJ12,IF(AH3=Rækker!AL5,Rækker!AL12,IF(AH3=Rækker!AN5,Rækker!AN12,0)))) -> 0 | DB4: =IF(AN3=Rækker!B5,Rækker!B12,IF(AN3=Rækker!D5,Rækker!D12,IF(AN3=Rækker!F5,Rækker!F12,IF(AN3=Rækker!H5,Rækker!H12,IF(AN3=Rækker!J5,Rækker!J12,IF(AN3=Rækker!L5,Rækker!L12,IF(AN3=Rækker!N5,Rækker!N12,IF(AN3=Rækker!P5,Rækker!P12,DC4)))))))) -> 0 | DC4: =IF(AN3=Rækker!R5,Rækker!R12,IF(AN3=Rækker!T5,Rækker!T12,IF(AN3=Rækker!V5,Rækker!V12,IF(AN3=Rækker!X5,Rækker!X12,IF(AN3=Rækker!Z5,Rækker!Z12,IF(AN3=Rækker!AB5,Rækker!AB12,IF(AN3=Rækker!AD5,Rækker!AD12,IF(AN3=Rækker!AF5,Rækker!AF12,DD4)))))))) -> 0 | DD4: =IF(AN3=Rækker!AH5,Rækker!AH12,IF(AN3=Rækker!AJ5,Rækker!AJ12,IF(AN3=Rækker!AL5,Rækker!AL12,IF(AN3=Rækker!AN5,Rækker!AN12,0)))) -> 0 | DE4: =IF(AT3=Rækker!B5,Rækker!B12,IF(AT3=Rækker!D5,Rækker!D12,IF(AT3=Rækker!F5,Rækker!F12,IF(AT3=Rækker!H5,Rækker!H12,IF(AT3=Rækker!J5,Rækker!J12,IF(AT3=Rækker!L5,Rækker!L12,IF(AT3=Rækker!N5,Rækker!N12,IF(AT3=Rækker!P5,Rækker!P12,DF4)))))))) -> 2 | DF4: =IF(AT3=Rækker!R5,Rækker!R12,IF(AT3=Rækker!T5,Rækker!T12,IF(AT3=Rækker!V5,Rækker!V12,IF(AT3=Rækker!X5,Rækker!X12,IF(AT3=Rækker!Z5,Rækker!Z12,IF(AT3=Rækker!AB5,Rækker!AB12,IF(AT3=Rækker!AD5,Rækker!AD12,IF(AT3=Rækker!AF5,Rækker!AF12,DG4)))))))) -> 2 | DG4: =IF(AT3=Rækker!AH5,Rækker!AH12,IF(AT3=Rækker!AJ5,Rækker!AJ12,IF(AT3=Rækker!AL5,Rækker!AL12,IF(AT3=Rækker!AN5,Rækker!AN12,0)))) -> 2 | DH4: =IF(AZ3=Rækker!B5,Rækker!B12,IF(AZ3=Rækker!D5,Rækker!D12,IF(AZ3=Rækker!F5,Rækker!F12,IF(AZ3=Rækker!H5,Rækker!H12,IF(AZ3=Rækker!J5,Rækker!J12,IF(AZ3=Rækker!L5,Rækker!L12,IF(AZ3=Rækker!N5,Rækker!N12,IF(AZ3=Rækker!P5,Rækker!P12,DI4)))))))) -> 1 | DI4: =IF(AZ3=Rækker!R5,Rækker!R12,IF(AZ3=Rækker!T5,Rækker!T12,IF(AZ3=Rækker!V5,Rækker!V12,IF(AZ3=Rækker!X5,Rækker!X12,IF(AZ3=Rækker!Z5,Rækker!Z12,IF(AZ3=Rækker!AB5,Rækker!AB12,IF(AZ3=Rækker!AD5,Rækker!AD12,IF(AZ3=Rækker!AF5,Rækker!AF12,DJ4)))))))) -> 0 | DJ4: =IF(AZ3=Rækker!AH5,Rækker!AH12,IF(AZ3=Rækker!AJ5,Rækker!AJ12,IF(AZ3=Rækker!AL5,Rækker!AL12,IF(AZ3=Rækker!AN5,Rækker!AN12,0)))) -> 0 | DK4: =IF(BF3=Rækker!B5,Rækker!B12,IF(BF3=Rækker!D5,Rækker!D12,IF(BF3=Rækker!F5,Rækker!F12,IF(BF3=Rækker!H5,Rækker!H12,IF(BF3=Rækker!J5,Rækker!J12,IF(BF3=Rækker!L5,Rækker!L12,IF(BF3=Rækker!N5,Rækker!N12,IF(BF3=Rækker!P5,Rækker!P12,DL4)))))))) -> 2 | DL4: =IF(BF3=Rækker!R5,Rækker!R12,IF(BF3=Rækker!T5,Rækker!T12,IF(BF3=Rækker!V5,Rækker!V12,IF(BF3=Rækker!X5,Rækker!X12,IF(BF3=Rækker!Z5,Rækker!Z12,IF(BF3=Rækker!AB5,Rækker!AB12,IF(BF3=Rækker!AD5,Rækker!AD12,IF(BF3=Rækker!AF5,Rækker!AF12,DM4)))))))) -> 0 | DM4: =IF(BF3=Rækker!AH5,Rækker!AH12,IF(BF3=Rækker!AJ5,Rækker!AJ12,IF(BF3=Rækker!AL5,Rækker!AL12,IF(BF3=Rækker!AN5,Rækker!AN12,0)))) -> 0 | DN4: =IF(BL3=Rækker!B5,Rækker!B12,IF(BL3=Rækker!D5,Rækker!D12,IF(BL3=Rækker!F5,Rækker!F12,IF(BL3=Rækker!H5,Rækker!H12,IF(BL3=Rækker!J5,Rækker!J12,IF(BL3=Rækker!L5,Rækker!L12,IF(BL3=Rækker!N5,Rækker!N12,IF(BL3=Rækker!P5,Rækker!P12,DO4)))))))) -> X | DO4: =IF(BL3=Rækker!R5,Rækker!R12,IF(BL3=Rækker!T5,Rækker!T12,IF(BL3=Rækker!V5,Rækker!V12,IF(BL3=Rækker!X5,Rækker!X12,IF(BL3=Rækker!Z5,Rækker!Z12,IF(BL3=Rækker!AB5,Rækker!AB12,IF(BL3=Rækker!AD5,Rækker!AD12,IF(BL3=Rækker!AF5,Rækker!AF12,DP4)))))))) -> X | DP4: =IF(BL3=Rækker!AH5,Rækker!AH12,IF(BL3=Rækker!AJ5,Rækker!AJ12,IF(BL3=Rækker!AL5,Rækker!AL12,IF(BL3=Rækker!AN5,Rækker!AN12,0)))) -> 0
BR5: =IF(CG14=13,DB!E7,DB!A7) -> Select | BT5: - | BU5: =IF(CG14=13,DB!F7,DB!B7) -> Benbo | CB5: =IF(CG14=13,DB!G7,DB!C7) -> 6 | CC5: - | CD5: =IF(CG14=13,DB!H7,DB!D7) -> 4 | CG5: =IF(H15=1,1,IF(H15="x",1,IF(H15=2,1,0))) -> 1 | CH5: =IF(AG9="",CY14,0) -> 5 | CI5: =IF(AG9="",1,0) -> 1 | CJ5: =IF(AH3=DB!K6,DB!W6,IF(AH3=DB!K7,DB!W7,IF(AH3=DB!K8,DB!W8,IF(AH3=DB!K9,DB!W9,IF(AH3=DB!K10,DB!W10,IF(AH3=DB!K11,DB!W11,IF(AH3=DB!K12,DB!W12,IF(AH3=DB!K13,DB!W13,CK5)))))))) | CK5: =IF(AH3=DB!K14,DB!W14,IF(AH3=DB!K15,DB!W15,IF(AH3=DB!K17,DB!W17,IF(AH3=DB!K18,DB!W18,IF(AH3=DB!K19,DB!W19,IF(AH3=DB!K20,DB!W20,IF(AH3=DB!K21,DB!W21,IF(AH3=DB!K22,DB!W22,CL5)))))))) | CL5: =IF(AH3=DB!K23,DB!W23,IF(AH3=DB!K24,DB!W24,IF(AH3=DB!K25,DB!W25,DB!W26))) | CM5: =IF(J3=Rækker!B5,Rækker!B13,IF(J3=Rækker!D5,Rækker!D13,IF(J3=Rækker!F5,Rækker!F13,IF(J3=Rækker!H5,Rækker!H13,IF(J3=Rækker!J5,Rækker!J13,IF(J3=Rækker!L5,Rækker!L13,IF(J3=Rækker!N5,Rækker!N13,IF(J3=Rækker!P5,Rækker!P13,CN5)))))))) -> 2 | CN5: =IF(J3=Rækker!R5,Rækker!R13,IF(J3=Rækker!T5,Rækker!T13,IF(J3=Rækker!V5,Rækker!V13,IF(J3=Rækker!X5,Rækker!X13,IF(J3=Rækker!Z5,Rækker!Z13,IF(J3=Rækker!AB5,Rækker!AB13,IF(J3=Rækker!AD5,Rækker!AD13,IF(J3=Rækker!AF5,Rækker!AF13,CO5)))))))) -> 0 | CO5: =IF(J3=Rækker!AH5,Rækker!AH13,IF(J3=Rækker!AJ5,Rækker!AJ13,IF(J3=Rækker!AL5,Rækker!AL13,IF(J3=Rækker!AN5,Rækker!AN13,0)))) -> 0 | CP5: =IF(P3=Rækker!B5,Rækker!B13,IF(P3=Rækker!D5,Rækker!D13,IF(P3=Rækker!F5,Rækker!F13,IF(P3=Rækker!H5,Rækker!H13,IF(P3=Rækker!J5,Rækker!J13,IF(P3=Rækker!L5,Rækker!L13,IF(P3=Rækker!N5,Rækker!N13,IF(P3=Rækker!P5,Rækker!P13,CQ5)))))))) -> 1 | CQ5: =IF(P3=Rækker!R5,Rækker!R13,IF(P3=Rækker!T5,Rækker!T13,IF(P3=Rækker!V5,Rækker!V13,IF(P3=Rækker!X5,Rækker!X13,IF(P3=Rækker!Z5,Rækker!Z13,IF(P3=Rækker!AB5,Rækker!AB13,IF(P3=Rækker!AD5,Rækker!AD13,IF(P3=Rækker!AF5,Rækker!AF13,CR5)))))))) -> 1 | CR5: =IF(P3=Rækker!AH5,Rækker!AH13,IF(P3=Rækker!AJ5,Rækker!AJ13,IF(P3=Rækker!AL5,Rækker!AL13,IF(P3=Rækker!AN5,Rækker!AN13,0)))) -> 0 | CS5: =IF(V3=Rækker!B5,Rækker!B13,IF(V3=Rækker!D5,Rækker!D13,IF(V3=Rækker!F5,Rækker!F13,IF(V3=Rækker!H5,Rækker!H13,IF(V3=Rækker!J5,Rækker!J13,IF(V3=Rækker!L5,Rækker!L13,IF(V3=Rækker!N5,Rækker!N13,IF(V3=Rækker!P5,Rækker!P13,CT5)))))))) -> 2 | CT5: =IF(V3=Rækker!R5,Rækker!R13,IF(V3=Rækker!T5,Rækker!T13,IF(V3=Rækker!V5,Rækker!V13,IF(V3=Rækker!X5,Rækker!X13,IF(V3=Rækker!Z5,Rækker!Z13,IF(V3=Rækker!AB5,Rækker!AB13,IF(V3=Rækker!AD5,Rækker!AD13,IF(V3=Rækker!AF5,Rækker!AF13,CU5)))))))) -> 2 | CU5: =IF(V3=Rækker!AH5,Rækker!AH13,IF(V3=Rækker!AJ5,Rækker!AJ13,IF(V3=Rækker!AL5,Rækker!AL13,IF(V3=Rækker!AN5,Rækker!AN13,0)))) -> 0 | CV5: =IF(AB3=Rækker!B5,Rækker!B13,IF(AB3=Rækker!D5,Rækker!D13,IF(AB3=Rækker!F5,Rækker!F13,IF(AB3=Rækker!H5,Rækker!H13,IF(AB3=Rækker!J5,Rækker!J13,IF(AB3=Rækker!L5,Rækker!L13,IF(AB3=Rækker!N5,Rækker!N13,IF(AB3=Rækker!P5,Rækker!P13,CW5)))))))) -> 2 | CW5: =IF(AB3=Rækker!R5,Rækker!R13,IF(AB3=Rækker!T5,Rækker!T13,IF(AB3=Rækker!V5,Rækker!V13,IF(AB3=Rækker!X5,Rækker!X13,IF(AB3=Rækker!Z5,Rækker!Z13,IF(AB3=Rækker!AB5,Rækker!AB13,IF(AB3=Rækker!AD5,Rækker!AD13,IF(AB3=Rækker!AF5,Rækker!AF13,CX5)))))))) -> 0 | CX5: =IF(AB3=Rækker!AH5,Rækker!AH13,IF(AB3=Rækker!AJ5,Rækker!AJ13,IF(AB3=Rækker!AL5,Rækker!AL13,IF(AB3=Rækker!AN5,Rækker!AN13,0)))) -> 0 | CY5: =IF(AH3=Rækker!B5,Rækker!B13,IF(AH3=Rækker!D5,Rækker!D13,IF(AH3=Rækker!F5,Rækker!F13,IF(AH3=Rækker!H5,Rækker!H13,IF(AH3=Rækker!J5,Rækker!J13,IF(AH3=Rækker!L5,Rækker!L13,IF(AH3=Rækker!N5,Rækker!N13,IF(AH3=Rækker!P5,Rækker!P13,CZ5)))))))) -> 2 | CZ5: =IF(AH3=Rækker!R5,Rækker!R13,IF(AH3=Rækker!T5,Rækker!T13,IF(AH3=Rækker!V5,Rækker!V13,IF(AH3=Rækker!X5,Rækker!X13,IF(AH3=Rækker!Z5,Rækker!Z13,IF(AH3=Rækker!AB5,Rækker!AB13,IF(AH3=Rækker!AD5,Rækker!AD13,IF(AH3=Rækker!AF5,Rækker!AF13,DA5)))))))) -> 0 | DA5: =IF(AH3=Rækker!AH5,Rækker!AH13,IF(AH3=Rækker!AJ5,Rækker!AJ13,IF(AH3=Rækker!AL5,Rækker!AL13,IF(AH3=Rækker!AN5,Rækker!AN13,0)))) -> 0 | DB5: =IF(AN3=Rækker!B5,Rækker!B13,IF(AN3=Rækker!D5,Rækker!D13,IF(AN3=Rækker!F5,Rækker!F13,IF(AN3=Rækker!H5,Rækker!H13,IF(AN3=Rækker!J5,Rækker!J13,IF(AN3=Rækker!L5,Rækker!L13,IF(AN3=Rækker!N5,Rækker!N13,IF(AN3=Rækker!P5,Rækker!P13,DC5)))))))) -> 0 | DC5: =IF(AN3=Rækker!R5,Rækker!R13,IF(AN3=Rækker!T5,Rækker!T13,IF(AN3=Rækker!V5,Rækker!V13,IF(AN3=Rækker!X5,Rækker!X13,IF(AN3=Rækker!Z5,Rækker!Z13,IF(AN3=Rækker!AB5,Rækker!AB13,IF(AN3=Rækker!AD5,Rækker!AD13,IF(AN3=Rækker!AF5,Rækker!AF13,DD5)))))))) -> 0 | DD5: =IF(AN3=Rækker!AH5,Rækker!AH13,IF(AN3=Rækker!AJ5,Rækker!AJ13,IF(AN3=Rækker!AL5,Rækker!AL13,IF(AN3=Rækker!AN5,Rækker!AN13,0)))) -> 0 | DE5: =IF(AT3=Rækker!B5,Rækker!B13,IF(AT3=Rækker!D5,Rækker!D13,IF(AT3=Rækker!F5,Rækker!F13,IF(AT3=Rækker!H5,Rækker!H13,IF(AT3=Rækker!J5,Rækker!J13,IF(AT3=Rækker!L5,Rækker!L13,IF(AT3=Rækker!N5,Rækker!N13,IF(AT3=Rækker!P5,Rækker!P13,DF5)))))))) -> x | DF5: =IF(AT3=Rækker!R5,Rækker!R13,IF(AT3=Rækker!T5,Rækker!T13,IF(AT3=Rækker!V5,Rækker!V13,IF(AT3=Rækker!X5,Rækker!X13,IF(AT3=Rækker!Z5,Rækker!Z13,IF(AT3=Rækker!AB5,Rækker!AB13,IF(AT3=Rækker!AD5,Rækker!AD13,IF(AT3=Rækker!AF5,Rækker!AF13,DG5)))))))) -> x | DG5: =IF(AT3=Rækker!AH5,Rækker!AH13,IF(AT3=Rækker!AJ5,Rækker!AJ13,IF(AT3=Rækker!AL5,Rækker!AL13,IF(AT3=Rækker!AN5,Rækker!AN13,0)))) -> x | DH5: =IF(AZ3=Rækker!B5,Rækker!B13,IF(AZ3=Rækker!D5,Rækker!D13,IF(AZ3=Rækker!F5,Rækker!F13,IF(AZ3=Rækker!H5,Rækker!H13,IF(AZ3=Rækker!J5,Rækker!J13,IF(AZ3=Rækker!L5,Rækker!L13,IF(AZ3=Rækker!N5,Rækker!N13,IF(AZ3=Rækker!P5,Rækker!P13,DI5)))))))) -> 2 | DI5: =IF(AZ3=Rækker!R5,Rækker!R13,IF(AZ3=Rækker!T5,Rækker!T13,IF(AZ3=Rækker!V5,Rækker!V13,IF(AZ3=Rækker!X5,Rækker!X13,IF(AZ3=Rækker!Z5,Rækker!Z13,IF(AZ3=Rækker!AB5,Rækker!AB13,IF(AZ3=Rækker!AD5,Rækker!AD13,IF(AZ3=Rækker!AF5,Rækker!AF13,DJ5)))))))) -> 0 | DJ5: =IF(AZ3=Rækker!AH5,Rækker!AH13,IF(AZ3=Rækker!AJ5,Rækker!AJ13,IF(AZ3=Rækker!AL5,Rækker!AL13,IF(AZ3=Rækker!AN5,Rækker!AN13,0)))) -> 0 | DK5: =IF(BF3=Rækker!B5,Rækker!B13,IF(BF3=Rækker!D5,Rækker!D13,IF(BF3=Rækker!F5,Rækker!F13,IF(BF3=Rækker!H5,Rækker!H13,IF(BF3=Rækker!J5,Rækker!J13,IF(BF3=Rækker!L5,Rækker!L13,IF(BF3=Rækker!N5,Rækker!N13,IF(BF3=Rækker!P5,Rækker!P13,DL5)))))))) -> 2 | DL5: =IF(BF3=Rækker!R5,Rækker!R13,IF(BF3=Rækker!T5,Rækker!T13,IF(BF3=Rækker!V5,Rækker!V13,IF(BF3=Rækker!X5,Rækker!X13,IF(BF3=Rækker!Z5,Rækker!Z13,IF(BF3=Rækker!AB5,Rækker!AB13,IF(BF3=Rækker!AD5,Rækker!AD13,IF(BF3=Rækker!AF5,Rækker!AF13,DM5)))))))) -> 0 | DM5: =IF(BF3=Rækker!AH5,Rækker!AH13,IF(BF3=Rækker!AJ5,Rækker!AJ13,IF(BF3=Rækker!AL5,Rækker!AL13,IF(BF3=Rækker!AN5,Rækker!AN13,0)))) -> 0 | DN5: =IF(BL3=Rækker!B5,Rækker!B13,IF(BL3=Rækker!D5,Rækker!D13,IF(BL3=Rækker!F5,Rækker!F13,IF(BL3=Rækker!H5,Rækker!H13,IF(BL3=Rækker!J5,Rækker!J13,IF(BL3=Rækker!L5,Rækker!L13,IF(BL3=Rækker!N5,Rækker!N13,IF(BL3=Rækker!P5,Rækker!P13,DO5)))))))) -> 1 | DO5: =IF(BL3=Rækker!R5,Rækker!R13,IF(BL3=Rækker!T5,Rækker!T13,IF(BL3=Rækker!V5,Rækker!V13,IF(BL3=Rækker!X5,Rækker!X13,IF(BL3=Rækker!Z5,Rækker!Z13,IF(BL3=Rækker!AB5,Rækker!AB13,IF(BL3=Rækker!AD5,Rækker!AD13,IF(BL3=Rækker!AF5,Rækker!AF13,DP5)))))))) -> 1 | DP5: =IF(BL3=Rækker!AH5,Rækker!AH13,IF(BL3=Rækker!AJ5,Rækker!AJ13,IF(BL3=Rækker!AL5,Rækker!AL13,IF(BL3=Rækker!AN5,Rækker!AN13,0)))) -> 0
