Workbook

Sheet Finaler
A1: =CONCATENATE("Grand Prix ",DB!B1) -> Grand Prix 2026
A3: =DB!D3 -> Finalen
A5: 1. | B5: =DB!B18 -> Benbo (8) | C5: =IF(B5<>"","-","") -> - | D5: =DB!E18 -> LPHJ (4)
A8: =DB!E4 -> 3./4. pladsen
A10: 2. | B10: =DB!B19 -> Benbo (16) | C10: =IF(B10<>"","-","") -> - | D10: =DB!E19 -> LPHJ (10)
A12: =DB!H4 -> Tallet i parentes angiver puljen, signaturen er gået videre fra.

Sheet Kampe
A1: =CONCATENATE("Kampe - ",DB!D5) -> Kampe - Finaler, Kamp 1
B3: Hjemmehold | D3: Udehold
A5: 1. | B5: Arsenal | C5: - | D5: Hull
A6: 2. | B6: Fulham | C6: - | D6: Newcastle
A7: 3. | B7: Birmingham | C7: - | D7: Swansea
A8: 4. | B8: Blackburn | C8: - | D8: West Ham
A9: 5. | B9: Cardiff | C9: - | D9: Burnley
A10: 6. | B10: Charlton | C10: - | D10: Sheffield U
A11: 7. | B11: Preston | C11: - | D11: Southampton
A12: 8. | B12: Queens Park R | C12: - | D12: Lincoln
A13: 9. | B13: Watford | C13: - | D13: Middlesbrough
A14: 10. | B14: West Bromwich | C14: - | D14: Millwall
A15: 11. | B15: Huddersfield | C15: - | D15: Exeter
A16: 12. | B16: Luton | C16: - | D16: Forest Green
A17: 13. | B17: Milton Keynes Dons | C17: - | D17: Swindon
A19: N.B.: Holdnavne skal holdes inden for de grønne felter.

Sheet Rækker
B1: =DB!D6 -> Finaler - K1 | D1: =DB!D6 -> Finaler - K1 | F1: =DB!D6 -> Finaler - K1 | H1: =DB!D6 -> Finaler - K1
B3: =DGET(DB!A11:G15,"Signatur",DB!A21:A22) -> Benbo | D3: =DGET(DB!A11:G15,"Signatur",DB!B21:B22) -> LPHJ | F3: =DGET(DB!A11:G15,"Signatur",DB!C21:C22) | H3: =DGET(DB!A11:G15,"Signatur",DB!D21:D22)
B4: =IF(DB!A12<>"",IF(DB!G12=1,"Disket",IF(DB!I12=1,"Udmeldt",IF(DB!O12="Walkover","Walkover","Status"))),"") -> Status | D4: =IF(DB!A13<>"",IF(DB!G13=1,"Disket",IF(DB!I13=1,"Udmeldt",IF(DB!O13="Walkover","Walkover","Status"))),"") -> Status | F4: =IF(DB!A14<>"",IF(DB!G14=1,"Disket",IF(DB!I14=1,"Udmeldt",IF(DB!O14="Walkover","Walkover","Status"))),"") | H4: =IF(DB!A15<>"",IF(DB!G15=1,"Disket",IF(DB!I15=1,"Udmeldt",IF(DB!O15="Walkover","Walkover","Status"))),"")
B6: =IF(B3<>"","Række","") -> Række | D6: =IF(D3<>"","Række","") -> Række | F6: =IF(F3<>"","Række","") | H6: =IF(H3<>"","Række","")
A7: 1. | B7: 1 | C7: 1. | D7: 1 | E7: 1. | G7: 1.
A8: 2. | B8: 1 | C8: 2. | D8: 1 | E8: 2. | G8: 2.
A9: 3. | B9: 1 | C9: 3. | D9: 1 | E9: 3. | G9: 3.
A10: 4. | B10: 2 | C10: 4. | D10: 2 | E10: 4. | G10: 4.
A11: 5. | B11: x | C11: 5. | D11: 1 | E11: 5. | G11: 5.
A12: 6. | B12: 2 | C12: 6. | D12: x | E12: 6. | G12: 6.
A13: 7. | B13: 2 | C13: 7. | D13: 2 | E13: 7. | G13: 7.
A14: 8. | B14: 1 | C14: 8. | D14: 1 | E14: 8. | G14: 8.
A15: 9. | B15: 2 | C15: 9. | D15: 2 | E15: 9. | G15: 9.
A16: 10. | B16: 1 | C16: 10. | D16: 1 | E16: 10. | G16: 10.
A17: 11. | B17: 1 | C17: 11. | D17: 1 | E17: 11. | G17: 11.
A18: 12. | B18: 1 | C18: 12. | D18: 1 | E18: 12. | G18: 12.
A19: 13. | B19: 1 | C19: 13. | D19: 1 | E19: 13. | G19: 13.
B20: =DB!A8 -> OK | D20: =DB!B8 -> OK | F20: =DB!C8 | H20: =DB!D8

Sheet Rækker - Udskrift
A1: =CONCATENATE("Grand Prix ",DB!B1) -> Grand Prix 2026
A4: =IF(F4<>"",DB!D5,"") -> Finaler, Kamp 1 | E4: =IF(F4<>"","De 13 rigtige","") -> De 13 rigtige | F4: =Rækker!B3 -> Benbo | I4: =Rækker!D3 -> LPHJ | L4: =Rækker!F3 | O4: =Rækker!H3
F5: =DB!O12 | I5: =DB!O13 | L5: =DB!O14 | O5: =DB!O15
E6: 1X2 | F6: 1 | G6: X | H6: 2 | I6: 1 | J6: X | K6: 2 | L6: 1 | M6: X | N6: 2 | O6: 1 | P6: X | Q6: 2
B7: =IF(F4<>"","1.","") -> 1. | C7: =IF(F4<>"",CONCATENATE(Kampe!B5," - ",Kampe!D5,"........................................................................................................."),"") -> Arsenal - Hull......................................................................................................... | F7: =IF(Rækker!B7=1,1,"") -> 1 | G7: =IF(Rækker!B7="X","X","") | H7: =IF(Rækker!B7=2,2,"") | I7: =IF(Rækker!D7=1,1,"") -> 1 | J7: =IF(Rækker!D7="X","X","") | K7: =IF(Rækker!D7=2,2,"") | L7: =IF(Rækker!F7=1,1,"") | M7: =IF(Rækker!F7="X","X","") | N7: =IF(Rækker!F7=2,2,"") | O7: =IF(Rækker!H7=1,1,"") | P7: =IF(Rækker!H7="X","X","") | Q7: =IF(Rækker!H7=2,2,"")
B8: =IF(F4<>"","2.","") -> 2. | C8: =IF(F4<>"",CONCATENATE(Kampe!B6," - ",Kampe!D6,"........................................................................................................."),"") -> Fulham - Newcastle......................................................................................................... | F8: =IF(Rækker!B8=1,1,"") -> 1 | G8: =IF(Rækker!B8="X","X","") | H8: =IF(Rækker!B8=2,2,"") | I8: =IF(Rækker!D8=1,1,"") -> 1 | J8: =IF(Rækker!D8="X","X","") | K8: =IF(Rækker!D8=2,2,"") | L8: =IF(Rækker!F8=1,1,"") | M8: =IF(Rækker!F8="X","X","") | N8: =IF(Rækker!F8=2,2,"") | O8: =IF(Rækker!H8=1,1,"") | P8: =IF(Rækker!H8="X","X","") | Q8: =IF(Rækker!H8=2,2,"")
B9: =IF(F4<>"","3.","") -> 3. | C9: =IF(F4<>"",CONCATENATE(Kampe!B7," - ",Kampe!D7,"........................................................................................................."),"") -> Birmingham - Swansea......................................................................................................... | F9: =IF(Rækker!B9=1,1,"") -> 1 | G9: =IF(Rækker!B9="X","X","") | H9: =IF(Rækker!B9=2,2,"") | I9: =IF(Rækker!D9=1,1,"") -> 1 | J9: =IF(Rækker!D9="X","X","") | K9: =IF(Rækker!D9=2,2,"") | L9: =IF(Rækker!F9=1,1,"") | M9: =IF(Rækker!F9="X","X","") | N9: =IF(Rækker!F9=2,2,"") | O9: =IF(Rækker!H9=1,1,"") | P9: =IF(Rækker!H9="X","X","") | Q9: =IF(Rækker!H9=2,2,"")
B10: =IF(F4<>"","4.","") -> 4. | C10: =IF(F4<>"",CONCATENATE(Kampe!B8," - ",Kampe!D8,"........................................................................................................."),"") -> Blackburn - West Ham......................................................................................................... | F10: =IF(Rækker!B10=1,1,"") | G10: =IF(Rækker!B10="X","X","") | H10: =IF(Rækker!B10=2,2,"") -> 2 | I10: =IF(Rækker!D10=1,1,"") | J10: =IF(Rækker!D10="X","X","") | K10: =IF(Rækker!D10=2,2,"") -> 2 | L10: =IF(Rækker!F10=1,1,"") | M10: =IF(Rækker!F10="X","X","") | N10: =IF(Rækker!F10=2,2,"") | O10: =IF(Rækker!H10=1,1,"") | P10: =IF(Rækker!H10="X","X","") | Q10: =IF(Rækker!H10=2,2,"") | R10: Klagefrister:
B11: =IF(F4<>"","5.","") -> 5. | C11: =IF(F4<>"",CONCATENATE(Kampe!B9," - ",Kampe!D9,"........................................................................................................."),"") -> Cardiff - Burnley......................................................................................................... | F11: =IF(Rækker!B11=1,1,"") | G11: =IF(Rækker!B11="X","X","") -> X | H11: =IF(Rækker!B11=2,2,"") | I11: =IF(Rækker!D11=1,1,"") -> 1 | J11: =IF(Rækker!D11="X","X","") | K11: =IF(Rækker!D11=2,2,"") | L11: =IF(Rækker!F11=1,1,"") | M11: =IF(Rækker!F11="X","X","") | N11: =IF(Rækker!F11=2,2,"") | O11: =IF(Rækker!H11=1,1,"") | P11: =IF(Rækker!H11="X","X","") | Q11: =IF(Rækker!H11=2,2,"") | R11: Regnefejl - 3 uger
B12: =IF(F4<>"","6.","") -> 6. | C12: =IF(F4<>"",CONCATENATE(Kampe!B10," - ",Kampe!D10,"........................................................................................................."),"") -> Charlton - Sheffield U......................................................................................................... | F12: =IF(Rækker!B12=1,1,"") | G12: =IF(Rækker!B12="X","X","") | H12: =IF(Rækker!B12=2,2,"") -> 2 | I12: =IF(Rækker!D12=1,1,"") | J12: =IF(Rækker!D12="X","X","") -> X | K12: =IF(Rækker!D12=2,2,"") | L12: =IF(Rækker!F12=1,1,"") | M12: =IF(Rækker!F12="X","X","") | N12: =IF(Rækker!F12=2,2,"") | O12: =IF(Rækker!H12=1,1,"") | P12: =IF(Rækker!H12="X","X","") | Q12: =IF(Rækker!H12=2,2,"") | R12: Opstillingsfejl - lørdag kl. 14.00
B13: =IF(F4<>"","7.","") -> 7. | C13: =IF(F4<>"",CONCATENATE(Kampe!B11," - ",Kampe!D11,"........................................................................................................."),"") -> Preston - Southampton......................................................................................................... | F13: =IF(Rækker!B13=1,1,"") | G13: =IF(Rækker!B13="X","X","") | H13: =IF(Rækker!B13=2,2,"") -> 2 | I13: =IF(Rækker!D13=1,1,"") | J13: =IF(Rækker!D13="X","X","") | K13: =IF(Rækker!D13=2,2,"") -> 2 | L13: =IF(Rækker!F13=1,1,"") | M13: =IF(Rækker!F13="X","X","") | N13: =IF(Rækker!F13=2,2,"") | O13: =IF(Rækker!H13=1,1,"") | P13: =IF(Rækker!H13="X","X","") | Q13: =IF(Rækker!H13=2,2,"")
B14: =IF(F4<>"","8.","") -> 8. | C14: =IF(F4<>"",CONCATENATE(Kampe!B12," - ",Kampe!D12,"........................................................................................................."),"") -> Queens Park R - Lincoln......................................................................................................... | F14: =IF(Rækker!B14=1,1,"") -> 1 | G14: =IF(Rækker!B14="X","X","") | H14: =IF(Rækker!B14=2,2,"") | I14: =IF(Rækker!D14=1,1,"") -> 1 | J14: =IF(Rækker!D14="X","X","") | K14: =IF(Rækker!D14=2,2,"") | L14: =IF(Rækker!F14=1,1,"") | M14: =IF(Rækker!F14="X","X","") | N14: =IF(Rækker!F14=2,2,"") | O14: =IF(Rækker!H14=1,1,"") | P14: =IF(Rækker!H14="X","X","") | Q14: =IF(Rækker!H14=2,2,"") | R14: =DB!H1 -> Grand Prix-række afgives til Bjarne Villadsen
B15: =IF(F4<>"","9.","") -> 9. | C15: =IF(F4<>"",CONCATENATE(Kampe!B13," - ",Kampe!D13,"........................................................................................................."),"") -> Watford - Middlesbrough......................................................................................................... | F15: =IF(Rækker!B15=1,1,"") | G15: =IF(Rækker!B15="X","X","") | H15: =IF(Rækker!B15=2,2,"") -> 2 | I15: =IF(Rækker!D15=1,1,"") | J15: =IF(Rækker!D15="X","X","") | K15: =IF(Rækker!D15=2,2,"") -> 2 | L15: =IF(Rækker!F15=1,1,"") | M15: =IF(Rækker!F15="X","X","") | N15: =IF(Rækker!F15=2,2,"") | O15: =IF(Rækker!H15=1,1,"") | P15: =IF(Rækker!H15="X","X","") | Q15: =IF(Rækker!H15=2,2,"") | R15: =DB!H2 -> Senest Onsdag kl. 23.00 i næste kampuge
B16: =IF(F4<>"","10.","") -> 10. | C16: =IF(F4<>"",CONCATENATE(Kampe!B14," - ",Kampe!D14,"........................................................................................................."),"") -> West Bromwich - Millwall......................................................................................................... | F16: =IF(Rækker!B16=1,1,"") -> 1 | G16: =IF(Rækker!B16="X","X","") | H16: =IF(Rækker!B16=2,2,"") | I16: =IF(Rækker!D16=1,1,"") -> 1 | J16: =IF(Rækker!D16="X","X","") | K16: =IF(Rækker!D16=2,2,"") | L16: =IF(Rækker!F16=1,1,"") | M16: =IF(Rækker!F16="X","X","") | N16: =IF(Rækker!F16=2,2,"") | O16: =IF(Rækker!H16=1,1,"") | P16: =IF(Rækker!H16="X","X","") | Q16: =IF(Rækker!H16=2,2,"") | R16: =DB!H3 -> på tlf.: 20 46 98 75 eller på email: lundstipsforening@gmail
B17: =IF(F4<>"","11.","") -> 11. | C17: =IF(F4<>"",CONCATENATE(Kampe!B15," - ",Kampe!D15,"........................................................................................................."),"") -> Huddersfield - Exeter......................................................................................................... | F17: =IF(Rækker!B17=1,1,"") -> 1 | G17: =IF(Rækker!B17="X","X","") | H17: =IF(Rækker!B17=2,2,"") | I17: =IF(Rækker!D17=1,1,"") -> 1 | J17: =IF(Rækker!D17="X","X","") | K17: =IF(Rækker!D17=2,2,"") | L17: =IF(Rækker!F17=1,1,"") | M17: =IF(Rækker!F17="X","X","") | N17: =IF(Rækker!F17=2,2,"") | O17: =IF(Rækker!H17=1,1,"") | P17: =IF(Rækker!H17="X","X","") | Q17: =IF(Rækker!H17=2,2,"")
B18: =IF(F4<>"","12.","") -> 12. | C18: =IF(F4<>"",CONCATENATE(Kampe!B16," - ",Kampe!D16,"........................................................................................................."),"") -> Luton - Forest Green......................................................................................................... | F18: =IF(Rækker!B18=1,1,"") -> 1 | G18: =IF(Rækker!B18="X","X","") | H18: =IF(Rækker!B18=2,2,"") | I18: =IF(Rækker!D18=1,1,"") -> 1 | J18: =IF(Rækker!D18="X","X","") | K18: =IF(Rækker!D18=2,2,"") | L18: =IF(Rækker!F18=1,1,"") | M18: =IF(Rækker!F18="X","X","") | N18: =IF(Rækker!F18=2,2,"") | O18: =IF(Rækker!H18=1,1,"") | P18: =IF(Rækker!H18="X","X","") | Q18: =IF(Rækker!H18=2,2,"")
B19: =IF(F4<>"","13.","") -> 13. | C19: =IF(F4<>"",CONCATENATE(Kampe!B17," - ",Kampe!D17,"........................................................................................................."),"") -> Milton Keynes Dons - Swindon......................................................................................................... | F19: =IF(Rækker!B19=1,1,"") -> 1 | G19: =IF(Rækker!B19="X","X","") | H19: =IF(Rækker!B19=2,2,"") | I19: =IF(Rækker!D19=1,1,"") -> 1 | J19: =IF(Rækker!D19="X","X","") | K19: =IF(Rækker!D19=2,2,"") | L19: =IF(Rækker!F19=1,1,"") | M19: =IF(Rækker!F19="X","X","") | N19: =IF(Rækker!F19=2,2,"") | O19: =IF(Rækker!H19=1,1,"") | P19: =IF(Rækker!H19="X","X","") | Q19: =IF(Rækker!H19=2,2,"")
A20: =IF(F4<>"","Resultat: ","") -> Resultat: | F20: =IF(DB!B6=13,IF(F4<>"",IF(F5<>"",IF(OR(LEFT(F5,3)="Res",LEFT(F5,2)="MR"),DB!AC12,""),DB!AC12),""),"") | I20: =IF(DB!B6=13,IF(I4<>"",IF(I5<>"",IF(OR(LEFT(I5,3)="Res",LEFT(I5,2)="MR"),DB!AC13,""),DB!AC13),""),"") | L20: =IF(DB!B6=13,IF(L4<>"",IF(L5<>"",IF(OR(LEFT(L5,3)="Res",LEFT(L5,2)="MR"),DB!AC14,""),DB!AC14),""),"") | O20: =IF(DB!B6=13,IF(O4<>"",IF(O5<>"",IF(OR(LEFT(O5,3)="Res",LEFT(O5,2)="MR"),DB!AC15,""),DB!AC15),""),"")

Sheet Resultater
A1: =CONCATENATE("Grand Prix ",DB!B1) -> Grand Prix 2026
A3: =CONCATENATE(DB!D3," - Resultat, Kamp ",DB!C5) -> Finalen - Resultat, Kamp 1 | H3: Vinder
A5: 1. | B5: =DB!B18 -> Benbo (8) | C5: =IF(B5<>"","-","") -> - | D5: =DB!E18 -> LPHJ (4) | E5: =DB!L18 | F5: =IF(E5<>"","-","") | G5: =DB!S18 | H5: =DB!V18
A7: Rundens reservescore: | E7: =DB!F1
A9: =CONCATENATE(DB!E4," - Resultat, Kamp ",DB!C5) -> 3./4. pladsen - Resultat, Kamp 1 | H9: Vinder
A11: 2. | B11: =DB!B19 -> Benbo (16) | C11: =IF(B11<>"","-","") -> - | D11: =DB!E19 -> LPHJ (10) | E11: =DB!L19 | F11: =IF(E11<>"","-","") | G11: =DB!S19 | H11: =DB!V19
A13: Rundens reservescore: | E13: =DB!F2
A14: =DB!H5 -> Tallet i parentes angiver puljen, signaturen er gået videre fra.

Sheet DB
A1: År: | B1: =[1]DB!B1 -> 2026 | E1: Res N: | F1: =IF(B6=13,IF(B4=B2,IF(A18=D18,"",IF(SUM(AK12:AK15)=0,0,ROUND(SUM(AJ12:AJ15)/SUM(AK12:AK15),0))),""),"") | H1: =[2]DB!H1 -> Grand Prix-række afgives til Bjarne Villadsen
A2: Runde F: | B2: =[1]DB!B3 -> 29 | C2: Runde F: | D2: =[1]DB!D3 -> Semifinaler | E2: Res N: | F2: =IF(B6=13,IF(B4=B2,IF(A19=D19,"",IF(SUM(AK12:AK15)=0,0,ROUND(SUM(AJ12:AJ15)/SUM(AK12:AK15),0))),""),"") | H2: =[2]DB!H2 -> Senest Onsdag kl. 23.00 i næste kampuge
A3: Runde N: | B3: =B2+1 -> 30 | C3: Runde N: | D3: =[1]DB!D4 -> Finalen | H3: =[2]DB!H3 -> på tlf.: 20 46 98 75 eller på email: lundstipsforening@gmail
A4: Tal F: | B4: =[1]DB!B5 -> 29 | C4: Runde E: | D4: =D3 -> Finalen | E4: 3./4. pladsen | H4: =IF(DB!B2<>B4,CONCATENATE("Ingen kampresultater: ",D2," ikke færdigspillet."),"Tallet i parentes angiver puljen, signaturen er gået videre fra.") -> Tallet i parentes angiver puljen, signaturen er gået videre fra.
A5: Tal N: | B5: =IF(B2=B4,IF(B6=13,B4+1,B4),B4) -> 29 | C5: 1 | D5: =CONCATENATE("Finaler, Kamp ",C5) -> Finaler, Kamp 1 | H5: =IF(DB!B2<>B4,CONCATENATE("Ingen kampresultater: ",D2," ikke færdigspillet."),IF(AND(U18<>"",U19<>""),CONCATENATE("Tillykke til vinderne af Grand Prix ",B1,"!"),"Tallet i parentes angiver puljen, signaturen er gået videre fra.")) -> Tallet i parentes angiver puljen, signaturen er gået videre fra.
A6: Opd.? | B6: =COUNTIF(P10:AB10,1)+COUNTIF(P10:AB10,"X")+COUNTIF(P10:AB10,2) -> 0 | D6: =CONCATENATE("Finaler - K",C5) -> Finaler - K1
A8: =IF(Rækker!B3="",IF(COUNTIF(Rækker!B5:B19,"")<14,"FEJL",""),IF(IF(OR(Rækker!B4="Disket",Rækker!B4="Udmeldt",Rækker!B4="Walkover"),1,0)=0,IF(IF(Rækker!B5<>"",IF(OR(Rækker!B5="Disket",Rækker!B5="Udmeldt",Rækker!B5="MR",Rækker!B5="Res"),1,2),0)=0,IF(COUNTIF(Rækker!B7:B19,"<>")<13,"",IF(COUNTIF(Rækker!B7:B19,1)+COUNTIF(Rækker!B7:B19,"X")+COUNTIF(Rækker!B7:B19,2)=13,"OK","FEJL")),IF(IF(Rækker!B5<>"",IF(OR(Rækker!B5="Disket",Rækker!B5="Udmeldt",Rækker!B5="MR",Rækker!B5="Res"),1,2),0)=1,IF(COUNTIF(Rækker!B7:B19,"<>")=0,"OK","FEJL"),"FEJL")),IF(AND(IF(Rækker!B5<>"",IF(OR(Rækker!B5="Disket",Rækker!B5="Udmeldt",Rækker!B5="MR",Rækker!B5="Res"),1,2),0)=0,COUNTIF(Rækker!B7:B19,"<>")=0),"OK","FEJL"))) -> OK | B8: =IF(Rækker!D3="",IF(COUNTIF(Rækker!D5:D19,"")<14,"FEJL",""),IF(IF(OR(Rækker!D4="Disket",Rækker!D4="Udmeldt",Rækker!D4="Walkover"),1,0)=0,IF(IF(Rækker!D5<>"",IF(OR(Rækker!D5="Disket",Rækker!D5="Udmeldt",Rækker!D5="MR",Rækker!D5="Res"),1,2),0)=0,IF(COUNTIF(Rækker!D7:D19,"<>")<13,"",IF(COUNTIF(Rækker!D7:D19,1)+COUNTIF(Rækker!D7:D19,"X")+COUNTIF(Rækker!D7:D19,2)=13,"OK","FEJL")),IF(IF(Rækker!D5<>"",IF(OR(Rækker!D5="Disket",Rækker!D5="Udmeldt",Rækker!D5="MR",Rækker!D5="Res"),1,2),0)=1,IF(COUNTIF(Rækker!D7:D19,"<>")=0,"OK","FEJL"),"FEJL")),IF(AND(IF(Rækker!D5<>"",IF(OR(Rækker!D5="Disket",Rækker!D5="Udmeldt",Rækker!D5="MR",Rækker!D5="Res"),1,2),0)=0,COUNTIF(Rækker!D7:D19,"<>")=0),"OK","FEJL"))) -> OK | C8: =IF(Rækker!F3="",IF(COUNTIF(Rækker!F5:F19,"")<14,"FEJL",""),IF(IF(OR(Rækker!F4="Disket",Rækker!F4="Udmeldt",Rækker!F4="Walkover"),1,0)=0,IF(IF(Rækker!F5<>"",IF(OR(Rækker!F5="Disket",Rækker!F5="Udmeldt",Rækker!F5="MR",Rækker!F5="Res"),1,2),0)=0,IF(COUNTIF(Rækker!F7:F19,"<>")<13,"",IF(COUNTIF(Rækker!F7:F19,1)+COUNTIF(Rækker!F7:F19,"X")+COUNTIF(Rækker!F7:F19,2)=13,"OK","FEJL")),IF(IF(Rækker!F5<>"",IF(OR(Rækker!F5="Disket",Rækker!F5="Udmeldt",Rækker!F5="MR",Rækker!F5="Res"),1,2),0)=1,IF(COUNTIF(Rækker!F7:F19,"<>")=0,"OK","FEJL"),"FEJL")),IF(AND(IF(Rækker!F5<>"",IF(OR(Rækker!F5="Disket",Rækker!F5="Udmeldt",Rækker!F5="MR",Rækker!F5="Res"),1,2),0)=0,COUNTIF(Rækker!F7:F19,"<>")=0),"OK","FEJL"))) | D8: =IF(Rækker!H3="",IF(COUNTIF(Rækker!H5:H19,"")<14,"FEJL",""),IF(IF(OR(Rækker!H4="Disket",Rækker!H4="Udmeldt",Rækker!H4="Walkover"),1,0)=0,IF(IF(Rækker!H5<>"",IF(OR(Rækker!H5="Disket",Rækker!H5="Udmeldt",Rækker!H5="MR",Rækker!H5="Res"),1,2),0)=0,IF(COUNTIF(Rækker!H7:H19,"<>")<13,"",IF(COUNTIF(Rækker!H7:H19,1)+COUNTIF(Rækker!H7:H19,"X")+COUNTIF(Rækker!H7:H19,2)=13,"OK","FEJL")),IF(IF(Rækker!H5<>"",IF(OR(Rækker!H5="Disket",Rækker!H5="Udmeldt",Rækker!H5="MR",Rækker!H5="Res"),1,2),0)=1,IF(COUNTIF(Rækker!H7:H19,"<>")=0,"OK","FEJL"),"FEJL")),IF(AND(IF(Rækker!H5<>"",IF(OR(Rækker!H5="Disket",Rækker!H5="Udmeldt",Rækker!H5="MR",Rækker!H5="Res"),1,2),0)=0,COUNTIF(Rækker!H7:H19,"<>")=0),"OK","FEJL")))
P10: ='Rækker - Udskrift'!E7 -> 0 | Q10: ='Rækker - Udskrift'!E8 -> 0 | R10: ='Rækker - Udskrift'!E9 -> 0 | S10: ='Rækker - Udskrift'!E10 -> 0 | T10: ='Rækker - Udskrift'!E11 -> 0 | U10: ='Rækker - Udskrift'!E12 -> 0 | V10: ='Rækker - Udskrift'!E13 -> 0 | W10: ='Rækker - Udskrift'!E14 -> 0 | X10: ='Rækker - Udskrift'!E15 -> 0 | Y10: ='Rækker - Udskrift'!E16 -> 0 | Z10: ='Rækker - Udskrift'!E17 -> 0 | AA10: ='Rækker - Udskrift'!E18 -> 0 | AB10: ='Rækker - Udskrift'!E19 -> 0
A11: Signatur | B11: ID | C11: Deltager | D11: Kval F | E11: Kval E | F11: Ego | G11: Dis F | H11: Dis E | I11: Udm F | J11: Udm E | K11: MR F | L11: MR E | M11: Res F | N11: Res E | O11: Kamp 0 | P11: Kamp 1 | Q11: Kamp 2 | R11: Kamp 3 | S11: Kamp 4 | T11: Kamp 5 | U11: Kamp 6 | V11: Kamp 7 | W11: Kamp 8 | X11: Kamp 9 | Y11: Kamp 10 | Z11: Kamp 11 | AA11: Kamp 12 | AB11: Kamp 13 | AC11: Total | AD11: T Pl. | AE11: ES N | AF11: Point | AG11: P Pl. | AH11: BU | AI11: BU Pl. | AJ11: Res | AL11: Deltager E | AM11: Kval | AO11: ID E | AP11: Signatur | AQ11: Deltager | AR11: Kval | AS11: Dis | AT11: Udm | AU11: MR | AV11: Res
A12: =[1]DB!AS12 -> Benbo | B12: 1 | C12: =[1]DB!AT12 -> 2 | D12: =[1]DB!AT12 -> 2 | E12: =IF(B6=13,IF(A12<>"",D12-COUNTIF(U18:U19,A12)-COUNTIF(Y18:Y19,A12),0),D12) -> 2 | F12: =[1]DB!BA12 -> 0 | G12: =[1]DB!AW12 -> 0 | H12: =IF(Rækker!B5="Disket",1,IF(L12>5,1,IF(G12=1,1,0))) -> 0 | I12: =[1]DB!AX12 -> 0 | J12: =IF(Rækker!B5="Udmeldt",1,IF(I12=1,1,0)) -> 0 | K12: =[1]DB!AY12 -> 0 | L12: =IF(Rækker!B5="MR",K12+1,K12) -> 0 | M12: =[1]DB!AZ12 -> 1 | N12: =IF(Rækker!B5="Res",M12+1,M12) -> 1 | O12: =IF(H12=1,"Disket",IF(J12=1,"Udmeldt",IF(AND(C12>0,D12=F12),"Walkover",IF(K12<>L12,CONCATENATE("MR ",L12),IF(M12<>N12,IF(N12>10,"Res 10+",CONCATENATE("Res ",N12)),""))))) | P12: =IF('Rækker - Udskrift'!F7=1,1,IF('Rækker - Udskrift'!G7="X","X",IF('Rækker - Udskrift'!H7=2,2,""))) -> 1 | Q12: =IF('Rækker - Udskrift'!F8=1,1,IF('Rækker - Udskrift'!G8="X","X",IF('Rækker - Udskrift'!H8=2,2,""))) -> 1 | R12: =IF('Rækker - Udskrift'!F9=1,1,IF('Rækker - Udskrift'!G9="X","X",IF('Rækker - Udskrift'!H9=2,2,""))) -> 1 | S12: =IF('Rækker - Udskrift'!F10=1,1,IF('Rækker - Udskrift'!G10="X","X",IF('Rækker - Udskrift'!H10=2,2,""))) -> 2 | T12: =IF('Rækker - Udskrift'!F11=1,1,IF('Rækker - Udskrift'!G11="X","X",IF('Rækker - Udskrift'!H11=2,2,""))) -> X | U12: =IF('Rækker - Udskrift'!F12=1,1,IF('Rækker - Udskrift'!G12="X","X",IF('Rækker - Udskrift'!H12=2,2,""))) -> 2 | V12: =IF('Rækker - Udskrift'!F13=1,1,IF('Rækker - Udskrift'!G13="X","X",IF('Rækker - Udskrift'!H13=2,2,""))) -> 2 | W12: =IF('Rækker - Udskrift'!F14=1,1,IF('Rækker - Udskrift'!G14="X","X",IF('Rækker - Udskrift'!H14=2,2,""))) -> 1 | X12: =IF('Rækker - Udskrift'!F15=1,1,IF('Rækker - Udskrift'!G15="X","X",IF('Rækker - Udskrift'!H15=2,2,""))) -> 2 | Y12: =IF('Rækker - Udskrift'!F16=1,1,IF('Rækker - Udskrift'!G16="X","X",IF('Rækker - Udskrift'!H16=2,2,""))) -> 1 | Z12: =IF('Rækker - Udskrift'!F17=1,1,IF('Rækker - Udskrift'!G17="X","X",IF('Rækker - Udskrift'!H17=2,2,""))) -> 1 | AA12: =IF('Rækker - Udskrift'!F18=1,1,IF('Rækker - Udskrift'!G18="X","X",IF('Rækker - Udskrift'!H18=2,2,""))) -> 1 | AB12: =IF('Rækker - Udskrift'!F19=1,1,IF('Rækker - Udskrift'!G19="X","X",IF('Rækker - Udskrift'!H19=2,2,""))) -> 1 | AC12: =IF(O12<>"",IF(LEFT(O12,3)="Res",F1,0),IF(P12=P10,1,0)+IF(Q12=Q10,1,0)+IF(R12=R10,1,0)+IF(S12=S10,1,0)+IF(T12=T10,1,0)+IF(U12=U10,1,0)+IF(V12=V10,1,0)+IF(W12=W10,1,0)+IF(X12=X10,1,0)+IF(Y12=Y10,1,0)+IF(Z12=Z10,1,0)+IF(AA12=AA10,1,0)+IF(AB12=AB10,1,0)) -> 0 | AD12: =RANK(AC12,AC12:AC15,1) -> 1 | AE12: =IF(O12<>"",IF(LEFT(O12,3)="Res",AC12,0),AC12) -> 0 | AF12: =IF(P12=P10,4096,0)+IF(Q12=Q10,2048,0)+IF(R12=R10,1024,0)+IF(S12=S10,512,0)+IF(T12=T10,256,0)+IF(U12=U10,128,0)+IF(V12=V10,64,0)+IF(W12=W10,32,0)+IF(X12=X10,16,0)+IF(Y12=Y10,8,0)+IF(Z12=Z10,4,0)+IF(AA12=AA10,2,0)+IF(AB12=AB10,1,0) -> 0 | AG12: =RANK(AF12,AF12:AF15,1) -> 1 | AH12: =(AD12*65)+AG12 -> 66 | AI12: =RANK(AH12,AH12:AH15,1) -> 1 | AJ12: =IF(AND(A12<>"",O12=""),AC12,0) -> 0 | AK12: =IF(AND(A12<>"",O12=""),1,0) -> 1 | AL12: =E12 -> 2 | AM12: =E12 -> 2 | AN12: =IF(C12>0,IF(AL12>0,COUNTIF(AL12,">0"),0),0) -> 1 | AO12: =IF(AN12>0,AN12,MAX(AN12:AN15)+COUNTIF(AN12,"=0")) -> 1 | AP12: =IF(A24>MAX(AN12:AN15),"",DGET(A11:AO15,"Signatur",A23:A24)) -> Benbo | AQ12: =IF(A24>MAX(AN12:AN15),0,DGET(A11:AO15,"Deltager E",A23:A24)) -> 2 | AR12: =IF(A24>MAX(AN12:AN15),0,DGET(A11:AO15,"Kval E",A23:A24)) -> 2 | AS12: =IF(A24>MAX(AN12:AN15),0,DGET(A11:AO15,"Dis E",A23:A24)) -> 0 | AT12: =IF(A24>MAX(AN12:AN15),0,DGET(A11:AO15,"Udm E",A23:A24)) -> 0 | AU12: =IF(A24>MAX(AN12:AN15),0,DGET(A11:AO15,"MR E",A23:A24)) -> 0 | AV12: =IF(A24>MAX(AN12:AN15),0,DGET(A11:AO15,"Res E",A23:A24)) -> 1
A13: =[1]DB!AS13 -> LPHJ | B13: 2 | C13: =[1]DB!AT13 -> 2 | D13: =[1]DB!AT13 -> 2 | E13: =IF(B6=13,IF(A13<>"",D13-COUNTIF(U18:U19,A13)-COUNTIF(Y18:Y19,A13),0),D13) -> 2 | F13: =[1]DB!BA13 -> 0 | G13: =[1]DB!AW13 -> 0 | H13: =IF(Rækker!D5="Disket",1,IF(L13>5,1,IF(G13=1,1,0))) -> 0 | I13: =[1]DB!AX13 -> 0 | J13: =IF(Rækker!D5="Udmeldt",1,IF(I13=1,1,0)) -> 0 | K13: =[1]DB!AY13 -> 0 | L13: =IF(Rækker!D5="MR",K13+1,K13) -> 0 | M13: =[1]DB!AZ13 -> 0 | N13: =IF(Rækker!D5="Res",M13+1,M13) -> 0 | O13: =IF(H13=1,"Disket",IF(J13=1,"Udmeldt",IF(AND(C13>0,D13=F13),"Walkover",IF(K13<>L13,CONCATENATE("MR ",L13),IF(M13<>N13,IF(N13>10,"Res 10+",CONCATENATE("Res ",N13)),""))))) | P13: =IF('Rækker - Udskrift'!I7=1,1,IF('Rækker - Udskrift'!J7="X","X",IF('Rækker - Udskrift'!K7=2,2,""))) -> 1 | Q13: =IF('Rækker - Udskrift'!I8=1,1,IF('Rækker - Udskrift'!J8="X","X",IF('Rækker - Udskrift'!K8=2,2,""))) -> 1 | R13: =IF('Rækker - Udskrift'!I9=1,1,IF('Rækker - Udskrift'!J9="X","X",IF('Rækker - Udskrift'!K9=2,2,""))) -> 1 | S13: =IF('Rækker - Udskrift'!I10=1,1,IF('Rækker - Udskrift'!J10="X","X",IF('Rækker - Udskrift'!K10=2,2,""))) -> 2 | T13: =IF('Rækker - Udskrift'!I11=1,1,IF('Rækker - Udskrift'!J11="X","X",IF('Rækker - Udskrift'!K11=2,2,""))) -> 1 | U13: =IF('Rækker - Udskrift'!I12=1,1,IF('Rækker - Udskrift'!J12="X","X",IF('Rækker - Udskrift'!K12=2,2,""))) -> X | V13: =IF('Rækker - Udskrift'!I13=1,1,IF('Rækker - Udskrift'!J13="X","X",IF('Rækker - Udskrift'!K13=2,2,""))) -> 2 | W13: =IF('Rækker - Udskrift'!I14=1,1,IF('Rækker - Udskrift'!J14="X","X",IF('Rækker - Udskrift'!K14=2,2,""))) -> 1 | X13: =IF('Rækker - Udskrift'!I15=1,1,IF('Rækker - Udskrift'!J15="X","X",IF('Rækker - Udskrift'!K15=2,2,""))) -> 2 | Y13: =IF('Rækker - Udskrift'!I16=1,1,IF('Rækker - Udskrift'!J16="X","X",IF('Rækker - Udskrift'!K16=2,2,""))) -> 1 | Z13: =IF('Rækker - Udskrift'!I17=1,1,IF('Rækker - Udskrift'!J17="X","X",IF('Rækker - Udskrift'!K17=2,2,""))) -> 1 | AA13: =IF('Rækker - Udskrift'!I18=1,1,IF('Rækker - Udskrift'!J18="X","X",IF('Rækker - Udskrift'!K18=2,2,""))) -> 1 | AB13: =IF('Rækker - Udskrift'!I19=1,1,IF('Rækker - Udskrift'!J19="X","X",IF('Rækker - Udskrift'!K19=2,2,""))) -> 1 | AC13: =IF(O13<>"",IF(LEFT(O13,3)="Res",F1,0),IF(P13=P10,1,0)+IF(Q13=Q10,1,0)+IF(R13=R10,1,0)+IF(S13=S10,1,0)+IF(T13=T10,1,0)+IF(U13=U10,1,0)+IF(V13=V10,1,0)+IF(W13=W10,1,0)+IF(X13=X10,1,0)+IF(Y13=Y10,1,0)+IF(Z13=Z10,1,0)+IF(AA13=AA10,1,0)+IF(AB13=AB10,1,0)) -> 0 | AD13: =RANK(AC13,AC12:AC15,1) -> 1 | AE13: =IF(O13<>"",IF(LEFT(O13,3)="Res",AC13,0),AC13) -> 0 | AF13: =IF(P13=P10,4096,0)+IF(Q13=Q10,2048,0)+IF(R13=R10,1024,0)+IF(S13=S10,512,0)+IF(T13=T10,256,0)+IF(U13=U10,128,0)+IF(V13=V10,64,0)+IF(W13=W10,32,0)+IF(X13=X10,16,0)+IF(Y13=Y10,8,0)+IF(Z13=Z10,4,0)+IF(AA13=AA10,2,0)+IF(AB13=AB10,1,0) -> 0 | AG13: =RANK(AF13,AF12:AF15,1) -> 1 | AH13: =(AD13*65)+AG13 -> 66 | AI13: =RANK(AH13,AH12:AH15,1) -> 1 | AJ13: =IF(AND(A13<>"",O13=""),AC13,0) -> 0 | AK13: =IF(AND(A13<>"",O13=""),1,0) -> 1 | AL13: =E13 -> 2 | AM13: =E13 -> 2 | AN13: =IF(C13>0,IF(AL13>0,COUNTIF(AL12:AL13,">0"),0),0) -> 2 | AO13: =IF(AN13>0,AN13,MAX(AN12:AN15)+COUNTIF(AN12:AN13,"=0")) -> 2 | AP13: =IF(B24>MAX(AN12:AN15),"",DGET(A11:AO15,"Signatur",B23:B24)) -> LPHJ | AQ13: =IF(B24>MAX(AN12:AN15),0,DGET(A11:AO15,"Deltager E",B23:B24)) -> 2 | AR13: =IF(B24>MAX(AN12:AN15),0,DGET(A11:AO15,"Kval E",B23:B24)) -> 2 | AS13: =IF(B24>MAX(AN12:AN15),0,DGET(A11:AO15,"Dis E",B23:B24)) -> 0 | AT13: =IF(B24>MAX(AN12:AN15),0,DGET(A11:AO15,"Udm E",B23:B24)) -> 0 | AU13: =IF(B24>MAX(AN12:AN15),0,DGET(A11:AO15,"MR E",B23:B24)) -> 0 | AV13: =IF(B24>MAX(AN12:AN15),0,DGET(A11:AO15,"Res E",B23:B24)) -> 0
A14: =[1]DB!AS14 | B14: 3 | C14: =[1]DB!AT14 -> 0 | D14: =[1]DB!AT14 -> 0 | E14: =IF(B6=13,IF(A14<>"",D14-COUNTIF(U18:U19,A14)-COUNTIF(Y18:Y19,A14),0),D14) -> 0 | F14: =[1]DB!BA14 -> 0 | G14: =[1]DB!AW14 -> 0 | H14: =IF(Rækker!F5="Disket",1,IF(L14>5,1,IF(G14=1,1,0))) -> 0 | I14: =[1]DB!AX14 -> 0 | J14: =IF(Rækker!F5="Udmeldt",1,IF(I14=1,1,0)) -> 0 | K14: =[1]DB!AY14 -> 0 | L14: =IF(Rækker!F5="MR",K14+1,K14) -> 0 | M14: =[1]DB!AZ14 -> 0 | N14: =IF(Rækker!F5="Res",M14+1,M14) -> 0 | O14: =IF(H14=1,"Disket",IF(J14=1,"Udmeldt",IF(AND(C14>0,D14=F14),"Walkover",IF(K14<>L14,CONCATENATE("MR ",L14),IF(M14<>N14,IF(N14>10,"Res 10+",CONCATENATE("Res ",N14)),""))))) | P14: =IF('Rækker - Udskrift'!L7=1,1,IF('Rækker - Udskrift'!M7="X","X",IF('Rækker - Udskrift'!N7=2,2,""))) | Q14: =IF('Rækker - Udskrift'!L8=1,1,IF('Rækker - Udskrift'!M8="X","X",IF('Rækker - Udskrift'!N8=2,2,""))) | R14: =IF('Rækker - Udskrift'!L9=1,1,IF('Rækker - Udskrift'!M9="X","X",IF('Rækker - Udskrift'!N9=2,2,""))) | S14: =IF('Rækker - Udskrift'!L10=1,1,IF('Rækker - Udskrift'!M10="X","X",IF('Rækker - Udskrift'!N10=2,2,""))) | T14: =IF('Rækker - Udskrift'!L11=1,1,IF('Rækker - Udskrift'!M11="X","X",IF('Rækker - Udskrift'!N11=2,2,""))) | U14: =IF('Rækker - Udskrift'!L12=1,1,IF('Rækker - Udskrift'!M12="X","X",IF('Rækker - Udskrift'!N12=2,2,""))) | V14: =IF('Rækker - Udskrift'!L13=1,1,IF('Rækker - Udskrift'!M13="X","X",IF('Rækker - Udskrift'!N13=2,2,""))) | W14: =IF('Rækker - Udskrift'!L14=1,1,IF('Rækker - Udskrift'!M14="X","X",IF('Rækker - Udskrift'!N14=2,2,""))) | X14: =IF('Rækker - Udskrift'!L15=1,1,IF('Rækker - Udskrift'!M15="X","X",IF('Rækker - Udskrift'!N15=2,2,""))) | Y14: =IF('Rækker - Udskrift'!L16=1,1,IF('Rækker - Udskrift'!M16="X","X",IF('Rækker - Udskrift'!N16=2,2,""))) | Z14: =IF('Rækker - Udskrift'!L17=1,1,IF('Rækker - Udskrift'!M17="X","X",IF('Rækker - Udskrift'!N17=2,2,""))) | AA14: =IF('Rækker - Udskrift'!L18=1,1,IF('Rækker - Udskrift'!M18="X","X",IF('Rækker - Udskrift'!N18=2,2,""))) | AB14: =IF('Rækker - Udskrift'!L19=1,1,IF('Rækker - Udskrift'!M19="X","X",IF('Rækker - Udskrift'!N19=2,2,""))) | AC14: =IF(O14<>"",IF(LEFT(O14,3)="Res",F1,0),IF(P14=P10,1,0)+IF(Q14=Q10,1,0)+IF(R14=R10,1,0)+IF(S14=S10,1,0)+IF(T14=T10,1,0)+IF(U14=U10,1,0)+IF(V14=V10,1,0)+IF(W14=W10,1,0)+IF(X14=X10,1,0)+IF(Y14=Y10,1,0)+IF(Z14=Z10,1,0)+IF(AA14=AA10,1,0)+IF(AB14=AB10,1,0)) -> 0 | AD14: =RANK(AC14,AC12:AC15,1) -> 1 | AE14: =IF(O14<>"",IF(LEFT(O14,3)="Res",AC14,0),AC14) -> 0 | AF14: =IF(P14=P10,4096,0)+IF(Q14=Q10,2048,0)+IF(R14=R10,1024,0)+IF(S14=S10,512,0)+IF(T14=T10,256,0)+IF(U14=U10,128,0)+IF(V14=V10,64,0)+IF(W14=W10,32,0)+IF(X14=X10,16,0)+IF(Y14=Y10,8,0)+IF(Z14=Z10,4,0)+IF(AA14=AA10,2,0)+IF(AB14=AB10,1,0) -> 0 | AG14: =RANK(AF14,AF12:AF15,1) -> 1 | AH14: =(AD14*65)+AG14 -> 66 | AI14: =RANK(AH14,AH12:AH15,1) -> 1 | AJ14: =IF(AND(A14<>"",O14=""),AC14,0) -> 0 | AK14: =IF(AND(A14<>"",O14=""),1,0) -> 0 | AL14: =E14 -> 0 | AM14: =E14 -> 0 | AN14: =IF(C14>0,IF(AL14>0,COUNTIF(AL12:AL14,">0"),0),0) -> 0 | AO14: =IF(AN14>0,AN14,MAX(AN12:AN15)+COUNTIF(AN12:AN14,"=0")) -> 3 | AP14: =IF(C24>MAX(AN12:AN15),"",DGET(A11:AO15,"Signatur",C23:C24)) | AQ14: =IF(C24>MAX(AN12:AN15),0,DGET(A11:AO15,"Deltager E",C23:C24)) -> 0 | AR14: =IF(C24>MAX(AN12:AN15),0,DGET(A11:AO15,"Kval E",C23:C24)) -> 0 | AS14: =IF(C24>MAX(AN12:AN15),0,DGET(A11:AO15,"Dis E",C23:C24)) -> 0 | AT14: =IF(C24>MAX(AN12:AN15),0,DGET(A11:AO15,"Udm E",C23:C24)) -> 0 | AU14: =IF(C24>MAX(AN12:AN15),0,DGET(A11:AO15,"MR E",C23:C24)) -> 0 | AV14: =IF(C24>MAX(AN12:AN15),0,DGET(A11:AO15,"Res E",C23:C24)) -> 0
A15: =[1]DB!AS15 | B15: 4 | C15: =[1]DB!AT15 -> 0 | D15: =[1]DB!AT15 -> 0 | E15: =IF(B6=13,IF(A15<>"",D15-COUNTIF(U18:U19,A15)-COUNTIF(Y18:Y19,A15),0),D15) -> 0 | F15: =[1]DB!BA15 -> 0 | G15: =[1]DB!AW15 -> 0 | H15: =IF(Rækker!H5="Disket",1,IF(L15>5,1,IF(G15=1,1,0))) -> 0 | I15: =[1]DB!AX15 -> 0 | J15: =IF(Rækker!H5="Udmeldt",1,IF(I15=1,1,0)) -> 0 | K15: =[1]DB!AY15 -> 0 | L15: =IF(Rækker!H5="MR",K15+1,K15) -> 0 | M15: =[1]DB!AZ15 -> 0 | N15: =IF(Rækker!H5="Res",M15+1,M15) -> 0 | O15: =IF(H15=1,"Disket",IF(J15=1,"Udmeldt",IF(AND(C15>0,D15=F15),"Walkover",IF(K15<>L15,CONCATENATE("MR ",L15),IF(M15<>N15,IF(N15>10,"Res 10+",CONCATENATE("Res ",N15)),""))))) | P15: =IF('Rækker - Udskrift'!O7=1,1,IF('Rækker - Udskrift'!P7="X","X",IF('Rækker - Udskrift'!Q7=2,2,""))) | Q15: =IF('Rækker - Udskrift'!O8=1,1,IF('Rækker - Udskrift'!P8="X","X",IF('Rækker - Udskrift'!Q8=2,2,""))) | R15: =IF('Rækker - Udskrift'!O9=1,1,IF('Rækker - Udskrift'!P9="X","X",IF('Rækker - Udskrift'!Q9=2,2,""))) | S15: =IF('Rækker - Udskrift'!O10=1,1,IF('Rækker - Udskrift'!P10="X","X",IF('Rækker - Udskrift'!Q10=2,2,""))) | T15: =IF('Rækker - Udskrift'!O11=1,1,IF('Rækker - Udskrift'!P11="X","X",IF('Rækker - Udskrift'!Q11=2,2,""))) | U15: =IF('Rækker - Udskrift'!O12=1,1,IF('Rækker - Udskrift'!P12="X","X",IF('Rækker - Udskrift'!Q12=2,2,""))) | V15: =IF('Rækker - Udskrift'!O13=1,1,IF('Rækker - Udskrift'!P13="X","X",IF('Rækker - Udskrift'!Q13=2,2,""))) | W15: =IF('Rækker - Udskrift'!O14=1,1,IF('Rækker - Udskrift'!P14="X","X",IF('Rækker - Udskrift'!Q14=2,2,""))) | X15: =IF('Rækker - Udskrift'!O15=1,1,IF('Rækker - Udskrift'!P15="X","X",IF('Rækker - Udskrift'!Q15=2,2,""))) | Y15: =IF('Rækker - Udskrift'!O16=1,1,IF('Rækker - Udskrift'!P16="X","X",IF('Rækker - Udskrift'!Q16=2,2,""))) | Z15: =IF('Rækker - Udskrift'!O17=1,1,IF('Rækker - Udskrift'!P17="X","X",IF('Rækker - Udskrift'!Q17=2,2,""))) | AA15: =IF('Rækker - Udskrift'!O18=1,1,IF('Rækker - Udskrift'!P18="X","X",IF('Rækker - Udskrift'!Q18=2,2,""))) | AB15: =IF('Rækker - Udskrift'!O19=1,1,IF('Rækker - Udskrift'!P19="X","X",IF('Rækker - Udskrift'!Q19=2,2,""))) | AC15: =IF(O15<>"",IF(LEFT(O15,3)="Res",F1,0),IF(P15=P10,1,0)+IF(Q15=Q10,1,0)+IF(R15=R10,1,0)+IF(S15=S10,1,0)+IF(T15=T10,1,0)+IF(U15=U10,1,0)+IF(V15=V10,1,0)+IF(W15=W10,1,0)+IF(X15=X10,1,0)+IF(Y15=Y10,1,0)+IF(Z15=Z10,1,0)+IF(AA15=AA10,1,0)+IF(AB15=AB10,1,0)) -> 0 | AD15: =RANK(AC15,AC12:AC15,1) -> 1 | AE15: =IF(O15<>"",IF(LEFT(O15,3)="Res",AC15,0),AC15) -> 0 | AF15: =IF(P15=P10,4096,0)+IF(Q15=Q10,2048,0)+IF(R15=R10,1024,0)+IF(S15=S10,512,0)+IF(T15=T10,256,0)+IF(U15=U10,128,0)+IF(V15=V10,64,0)+IF(W15=W10,32,0)+IF(X15=X10,16,0)+IF(Y15=Y10,8,0)+IF(Z15=Z10,4,0)+IF(AA15=AA10,2,0)+IF(AB15=AB10,1,0) -> 0 | AG15: =RANK(AF15,AF12:AF15,1) -> 1 | AH15: =(AD15*65)+AG15 -> 66 | AI15: =RANK(AH15,AH12:AH15,1) -> 1 | AJ15: =IF(AND(A15<>"",O15=""),AC15,0) -> 0 | AK15: =IF(AND(A15<>"",O15=""),1,0) -> 0 | AL15: =E15 -> 0 | AM15: =E15 -> 0 | AN15: =IF(C15>0,IF(AL15>0,COUNTIF(AL12:AL15,">0"),0),0) -> 0 | AO15: =IF(AN15>0,AN15,MAX(AN12:AN15)+COUNTIF(AN12:AN15,"=0")) -> 4 | AP15: =IF(D24>MAX(AN12:AN15),"",DGET(A11:AO15,"Signatur",D23:D24)) | AQ15: =IF(D24>MAX(AN12:AN15),0,DGET(A11:AO15,"Deltager E",D23:D24)) -> 0 | AR15: =IF(D24>MAX(AN12:AN15),0,DGET(A11:AO15,"Kval E",D23:D24)) -> 0 | AS15: =IF(D24>MAX(AN12:AN15),0,DGET(A11:AO15,"Dis E",D23:D24)) -> 0 | AT15: =IF(D24>MAX(AN12:AN15),0,DGET(A11:AO15,"Udm E",D23:D24)) -> 0 | AU15: =IF(D24>MAX(AN12:AN15),0,DGET(A11:AO15,"MR E",D23:D24)) -> 0 | AV15: =IF(D24>MAX(AN12:AN15),0,DGET(A11:AO15,"Res E",D23:D24)) -> 0
A17: H S | B17: H G | C17: H ID | D17: U S | E17: U G | F17: U ID | G17: Dis H | H17: Udm H | I17: MR H | J17: Res H | K17: ES H | L17: ES HR | M17: BU H | N17: Dis U | O17: Udm U | P17: MR U | Q17: Res U | R17: ES U | S17: ES UR | T17: BU U | U17: V S | V17: V G | W17: V ID | Y17: Ude
A18: =IF(B2=B4,[1]DB!A22,"") -> Benbo | B18: =IF(B2=B4,[1]DB!B22,"") -> Benbo (8) | C18: =IF(B2=B4,[1]DB!C22,"") -> 96 | D18: =IF(B2=B4,[1]DB!D22,"") -> LPHJ | E18: =IF(B2=B4,[1]DB!E22,"") -> LPHJ (4) | F18: =IF(B2=B4,[1]DB!F22,"") -> 56 | G18: =IF(A18<>"",DGET(A11:AI15,"Dis E",A25:A26),0) -> 0 | H18: =IF(A18<>"",DGET(A11:AI15,"Udm E",A25:A26),0) -> 0 | I18: =IF(A18<>"",DGET(A11:AI15,"MR E",A25:A26),0) -> 0 | J18: =IF(A18<>"",DGET(A11:AI15,"Res E",A25:A26),0) -> 1 | K18: =IF(A18<>"",DGET(A11:AI15,"ES N",A25:A26),0) -> 0 | L18: =IF(B6=13,IF(B4=B2,IF(A18=D18,"",IF(AND(G18=0,H18=0,N18=0,O18=0),K18,"")),""),"") | M18: =IF(A18<>"",DGET(A11:AI15,"BU Pl.",A25:A26),0) -> 1 | N18: =IF(A18<>"",DGET(A11:AI15,"Dis E",C25:C26),0) -> 0 | O18: =IF(A18<>"",DGET(A11:AI15,"Udm E",C25:C26),0) -> 0 | P18: =IF(A18<>"",DGET(A11:AI15,"MR E",C25:C26),0) -> 0 | Q18: =IF(A18<>"",DGET(A11:AI15,"Res E",C25:C26),0) -> 0 | R18: =IF(A18<>"",DGET(A11:AI15,"ES N",C25:C26),0) -> 0 | S18: =IF(B6=13,IF(B4=B2,IF(A18=D18,"",IF(AND(G18=0,H18=0,N18=0,O18=0),R18,"")),""),"") | T18: =IF(A18<>"",DGET(A11:AI15,"BU Pl.",C25:C26),0) -> 1 | U18: =IF(B6=13,IF(B4=B2,IF(OR(N18=1,O18=1),A18,IF(AND(OR(G18=1,H18=1),AND(N18=0,O18=0)),D18,IF(A18=D18,IF(F18>C18,D18,A18),""))),""),"") | V18: =IF(B6=13,IF(B4=B2,IF(OR(N18=1,O18=1),B18,IF(AND(OR(G18=1,H18=1),AND(N18=0,O18=0)),E18,IF(A18=D18,IF(F18>C18,E18,B18),""))),""),"") | W18: =IF(B6=13,IF(B4=B2,IF(OR(N18=1,O18=1),C18,IF(AND(OR(G18=1,H18=1),AND(N18=0,O18=0)),F18,IF(A18=D18,IF(F18>C18,F18,C18),""))),""),"") | Y18: =IF(U18=A18,D18,IF(U18=D18,A18,""))
A19: =IF(B2=B4,[1]DB!A23,"") -> Benbo | B19: =IF(B2=B4,[1]DB!B23,"") -> Benbo (16) | C19: =IF(B2=B4,[1]DB!C23,"") -> 95 | D19: =IF(B2=B4,[1]DB!D23,"") -> LPHJ | E19: =IF(B2=B4,[1]DB!E23,"") -> LPHJ (10) | F19: =IF(B2=B4,[1]DB!F23,"") -> 56 | G19: =IF(A19<>"",DGET(A11:AI15,"Dis E",B25:B26),0) -> 0 | H19: =IF(A19<>"",DGET(A11:AI15,"Udm E",B25:B26),0) -> 0 | I19: =IF(A19<>"",DGET(A11:AI15,"MR E",B25:B26),0) -> 0 | J19: =IF(A19<>"",DGET(A11:AI15,"Res E",B25:B26),0) -> 1 | K19: =IF(A19<>"",DGET(A11:AI15,"ES N",B25:B26),0) -> 0 | L19: =IF(B6=13,IF(B4=B2,IF(A19=D19,"",IF(AND(G19=0,H19=0,N19=0,O19=0),K19,"")),""),"") | M19: =IF(A19<>"",DGET(A11:AI15,"BU Pl.",B25:B26),0) -> 1 | N19: =IF(A19<>"",DGET(A11:AI15,"Dis E",D25:D26),0) -> 0 | O19: =IF(A19<>"",DGET(A11:AI15,"Udm E",D25:D26),0) -> 0 | P19: =IF(A19<>"",DGET(A11:AI15,"MR E",D25:D26),0) -> 0 | Q19: =IF(A19<>"",DGET(A11:AI15,"Res E",D25:D26),0) -> 0 | R19: =IF(A19<>"",DGET(A11:AI15,"ES N",D25:D26),0) -> 0 | S19: =IF(B6=13,IF(B4=B2,IF(A19=D19,"",IF(AND(G19=0,H19=0,N19=0,O19=0),R19,"")),""),"") | T19: =IF(A19<>"",DGET(A11:AI15,"BU Pl.",D25:D26),0) -> 1 | U19: =IF(B6=13,IF(B4=B2,IF(OR(N19=1,O19=1),A19,IF(AND(OR(G19=1,H19=1),AND(N19=0,O19=0)),D19,IF(A19=D19,IF(F19>C19,D19,A19),""))),""),"") | V19: =IF(B6=13,IF(B4=B2,IF(OR(N19=1,O19=1),B19,IF(AND(OR(G19=1,H19=1),AND(N19=0,O19=0)),E19,IF(A19=D19,IF(F19>C19,E19,B19),""))),""),"") | W19: =IF(B6=13,IF(B4=B2,IF(OR(N19=1,O19=1),C19,IF(AND(OR(G19=1,H19=1),AND(N19=0,O19=0)),F19,IF(A19=D19,IF(F19>C19,F19,C19),""))),""),"") | Y19: =IF(U19=A19,D19,IF(U19=D19,A19,""))
A21: ID | B21: ID | C21: ID | D21: ID
A22: 1 | B22: 2 | C22: 3 | D22: 4
A23: ID E | B23: ID E | C23: ID E | D23: ID E
A24: 1 | B24: 2 | C24: 3 | D24: 4
A25: Signatur | B25: Signatur | C25: Signatur | D25: Signatur
A26: =A18 -> Benbo | B26: =A19 -> Benbo | C26: =D18 -> LPHJ | D26: =D19 -> LPHJ
